{"text_format":"1","workbook":"xlsx","n_sheets":3,"sheets":["FOURIER","INVERSE","RESPONSE"],"not_rendered":{"charts":10,"images":0,"macros":1,"external_links":0,"defined_names":0,"comments":0,"pivot_tables":0},"unopened":[],"bounds":{"document_bytes":16777216,"sheet_cells":100000,"rows_first":2000,"rows_last":500,"rows_between":2000,"halvings":0,"cell_chars":16384,"cell_head_chars":4096},"cells_cut":0,"cells_raw":0,"read":"whole","date_system":"1900"}

{"sheet":"FOURIER","index":0,"n_rows":2049,"n_cols":16,"rows_kept":2049,"cut":false,"hidden":false,"merged":[]}
["MASS M",1,"t",null,"INPUT","k","TIME (Sec)","DDY,Real","DDY,IMAG",null,"FOURIER","FREQ. (Hz)","C(Rk)","C(Ik)","C(w)","q(w)"]
["STIFFNESS K",5,"kN/m",null,"GROUND",0,{"$f":"B$6*(F3-1)","v":0},0,0,null,"TRANSFORM",{"$f":"(F2)/B$9/B$6","v":0},null,null,{"$f":"SQRT(M2^2+N2^2)","v":0},{"$f":"ATAN(N2/M2)","v":{"$error":"#DIV/0!"}}]
["DAMPING C",0.2,"kNsec/m",null,"MOTION",1,0.02,0.72370000000000001,0,null,null,{"$f":"(F3)/B$9/B$6","v":2.44140625E-2},null,null,{"$f":"SQRT(M3^2+N3^2)","v":0},{"$f":"ATAN(N3/M3)","v":{"$error":"#DIV/0!"}}]
["ANGULAR FREQUENCY ω0",{"$f":"SQRT(B2/B1)","v":2.2360679774997898},"1/sec",null,null,2,0.04,0.69369999999999998,0,null,null,4.8828125E-2,null,null,0,{"$error":"#DIV/0!"}]
["FREQUENCY f0",{"$f":"B4/2/PI()","v":0.35588127170858858},"1/sec",null,null,3,0.06,-0.35620000000000002,0,null,null,7.32421875E-2,null,null,0,{"$error":"#DIV/0!"}]
["TIME INTERVAL Δt",0.02,"sec",null,null,4,0.08,-2.0062000000000002,0,null,null,9.765625E-2,null,null,0,{"$error":"#DIV/0!"}]
["DURATION T",{"$f":"B6*2048","v":40.96},"sec",null,null,5,0.1,-2.9062000000000001,0,null,null,0.1220703125,null,null,0,{"$error":"#DIV/0!"}]
["DAMPING COEFFICIENT h",{"$f":"B3/2/SQRT(B1*B2)","v":4.4721359549995794E-2},null,null,null,6,0.12,-1.7662,0,null,null,0.146484375,null,null,0,{"$error":"#DIV/0!"}]
["NUMBER OF DATA N",2048,null,null,null,7,0.14000000000000001,-0.35620000000000002,0,null,null,0.1708984375,null,null,0,{"$error":"#DIV/0!"}]
["NATURALPERIOD　T0　",{"$f":"1/B5","v":2.80992589241629},"sec",null,null,8,0.16,-0.92620000000000002,0,null,null,0.1953125,null,null,0,{"$error":"#DIV/0!"}]
[null,null,null,null,null,9,0.18,-0.44619999999999999,0,null,null,0.2197265625,null,null,0,{"$error":"#DIV/0!"}]
["INPUT REAL","H",null,null,null,10,0.2,3.2437,0,null,null,0.244140625,null,null,0,{"$error":"#DIV/0!"}]
["INPUT IMAG","I",null,null,null,11,0.22,3.5137,0,null,null,0.2685546875,null,null,0,{"$error":"#DIV/0!"}]
["OUTPUT FOURIER REAL","M",null,null,null,12,0.24,-2.0362,0,null,null,0.29296875,null,null,0,{"$error":"#DIV/0!"}]
["OUTPUT FOURIER IMAG","N",null,null,null,13,0.26,-6.3860000000000001,0,null,null,0.3173828125,null,null,0,{"$error":"#DIV/0!"}]
[null,null,null,null,null,14,0.28000000000000003,-5.6959999999999997,0,null,null,0.341796875,null,null,0,{"$error":"#DIV/0!"}]
["※オレンジで塗られた箇所はVBAで計算",null,null,null,null,15,0.3,-3.6261000000000001,0,null,null,0.3662109375,null,null,0,{"$error":"#DIV/0!"}]
[null,null,null,null,null,16,0.32,-4.1060999999999996,0,null,null,0.390625,null,null,0,{"$error":"#DIV/0!"}]
["*最初に",null,null,null,null,17,0.34,-2.5461,0,null,null,0.4150390625,null,null,0,{"$error":"#DIV/0!"}]
["質量M＝１t",null,null,null,null,18,0.36,0.18379999999999999,0,null,null,0.439453125,null,null,0,{"$error":"#DIV/0!"}]
["剛性K＝5kN/m",null,null,null,null,19,0.38,-0.50619999999999998,0,null,null,0.4638671875,null,null,0,{"$error":"#DIV/0!"}]
["減衰係数C＝0.20kNsec/m",null,null,null,null,20,0.4,-4.556,0,null,null,0.48828125,null,null,0,{"$error":"#DIV/0!"}]
["で設定して計算し、RESPONSEの応答が",null,null,null,null,21,0.42,-9.3259000000000007,0,null,null,0.5126953125,null,null,0,{"$error":"#DIV/0!"}]
["FORTRAN（Newmark-b）法と一致することを",null,null,null,null,22,0.44,-5.6959999999999997,0,null,null,0.537109375,null,null,0,{"$error":"#DIV/0!"}]
["確認する。",null,null,null,null,23,0.46,2.5238,0,null,null,0.5615234375,null,null,0,{"$error":"#DIV/0!"}]
["その後、各変数を変化させ",null,null,null,null,24,0.48,4.6837,0,null,null,0.5859375,null,null,0,{"$error":"#DIV/0!"}]
["応答がどのように変化するかをレポートする",null,null,null,null,25,0.5,4.4436999999999998,0,null,null,0.6103515625,null,null,0,{"$error":"#DIV/0!"}]
[null,null,null,null,null,26,0.52,9.2436000000000007,0,null,null,0.634765625,null,null,0,{"$error":"#DIV/0!"}]
[null,null,null,null,null,27,0.54,13.683400000000001,0,null,null,0.6591796875,null,null,0,{"$error":"#DIV/0!"}]
[null,null,null,null,null,28,0.56000000000000005,8.2235999999999994,0,null,null,0.68359375,null,null,0,{"$error":"#DIV/0!"}]
[null,null,null,null,null,29,0.57999999999999996,6.6337000000000002,0,null,null,0.7080078125,null,null,0,{"$error":"#DIV/0!"}]
[null,null,null,null,null,30,0.6,3.9937,0,null,null,0.732421875,null,null,0,{"$error":"#DIV/0!"}]
["※無断複製、転載を禁ず",null,null,null,null,31,0.62,-6.5358999999999998,0,null,null,0.7568359375,null,null,0,{"$error":"#DIV/0!"}]
["©Tokyo Tech Takeuchi Lab.",null,null,null,null,32,0.64,-11.095800000000001,0,null,null,0.78125,null,null,0,{"$error":"#DIV/0!"}]
["All rights reserved",null,null,null,null,33,0.66,0.4239,0,null,null,0.8056640625,null,null,0,{"$error":"#DIV/0!"}]
[null,null,null,null,null,34,0.68,14.913399999999999,0,null,null,0.830078125,null,null,0,{"$error":"#DIV/0!"}]
[null,null,null,null,null,35,0.70000000000000007,2.1938,0,null,null,0.8544921875,null,null,0,{"$error":"#DIV/0!"}]
[null,null,null,null,null,36,0.72,-8.0658999999999992,0,null,null,0.87890625,null,null,0,{"$error":"#DIV/0!"}]
[null,null,null,null,null,37,0.74,4.4138000000000002,0,null,null,0.9033203125,null,null,0,{"$error":"#DIV/0!"}]
[null,null,null,null,null,38,0.76,15.9034,0,null,null,0.927734375,null,null,0,{"$error":"#DIV/0!"}]
[null,null,null,null,null,39,0.78,24.453199999999999,0,null,null,0.9521484375,null,null,0,{"$error":"#DIV/0!"}]
[null,null,null,null,null,40,0.8,36.692799999999998,0,null,null,0.9765625,null,null,0,{"$error":"#DIV/0!"}]
[null,null,null,null,null,41,0.82000000000000006,38.372700000000002,0,null,null,1.0009765625,null,null,0,{"$error":"#DIV/0!"}]
[null,null,null,null,null,42,0.84,20.1633,0,null,null,1.025390625,null,null,0,{"$error":"#DIV/0!"}]
[null,null,null,null,null,43,0.86,3.5737999999999999,0,null,null,1.0498046875,null,null,0,{"$error":"#DIV/0!"}]
[null,null,null,null,null,44,0.88,-1.8260000000000001,0,null,null,1.07421875,null,null,0,{"$error":"#DIV/0!"}]
[null,null,null,null,null,45,0.9,3.8999999999999998E-3,0,null,null,1.0986328125,null,null,0,{"$error":"#DIV/0!"}]
[null,null,null,null,null,46,0.92,14.7935,0,null,null,1.123046875,null,null,0,{"$error":"#DIV/0!"}]
[null,null,null,null,null,47,0.94000000000000006,3.3938000000000001,0,null,null,1.1474609375,null,null,0,{"$error":"#DIV/0!"}]
[null,null,null,null,null,48,0.96,-40.194800000000001,0,null,null,1.171875,null,null,0,{"$error":"#DIV/0!"}]
[null,null,null,null,null,49,0.98,-49.794499999999999,0,null,null,1.1962890625,null,null,0,{"$error":"#DIV/0!"}]
[null,null,null,null,null,50,1,-36.1449,0,null,null,1.220703125,null,null,0,{"$error":"#DIV/0!"}]
[null,null,null,null,null,51,1.02,-22.045400000000001,0,null,null,1.2451171875,null,null,0,{"$error":"#DIV/0!"}]
[null,null,null,null,null,52,1.04,-9.6556999999999995,0,null,null,1.26953125,null,null,0,{"$error":"#DIV/0!"}]
[null,null,null,null,null,53,1.06,-0.89600000000000002,0,null,null,1.2939453125,null,null,0,{"$error":"#DIV/0!"}]
[null,null,null,null,null,54,1.08,0.36399999999999999,0,null,null,1.318359375,null,null,0,{"$error":"#DIV/0!"}]
[null,null,null,null,null,55,1.1000000000000001,-20.695399999999999,0,null,null,1.3427734375,null,null,0,{"$error":"#DIV/0!"}]
[null,null,null,null,null,56,1.1200000000000001,-31.405000000000001,0,null,null,1.3671875,null,null,0,{"$error":"#DIV/0!"}]
[null,null,null,null,null,57,1.1400000000000001,-24.955200000000001,0,null,null,1.3916015625,null,null,0,{"$error":"#DIV/0!"}]
[null,null,null,null,null,58,1.1599999999999999,-14.0656,0,null,null,1.416015625,null,null,0,{"$error":"#DIV/0!"}]
[null,null,null,null,null,59,1.18,3.6638999999999999,0,null,null,1.4404296875,null,null,0,{"$error":"#DIV/0!"}]
[null,null,null,null,null,60,1.2,10.983700000000001,0,null,null,1.46484375,null,null,0,{"$error":"#DIV/0!"}]
[null,null,null,null,null,61,1.22,-2.1259000000000001,0,null,null,1.4892578125,null,null,0,{"$error":"#DIV/0!"}]
[null,null,null,null,null,62,1.24,-16.795500000000001,0,null,null,1.513671875,null,null,0,{"$error":"#DIV/0!"}]
[null,null,null,null,null,63,1.26,-16.4055,0,null,null,1.5380859375,null,null,0,{"$error":"#DIV/0!"}]
[null,null,null,null,null,64,{"$f":"B$6*(F67-1)","v":1.28},-12.775600000000001,0,null,null,1.5625,null,null,0,{"$error":"#DIV/0!"}]
[null,null,null,null,null,65,1.3,-9.9557000000000002,0,null,null,{"$f":"(F67)/B$9/B$6","v":1.5869140625},null,null,{"$f":"SQRT(M67^2+N67^2)","v":0},{"$f":"ATAN(N67/M67)","v":{"$error":"#DIV/0!"}}]
[null,null,null,null,null,66,1.32,-4.5557999999999996,0,null,null,1.611328125,null,null,0,{"$error":"#DIV/0!"}]
[null,null,null,null,null,67,1.34,-4.0758000000000001,0,null,null,1.6357421875,null,null,0,{"$error":"#DIV/0!"}]
[null,null,null,null,null,68,1.36,-5.8457999999999997,0,null,null,1.66015625,null,null,0,{"$error":"#DIV/0!"}]
[null,null,null,null,null,69,1.3800000000000001,-13.5855,0,null,null,1.6845703125,null,null,0,{"$error":"#DIV/0!"}]
[null,null,null,null,null,70,1.4000000000000001,-26.755099999999999,0,null,null,1.708984375,null,null,0,{"$error":"#DIV/0!"}]
[null,null,null,null,null,71,1.42,-20.6953,0,null,null,1.7333984375,null,null,0,{"$error":"#DIV/0!"}]
[null,null,null,null,null,72,1.44,24.153300000000002,0,null,null,1.7578125,null,null,0,{"$error":"#DIV/0!"}]
[null,null,null,null,null,73,1.46,65.462100000000007,0,null,null,1.7822265625,null,null,0,{"$error":"#DIV/0!"}]
[null,null,null,null,null,74,1.48,44.822699999999998,0,null,null,1.806640625,null,null,0,{"$error":"#DIV/0!"}]
[null,null,null,null,null,75,1.5,0.84409999999999996,0,null,null,1.8310546875,null,null,0,{"$error":"#DIV/0!"}]
[null,null,null,null,null,76,1.52,-14.9055,0,null,null,1.85546875,null,null,0,{"$error":"#DIV/0!"}]
[null,null,null,null,null,77,1.54,7.3239000000000001,0,null,null,1.8798828125,null,null,0,{"$error":"#DIV/0!"}]
[null,null,null,null,null,78,1.56,30.4832,0,null,null,1.904296875,null,null,0,{"$error":"#DIV/0!"}]
[null,null,null,null,null,79,1.58,13.4137,0,null,null,1.9287109375,null,null,0,{"$error":"#DIV/0!"}]
[null,null,null,null,null,80,1.6,-12.025499999999999,0,null,null,1.953125,null,null,0,{"$error":"#DIV/0!"}]
[null,null,null,null,null,81,1.62,-24.115100000000002,0,null,null,1.9775390625,null,null,0,{"$error":"#DIV/0!"}]
[null,null,null,null,null,82,1.6400000000000001,-28.495000000000001,0,null,null,2.001953125,null,null,0,{"$error":"#DIV/0!"}]
[null,null,null,null,null,83,1.6600000000000001,-14.0954,0,null,null,2.0263671875,null,null,0,{"$error":"#DIV/0!"}]
[null,null,null,null,null,84,1.68,-10.6755,0,null,null,2.05078125,null,null,0,{"$error":"#DIV/0!"}]
[null,null,null,null,null,85,1.7,-5.3956999999999997,0,null,null,2.0751953125,null,null,0,{"$error":"#DIV/0!"}]
[null,null,null,null,null,86,1.72,13.473699999999999,0,null,null,2.099609375,null,null,0,{"$error":"#DIV/0!"}]
[null,null,null,null,null,87,1.74,18.333600000000001,0,null,null,2.1240234375,null,null,0,{"$error":"#DIV/0!"}]
[null,null,null,null,null,88,1.76,27.993300000000001,0,null,null,2.1484375,null,null,0,{"$error":"#DIV/0!"}]
[null,null,null,null,null,89,1.78,33.123100000000001,0,null,null,2.1728515625,null,null,0,{"$error":"#DIV/0!"}]
[null,null,null,null,null,90,1.8,31.563199999999998,0,null,null,2.197265625,null,null,0,{"$error":"#DIV/0!"}]
[null,null,null,null,null,91,1.82,40.082900000000002,0,null,null,2.2216796875,null,null,0,{"$error":"#DIV/0!"}]
[null,null,null,null,null,92,1.84,8.5838999999999999,0,null,null,2.24609375,null,null,0,{"$error":"#DIV/0!"}]
[null,null,null,null,null,93,1.86,-23.5151,0,null,null,2.2705078125,null,null,0,{"$error":"#DIV/0!"}]
[null,null,null,null,null,94,1.8800000000000001,-38.994599999999998,0,null,null,2.294921875,null,null,0,{"$error":"#DIV/0!"}]
[null,null,null,null,null,95,1.9000000000000001,-26.215,0,null,null,2.3193359375,null,null,0,{"$error":"#DIV/0!"}]
[null,null,null,null,null,96,1.92,26.9434,0,null,null,2.34375,null,null,0,{"$error":"#DIV/0!"}]
[null,null,null,null,null,97,1.94,21.063500000000001,0,null,null,2.3681640625,null,null,0,{"$error":"#DIV/0!"}]
[null,null,null,null,null,98,1.96,9.3039000000000005,0,null,null,2.392578125,null,null,0,{"$error":"#DIV/0!"}]
[null,null,null,null,null,99,1.98,15.4237,0,null,null,2.4169921875,null,null,0,{"$error":"#DIV/0!"}]
[null,null,null,null,null,100,2,13.713800000000001,0,null,null,2.44140625,null,null,0,{"$error":"#DIV/0!"}]
[null,null,null,null,null,101,2.02,25.353400000000001,0,null,null,2.4658203125,null,null,0,{"$error":"#DIV/0!"}]
[null,null,null,null,null,102,2.04,7.3239999999999998,0,null,null,2.490234375,null,null,0,{"$error":"#DIV/0!"}]
[null,null,null,null,null,103,2.06,-17.4252,0,null,null,2.5146484375,null,null,0,{"$error":"#DIV/0!"}]
[null,null,null,null,null,104,2.08,-23.725000000000001,0,null,null,2.5390625,null,null,0,{"$error":"#DIV/0!"}]
[null,null,null,null,null,105,2.1,-20.905100000000001,0,null,null,2.5634765625,null,null,0,{"$error":"#DIV/0!"}]
[null,null,null,null,null,106,2.12,-12.6854,0,null,null,2.587890625,null,null,0,{"$error":"#DIV/0!"}]
[null,null,null,null,null,107,2.14,-28.584900000000001,0,null,null,2.6123046875,null,null,0,{"$error":"#DIV/0!"}]
[null,null,null,null,null,108,2.16,-28.584900000000001,0,null,null,2.63671875,null,null,0,{"$error":"#DIV/0!"}]
[null,null,null,null,null,109,2.1800000000000002,-15.6553,0,null,null,2.6611328125,null,null,0,{"$error":"#DIV/0!"}]
[null,null,null,null,null,110,2.2000000000000002,-15.1153,0,null,null,2.685546875,null,null,0,{"$error":"#DIV/0!"}]
[null,null,null,null,null,111,2.2200000000000002,6.5141,0,null,null,2.7099609375,null,null,0,{"$error":"#DIV/0!"}]
[null,null,null,null,null,112,2.2400000000000002,22.413599999999999,0,null,null,2.734375,null,null,0,{"$error":"#DIV/0!"}]
[null,null,null,null,null,113,2.2600000000000002,21.663599999999999,0,null,null,2.7587890625,null,null,0,{"$error":"#DIV/0!"}]
[null,null,null,null,null,114,2.2800000000000002,15.963800000000001,0,null,null,2.783203125,null,null,0,{"$error":"#DIV/0!"}]
[null,null,null,null,null,115,2.3000000000000003,-0.77569999999999995,0,null,null,2.8076171875,null,null,0,{"$error":"#DIV/0!"}]
[null,null,null,null,null,116,2.3199999999999998,-4.4656000000000002,0,null,null,2.83203125,null,null,0,{"$error":"#DIV/0!"}]
[null,null,null,null,null,117,2.34,15.963800000000001,0,null,null,2.8564453125,null,null,0,{"$error":"#DIV/0!"}]
[null,null,null,null,null,118,2.36,25.113499999999998,0,null,null,2.880859375,null,null,0,{"$error":"#DIV/0!"}]
[null,null,null,null,null,119,2.38,18.2437,0,null,null,2.9052734375,null,null,0,{"$error":"#DIV/0!"}]
[null,null,null,null,null,120,2.4,16.7438,0,null,null,2.9296875,null,null,0,{"$error":"#DIV/0!"}]
[null,null,null,null,null,121,2.42,16.623799999999999,0,null,null,2.9541015625,null,null,0,{"$error":"#DIV/0!"}]
[null,null,null,null,null,122,2.44,-9.4754000000000005,0,null,null,2.978515625,null,null,0,{"$error":"#DIV/0!"}]
[null,null,null,null,null,123,2.46,-24.8049,0,null,null,3.0029296875,null,null,0,{"$error":"#DIV/0!"}]
[null,null,null,null,null,124,2.48,-2.8456000000000001,0,null,null,3.02734375,null,null,0,{"$error":"#DIV/0!"}]
[null,null,null,null,null,125,2.5,36.543199999999999,0,null,null,3.0517578125,null,null,0,{"$error":"#DIV/0!"}]
[null,null,null,null,null,126,2.52,28.923400000000001,0,null,null,3.076171875,null,null,0,{"$error":"#DIV/0!"}]
[null,null,null,null,null,127,2.54,-22.164999999999999,0,null,null,3.1005859375,null,null,0,{"$error":"#DIV/0!"}]
[null,null,null,null,null,128,{"$f":"B$6*(F131-1)","v":2.56},-40.674399999999999,0,null,null,3.125,null,null,0,{"$error":"#DIV/0!"}]
[null,null,null,null,null,129,2.58,-13.735200000000001,0,null,null,{"$f":"(F131)/B$9/B$6","v":3.1494140625},null,null,{"$f":"SQRT(M131^2+N131^2)","v":0},{"$f":"ATAN(N131/M131)","v":{"$error":"#DIV/0!"}}]
[null,null,null,null,null,130,2.6,4.2342000000000004,0,null,null,3.173828125,null,null,0,{"$error":"#DIV/0!"}]
[null,null,null,null,null,131,2.62,-13.3752,0,null,null,3.1982421875,null,null,0,{"$error":"#DIV/0!"}]
[null,null,null,null,null,132,2.64,-25.7349,0,null,null,3.22265625,null,null,0,{"$error":"#DIV/0!"}]
[null,null,null,null,null,133,2.66,12.334,0,null,null,3.2470703125,null,null,0,{"$error":"#DIV/0!"}]
[null,null,null,null,null,134,2.68,42.333100000000002,0,null,null,3.271484375,null,null,0,{"$error":"#DIV/0!"}]
[null,null,null,null,null,135,2.7,6.4399999999999999E-2,0,null,null,3.2958984375,null,null,0,{"$error":"#DIV/0!"}]
[null,null,null,null,null,136,2.72,-60.323799999999999,0,null,null,3.3203125,null,null,0,{"$error":"#DIV/0!"}]
[null,null,null,null,null,137,2.74,-70.223500000000001,0,null,null,3.3447265625,null,null,0,{"$error":"#DIV/0!"}]
[null,null,null,null,null,138,2.7600000000000002,-13.8552,0,null,null,3.369140625,null,null,0,{"$error":"#DIV/0!"}]
[null,null,null,null,null,139,2.7800000000000002,24.243600000000001,0,null,null,3.3935546875,null,null,0,{"$error":"#DIV/0!"}]
[null,null,null,null,null,140,2.8000000000000003,-2.2155,0,null,null,3.41796875,null,null,0,{"$error":"#DIV/0!"}]
[null,null,null,null,null,141,2.82,-8.6952999999999996,0,null,null,3.4423828125,null,null,0,{"$error":"#DIV/0!"}]
[null,null,null,null,null,142,2.84,22.623699999999999,0,null,null,3.466796875,null,null,0,{"$error":"#DIV/0!"}]
[null,null,null,null,null,143,2.86,45.363,0,null,null,3.4912109375,null,null,0,{"$error":"#DIV/0!"}]
[null,null,null,null,null,144,2.88,30.543500000000002,0,null,null,3.515625,null,null,0,{"$error":"#DIV/0!"}]
[null,null,null,null,null,145,2.9,-15.805099999999999,0,null,null,3.5400390625,null,null,0,{"$error":"#DIV/0!"}]
[null,null,null,null,null,146,2.92,-21.1449,0,null,null,3.564453125,null,null,0,{"$error":"#DIV/0!"}]
[null,null,null,null,null,147,2.94,45.152999999999999,0,null,null,3.5888671875,null,null,0,{"$error":"#DIV/0!"}]
[null,null,null,null,null,148,2.96,87.391800000000003,0,null,null,3.61328125,null,null,0,{"$error":"#DIV/0!"}]
[null,null,null,null,null,149,2.98,51.002899999999997,0,null,null,3.6376953125,null,null,0,{"$error":"#DIV/0!"}]
[null,null,null,null,null,150,3,16.024000000000001,0,null,null,3.662109375,null,null,0,{"$error":"#DIV/0!"}]
[null,null,null,null,null,151,3.02,43.503100000000003,0,null,null,3.6865234375,null,null,0,{"$error":"#DIV/0!"}]
[null,null,null,null,null,152,3.04,92.671599999999998,0,null,null,3.7109375,null,null,0,{"$error":"#DIV/0!"}]
[null,null,null,null,null,153,3.06,83.671899999999994,0,null,null,3.7353515625,null,null,0,{"$error":"#DIV/0!"}]
[null,null,null,null,null,154,3.08,15.724,0,null,null,3.759765625,null,null,0,{"$error":"#DIV/0!"}]
[null,null,null,null,null,155,3.1,-23.004799999999999,0,null,null,3.7841796875,null,null,0,{"$error":"#DIV/0!"}]
[null,null,null,null,null,156,3.12,-1.3754999999999999,0,null,null,3.80859375,null,null,0,{"$error":"#DIV/0!"}]
[null,null,null,null,null,157,3.14,24.273700000000002,0,null,null,3.8330078125,null,null,0,{"$error":"#DIV/0!"}]
[null,null,null,null,null,158,3.16,11.6441,0,null,null,3.857421875,null,null,0,{"$error":"#DIV/0!"}]
[null,null,null,null,null,159,3.18,-5.1554000000000002,0,null,null,3.8818359375,null,null,0,{"$error":"#DIV/0!"}]
[null,null,null,null,null,160,3.2,10.3842,0,null,null,3.90625,null,null,0,{"$error":"#DIV/0!"}]
[null,null,null,null,null,161,3.22,52.712899999999998,0,null,null,3.9306640625,null,null,0,{"$error":"#DIV/0!"}]
[null,null,null,null,null,162,3.24,110.8811,0,null,null,3.955078125,null,null,0,{"$error":"#DIV/0!"}]
[null,null,null,null,null,163,3.2600000000000002,170.7893,0,null,null,3.9794921875,null,null,0,{"$error":"#DIV/0!"}]
[null,null,null,null,null,164,3.2800000000000002,208.6481,0,null,null,4.00390625,null,null,0,{"$error":"#DIV/0!"}]
[null,null,null,null,null,165,3.3000000000000003,232.25739999999999,0,null,null,4.0283203125,null,null,0,{"$error":"#DIV/0!"}]
[null,null,null,null,null,166,3.3200000000000003,263.90640000000002,0,null,null,4.052734375,null,null,0,{"$error":"#DIV/0!"}]
[null,null,null,null,null,167,3.34,295.16550000000001,0,null,null,4.0771484375,null,null,0,{"$error":"#DIV/0!"}]
[null,null,null,null,null,168,3.36,318.44479999999999,0,null,null,4.1015625,null,null,0,{"$error":"#DIV/0!"}]
[null,null,null,null,null,169,3.38,345.98390000000001,0,null,null,4.1259765625,null,null,0,{"$error":"#DIV/0!"}]
[null,null,null,null,null,170,3.4,332.27429999999998,0,null,null,4.150390625,null,null,0,{"$error":"#DIV/0!"}]
[null,null,null,null,null,171,3.42,223.07769999999999,0,null,null,4.1748046875,null,null,0,{"$error":"#DIV/0!"}]
[null,null,null,null,null,172,3.44,82.802000000000007,0,null,null,4.19921875,null,null,0,{"$error":"#DIV/0!"}]
[null,null,null,null,null,173,3.46,-33.504399999999997,0,null,null,4.2236328125,null,null,0,{"$error":"#DIV/0!"}]
[null,null,null,null,null,174,3.48,-158.511,0,null,null,4.248046875,null,null,0,{"$error":"#DIV/0!"}]
[null,null,null,null,null,175,3.5,-328.27499999999998,0,null,null,4.2724609375,null,null,0,{"$error":"#DIV/0!"}]
[null,null,null,null,null,176,3.52,-454.78199999999998,0,null,null,4.296875,null,null,0,{"$error":"#DIV/0!"}]
[null,null,null,null,null,177,3.54,-498.01,0,null,null,4.3212890625,null,null,0,{"$error":"#DIV/0!"}]
[null,null,null,null,null,178,3.56,-505.18,0,null,null,4.345703125,null,null,0,{"$error":"#DIV/0!"}]
[null,null,null,null,null,179,3.58,-511.42,0,null,null,4.3701171875,null,null,0,{"$error":"#DIV/0!"}]
[null,null,null,null,null,180,3.6,-535.83900000000006,0,null,null,4.39453125,null,null,0,{"$error":"#DIV/0!"}]
[null,null,null,null,null,181,3.62,-587.67700000000002,0,null,null,4.4189453125,null,null,0,{"$error":"#DIV/0!"}]
[null,null,null,null,null,182,3.64,-630.57600000000002,0,null,null,4.443359375,null,null,0,{"$error":"#DIV/0!"}]
[null,null,null,null,null,183,3.66,-557.31799999999998,0,null,null,4.4677734375,null,null,0,{"$error":"#DIV/0!"}]
[null,null,null,null,null,184,3.68,-351.07499999999999,0,null,null,4.4921875,null,null,0,{"$error":"#DIV/0!"}]
[null,null,null,null,null,185,3.7,-137.93100000000001,0,null,null,4.5166015625,null,null,0,{"$error":"#DIV/0!"}]
[null,null,null,null,null,186,3.72,-3.5952999999999999,0,null,null,4.541015625,null,null,0,{"$error":"#DIV/0!"}]
[null,null,null,null,null,187,3.74,65.312600000000003,0,null,null,4.5654296875,null,null,0,{"$error":"#DIV/0!"}]
[null,null,null,null,null,188,3.7600000000000002,133.68049999999999,0,null,null,4.58984375,null,null,0,{"$error":"#DIV/0!"}]
[null,null,null,null,null,189,3.7800000000000002,176.9392,0,null,null,4.6142578125,null,null,0,{"$error":"#DIV/0!"}]
[null,null,null,null,null,190,3.8000000000000003,177.7192,0,null,null,4.638671875,null,null,0,{"$error":"#DIV/0!"}]
[null,null,null,null,null,191,3.8200000000000003,176.60919999999999,0,null,null,4.6630859375,null,null,0,{"$error":"#DIV/0!"}]
[null,null,null,null,null,192,{"$f":"B$6*(F195-1)","v":3.84},171.5994,0,null,null,4.6875,null,null,0,{"$error":"#DIV/0!"}]
[null,null,null,null,null,193,3.86,145.92019999999999,0,null,null,{"$f":"(F195)/B$9/B$6","v":4.7119140625},null,null,{"$f":"SQRT(M195^2+N195^2)","v":0},{"$f":"ATAN(N195/M195)","v":{"$error":"#DIV/0!"}}]
[null,null,null,null,null,194,3.88,96.721699999999998,0,null,null,4.736328125,null,null,0,{"$error":"#DIV/0!"}]
[null,null,null,null,null,195,3.9,31.2637,0,null,null,4.7607421875,null,null,0,{"$error":"#DIV/0!"}]
[null,null,null,null,null,196,3.92,-9.9250000000000007,0,null,null,4.78515625,null,null,0,{"$error":"#DIV/0!"}]
[null,null,null,null,null,197,3.94,14.4642,0,null,null,4.8095703125,null,null,0,{"$error":"#DIV/0!"}]
[null,null,null,null,null,198,3.96,61.802799999999998,0,null,null,4.833984375,null,null,0,{"$error":"#DIV/0!"}]
[null,null,null,null,null,199,3.98,96.541700000000006,0,null,null,4.8583984375,null,null,0,{"$error":"#DIV/0!"}]
[null,null,null,null,null,200,4,133.38059999999999,0,null,null,4.8828125,null,null,0,{"$error":"#DIV/0!"}]
[null,null,null,null,null,201,4.0200000000000005,164.00970000000001,0,null,null,4.9072265625,null,null,0,{"$error":"#DIV/0!"}]
[null,null,null,null,null,202,4.04,189.80889999999999,0,null,null,4.931640625,null,null,0,{"$error":"#DIV/0!"}]
[null,null,null,null,null,203,4.0600000000000005,211.19820000000001,0,null,null,4.9560546875,null,null,0,{"$error":"#DIV/0!"}]
[null,null,null,null,null,204,4.08,229.85759999999999,0,null,null,4.98046875,null,null,0,{"$error":"#DIV/0!"}]
[null,null,null,null,null,205,4.0999999999999996,261.80669999999998,0,null,null,5.0048828125,null,null,0,{"$error":"#DIV/0!"}]
[null,null,null,null,null,206,4.12,319.55489999999998,0,null,null,5.029296875,null,null,0,{"$error":"#DIV/0!"}]
[null,null,null,null,null,207,4.1399999999999997,391.85270000000003,0,null,null,5.0537109375,null,null,0,{"$error":"#DIV/0!"}]
[null,null,null,null,null,208,4.16,451.10090000000002,0,null,null,5.078125,null,null,0,{"$error":"#DIV/0!"}]
[null,null,null,null,null,209,4.18,474.41019999999997,0,null,null,5.1025390625,null,null,0,{"$error":"#DIV/0!"}]
[null,null,null,null,null,210,4.2,470.5403,0,null,null,5.126953125,null,null,0,{"$error":"#DIV/0!"}]
[null,null,null,null,null,211,4.22,464.33049999999997,0,null,null,5.1513671875,null,null,0,{"$error":"#DIV/0!"}]
[null,null,null,null,null,212,4.24,470.4203,0,null,null,5.17578125,null,null,0,{"$error":"#DIV/0!"}]
[null,null,null,null,null,213,4.26,473.87020000000001,0,null,null,5.2001953125,null,null,0,{"$error":"#DIV/0!"}]
[null,null,null,null,null,214,4.28,425.12169999999998,0,null,null,5.224609375,null,null,0,{"$error":"#DIV/0!"}]
[null,null,null,null,null,215,4.3,297.23559999999998,0,null,null,5.2490234375,null,null,0,{"$error":"#DIV/0!"}]
[null,null,null,null,null,216,4.32,120.6611,0,null,null,5.2734375,null,null,0,{"$error":"#DIV/0!"}]
[null,null,null,null,null,217,4.34,-56.8735,0,null,null,5.2978515625,null,null,0,{"$error":"#DIV/0!"}]
[null,null,null,null,null,218,4.3600000000000003,-201.97900000000001,0,null,null,5.322265625,null,null,0,{"$error":"#DIV/0!"}]
[null,null,null,null,null,219,4.38,-289.33600000000001,0,null,null,5.3466796875,null,null,0,{"$error":"#DIV/0!"}]
[null,null,null,null,null,220,4.4000000000000004,-343.60500000000002,0,null,null,5.37109375,null,null,0,{"$error":"#DIV/0!"}]
[null,null,null,null,null,221,4.42,-393.613,0,null,null,5.3955078125,null,null,0,{"$error":"#DIV/0!"}]
[null,null,null,null,null,222,4.4400000000000004,-443.65199999999999,0,null,null,5.419921875,null,null,0,{"$error":"#DIV/0!"}]
[null,null,null,null,null,223,4.46,-511.96,0,null,null,5.4443359375,null,null,0,{"$error":"#DIV/0!"}]
[null,null,null,null,null,224,4.4800000000000004,-594.30700000000002,0,null,null,5.46875,null,null,0,{"$error":"#DIV/0!"}]
[null,null,null,null,null,225,4.5,-677.70399999999995,0,null,null,5.4931640625,null,null,0,{"$error":"#DIV/0!"}]
[null,null,null,null,null,226,4.5200000000000005,-763.17200000000003,0,null,null,5.517578125,null,null,0,{"$error":"#DIV/0!"}]
[null,null,null,null,null,227,4.54,-820.56,0,null,null,5.5419921875,null,null,0,{"$error":"#DIV/0!"}]
[null,null,null,null,null,228,4.5600000000000005,-812.61,0,null,null,5.56640625,null,null,0,{"$error":"#DIV/0!"}]
[null,null,null,null,null,229,4.58,-705.154,0,null,null,5.5908203125,null,null,0,{"$error":"#DIV/0!"}]
[null,null,null,null,null,230,4.6000000000000005,-522.279,0,null,null,5.615234375,null,null,0,{"$error":"#DIV/0!"}]
[null,null,null,null,null,231,4.62,-346.30500000000001,0,null,null,5.6396484375,null,null,0,{"$error":"#DIV/0!"}]
[null,null,null,null,null,232,4.6399999999999997,-208.339,0,null,null,5.6640625,null,null,0,{"$error":"#DIV/0!"}]
[null,null,null,null,null,233,4.66,-96.772199999999998,0,null,null,5.6884765625,null,null,0,{"$error":"#DIV/0!"}]
[null,null,null,null,null,234,4.68,-19.374600000000001,0,null,null,5.712890625,null,null,0,{"$error":"#DIV/0!"}]
[null,null,null,null,null,235,4.7,22.354199999999999,0,null,null,5.7373046875,null,null,0,{"$error":"#DIV/0!"}]
[null,null,null,null,null,236,4.72,70.082700000000003,0,null,null,5.76171875,null,null,0,{"$error":"#DIV/0!"}]
[null,null,null,null,null,237,4.74,148.8903,0,null,null,5.7861328125,null,null,0,{"$error":"#DIV/0!"}]
[null,null,null,null,null,238,4.76,224.78800000000001,0,null,null,5.810546875,null,null,0,{"$error":"#DIV/0!"}]
[null,null,null,null,null,239,4.78,279.05630000000002,0,null,null,5.8349609375,null,null,0,{"$error":"#DIV/0!"}]
[null,null,null,null,null,240,4.8,325.19490000000002,0,null,null,5.859375,null,null,0,{"$error":"#DIV/0!"}]
[null,null,null,null,null,241,4.82,338.00450000000001,0,null,null,5.8837890625,null,null,0,{"$error":"#DIV/0!"}]
[null,null,null,null,null,242,4.84,305.90550000000002,0,null,null,5.908203125,null,null,0,{"$error":"#DIV/0!"}]
[null,null,null,null,null,243,4.8600000000000003,261.3569,0,null,null,5.9326171875,null,null,0,{"$error":"#DIV/0!"}]
[null,null,null,null,null,244,4.88,207.17850000000001,0,null,null,5.95703125,null,null,0,{"$error":"#DIV/0!"}]
[null,null,null,null,null,245,4.9000000000000004,118.0813,0,null,null,5.9814453125,null,null,0,{"$error":"#DIV/0!"}]
[null,null,null,null,null,246,4.92,7.8047000000000004,0,null,null,6.005859375,null,null,0,{"$error":"#DIV/0!"}]
[null,null,null,null,null,247,4.9400000000000004,-70.942899999999995,0,null,null,6.0302734375,null,null,0,{"$error":"#DIV/0!"}]
[null,null,null,null,null,248,4.96,-100.072,0,null,null,6.0546875,null,null,0,{"$error":"#DIV/0!"}]
[null,null,null,null,null,249,4.9800000000000004,-118.22199999999999,0,null,null,6.0791015625,null,null,0,{"$error":"#DIV/0!"}]
[null,null,null,null,null,250,5,-142.70099999999999,0,null,null,6.103515625,null,null,0,{"$error":"#DIV/0!"}]
[null,null,null,null,null,251,5.0200000000000005,-156.38,0,null,null,6.1279296875,null,null,0,{"$error":"#DIV/0!"}]
[null,null,null,null,null,252,5.04,-162.62,0,null,null,6.15234375,null,null,0,{"$error":"#DIV/0!"}]
[null,null,null,null,null,253,5.0600000000000005,-179.48,0,null,null,6.1767578125,null,null,0,{"$error":"#DIV/0!"}]
[null,null,null,null,null,254,5.08,-188.239,0,null,null,6.201171875,null,null,0,{"$error":"#DIV/0!"}]
[null,null,null,null,null,255,5.1000000000000005,-175.04,0,null,null,6.2255859375,null,null,0,{"$error":"#DIV/0!"}]
[null,null,null,null,null,256,{"$f":"B$6*(F259-1)","v":5.12},-130.46100000000001,0,null,null,6.25,null,null,0,{"$error":"#DIV/0!"}]
[null,null,null,null,null,257,5.14,-38.933799999999998,0,null,null,{"$f":"(F259)/B$9/B$6","v":6.2744140625},null,null,{"$f":"SQRT(M259^2+N259^2)","v":0},{"$f":"ATAN(N259/M259)","v":{"$error":"#DIV/0!"}}]
[null,null,null,null,null,258,5.16,44.2836,0,null,null,6.298828125,null,null,0,{"$error":"#DIV/0!"}]
[null,null,null,null,null,259,5.18,77.6126,0,null,null,6.3232421875,null,null,0,{"$error":"#DIV/0!"}]
[null,null,null,null,null,260,5.2,108.33159999999999,0,null,null,6.34765625,null,null,0,{"$error":"#DIV/0!"}]
[null,null,null,null,null,261,5.22,127.3511,0,null,null,6.3720703125,null,null,0,{"$error":"#DIV/0!"}]
[null,null,null,null,null,262,5.24,87.692300000000003,0,null,null,6.396484375,null,null,0,{"$error":"#DIV/0!"}]
[null,null,null,null,null,263,5.26,24.844200000000001,0,null,null,6.4208984375,null,null,0,{"$error":"#DIV/0!"}]
[null,null,null,null,null,264,5.28,-8.7247000000000003,0,null,null,6.4453125,null,null,0,{"$error":"#DIV/0!"}]
[null,null,null,null,null,265,5.3,-2.5449000000000002,0,null,null,6.4697265625,null,null,0,{"$error":"#DIV/0!"}]
[null,null,null,null,null,266,5.32,41.853700000000003,0,null,null,6.494140625,null,null,0,{"$error":"#DIV/0!"}]
[null,null,null,null,null,267,5.34,95.582099999999997,0,null,null,6.5185546875,null,null,0,{"$error":"#DIV/0!"}]
[null,null,null,null,null,268,5.36,123.66119999999999,0,null,null,6.54296875,null,null,0,{"$error":"#DIV/0!"}]
[null,null,null,null,null,269,5.38,143.85059999999999,0,null,null,6.5673828125,null,null,0,{"$error":"#DIV/0!"}]
[null,null,null,null,null,270,5.4,179.36949999999999,0,null,null,6.591796875,null,null,0,{"$error":"#DIV/0!"}]
[null,null,null,null,null,271,5.42,224.66810000000001,0,null,null,6.6162109375,null,null,0,{"$error":"#DIV/0!"}]
[null,null,null,null,null,272,5.44,267.35680000000002,0,null,null,6.640625,null,null,0,{"$error":"#DIV/0!"}]
[null,null,null,null,null,273,5.46,295.79599999999999,0,null,null,6.6650390625,null,null,0,{"$error":"#DIV/0!"}]
[null,null,null,null,null,274,5.48,296.66590000000002,0,null,null,6.689453125,null,null,0,{"$error":"#DIV/0!"}]
[null,null,null,null,null,275,5.5,264.98689999999999,0,null,null,6.7138671875,null,null,0,{"$error":"#DIV/0!"}]
[null,null,null,null,null,276,5.5200000000000005,218.9983,0,null,null,6.73828125,null,null,0,{"$error":"#DIV/0!"}]
[null,null,null,null,null,277,5.54,178.52959999999999,0,null,null,6.7626953125,null,null,0,{"$error":"#DIV/0!"}]
[null,null,null,null,null,278,5.5600000000000005,137.67080000000001,0,null,null,6.787109375,null,null,0,{"$error":"#DIV/0!"}]
[null,null,null,null,null,279,5.58,91.232299999999995,0,null,null,6.8115234375,null,null,0,{"$error":"#DIV/0!"}]
[null,null,null,null,null,280,5.6000000000000005,55.863399999999999,0,null,null,6.8359375,null,null,0,{"$error":"#DIV/0!"}]
[null,null,null,null,null,281,5.62,46.743600000000001,0,null,null,6.8603515625,null,null,0,{"$error":"#DIV/0!"}]
[null,null,null,null,null,282,5.64,50.1935,0,null,null,6.884765625,null,null,0,{"$error":"#DIV/0!"}]
[null,null,null,null,null,283,5.66,39.003900000000002,0,null,null,6.9091796875,null,null,0,{"$error":"#DIV/0!"}]
[null,null,null,null,null,284,5.68,32.884099999999997,0,null,null,6.93359375,null,null,0,{"$error":"#DIV/0!"}]
[null,null,null,null,null,285,5.7,60.363199999999999,0,null,null,6.9580078125,null,null,0,{"$error":"#DIV/0!"}]
[null,null,null,null,null,286,5.72,85.622500000000002,0,null,null,6.982421875,null,null,0,{"$error":"#DIV/0!"}]
[null,null,null,null,null,287,5.74,87.572400000000002,0,null,null,7.0068359375,null,null,0,{"$error":"#DIV/0!"}]
[null,null,null,null,null,288,5.76,63.693199999999997,0,null,null,7.03125,null,null,0,{"$error":"#DIV/0!"}]
[null,null,null,null,null,289,5.78,48.693600000000004,0,null,null,7.0556640625,null,null,0,{"$error":"#DIV/0!"}]
[null,null,null,null,null,290,5.8,78.152699999999996,0,null,null,7.080078125,null,null,0,{"$error":"#DIV/0!"}]
[null,null,null,null,null,291,5.82,105.2719,0,null,null,7.1044921875,null,null,0,{"$error":"#DIV/0!"}]
[null,null,null,null,null,292,5.84,76.622799999999998,0,null,null,7.12890625,null,null,0,{"$error":"#DIV/0!"}]
[null,null,null,null,null,293,5.86,62.733199999999997,0,null,null,7.1533203125,null,null,0,{"$error":"#DIV/0!"}]
[null,null,null,null,null,294,5.88,71.822900000000004,0,null,null,7.177734375,null,null,0,{"$error":"#DIV/0!"}]
[null,null,null,null,null,295,5.9,3.4550000000000001,0,null,null,7.2021484375,null,null,0,{"$error":"#DIV/0!"}]
[null,null,null,null,null,296,5.92,-105.47199999999999,0,null,null,7.2265625,null,null,0,{"$error":"#DIV/0!"}]
[null,null,null,null,null,297,5.94,-137.39099999999999,0,null,null,7.2509765625,null,null,0,{"$error":"#DIV/0!"}]
[null,null,null,null,null,298,5.96,-95.631900000000002,0,null,null,7.275390625,null,null,0,{"$error":"#DIV/0!"}]
[null,null,null,null,null,299,5.98,-42.143500000000003,0,null,null,7.2998046875,null,null,0,{"$error":"#DIV/0!"}]
[null,null,null,null,null,300,6,-19.9742,0,null,null,7.32421875,null,null,0,{"$error":"#DIV/0!"}]
[null,null,null,null,null,301,6.0200000000000005,-1.6148,0,null,null,7.3486328125,null,null,0,{"$error":"#DIV/0!"}]
[null,null,null,null,null,302,6.04,29.194299999999998,0,null,null,7.373046875,null,null,0,{"$error":"#DIV/0!"}]
[null,null,null,null,null,303,6.0600000000000005,29.4343,0,null,null,7.3974609375,null,null,0,{"$error":"#DIV/0!"}]
[null,null,null,null,null,304,6.08,30.784199999999998,0,null,null,7.421875,null,null,0,{"$error":"#DIV/0!"}]
[null,null,null,null,null,305,6.1000000000000005,105.8719,0,null,null,7.4462890625,null,null,0,{"$error":"#DIV/0!"}]
[null,null,null,null,null,306,6.12,206.4889,0,null,null,7.470703125,null,null,0,{"$error":"#DIV/0!"}]
[null,null,null,null,null,307,6.1400000000000006,262.0172,0,null,null,7.4951171875,null,null,0,{"$error":"#DIV/0!"}]
[null,null,null,null,null,308,6.16,245.45769999999999,0,null,null,7.51953125,null,null,0,{"$error":"#DIV/0!"}]
[null,null,null,null,null,309,6.18,175.91980000000001,0,null,null,7.5439453125,null,null,0,{"$error":"#DIV/0!"}]
[null,null,null,null,null,310,6.2,107.22190000000001,0,null,null,7.568359375,null,null,0,{"$error":"#DIV/0!"}]
[null,null,null,null,null,311,6.22,41.943899999999999,0,null,null,7.5927734375,null,null,0,{"$error":"#DIV/0!"}]
[null,null,null,null,null,312,6.24,-30.4438,0,null,null,7.6171875,null,null,0,{"$error":"#DIV/0!"}]
[null,null,null,null,null,313,6.26,-124.431,0,null,null,7.6416015625,null,null,0,{"$error":"#DIV/0!"}]
[null,null,null,null,null,314,6.28,-241.45699999999999,0,null,null,7.666015625,null,null,0,{"$error":"#DIV/0!"}]
[null,null,null,null,null,315,6.3,-354.07400000000001,0,null,null,7.6904296875,null,null,0,{"$error":"#DIV/0!"}]
[null,null,null,null,null,316,6.32,-442.84100000000001,0,null,null,7.71484375,null,null,0,{"$error":"#DIV/0!"}]
[null,null,null,null,null,317,6.34,-511.68900000000002,0,null,null,7.7392578125,null,null,0,{"$error":"#DIV/0!"}]
[null,null,null,null,null,318,6.36,-579.84699999999998,0,null,null,7.763671875,null,null,0,{"$error":"#DIV/0!"}]
[null,null,null,null,null,319,6.38,-661.654,0,null,null,7.7880859375,null,null,0,{"$error":"#DIV/0!"}]
[null,null,null,null,null,320,{"$f":"B$6*(F323-1)","v":6.4},-729.72199999999998,0,null,null,7.8125,null,null,0,{"$error":"#DIV/0!"}]
[null,null,null,null,null,321,6.42,-701.73299999999995,0,null,null,{"$f":"(F323)/B$9/B$6","v":7.8369140625},null,null,{"$f":"SQRT(M323^2+N323^2)","v":0},{"$f":"ATAN(N323/M323)","v":{"$error":"#DIV/0!"}}]
[null,null,null,null,null,322,6.44,-527.10900000000004,0,null,null,7.861328125,null,null,0,{"$error":"#DIV/0!"}]
[null,null,null,null,null,323,6.46,-254.20699999999999,0,null,null,7.8857421875,null,null,0,{"$error":"#DIV/0!"}]
[null,null,null,null,null,324,6.48,29.734400000000001,0,null,null,7.91015625,null,null,0,{"$error":"#DIV/0!"}]
[null,null,null,null,null,325,6.5,221.8785,0,null,null,7.9345703125,null,null,0,{"$error":"#DIV/0!"}]
[null,null,null,null,null,326,6.5200000000000005,243.3578,0,null,null,7.958984375,null,null,0,{"$error":"#DIV/0!"}]
[null,null,null,null,null,327,6.54,275.36680000000001,0,null,null,7.9833984375,null,null,0,{"$error":"#DIV/0!"}]
[null,null,null,null,null,328,6.5600000000000005,390.02330000000001,0,null,null,8.0078125,null,null,0,{"$error":"#DIV/0!"}]
[null,null,null,null,null,329,6.58,365.27409999999998,0,null,null,8.0322265625,null,null,0,{"$error":"#DIV/0!"}]
[null,null,null,null,null,330,6.6000000000000005,229.22829999999999,0,null,null,8.056640625,null,null,0,{"$error":"#DIV/0!"}]
[null,null,null,null,null,331,6.62,107.61199999999999,0,null,null,8.0810546875,null,null,0,{"$error":"#DIV/0!"}]
[null,null,null,null,null,332,6.6400000000000006,-21.414000000000001,0,null,null,8.10546875,null,null,0,{"$error":"#DIV/0!"}]
[null,null,null,null,null,333,6.66,-171.85900000000001,0,null,null,8.1298828125,null,null,0,{"$error":"#DIV/0!"}]
[null,null,null,null,null,334,6.68,-287.77600000000001,0,null,null,8.154296875,null,null,0,{"$error":"#DIV/0!"}]
[null,null,null,null,null,335,6.7,-333.43400000000003,0,null,null,8.1787109375,null,null,0,{"$error":"#DIV/0!"}]
[null,null,null,null,null,336,6.72,-323.83499999999998,0,null,null,8.203125,null,null,0,{"$error":"#DIV/0!"}]
[null,null,null,null,null,337,6.74,-247.667,0,null,null,8.2275390625,null,null,0,{"$error":"#DIV/0!"}]
[null,null,null,null,null,338,6.76,-116.661,0,null,null,8.251953125,null,null,0,{"$error":"#DIV/0!"}]
[null,null,null,null,null,339,6.78,27.1845,0,null,null,8.2763671875,null,null,0,{"$error":"#DIV/0!"}]
[null,null,null,null,null,340,6.8,162.3004,0,null,null,8.30078125,null,null,0,{"$error":"#DIV/0!"}]
[null,null,null,null,null,341,6.82,275.18689999999998,0,null,null,8.3251953125,null,null,0,{"$error":"#DIV/0!"}]
[null,null,null,null,null,342,6.84,392.1533,0,null,null,8.349609375,null,null,0,{"$error":"#DIV/0!"}]
[null,null,null,null,null,343,6.86,473.69080000000002,0,null,null,8.3740234375,null,null,0,{"$error":"#DIV/0!"}]
[null,null,null,null,null,344,6.88,517.45950000000005,0,null,null,8.3984375,null,null,0,{"$error":"#DIV/0!"}]
[null,null,null,null,null,345,6.9,562.33810000000005,0,null,null,8.4228515625,null,null,0,{"$error":"#DIV/0!"}]
[null,null,null,null,null,346,6.92,580.72760000000005,0,null,null,8.447265625,null,null,0,{"$error":"#DIV/0!"}]
[null,null,null,null,null,347,6.94,543.13869999999997,0,null,null,8.4716796875,null,null,0,{"$error":"#DIV/0!"}]
[null,null,null,null,null,348,6.96,470.54090000000002,0,null,null,8.49609375,null,null,0,{"$error":"#DIV/0!"}]
[null,null,null,null,null,349,6.98,382.70359999999999,0,null,null,8.5205078125,null,null,0,{"$error":"#DIV/0!"}]
[null,null,null,null,null,350,7,292.22640000000001,0,null,null,8.544921875,null,null,0,{"$error":"#DIV/0!"}]
[null,null,null,null,null,351,7.0200000000000005,203.00919999999999,0,null,null,8.5693359375,null,null,0,{"$error":"#DIV/0!"}]
[null,null,null,null,null,352,7.04,78.602999999999994,0,null,null,8.59375,null,null,0,{"$error":"#DIV/0!"}]
[null,null,null,null,null,353,7.0600000000000005,-97.041600000000003,0,null,null,8.6181640625,null,null,0,{"$error":"#DIV/0!"}]
[null,null,null,null,null,354,7.08,-245.23699999999999,0,null,null,8.642578125,null,null,0,{"$error":"#DIV/0!"}]
[null,null,null,null,null,355,7.1000000000000005,-291.76600000000002,0,null,null,8.6669921875,null,null,0,{"$error":"#DIV/0!"}]
[null,null,null,null,null,356,7.12,-244.03700000000001,0,null,null,8.69140625,null,null,0,{"$error":"#DIV/0!"}]
[null,null,null,null,null,357,7.1400000000000006,-198.19900000000001,0,null,null,8.7158203125,null,null,0,{"$error":"#DIV/0!"}]
[null,null,null,null,null,358,7.16,-219.19800000000001,0,null,null,8.740234375,null,null,0,{"$error":"#DIV/0!"}]
[null,null,null,null,null,359,7.18,-292.90600000000001,0,null,null,8.7646484375,null,null,0,{"$error":"#DIV/0!"}]
[null,null,null,null,null,360,7.2,-343.57400000000001,0,null,null,8.7890625,null,null,0,{"$error":"#DIV/0!"}]
[null,null,null,null,null,361,7.22,-303.16500000000002,0,null,null,8.8134765625,null,null,0,{"$error":"#DIV/0!"}]
[null,null,null,null,null,362,7.24,-184.75899999999999,0,null,null,8.837890625,null,null,0,{"$error":"#DIV/0!"}]
[null,null,null,null,null,363,7.26,-55.222799999999999,0,null,null,8.8623046875,null,null,0,{"$error":"#DIV/0!"}]
[null,null,null,null,null,364,7.28,19.564900000000002,0,null,null,8.88671875,null,null,0,{"$error":"#DIV/0!"}]
[null,null,null,null,null,365,7.3,25.114699999999999,0,null,null,8.9111328125,null,null,0,{"$error":"#DIV/0!"}]
[null,null,null,null,null,366,7.32,29.5246,0,null,null,8.935546875,null,null,0,{"$error":"#DIV/0!"}]
[null,null,null,null,null,367,7.34,30.334599999999998,0,null,null,8.9599609375,null,null,0,{"$error":"#DIV/0!"}]
[null,null,null,null,null,368,7.36,2.3754,0,null,null,8.984375,null,null,0,{"$error":"#DIV/0!"}]
[null,null,null,null,null,369,7.38,-28.643599999999999,0,null,null,9.0087890625,null,null,0,{"$error":"#DIV/0!"}]
[null,null,null,null,null,370,7.4,-55.6128,0,null,null,9.033203125,null,null,0,{"$error":"#DIV/0!"}]
[null,null,null,null,null,371,7.42,-86.541799999999995,0,null,null,9.0576171875,null,null,0,{"$error":"#DIV/0!"}]
[null,null,null,null,null,372,7.44,-98.091499999999996,0,null,null,9.08203125,null,null,0,{"$error":"#DIV/0!"}]
[null,null,null,null,null,373,7.46,-34.433399999999999,0,null,null,9.1064453125,null,null,0,{"$error":"#DIV/0!"}]
[null,null,null,null,null,374,7.48,81.722999999999999,0,null,null,9.130859375,null,null,0,{"$error":"#DIV/0!"}]
[null,null,null,null,null,375,7.5,165.2704,0,null,null,9.1552734375,null,null,0,{"$error":"#DIV/0!"}]
[null,null,null,null,null,376,7.5200000000000005,195.86949999999999,0,null,null,9.1796875,null,null,0,{"$error":"#DIV/0!"}]
[null,null,null,null,null,377,7.54,230.27850000000001,0,null,null,9.2041015625,null,null,0,{"$error":"#DIV/0!"}]
[null,null,null,null,null,378,7.5600000000000005,328.49549999999999,0,null,null,9.228515625,null,null,0,{"$error":"#DIV/0!"}]
[null,null,null,null,null,379,7.58,437.15210000000002,0,null,null,9.2529296875,null,null,0,{"$error":"#DIV/0!"}]
[null,null,null,null,null,380,7.6000000000000005,480.35079999999999,0,null,null,9.27734375,null,null,0,{"$error":"#DIV/0!"}]
[null,null,null,null,null,381,7.62,418.34269999999998,0,null,null,9.3017578125,null,null,0,{"$error":"#DIV/0!"}]
[null,null,null,null,null,382,7.6400000000000006,262.40750000000003,0,null,null,9.326171875,null,null,0,{"$error":"#DIV/0!"}]
[null,null,null,null,null,383,7.66,72.903300000000002,0,null,null,9.3505859375,null,null,0,{"$error":"#DIV/0!"}]
[null,null,null,null,null,384,{"$f":"B$6*(F387-1)","v":7.68},-111.20099999999999,0,null,null,9.375,null,null,0,{"$error":"#DIV/0!"}]
[null,null,null,null,null,385,7.7,-275.92599999999999,0,null,null,{"$f":"(F387)/B$9/B$6","v":9.3994140625},null,null,{"$f":"SQRT(M387^2+N387^2)","v":0},{"$f":"ATAN(N387/M387)","v":{"$error":"#DIV/0!"}}]
[null,null,null,null,null,386,7.72,-412.90199999999999,0,null,null,9.423828125,null,null,0,{"$error":"#DIV/0!"}]
[null,null,null,null,null,387,7.74,-505.47899999999998,0,null,null,9.4482421875,null,null,0,{"$error":"#DIV/0!"}]
[null,null,null,null,null,388,7.76,-514.62900000000002,0,null,null,9.47265625,null,null,0,{"$error":"#DIV/0!"}]
[null,null,null,null,null,389,7.78,-423.94099999999997,0,null,null,9.4970703125,null,null,0,{"$error":"#DIV/0!"}]
[null,null,null,null,null,390,7.8,-323.08499999999998,0,null,null,9.521484375,null,null,0,{"$error":"#DIV/0!"}]
[null,null,null,null,null,391,7.82,-258.04700000000003,0,null,null,9.5458984375,null,null,0,{"$error":"#DIV/0!"}]
[null,null,null,null,null,392,7.84,-195.49799999999999,0,null,null,9.5703125,null,null,0,{"$error":"#DIV/0!"}]
[null,null,null,null,null,393,7.86,-126.23099999999999,0,null,null,9.5947265625,null,null,0,{"$error":"#DIV/0!"}]
[null,null,null,null,null,394,7.88,-63.322400000000002,0,null,null,9.619140625,null,null,0,{"$error":"#DIV/0!"}]
[null,null,null,null,null,395,7.9,3.4855,0,null,null,9.6435546875,null,null,0,{"$error":"#DIV/0!"}]
[null,null,null,null,null,396,7.92,13.1752,0,null,null,9.66796875,null,null,0,{"$error":"#DIV/0!"}]
[null,null,null,null,null,397,7.94,-85.911699999999996,0,null,null,9.6923828125,null,null,0,{"$error":"#DIV/0!"}]
[null,null,null,null,null,398,7.96,-210.798,0,null,null,9.716796875,null,null,0,{"$error":"#DIV/0!"}]
[null,null,null,null,null,399,7.98,-275.77600000000001,0,null,null,9.7412109375,null,null,0,{"$error":"#DIV/0!"}]
[null,null,null,null,null,400,8,-239.71700000000001,0,null,null,9.765625,null,null,0,{"$error":"#DIV/0!"}]
[null,null,null,null,null,401,8.02,-146.47999999999999,0,null,null,9.7900390625,null,null,0,{"$error":"#DIV/0!"}]
[null,null,null,null,null,402,8.0400000000000009,-75.951999999999998,0,null,null,9.814453125,null,null,0,{"$error":"#DIV/0!"}]
[null,null,null,null,null,403,8.06,9.3054000000000006,0,null,null,9.8388671875,null,null,0,{"$error":"#DIV/0!"}]
[null,null,null,null,null,404,8.08,139.20140000000001,0,null,null,9.86328125,null,null,0,{"$error":"#DIV/0!"}]
[null,null,null,null,null,405,8.1,276.23719999999997,0,null,null,9.8876953125,null,null,0,{"$error":"#DIV/0!"}]
[null,null,null,null,null,406,8.120000000000001,370.01429999999999,0,null,null,9.912109375,null,null,0,{"$error":"#DIV/0!"}]
[null,null,null,null,null,407,8.14,399.83339999999998,0,null,null,9.9365234375,null,null,0,{"$error":"#DIV/0!"}]
[null,null,null,null,null,408,8.16,404.30329999999998,0,null,null,9.9609375,null,null,0,{"$error":"#DIV/0!"}]
[null,null,null,null,null,409,8.18,391.13369999999998,0,null,null,9.9853515625,null,null,0,{"$error":"#DIV/0!"}]
[null,null,null,null,null,410,8.1999999999999993,368.5444,0,null,null,10.009765625,null,null,0,{"$error":"#DIV/0!"}]
[null,null,null,null,null,411,8.2200000000000006,344.51510000000002,0,null,null,10.0341796875,null,null,0,{"$error":"#DIV/0!"}]
[null,null,null,null,null,412,8.24,314.51600000000002,0,null,null,10.05859375,null,null,0,{"$error":"#DIV/0!"}]
[null,null,null,null,null,413,8.26,283.46699999999998,0,null,null,10.0830078125,null,null,0,{"$error":"#DIV/0!"}]
[null,null,null,null,null,414,8.2799999999999994,229.73869999999999,0,null,null,10.107421875,null,null,0,{"$error":"#DIV/0!"}]
[null,null,null,null,null,415,8.3000000000000007,123.03189999999999,0,null,null,10.1318359375,null,null,0,{"$error":"#DIV/0!"}]
[null,null,null,null,null,416,8.32,-6.6540999999999997,0,null,null,10.15625,null,null,0,{"$error":"#DIV/0!"}]
[null,null,null,null,null,417,8.34,-129.35,0,null,null,10.1806640625,null,null,0,{"$error":"#DIV/0!"}]
[null,null,null,null,null,418,8.36,-237.49700000000001,0,null,null,10.205078125,null,null,0,{"$error":"#DIV/0!"}]
[null,null,null,null,null,419,8.3800000000000008,-325.45400000000001,0,null,null,10.2294921875,null,null,0,{"$error":"#DIV/0!"}]
[null,null,null,null,null,420,8.4,-370.00299999999999,0,null,null,10.25390625,null,null,0,{"$error":"#DIV/0!"}]
[null,null,null,null,null,421,8.42,-337.18400000000003,0,null,null,10.2783203125,null,null,0,{"$error":"#DIV/0!"}]
[null,null,null,null,null,422,8.44,-245.50700000000001,0,null,null,10.302734375,null,null,0,{"$error":"#DIV/0!"}]
[null,null,null,null,null,423,8.4600000000000009,-163.72900000000001,0,null,null,10.3271484375,null,null,0,{"$error":"#DIV/0!"}]
[null,null,null,null,null,424,8.48,-91.401399999999995,0,null,null,10.3515625,null,null,0,{"$error":"#DIV/0!"}]
[null,null,null,null,null,425,8.5,-2.3641999999999999,0,null,null,10.3759765625,null,null,0,{"$error":"#DIV/0!"}]
[null,null,null,null,null,426,8.52,52.534199999999998,0,null,null,10.400390625,null,null,0,{"$error":"#DIV/0!"}]
[null,null,null,null,null,427,8.5400000000000009,54.604100000000003,0,null,null,10.4248046875,null,null,0,{"$error":"#DIV/0!"}]
[null,null,null,null,null,428,8.56,21.9651,0,null,null,10.44921875,null,null,0,{"$error":"#DIV/0!"}]
[null,null,null,null,null,429,8.58,-25.883400000000002,0,null,null,10.4736328125,null,null,0,{"$error":"#DIV/0!"}]
[null,null,null,null,null,430,8.6,-76.071899999999999,0,null,null,10.498046875,null,null,0,{"$error":"#DIV/0!"}]
[null,null,null,null,null,431,8.620000000000001,-120.17100000000001,0,null,null,10.5224609375,null,null,0,{"$error":"#DIV/0!"}]
[null,null,null,null,null,432,8.64,-148.69999999999999,0,null,null,10.546875,null,null,0,{"$error":"#DIV/0!"}]
[null,null,null,null,null,433,8.66,-174.88900000000001,0,null,null,10.5712890625,null,null,0,{"$error":"#DIV/0!"}]
[null,null,null,null,null,434,8.68,-212.898,0,null,null,10.595703125,null,null,0,{"$error":"#DIV/0!"}]
[null,null,null,null,null,435,8.7000000000000011,-249.70699999999999,0,null,null,10.6201171875,null,null,0,{"$error":"#DIV/0!"}]
[null,null,null,null,null,436,8.7200000000000006,-293.11500000000001,0,null,null,10.64453125,null,null,0,{"$error":"#DIV/0!"}]
[null,null,null,null,null,437,8.74,-301.15499999999997,0,null,null,10.6689453125,null,null,0,{"$error":"#DIV/0!"}]
[null,null,null,null,null,438,8.76,-262.726,0,null,null,10.693359375,null,null,0,{"$error":"#DIV/0!"}]
[null,null,null,null,null,439,8.7799999999999994,-217.27799999999999,0,null,null,10.7177734375,null,null,0,{"$error":"#DIV/0!"}]
[null,null,null,null,null,440,8.8000000000000007,-162.739,0,null,null,10.7421875,null,null,0,{"$error":"#DIV/0!"}]
[null,null,null,null,null,441,8.82,-116.601,0,null,null,10.7666015625,null,null,0,{"$error":"#DIV/0!"}]
[null,null,null,null,null,442,8.84,-96.291200000000003,0,null,null,10.791015625,null,null,0,{"$error":"#DIV/0!"}]
[null,null,null,null,null,443,8.86,-77.511799999999994,0,null,null,10.8154296875,null,null,0,{"$error":"#DIV/0!"}]
[null,null,null,null,null,444,8.8800000000000008,-28.1633,0,null,null,10.83984375,null,null,0,{"$error":"#DIV/0!"}]
[null,null,null,null,null,445,8.9,45.694499999999998,0,null,null,10.8642578125,null,null,0,{"$error":"#DIV/0!"}]
[null,null,null,null,null,446,8.92,124.982,0,null,null,10.888671875,null,null,0,{"$error":"#DIV/0!"}]
[null,null,null,null,null,447,8.94,198.62979999999999,0,null,null,10.9130859375,null,null,0,{"$error":"#DIV/0!"}]
[null,null,null,null,null,448,{"$f":"B$6*(F451-1)","v":8.9600000000000009},254.75810000000001,0,null,null,10.9375,null,null,0,{"$error":"#DIV/0!"}]
[null,null,null,null,null,449,8.98,282.68720000000002,0,null,null,{"$f":"(F451)/B$9/B$6","v":10.9619140625},null,null,{"$f":"SQRT(M451^2+N451^2)","v":0},{"$f":"ATAN(N451/M451)","v":{"$error":"#DIV/0!"}}]
[null,null,null,null,null,450,9,267.83769999999998,0,null,null,10.986328125,null,null,0,{"$error":"#DIV/0!"}]
[null,null,null,null,null,451,9.02,213.89930000000001,0,null,null,11.0107421875,null,null,0,{"$error":"#DIV/0!"}]
[null,null,null,null,null,452,9.0400000000000009,160.53100000000001,0,null,null,11.03515625,null,null,0,{"$error":"#DIV/0!"}]
[null,null,null,null,null,453,9.06,136.5317,0,null,null,11.0595703125,null,null,0,{"$error":"#DIV/0!"}]
[null,null,null,null,null,454,9.08,124.2921,0,null,null,11.083984375,null,null,0,{"$error":"#DIV/0!"}]
[null,null,null,null,null,455,9.1,106.2026,0,null,null,11.1083984375,null,null,0,{"$error":"#DIV/0!"}]
[null,null,null,null,null,456,9.120000000000001,95.972999999999999,0,null,null,11.1328125,null,null,0,{"$error":"#DIV/0!"}]
[null,null,null,null,null,457,9.14,103.98269999999999,0,null,null,11.1572265625,null,null,0,{"$error":"#DIV/0!"}]
[null,null,null,null,null,458,9.16,112.2325,0,null,null,11.181640625,null,null,0,{"$error":"#DIV/0!"}]
[null,null,null,null,null,459,9.18,120.15219999999999,0,null,null,11.2060546875,null,null,0,{"$error":"#DIV/0!"}]
[null,null,null,null,null,460,9.2000000000000011,128.042,0,null,null,11.23046875,null,null,0,{"$error":"#DIV/0!"}]
[null,null,null,null,null,461,9.2200000000000006,130.08189999999999,0,null,null,11.2548828125,null,null,0,{"$error":"#DIV/0!"}]
[null,null,null,null,null,462,9.24,134.9718,0,null,null,11.279296875,null,null,0,{"$error":"#DIV/0!"}]
[null,null,null,null,null,463,9.26,143.5215,0,null,null,11.3037109375,null,null,0,{"$error":"#DIV/0!"}]
[null,null,null,null,null,464,9.2799999999999994,142.86160000000001,0,null,null,11.328125,null,null,0,{"$error":"#DIV/0!"}]
[null,null,null,null,null,465,9.3000000000000007,117.9623,0,null,null,11.3525390625,null,null,0,{"$error":"#DIV/0!"}]
[null,null,null,null,null,466,9.32,61.684100000000001,0,null,null,11.376953125,null,null,0,{"$error":"#DIV/0!"}]
[null,null,null,null,null,467,9.34,-27.743200000000002,0,null,null,11.4013671875,null,null,0,{"$error":"#DIV/0!"}]
[null,null,null,null,null,468,9.36,-136.43,0,null,null,11.42578125,null,null,0,{"$error":"#DIV/0!"}]
[null,null,null,null,null,469,9.3800000000000008,-229.78700000000001,0,null,null,11.4501953125,null,null,0,{"$error":"#DIV/0!"}]
[null,null,null,null,null,470,9.4,-268.846,0,null,null,11.474609375,null,null,0,{"$error":"#DIV/0!"}]
[null,null,null,null,null,471,9.42,-241.90700000000001,0,null,null,11.4990234375,null,null,0,{"$error":"#DIV/0!"}]
[null,null,null,null,null,472,9.44,-187.12799999999999,0,null,null,11.5234375,null,null,0,{"$error":"#DIV/0!"}]
[null,null,null,null,null,473,9.4600000000000009,-132.38,0,null,null,11.5478515625,null,null,0,{"$error":"#DIV/0!"}]
[null,null,null,null,null,474,9.48,-82.881500000000003,0,null,null,11.572265625,null,null,0,{"$error":"#DIV/0!"}]
[null,null,null,null,null,475,9.5,-49.672499999999999,0,null,null,11.5966796875,null,null,0,{"$error":"#DIV/0!"}]
[null,null,null,null,null,476,9.52,-19.253399999999999,0,null,null,11.62109375,null,null,0,{"$error":"#DIV/0!"}]
[null,null,null,null,null,477,9.5400000000000009,16.265499999999999,0,null,null,11.6455078125,null,null,0,{"$error":"#DIV/0!"}]
[null,null,null,null,null,478,9.56,58.054200000000002,0,null,null,11.669921875,null,null,0,{"$error":"#DIV/0!"}]
[null,null,null,null,null,479,9.58,88.953299999999999,0,null,null,11.6943359375,null,null,0,{"$error":"#DIV/0!"}]
[null,null,null,null,null,480,9.6,86.463399999999993,0,null,null,11.71875,null,null,0,{"$error":"#DIV/0!"}]
[null,null,null,null,null,481,9.620000000000001,62.014099999999999,0,null,null,11.7431640625,null,null,0,{"$error":"#DIV/0!"}]
[null,null,null,null,null,482,9.64,52.114400000000003,0,null,null,11.767578125,null,null,0,{"$error":"#DIV/0!"}]
[null,null,null,null,null,483,9.66,63.844099999999997,0,null,null,11.7919921875,null,null,0,{"$error":"#DIV/0!"}]
[null,null,null,null,null,484,9.68,79.413600000000002,0,null,null,11.81640625,null,null,0,{"$error":"#DIV/0!"}]
[null,null,null,null,null,485,9.7000000000000011,104.0429,0,null,null,11.8408203125,null,null,0,{"$error":"#DIV/0!"}]
[null,null,null,null,null,486,9.7200000000000006,138.7818,0,null,null,11.865234375,null,null,0,{"$error":"#DIV/0!"}]
[null,null,null,null,null,487,9.74,154.59129999999999,0,null,null,11.8896484375,null,null,0,{"$error":"#DIV/0!"}]
[null,null,null,null,null,488,9.76,122.8823,0,null,null,11.9140625,null,null,0,{"$error":"#DIV/0!"}]
[null,null,null,null,null,489,9.7799999999999994,59.734200000000001,0,null,null,11.9384765625,null,null,0,{"$error":"#DIV/0!"}]
[null,null,null,null,null,490,9.8000000000000007,-11.483599999999999,0,null,null,11.962890625,null,null,0,{"$error":"#DIV/0!"}]
[null,null,null,null,null,491,9.82,-84.741299999999995,0,null,null,11.9873046875,null,null,0,{"$error":"#DIV/0!"}]
[null,null,null,null,null,492,9.84,-145.55000000000001,0,null,null,12.01171875,null,null,0,{"$error":"#DIV/0!"}]
[null,null,null,null,null,493,9.86,-182.71799999999999,0,null,null,12.0361328125,null,null,0,{"$error":"#DIV/0!"}]
[null,null,null,null,null,494,9.8800000000000008,-200.68799999999999,0,null,null,12.060546875,null,null,0,{"$error":"#DIV/0!"}]
[null,null,null,null,null,495,9.9,-191.08799999999999,0,null,null,12.0849609375,null,null,0,{"$error":"#DIV/0!"}]
[null,null,null,null,null,496,9.92,-135.62,0,null,null,12.109375,null,null,0,{"$error":"#DIV/0!"}]
[null,null,null,null,null,497,9.94,-52.882300000000001,0,null,null,12.1337890625,null,null,0,{"$error":"#DIV/0!"}]
[null,null,null,null,null,498,9.9600000000000009,18.1556,0,null,null,12.158203125,null,null,0,{"$error":"#DIV/0!"}]
[null,null,null,null,null,499,9.98,67.024100000000004,0,null,null,12.1826171875,null,null,0,{"$error":"#DIV/0!"}]
[null,null,null,null,null,500,10,103.9529,0,null,null,12.20703125,null,null,0,{"$error":"#DIV/0!"}]
[null,null,null,null,null,501,10.02,131.7021,0,null,null,12.2314453125,null,null,0,{"$error":"#DIV/0!"}]
[null,null,null,null,null,502,10.040000000000001,144.36170000000001,0,null,null,12.255859375,null,null,0,{"$error":"#DIV/0!"}]
[null,null,null,null,null,503,10.06,137.46190000000001,0,null,null,12.2802734375,null,null,0,{"$error":"#DIV/0!"}]
[null,null,null,null,null,504,10.08,111.78270000000001,0,null,null,12.3046875,null,null,0,{"$error":"#DIV/0!"}]
[null,null,null,null,null,505,10.1,64.744200000000006,0,null,null,12.3291015625,null,null,0,{"$error":"#DIV/0!"}]
[null,null,null,null,null,506,10.120000000000001,8.2858999999999998,0,null,null,12.353515625,null,null,0,{"$error":"#DIV/0!"}]
[null,null,null,null,null,507,10.14,-41.182600000000001,0,null,null,12.3779296875,null,null,0,{"$error":"#DIV/0!"}]
[null,null,null,null,null,508,10.16,-82.371300000000005,0,null,null,12.40234375,null,null,0,{"$error":"#DIV/0!"}]
[null,null,null,null,null,509,10.18,-114.2,0,null,null,12.4267578125,null,null,0,{"$error":"#DIV/0!"}]
[null,null,null,null,null,510,10.200000000000001,-136.72999999999999,0,null,null,12.451171875,null,null,0,{"$error":"#DIV/0!"}]
[null,null,null,null,null,511,10.220000000000001,-159.10900000000001,0,null,null,12.4755859375,null,null,0,{"$error":"#DIV/0!"}]
[null,null,null,null,null,512,{"$f":"B$6*(F515-1)","v":10.24},-184.428,0,null,null,12.5,null,null,0,{"$error":"#DIV/0!"}]
[null,null,null,null,null,513,10.26,-188.02799999999999,0,null,null,{"$f":"(F515)/B$9/B$6","v":12.5244140625},null,null,{"$f":"SQRT(M515^2+N515^2)","v":0},{"$f":"ATAN(N515/M515)","v":{"$error":"#DIV/0!"}}]
[null,null,null,null,null,514,10.28,-157.51900000000001,0,null,null,12.548828125,null,null,0,{"$error":"#DIV/0!"}]
[null,null,null,null,null,515,10.3,-119.93,0,null,null,12.5732421875,null,null,0,{"$error":"#DIV/0!"}]
[null,null,null,null,null,516,10.32,-85.461200000000005,0,null,null,12.59765625,null,null,0,{"$error":"#DIV/0!"}]
[null,null,null,null,null,517,10.34,-38.062600000000003,0,null,null,12.6220703125,null,null,0,{"$error":"#DIV/0!"}]
[null,null,null,null,null,518,10.36,22.7455,0,null,null,12.646484375,null,null,0,{"$error":"#DIV/0!"}]
[null,null,null,null,null,519,10.38,85.773600000000002,0,null,null,12.6708984375,null,null,0,{"$error":"#DIV/0!"}]
[null,null,null,null,null,520,10.4,144.99180000000001,0,null,null,12.6953125,null,null,0,{"$error":"#DIV/0!"}]
[null,null,null,null,null,521,10.42,186.03049999999999,0,null,null,12.7197265625,null,null,0,{"$error":"#DIV/0!"}]
[null,null,null,null,null,522,10.44,199.68010000000001,0,null,null,12.744140625,null,null,0,{"$error":"#DIV/0!"}]
[null,null,null,null,null,523,10.46,187.1105,0,null,null,12.7685546875,null,null,0,{"$error":"#DIV/0!"}]
[null,null,null,null,null,524,10.48,142.74189999999999,0,null,null,12.79296875,null,null,0,{"$error":"#DIV/0!"}]
[null,null,null,null,null,525,10.5,79.803799999999995,0,null,null,12.8173828125,null,null,0,{"$error":"#DIV/0!"}]
[null,null,null,null,null,526,10.52,28.415400000000002,0,null,null,12.841796875,null,null,0,{"$error":"#DIV/0!"}]
[null,null,null,null,null,527,10.540000000000001,3.1861999999999999,0,null,null,12.8662109375,null,null,0,{"$error":"#DIV/0!"}]
[null,null,null,null,null,528,10.56,-3.2936000000000001,0,null,null,12.890625,null,null,0,{"$error":"#DIV/0!"}]
[null,null,null,null,null,529,10.58,-20.3931,0,null,null,12.9150390625,null,null,0,{"$error":"#DIV/0!"}]
[null,null,null,null,null,530,10.6,-62.991799999999998,0,null,null,12.939453125,null,null,0,{"$error":"#DIV/0!"}]
[null,null,null,null,null,531,10.620000000000001,-106.101,0,null,null,12.9638671875,null,null,0,{"$error":"#DIV/0!"}]
[null,null,null,null,null,532,10.64,-129.94999999999999,0,null,null,12.98828125,null,null,0,{"$error":"#DIV/0!"}]
[null,null,null,null,null,533,10.66,-147.25899999999999,0,null,null,13.0126953125,null,null,0,{"$error":"#DIV/0!"}]
[null,null,null,null,null,534,10.68,-167.179,0,null,null,13.037109375,null,null,0,{"$error":"#DIV/0!"}]
[null,null,null,null,null,535,10.700000000000001,-166.51900000000001,0,null,null,13.0615234375,null,null,0,{"$error":"#DIV/0!"}]
[null,null,null,null,null,536,10.72,-121.46,0,null,null,13.0859375,null,null,0,{"$error":"#DIV/0!"}]
[null,null,null,null,null,537,10.74,-51.682099999999998,0,null,null,13.1103515625,null,null,0,{"$error":"#DIV/0!"}]
[null,null,null,null,null,538,10.76,11.8559,0,null,null,13.134765625,null,null,0,{"$error":"#DIV/0!"}]
[null,null,null,null,null,539,10.78,59.344499999999996,0,null,null,13.1591796875,null,null,0,{"$error":"#DIV/0!"}]
[null,null,null,null,null,540,10.8,94.1434,0,null,null,13.18359375,null,null,0,{"$error":"#DIV/0!"}]
[null,null,null,null,null,541,10.82,122.01260000000001,0,null,null,13.2080078125,null,null,0,{"$error":"#DIV/0!"}]
[null,null,null,null,null,542,10.84,146.34180000000001,0,null,null,13.232421875,null,null,0,{"$error":"#DIV/0!"}]
[null,null,null,null,null,543,10.86,159.3314,0,null,null,13.2568359375,null,null,0,{"$error":"#DIV/0!"}]
[null,null,null,null,null,544,10.88,147.81180000000001,0,null,null,13.28125,null,null,0,{"$error":"#DIV/0!"}]
[null,null,null,null,null,545,10.9,121.23260000000001,0,null,null,13.3056640625,null,null,0,{"$error":"#DIV/0!"}]
[null,null,null,null,null,546,10.92,81.243799999999993,0,null,null,13.330078125,null,null,0,{"$error":"#DIV/0!"}]
[null,null,null,null,null,547,10.94,24.755600000000001,0,null,null,13.3544921875,null,null,0,{"$error":"#DIV/0!"}]
[null,null,null,null,null,548,10.96,-12.3833,0,null,null,13.37890625,null,null,0,{"$error":"#DIV/0!"}]
[null,null,null,null,null,549,10.98,-28.1328,0,null,null,13.4033203125,null,null,0,{"$error":"#DIV/0!"}]
[null,null,null,null,null,550,11,-37.852499999999999,0,null,null,13.427734375,null,null,0,{"$error":"#DIV/0!"}]
[null,null,null,null,null,551,11.02,-45.922199999999997,0,null,null,13.4521484375,null,null,0,{"$error":"#DIV/0!"}]
[null,null,null,null,null,552,11.040000000000001,-49.192100000000003,0,null,null,13.4765625,null,null,0,{"$error":"#DIV/0!"}]
[null,null,null,null,null,553,11.06,-29.242699999999999,0,null,null,13.5009765625,null,null,0,{"$error":"#DIV/0!"}]
[null,null,null,null,null,554,11.08,4.5362,0,null,null,13.525390625,null,null,0,{"$error":"#DIV/0!"}]
[null,null,null,null,null,555,11.1,34.235300000000002,0,null,null,13.5498046875,null,null,0,{"$error":"#DIV/0!"}]
[null,null,null,null,null,556,11.120000000000001,59.104599999999998,0,null,null,13.57421875,null,null,0,{"$error":"#DIV/0!"}]
[null,null,null,null,null,557,11.14,75.844099999999997,0,null,null,13.5986328125,null,null,0,{"$error":"#DIV/0!"}]
[null,null,null,null,null,558,11.16,87.843699999999998,0,null,null,13.623046875,null,null,0,{"$error":"#DIV/0!"}]
[null,null,null,null,null,559,11.18,96.723399999999998,0,null,null,13.6474609375,null,null,0,{"$error":"#DIV/0!"}]
[null,null,null,null,null,560,11.200000000000001,89.343699999999998,0,null,null,13.671875,null,null,0,{"$error":"#DIV/0!"}]
[null,null,null,null,null,561,11.22,66.904399999999995,0,null,null,13.6962890625,null,null,0,{"$error":"#DIV/0!"}]
[null,null,null,null,null,562,11.24,42.185099999999998,0,null,null,13.720703125,null,null,0,{"$error":"#DIV/0!"}]
[null,null,null,null,null,563,11.26,18.5459,0,null,null,13.7451171875,null,null,0,{"$error":"#DIV/0!"}]
[null,null,null,null,null,564,11.28,-13.283200000000001,0,null,null,13.76953125,null,null,0,{"$error":"#DIV/0!"}]
[null,null,null,null,null,565,11.3,-47.272100000000002,0,null,null,13.7939453125,null,null,0,{"$error":"#DIV/0!"}]
[null,null,null,null,null,566,11.32,-66.891499999999994,0,null,null,13.818359375,null,null,0,{"$error":"#DIV/0!"}]
[null,null,null,null,null,567,11.34,-84.260999999999996,0,null,null,13.8427734375,null,null,0,{"$error":"#DIV/0!"}]
[null,null,null,null,null,568,11.36,-104.78,0,null,null,13.8671875,null,null,0,{"$error":"#DIV/0!"}]
[null,null,null,null,null,569,11.38,-103.34,0,null,null,13.8916015625,null,null,0,{"$error":"#DIV/0!"}]
[null,null,null,null,null,570,11.4,-90.860799999999998,0,null,null,13.916015625,null,null,0,{"$error":"#DIV/0!"}]
[null,null,null,null,null,571,11.42,-67.191500000000005,0,null,null,13.9404296875,null,null,0,{"$error":"#DIV/0!"}]
[null,null,null,null,null,572,11.44,-29.782599999999999,0,null,null,13.96484375,null,null,0,{"$error":"#DIV/0!"}]
[null,null,null,null,null,573,11.46,1.8964000000000001,0,null,null,13.9892578125,null,null,0,{"$error":"#DIV/0!"}]
[null,null,null,null,null,574,11.48,28.055599999999998,0,null,null,14.013671875,null,null,0,{"$error":"#DIV/0!"}]
[null,null,null,null,null,575,11.5,51.814900000000002,0,null,null,14.0380859375,null,null,0,{"$error":"#DIV/0!"}]
[null,null,null,null,null,576,{"$f":"B$6*(F579-1)","v":11.52},64.954499999999996,0,null,null,14.0625,null,null,0,{"$error":"#DIV/0!"}]
[null,null,null,null,null,577,11.540000000000001,64.504499999999993,0,null,null,{"$f":"(F579)/B$9/B$6","v":14.0869140625},null,null,{"$f":"SQRT(M579^2+N579^2)","v":0},{"$f":"ATAN(N579/M579)","v":{"$error":"#DIV/0!"}}]
[null,null,null,null,null,578,11.56,65.104500000000002,0,null,null,14.111328125,null,null,0,{"$error":"#DIV/0!"}]
[null,null,null,null,null,579,11.58,78.574100000000001,0,null,null,14.1357421875,null,null,0,{"$error":"#DIV/0!"}]
[null,null,null,null,null,580,11.6,86.2239,0,null,null,14.16015625,null,null,0,{"$error":"#DIV/0!"}]
[null,null,null,null,null,581,11.620000000000001,75.8142,0,null,null,14.1845703125,null,null,0,{"$error":"#DIV/0!"}]
[null,null,null,null,null,582,11.64,66.004499999999993,0,null,null,14.208984375,null,null,0,{"$error":"#DIV/0!"}]
[null,null,null,null,null,583,11.66,63.754600000000003,0,null,null,14.2333984375,null,null,0,{"$error":"#DIV/0!"}]
[null,null,null,null,null,584,11.68,63.784599999999998,0,null,null,14.2578125,null,null,0,{"$error":"#DIV/0!"}]
[null,null,null,null,null,585,11.700000000000001,60.334699999999998,0,null,null,14.2822265625,null,null,0,{"$error":"#DIV/0!"}]
[null,null,null,null,null,586,11.72,53.314900000000002,0,null,null,14.306640625,null,null,0,{"$error":"#DIV/0!"}]
[null,null,null,null,null,587,11.74,37.325400000000002,0,null,null,14.3310546875,null,null,0,{"$error":"#DIV/0!"}]
[null,null,null,null,null,588,11.76,18.006,0,null,null,14.35546875,null,null,0,{"$error":"#DIV/0!"}]
[null,null,null,null,null,589,11.78,6.4863,0,null,null,14.3798828125,null,null,0,{"$error":"#DIV/0!"}]
[null,null,null,null,null,590,11.8,-17.422899999999998,0,null,null,14.404296875,null,null,0,{"$error":"#DIV/0!"}]
[null,null,null,null,null,591,11.82,-46.432000000000002,0,null,null,14.4287109375,null,null,0,{"$error":"#DIV/0!"}]
[null,null,null,null,null,592,11.84,-50.841900000000003,0,null,null,14.453125,null,null,0,{"$error":"#DIV/0!"}]
[null,null,null,null,null,593,11.86,-52.191800000000001,0,null,null,14.4775390625,null,null,0,{"$error":"#DIV/0!"}]
[null,null,null,null,null,594,11.88,-62.061500000000002,0,null,null,14.501953125,null,null,0,{"$error":"#DIV/0!"}]
[null,null,null,null,null,595,11.9,-57.171700000000001,0,null,null,14.5263671875,null,null,0,{"$error":"#DIV/0!"}]
[null,null,null,null,null,596,11.92,-49.671900000000001,0,null,null,14.55078125,null,null,0,{"$error":"#DIV/0!"}]
[null,null,null,null,null,597,11.94,-55.161700000000003,0,null,null,14.5751953125,null,null,0,{"$error":"#DIV/0!"}]
[null,null,null,null,null,598,11.96,-64.131399999999999,0,null,null,14.599609375,null,null,0,{"$error":"#DIV/0!"}]
[null,null,null,null,null,599,11.98,-71.241200000000006,0,null,null,14.6240234375,null,null,0,{"$error":"#DIV/0!"}]
[null,null,null,null,null,600,12,-76.191100000000006,0,null,null,14.6484375,null,null,0,{"$error":"#DIV/0!"}]
[null,null,null,null,null,601,12.02,-73.971100000000007,0,null,null,14.6728515625,null,null,0,{"$error":"#DIV/0!"}]
[null,null,null,null,null,602,12.040000000000001,-73.461100000000002,0,null,null,14.697265625,null,null,0,{"$error":"#DIV/0!"}]
[null,null,null,null,null,603,12.06,-79.100999999999999,0,null,null,14.7216796875,null,null,0,{"$error":"#DIV/0!"}]
[null,null,null,null,null,604,12.08,-71.991200000000006,0,null,null,14.74609375,null,null,0,{"$error":"#DIV/0!"}]
[null,null,null,null,null,605,12.1,-49.731900000000003,0,null,null,14.7705078125,null,null,0,{"$error":"#DIV/0!"}]
[null,null,null,null,null,606,12.120000000000001,-32.3324,0,null,null,14.794921875,null,null,0,{"$error":"#DIV/0!"}]
[null,null,null,null,null,607,12.14,-21.832699999999999,0,null,null,14.8193359375,null,null,0,{"$error":"#DIV/0!"}]
[null,null,null,null,null,608,12.16,-7.7331000000000003,0,null,null,14.84375,null,null,0,{"$error":"#DIV/0!"}]
[null,null,null,null,null,609,12.18,18.636099999999999,0,null,null,14.8681640625,null,null,0,{"$error":"#DIV/0!"}]
[null,null,null,null,null,610,12.200000000000001,48.065199999999997,0,null,null,14.892578125,null,null,0,{"$error":"#DIV/0!"}]
[null,null,null,null,null,611,12.22,70.894499999999994,0,null,null,14.9169921875,null,null,0,{"$error":"#DIV/0!"}]
[null,null,null,null,null,612,12.24,82.054100000000005,0,null,null,14.94140625,null,null,0,{"$error":"#DIV/0!"}]
[null,null,null,null,null,613,12.26,86.103999999999999,0,null,null,14.9658203125,null,null,0,{"$error":"#DIV/0!"}]
[null,null,null,null,null,614,12.280000000000001,86.103999999999999,0,null,null,14.990234375,null,null,0,{"$error":"#DIV/0!"}]
[null,null,null,null,null,615,12.3,70.024500000000003,0,null,null,15.0146484375,null,null,0,{"$error":"#DIV/0!"}]
[null,null,null,null,null,616,12.32,44.195300000000003,0,null,null,15.0390625,null,null,0,{"$error":"#DIV/0!"}]
[null,null,null,null,null,617,12.34,22.056000000000001,0,null,null,15.0634765625,null,null,0,{"$error":"#DIV/0!"}]
[null,null,null,null,null,618,12.36,-4.6432000000000002,0,null,null,15.087890625,null,null,0,{"$error":"#DIV/0!"}]
[null,null,null,null,null,619,12.38,-44.511899999999997,0,null,null,15.1123046875,null,null,0,{"$error":"#DIV/0!"}]
[null,null,null,null,null,620,12.4,-73.941000000000003,0,null,null,15.13671875,null,null,0,{"$error":"#DIV/0!"}]
[null,null,null,null,null,621,12.42,-85.730699999999999,0,null,null,15.1611328125,null,null,0,{"$error":"#DIV/0!"}]
[null,null,null,null,null,622,12.44,-94.520399999999995,0,null,null,15.185546875,null,null,0,{"$error":"#DIV/0!"}]
[null,null,null,null,null,623,12.46,-89.090599999999995,0,null,null,15.2099609375,null,null,0,{"$error":"#DIV/0!"}]
[null,null,null,null,null,624,12.48,-66.201300000000003,0,null,null,15.234375,null,null,0,{"$error":"#DIV/0!"}]
[null,null,null,null,null,625,12.5,-47.901800000000001,0,null,null,15.2587890625,null,null,0,{"$error":"#DIV/0!"}]
[null,null,null,null,null,626,12.52,-33.952199999999998,0,null,null,15.283203125,null,null,0,{"$error":"#DIV/0!"}]
[null,null,null,null,null,627,12.540000000000001,-12.472899999999999,0,null,null,15.3076171875,null,null,0,{"$error":"#DIV/0!"}]
[null,null,null,null,null,628,12.56,11.2864,0,null,null,15.33203125,null,null,0,{"$error":"#DIV/0!"}]
[null,null,null,null,null,629,12.58,22.176100000000002,0,null,null,15.3564453125,null,null,0,{"$error":"#DIV/0!"}]
[null,null,null,null,null,630,12.6,34.505699999999997,0,null,null,15.380859375,null,null,0,{"$error":"#DIV/0!"}]
[null,null,null,null,null,631,12.620000000000001,61.7149,0,null,null,15.4052734375,null,null,0,{"$error":"#DIV/0!"}]
[null,null,null,null,null,632,12.64,81.304299999999998,0,null,null,15.4296875,null,null,0,{"$error":"#DIV/0!"}]
[null,null,null,null,null,633,12.66,79.684299999999993,0,null,null,15.4541015625,null,null,0,{"$error":"#DIV/0!"}]
[null,null,null,null,null,634,12.68,63.634799999999998,0,null,null,15.478515625,null,null,0,{"$error":"#DIV/0!"}]
[null,null,null,null,null,635,12.700000000000001,38.4056,0,null,null,15.5029296875,null,null,0,{"$error":"#DIV/0!"}]
[null,null,null,null,null,636,12.72,7.1166,0,null,null,15.52734375,null,null,0,{"$error":"#DIV/0!"}]
[null,null,null,null,null,637,12.74,-17.3627,0,null,null,15.5517578125,null,null,0,{"$error":"#DIV/0!"}]
[null,null,null,null,null,638,12.76,-32.302199999999999,0,null,null,15.576171875,null,null,0,{"$error":"#DIV/0!"}]
[null,null,null,null,null,639,12.780000000000001,-48.561700000000002,0,null,null,15.6005859375,null,null,0,{"$error":"#DIV/0!"}]
[null,null,null,null,null,640,{"$f":"B$6*(F643-1)","v":12.8},-68.361099999999993,0,null,null,15.625,null,null,0,{"$error":"#DIV/0!"}]
[null,null,null,null,null,641,12.82,-86.510599999999997,0,null,null,{"$f":"(F643)/B$9/B$6","v":15.6494140625},null,null,{"$f":"SQRT(M643^2+N643^2)","v":0},{"$f":"ATAN(N643/M643)","v":{"$error":"#DIV/0!"}}]
[null,null,null,null,null,642,12.84,-98.330200000000005,0,null,null,15.673828125,null,null,0,{"$error":"#DIV/0!"}]
[null,null,null,null,null,643,12.86,-99.530100000000004,0,null,null,15.6982421875,null,null,0,{"$error":"#DIV/0!"}]
[null,null,null,null,null,644,12.88,-86.840500000000006,0,null,null,15.72265625,null,null,0,{"$error":"#DIV/0!"}]
[null,null,null,null,null,645,12.9,-61.551299999999998,0,null,null,15.7470703125,null,null,0,{"$error":"#DIV/0!"}]
[null,null,null,null,null,646,12.92,-39.262,0,null,null,15.771484375,null,null,0,{"$error":"#DIV/0!"}]
[null,null,null,null,null,647,12.94,-28.1023,0,null,null,15.7958984375,null,null,0,{"$error":"#DIV/0!"}]
[null,null,null,null,null,648,12.96,-13.9427,0,null,null,15.8203125,null,null,0,{"$error":"#DIV/0!"}]
[null,null,null,null,null,649,12.98,8.3765999999999998,0,null,null,15.8447265625,null,null,0,{"$error":"#DIV/0!"}]
[null,null,null,null,null,650,13,25.5961,0,null,null,15.869140625,null,null,0,{"$error":"#DIV/0!"}]
[null,null,null,null,null,651,13.02,24.126100000000001,0,null,null,15.8935546875,null,null,0,{"$error":"#DIV/0!"}]
[null,null,null,null,null,652,13.040000000000001,15.4864,0,null,null,15.91796875,null,null,0,{"$error":"#DIV/0!"}]
[null,null,null,null,null,653,13.06,20.466200000000001,0,null,null,15.9423828125,null,null,0,{"$error":"#DIV/0!"}]
[null,null,null,null,null,654,13.08,34.325800000000001,0,null,null,15.966796875,null,null,0,{"$error":"#DIV/0!"}]
[null,null,null,null,null,655,13.1,37.445700000000002,0,null,null,15.9912109375,null,null,0,{"$error":"#DIV/0!"}]
[null,null,null,null,null,656,13.120000000000001,28.506,0,null,null,16.015625,null,null,0,{"$error":"#DIV/0!"}]
[null,null,null,null,null,657,13.14,25.5961,0,null,null,16.0400390625,null,null,0,{"$error":"#DIV/0!"}]
[null,null,null,null,null,658,13.16,23.046199999999999,0,null,null,16.064453125,null,null,0,{"$error":"#DIV/0!"}]
[null,null,null,null,null,659,13.18,15.096399999999999,0,null,null,16.0888671875,null,null,0,{"$error":"#DIV/0!"}]
[null,null,null,null,null,660,13.200000000000001,11.6465,0,null,null,16.11328125,null,null,0,{"$error":"#DIV/0!"}]
[null,null,null,null,null,661,13.22,8.6465999999999994,0,null,null,16.1376953125,null,null,0,{"$error":"#DIV/0!"}]
[null,null,null,null,null,662,13.24,-4.0730000000000004,0,null,null,16.162109375,null,null,0,{"$error":"#DIV/0!"}]
[null,null,null,null,null,663,13.26,-24.4724,0,null,null,16.1865234375,null,null,0,{"$error":"#DIV/0!"}]
[null,null,null,null,null,664,13.280000000000001,-40.371899999999997,0,null,null,16.2109375,null,null,0,{"$error":"#DIV/0!"}]
[null,null,null,null,null,665,13.3,-47.901600000000002,0,null,null,16.2353515625,null,null,0,{"$error":"#DIV/0!"}]
[null,null,null,null,null,666,13.32,-53.541400000000003,0,null,null,16.259765625,null,null,0,{"$error":"#DIV/0!"}]
[null,null,null,null,null,667,13.34,-60.981200000000001,0,null,null,16.2841796875,null,null,0,{"$error":"#DIV/0!"}]
[null,null,null,null,null,668,13.36,-68.721000000000004,0,null,null,16.30859375,null,null,0,{"$error":"#DIV/0!"}]
[null,null,null,null,null,669,13.38,-60.741199999999999,0,null,null,16.3330078125,null,null,0,{"$error":"#DIV/0!"}]
[null,null,null,null,null,670,13.4,-27.682200000000002,0,null,null,16.357421875,null,null,0,{"$error":"#DIV/0!"}]
[null,null,null,null,null,671,13.42,16.5364,0,null,null,16.3818359375,null,null,0,{"$error":"#DIV/0!"}]
[null,null,null,null,null,672,13.44,54.965299999999999,0,null,null,16.40625,null,null,0,{"$error":"#DIV/0!"}]
[null,null,null,null,null,673,13.46,84.664299999999997,0,null,null,16.4306640625,null,null,0,{"$error":"#DIV/0!"}]
[null,null,null,null,null,674,13.48,103.71380000000001,0,null,null,16.455078125,null,null,0,{"$error":"#DIV/0!"}]
[null,null,null,null,null,675,13.5,102.4838,0,null,null,16.4794921875,null,null,0,{"$error":"#DIV/0!"}]
[null,null,null,null,null,676,13.52,85.144300000000001,0,null,null,16.50390625,null,null,0,{"$error":"#DIV/0!"}]
[null,null,null,null,null,677,13.540000000000001,68.434899999999999,0,null,null,16.5283203125,null,null,0,{"$error":"#DIV/0!"}]
[null,null,null,null,null,678,13.56,54.485300000000002,0,null,null,16.552734375,null,null,0,{"$error":"#DIV/0!"}]
[null,null,null,null,null,679,13.58,33.8459,0,null,null,16.5771484375,null,null,0,{"$error":"#DIV/0!"}]
[null,null,null,null,null,680,13.6,5.2267999999999999,0,null,null,16.6015625,null,null,0,{"$error":"#DIV/0!"}]
[null,null,null,null,null,681,13.620000000000001,-21.862300000000001,0,null,null,16.6259765625,null,null,0,{"$error":"#DIV/0!"}]
[null,null,null,null,null,682,13.64,-40.281799999999997,0,null,null,16.650390625,null,null,0,{"$error":"#DIV/0!"}]
[null,null,null,null,null,683,13.66,-48.831499999999998,0,null,null,16.6748046875,null,null,0,{"$error":"#DIV/0!"}]
[null,null,null,null,null,684,13.68,-56.391300000000001,0,null,null,16.69921875,null,null,0,{"$error":"#DIV/0!"}]
[null,null,null,null,null,685,13.700000000000001,-77.450599999999994,0,null,null,16.7236328125,null,null,0,{"$error":"#DIV/0!"}]
[null,null,null,null,null,686,13.72,-96.32,0,null,null,16.748046875,null,null,0,{"$error":"#DIV/0!"}]
[null,null,null,null,null,687,13.74,-88.970299999999995,0,null,null,16.7724609375,null,null,0,{"$error":"#DIV/0!"}]
[null,null,null,null,null,688,13.76,-64.221000000000004,0,null,null,16.796875,null,null,0,{"$error":"#DIV/0!"}]
[null,null,null,null,null,689,13.780000000000001,-45.831600000000002,0,null,null,16.8212890625,null,null,0,{"$error":"#DIV/0!"}]
[null,null,null,null,null,690,13.8,-36.1419,0,null,null,16.845703125,null,null,0,{"$error":"#DIV/0!"}]
[null,null,null,null,null,691,13.82,-22.132300000000001,0,null,null,16.8701171875,null,null,0,{"$error":"#DIV/0!"}]
[null,null,null,null,null,692,13.84,-0.89290000000000003,0,null,null,16.89453125,null,null,0,{"$error":"#DIV/0!"}]
[null,null,null,null,null,693,13.86,9.1867999999999999,0,null,null,16.9189453125,null,null,0,{"$error":"#DIV/0!"}]
[null,null,null,null,null,694,13.88,-3.3229000000000002,0,null,null,16.943359375,null,null,0,{"$error":"#DIV/0!"}]
[null,null,null,null,null,695,13.9,-27.022099999999998,0,null,null,16.9677734375,null,null,0,{"$error":"#DIV/0!"}]
[null,null,null,null,null,696,13.92,-46.941499999999998,0,null,null,16.9921875,null,null,0,{"$error":"#DIV/0!"}]
[null,null,null,null,null,697,13.94,-56.661200000000001,0,null,null,17.0166015625,null,null,0,{"$error":"#DIV/0!"}]
[null,null,null,null,null,698,13.96,-62.390999999999998,0,null,null,17.041015625,null,null,0,{"$error":"#DIV/0!"}]
[null,null,null,null,null,699,13.98,-69.290800000000004,0,null,null,17.0654296875,null,null,0,{"$error":"#DIV/0!"}]
[null,null,null,null,null,700,14,-75.680599999999998,0,null,null,17.08984375,null,null,0,{"$error":"#DIV/0!"}]
[null,null,null,null,null,701,14.02,-83.150400000000005,0,null,null,17.1142578125,null,null,0,{"$error":"#DIV/0!"}]
[null,null,null,null,null,702,14.040000000000001,-83.8703,0,null,null,17.138671875,null,null,0,{"$error":"#DIV/0!"}]
[null,null,null,null,null,703,14.06,-69.380799999999994,0,null,null,17.1630859375,null,null,0,{"$error":"#DIV/0!"}]
[null,null,null,null,null,704,{"$f":"B$6*(F707-1)","v":14.08},-43.941600000000001,0,null,null,17.1875,null,null,0,{"$error":"#DIV/0!"}]
[null,null,null,null,null,705,14.1,-14.692500000000001,0,null,null,{"$f":"(F707)/B$9/B$6","v":17.2119140625},null,null,{"$f":"SQRT(M707^2+N707^2)","v":0},{"$f":"ATAN(N707/M707)","v":{"$error":"#DIV/0!"}}]
[null,null,null,null,null,706,14.120000000000001,18.576499999999999,0,null,null,17.236328125,null,null,0,{"$error":"#DIV/0!"}]
[null,null,null,null,null,707,14.14,54.755400000000002,0,null,null,17.2607421875,null,null,0,{"$error":"#DIV/0!"}]
[null,null,null,null,null,708,14.16,89.434399999999997,0,null,null,17.28515625,null,null,0,{"$error":"#DIV/0!"}]
[null,null,null,null,null,709,14.18,124.7433,0,null,null,17.3095703125,null,null,0,{"$error":"#DIV/0!"}]
[null,null,null,null,null,710,14.200000000000001,156.9023,0,null,null,17.333984375,null,null,0,{"$error":"#DIV/0!"}]
[null,null,null,null,null,711,14.22,172.98179999999999,0,null,null,17.3583984375,null,null,0,{"$error":"#DIV/0!"}]
[null,null,null,null,null,712,14.24,175.80170000000001,0,null,null,17.3828125,null,null,0,{"$error":"#DIV/0!"}]
[null,null,null,null,null,713,14.26,178.14169999999999,0,null,null,17.4072265625,null,null,0,{"$error":"#DIV/0!"}]
[null,null,null,null,null,714,14.280000000000001,178.86170000000001,0,null,null,17.431640625,null,null,0,{"$error":"#DIV/0!"}]
[null,null,null,null,null,715,14.3,163.56209999999999,0,null,null,17.4560546875,null,null,0,{"$error":"#DIV/0!"}]
[null,null,null,null,null,716,14.32,130.47309999999999,0,null,null,17.48046875,null,null,0,{"$error":"#DIV/0!"}]
[null,null,null,null,null,717,14.34,93.934299999999993,0,null,null,17.5048828125,null,null,0,{"$error":"#DIV/0!"}]
[null,null,null,null,null,718,14.36,60.485300000000002,0,null,null,17.529296875,null,null,0,{"$error":"#DIV/0!"}]
[null,null,null,null,null,719,14.38,26.706299999999999,0,null,null,17.5537109375,null,null,0,{"$error":"#DIV/0!"}]
[null,null,null,null,null,720,14.4,-6.1125999999999996,0,null,null,17.578125,null,null,0,{"$error":"#DIV/0!"}]
[null,null,null,null,null,721,14.42,-33.0518,0,null,null,17.6025390625,null,null,0,{"$error":"#DIV/0!"}]
[null,null,null,null,null,722,14.44,-48.741300000000003,0,null,null,17.626953125,null,null,0,{"$error":"#DIV/0!"}]
[null,null,null,null,null,723,14.46,-55.491100000000003,0,null,null,17.6513671875,null,null,0,{"$error":"#DIV/0!"}]
[null,null,null,null,null,724,14.48,-55.521099999999997,0,null,null,17.67578125,null,null,0,{"$error":"#DIV/0!"}]
[null,null,null,null,null,725,14.5,-48.261299999999999,0,null,null,17.7001953125,null,null,0,{"$error":"#DIV/0!"}]
[null,null,null,null,null,726,14.52,-40.011600000000001,0,null,null,17.724609375,null,null,0,{"$error":"#DIV/0!"}]
[null,null,null,null,null,727,14.540000000000001,-32.661799999999999,0,null,null,17.7490234375,null,null,0,{"$error":"#DIV/0!"}]
[null,null,null,null,null,728,14.56,-20.542200000000001,0,null,null,17.7734375,null,null,0,{"$error":"#DIV/0!"}]
[null,null,null,null,null,729,14.58,-9.4725000000000001,0,null,null,17.7978515625,null,null,0,{"$error":"#DIV/0!"}]
[null,null,null,null,null,730,14.6,-13.4024,0,null,null,17.822265625,null,null,0,{"$error":"#DIV/0!"}]
[null,null,null,null,null,731,14.620000000000001,-22.162099999999999,0,null,null,17.8466796875,null,null,0,{"$error":"#DIV/0!"}]
[null,null,null,null,null,732,14.64,-22.522099999999998,0,null,null,17.87109375,null,null,0,{"$error":"#DIV/0!"}]
[null,null,null,null,null,733,14.66,-23.481999999999999,0,null,null,17.8955078125,null,null,0,{"$error":"#DIV/0!"}]
[null,null,null,null,null,734,14.68,-35.061700000000002,0,null,null,17.919921875,null,null,0,{"$error":"#DIV/0!"}]
[null,null,null,null,null,735,14.700000000000001,-46.251300000000001,0,null,null,17.9443359375,null,null,0,{"$error":"#DIV/0!"}]
[null,null,null,null,null,736,14.72,-43.821399999999997,0,null,null,17.96875,null,null,0,{"$error":"#DIV/0!"}]
[null,null,null,null,null,737,14.74,-31.701799999999999,0,null,null,17.9931640625,null,null,0,{"$error":"#DIV/0!"}]
[null,null,null,null,null,738,14.76,-24.771999999999998,0,null,null,18.017578125,null,null,0,{"$error":"#DIV/0!"}]
[null,null,null,null,null,739,14.780000000000001,-25.492000000000001,0,null,null,18.0419921875,null,null,0,{"$error":"#DIV/0!"}]
[null,null,null,null,null,740,14.8,-11.932399999999999,0,null,null,18.06640625,null,null,0,{"$error":"#DIV/0!"}]
[null,null,null,null,null,741,14.82,24.7865,0,null,null,18.0908203125,null,null,0,{"$error":"#DIV/0!"}]
[null,null,null,null,null,742,14.84,67.4452,0,null,null,18.115234375,null,null,0,{"$error":"#DIV/0!"}]
[null,null,null,null,null,743,14.86,97.894300000000001,0,null,null,18.1396484375,null,null,0,{"$error":"#DIV/0!"}]
[null,null,null,null,null,744,14.88,116.4637,0,null,null,18.1640625,null,null,0,{"$error":"#DIV/0!"}]
[null,null,null,null,null,745,14.9,126.5134,0,null,null,18.1884765625,null,null,0,{"$error":"#DIV/0!"}]
[null,null,null,null,null,746,14.92,121.2936,0,null,null,18.212890625,null,null,0,{"$error":"#DIV/0!"}]
[null,null,null,null,null,747,14.94,100.8342,0,null,null,18.2373046875,null,null,0,{"$error":"#DIV/0!"}]
[null,null,null,null,null,748,14.96,69.935199999999995,0,null,null,18.26171875,null,null,0,{"$error":"#DIV/0!"}]
[null,null,null,null,null,749,14.98,31.176400000000001,0,null,null,18.2861328125,null,null,0,{"$error":"#DIV/0!"}]
[null,null,null,null,null,750,15,-6.5025000000000004,0,null,null,18.310546875,null,null,0,{"$error":"#DIV/0!"}]
[null,null,null,null,null,751,15.02,-34.551600000000001,0,null,null,18.3349609375,null,null,0,{"$error":"#DIV/0!"}]
[null,null,null,null,null,752,15.040000000000001,-56.570900000000002,0,null,null,18.359375,null,null,0,{"$error":"#DIV/0!"}]
[null,null,null,null,null,753,15.06,-79.370199999999997,0,null,null,18.3837890625,null,null,0,{"$error":"#DIV/0!"}]
[null,null,null,null,null,754,15.08,-98.449600000000004,0,null,null,18.408203125,null,null,0,{"$error":"#DIV/0!"}]
[null,null,null,null,null,755,15.1,-103.64,0,null,null,18.4326171875,null,null,0,{"$error":"#DIV/0!"}]
[null,null,null,null,null,756,15.120000000000001,-93.2898,0,null,null,18.45703125,null,null,0,{"$error":"#DIV/0!"}]
[null,null,null,null,null,757,15.14,-72.230400000000003,0,null,null,18.4814453125,null,null,0,{"$error":"#DIV/0!"}]
[null,null,null,null,null,758,15.16,-46.281199999999998,0,null,null,18.505859375,null,null,0,{"$error":"#DIV/0!"}]
[null,null,null,null,null,759,15.18,-14.3322,0,null,null,18.5302734375,null,null,0,{"$error":"#DIV/0!"}]
[null,null,null,null,null,760,15.200000000000001,18.636800000000001,0,null,null,18.5546875,null,null,0,{"$error":"#DIV/0!"}]
[null,null,null,null,null,761,15.22,46.565899999999999,0,null,null,18.5791015625,null,null,0,{"$error":"#DIV/0!"}]
[null,null,null,null,null,762,15.24,66.785300000000007,0,null,null,18.603515625,null,null,0,{"$error":"#DIV/0!"}]
[null,null,null,null,null,763,15.26,74.885099999999994,0,null,null,18.6279296875,null,null,0,{"$error":"#DIV/0!"}]
[null,null,null,null,null,764,15.280000000000001,77.734999999999999,0,null,null,18.65234375,null,null,0,{"$error":"#DIV/0!"}]
[null,null,null,null,null,765,15.3,84.634799999999998,0,null,null,18.6767578125,null,null,0,{"$error":"#DIV/0!"}]
[null,null,null,null,null,766,15.32,88.174700000000001,0,null,null,18.701171875,null,null,0,{"$error":"#DIV/0!"}]
[null,null,null,null,null,767,15.34,77.885000000000005,0,null,null,18.7255859375,null,null,0,{"$error":"#DIV/0!"}]
[null,null,null,null,null,768,{"$f":"B$6*(F771-1)","v":15.36},60.275599999999997,0,null,null,18.75,null,null,0,{"$error":"#DIV/0!"}]
[null,null,null,null,null,769,15.38,45.875999999999998,0,null,null,{"$f":"(F771)/B$9/B$6","v":18.7744140625},null,null,{"$f":"SQRT(M771^2+N771^2)","v":0},{"$f":"ATAN(N771/M771)","v":{"$error":"#DIV/0!"}}]
[null,null,null,null,null,770,15.4,35.616300000000003,0,null,null,18.798828125,null,null,0,{"$error":"#DIV/0!"}]
[null,null,null,null,null,771,15.42,29.586500000000001,0,null,null,18.8232421875,null,null,0,{"$error":"#DIV/0!"}]
[null,null,null,null,null,772,15.44,29.676500000000001,0,null,null,18.84765625,null,null,0,{"$error":"#DIV/0!"}]
[null,null,null,null,null,773,15.46,30.0365,0,null,null,18.8720703125,null,null,0,{"$error":"#DIV/0!"}]
[null,null,null,null,null,774,15.48,20.826799999999999,0,null,null,18.896484375,null,null,0,{"$error":"#DIV/0!"}]
[null,null,null,null,null,775,15.5,7.1471999999999998,0,null,null,18.9208984375,null,null,0,{"$error":"#DIV/0!"}]
[null,null,null,null,null,776,15.52,-0.71250000000000002,0,null,null,18.9453125,null,null,0,{"$error":"#DIV/0!"}]
[null,null,null,null,null,777,15.540000000000001,-9.0222999999999995,0,null,null,18.9697265625,null,null,0,{"$error":"#DIV/0!"}]
[null,null,null,null,null,778,15.56,-21.741900000000001,0,null,null,18.994140625,null,null,0,{"$error":"#DIV/0!"}]
[null,null,null,null,null,779,15.58,-32.601500000000001,0,null,null,19.0185546875,null,null,0,{"$error":"#DIV/0!"}]
[null,null,null,null,null,780,15.6,-45.111199999999997,0,null,null,19.04296875,null,null,0,{"$error":"#DIV/0!"}]
[null,null,null,null,null,781,15.620000000000001,-61.430700000000002,0,null,null,19.0673828125,null,null,0,{"$error":"#DIV/0!"}]
[null,null,null,null,null,782,15.64,-74.1203,0,null,null,19.091796875,null,null,0,{"$error":"#DIV/0!"}]
[null,null,null,null,null,783,15.66,-82.67,0,null,null,19.1162109375,null,null,0,{"$error":"#DIV/0!"}]
[null,null,null,null,null,784,15.68,-80.150099999999995,0,null,null,19.140625,null,null,0,{"$error":"#DIV/0!"}]
[null,null,null,null,null,785,15.700000000000001,-56.840800000000002,0,null,null,19.1650390625,null,null,0,{"$error":"#DIV/0!"}]
[null,null,null,null,null,786,15.72,-36.561399999999999,0,null,null,19.189453125,null,null,0,{"$error":"#DIV/0!"}]
[null,null,null,null,null,787,15.74,-33.891500000000001,0,null,null,19.2138671875,null,null,0,{"$error":"#DIV/0!"}]
[null,null,null,null,null,788,15.76,-31.3415,0,null,null,19.23828125,null,null,0,{"$error":"#DIV/0!"}]
[null,null,null,null,null,789,15.780000000000001,-24.171800000000001,0,null,null,19.2626953125,null,null,0,{"$error":"#DIV/0!"}]
[null,null,null,null,null,790,15.8,-17.361999999999998,0,null,null,19.287109375,null,null,0,{"$error":"#DIV/0!"}]
[null,null,null,null,null,791,15.82,-14.481999999999999,0,null,null,19.3115234375,null,null,0,{"$error":"#DIV/0!"}]
[null,null,null,null,null,792,15.84,-21.8918,0,null,null,19.3359375,null,null,0,{"$error":"#DIV/0!"}]
[null,null,null,null,null,793,15.860000000000001,-33.141500000000001,0,null,null,19.3603515625,null,null,0,{"$error":"#DIV/0!"}]
[null,null,null,null,null,794,15.88,-30.711500000000001,0,null,null,19.384765625,null,null,0,{"$error":"#DIV/0!"}]
[null,null,null,null,null,795,15.9,-16.251999999999999,0,null,null,19.4091796875,null,null,0,{"$error":"#DIV/0!"}]
[null,null,null,null,null,796,15.92,0.27750000000000002,0,null,null,19.43359375,null,null,0,{"$error":"#DIV/0!"}]
[null,null,null,null,null,797,15.94,17.856999999999999,0,null,null,19.4580078125,null,null,0,{"$error":"#DIV/0!"}]
[null,null,null,null,null,798,15.96,28.0867,0,null,null,19.482421875,null,null,0,{"$error":"#DIV/0!"}]
[null,null,null,null,null,799,15.98,27.816700000000001,0,null,null,19.5068359375,null,null,0,{"$error":"#DIV/0!"}]
[null,null,null,null,null,800,16,27.6067,0,null,null,19.53125,null,null,0,{"$error":"#DIV/0!"}]
[null,null,null,null,null,801,16.02,25.326799999999999,0,null,null,19.5556640625,null,null,0,{"$error":"#DIV/0!"}]
[null,null,null,null,null,802,16.04,14.677099999999999,0,null,null,19.580078125,null,null,0,{"$error":"#DIV/0!"}]
[null,null,null,null,null,803,16.059999999999999,3.6074999999999999,0,null,null,19.6044921875,null,null,0,{"$error":"#DIV/0!"}]
[null,null,null,null,null,804,16.080000000000002,-1.6424000000000001,0,null,null,19.62890625,null,null,0,{"$error":"#DIV/0!"}]
[null,null,null,null,null,805,16.100000000000001,-9.8920999999999992,0,null,null,19.6533203125,null,null,0,{"$error":"#DIV/0!"}]
[null,null,null,null,null,806,16.12,-21.741800000000001,0,null,null,19.677734375,null,null,0,{"$error":"#DIV/0!"}]
[null,null,null,null,null,807,16.14,-21.831700000000001,0,null,null,19.7021484375,null,null,0,{"$error":"#DIV/0!"}]
[null,null,null,null,null,808,16.16,-14.242000000000001,0,null,null,19.7265625,null,null,0,{"$error":"#DIV/0!"}]
[null,null,null,null,null,809,16.18,-9.5921000000000003,0,null,null,19.7509765625,null,null,0,{"$error":"#DIV/0!"}]
[null,null,null,null,null,810,16.2,-4.7023000000000001,0,null,null,19.775390625,null,null,0,{"$error":"#DIV/0!"}]
[null,null,null,null,null,811,16.22,0.78759999999999997,0,null,null,19.7998046875,null,null,0,{"$error":"#DIV/0!"}]
[null,null,null,null,null,812,16.240000000000002,10.657299999999999,0,null,null,19.82421875,null,null,0,{"$error":"#DIV/0!"}]
[null,null,null,null,null,813,16.260000000000002,24.486899999999999,0,null,null,19.8486328125,null,null,0,{"$error":"#DIV/0!"}]
[null,null,null,null,null,814,16.28,31.746600000000001,0,null,null,19.873046875,null,null,0,{"$error":"#DIV/0!"}]
[null,null,null,null,null,815,16.3,32.046599999999998,0,null,null,19.8974609375,null,null,0,{"$error":"#DIV/0!"}]
[null,null,null,null,null,816,16.32,28.416799999999999,0,null,null,19.921875,null,null,0,{"$error":"#DIV/0!"}]
[null,null,null,null,null,817,16.34,14.347200000000001,0,null,null,19.9462890625,null,null,0,{"$error":"#DIV/0!"}]
[null,null,null,null,null,818,16.36,-2.6922999999999999,0,null,null,19.970703125,null,null,0,{"$error":"#DIV/0!"}]
[null,null,null,null,null,819,16.38,-11.992000000000001,0,null,null,19.9951171875,null,null,0,{"$error":"#DIV/0!"}]
[null,null,null,null,null,820,16.399999999999999,-20.5717,0,null,null,20.01953125,null,null,0,{"$error":"#DIV/0!"}]
[null,null,null,null,null,821,16.420000000000002,-27.261500000000002,0,null,null,20.0439453125,null,null,0,{"$error":"#DIV/0!"}]
[null,null,null,null,null,822,16.440000000000001,-25.371600000000001,0,null,null,20.068359375,null,null,0,{"$error":"#DIV/0!"}]
[null,null,null,null,null,823,16.46,-25.401599999999998,0,null,null,20.0927734375,null,null,0,{"$error":"#DIV/0!"}]
[null,null,null,null,null,824,16.48,-30.171399999999998,0,null,null,20.1171875,null,null,0,{"$error":"#DIV/0!"}]
[null,null,null,null,null,825,16.5,-29.301400000000001,0,null,null,20.1416015625,null,null,0,{"$error":"#DIV/0!"}]
[null,null,null,null,null,826,16.52,-21.8017,0,null,null,20.166015625,null,null,0,{"$error":"#DIV/0!"}]
[null,null,null,null,null,827,16.54,-17.631799999999998,0,null,null,20.1904296875,null,null,0,{"$error":"#DIV/0!"}]
[null,null,null,null,null,828,16.559999999999999,-17.691800000000001,0,null,null,20.21484375,null,null,0,{"$error":"#DIV/0!"}]
[null,null,null,null,null,829,16.580000000000002,-14.8719,0,null,null,20.2392578125,null,null,0,{"$error":"#DIV/0!"}]
[null,null,null,null,null,830,16.600000000000001,-6.4420999999999999,0,null,null,20.263671875,null,null,0,{"$error":"#DIV/0!"}]
[null,null,null,null,null,831,16.62,-0.80230000000000001,0,null,null,20.2880859375,null,null,0,{"$error":"#DIV/0!"}]
[null,null,null,null,null,832,{"$f":"B$6*(F835-1)","v":16.64},-2.0322,0,null,null,20.3125,null,null,0,{"$error":"#DIV/0!"}]
[null,null,null,null,null,833,16.66,-2.0022000000000002,0,null,null,{"$f":"(F835)/B$9/B$6","v":20.3369140625},null,null,{"$f":"SQRT(M835^2+N835^2)","v":0},{"$f":"ATAN(N835/M835)","v":{"$error":"#DIV/0!"}}]
[null,null,null,null,null,834,16.68,-0.32229999999999998,0,null,null,20.361328125,null,null,0,{"$error":"#DIV/0!"}]
[null,null,null,null,null,835,16.7,-0.98219999999999996,0,null,null,20.3857421875,null,null,0,{"$error":"#DIV/0!"}]
[null,null,null,null,null,836,16.72,-1.1022000000000001,0,null,null,20.41015625,null,null,0,{"$error":"#DIV/0!"}]
[null,null,null,null,null,837,16.740000000000002,-0.95220000000000005,0,null,null,20.4345703125,null,null,0,{"$error":"#DIV/0!"}]
[null,null,null,null,null,838,16.760000000000002,-5.3320999999999996,0,null,null,20.458984375,null,null,0,{"$error":"#DIV/0!"}]
[null,null,null,null,null,839,16.78,-14.4818,0,null,null,20.4833984375,null,null,0,{"$error":"#DIV/0!"}]
[null,null,null,null,null,840,16.8,-23.8415,0,null,null,20.5078125,null,null,0,{"$error":"#DIV/0!"}]
[null,null,null,null,null,841,16.82,-28.941400000000002,0,null,null,20.5322265625,null,null,0,{"$error":"#DIV/0!"}]
[null,null,null,null,null,842,16.84,-32.391300000000001,0,null,null,20.556640625,null,null,0,{"$error":"#DIV/0!"}]
[null,null,null,null,null,843,16.86,-34.431199999999997,0,null,null,20.5810546875,null,null,0,{"$error":"#DIV/0!"}]
[null,null,null,null,null,844,16.88,-26.3614,0,null,null,20.60546875,null,null,0,{"$error":"#DIV/0!"}]
[null,null,null,null,null,845,16.899999999999999,-6.4119999999999999,0,null,null,20.6298828125,null,null,0,{"$error":"#DIV/0!"}]
[null,null,null,null,null,846,16.920000000000002,15.3673,0,null,null,20.654296875,null,null,0,{"$error":"#DIV/0!"}]
[null,null,null,null,null,847,16.940000000000001,30.276800000000001,0,null,null,20.6787109375,null,null,0,{"$error":"#DIV/0!"}]
[null,null,null,null,null,848,16.96,33.396799999999999,0,null,null,20.703125,null,null,0,{"$error":"#DIV/0!"}]
[null,null,null,null,null,849,16.98,21.457100000000001,0,null,null,20.7275390625,null,null,0,{"$error":"#DIV/0!"}]
[null,null,null,null,null,850,17,0.51780000000000004,0,null,null,20.751953125,null,null,0,{"$error":"#DIV/0!"}]
[null,null,null,null,null,851,17.02,-21.081600000000002,0,null,null,20.7763671875,null,null,0,{"$error":"#DIV/0!"}]
[null,null,null,null,null,852,17.04,-38.871000000000002,0,null,null,20.80078125,null,null,0,{"$error":"#DIV/0!"}]
[null,null,null,null,null,853,17.059999999999999,-50.930599999999998,0,null,null,20.8251953125,null,null,0,{"$error":"#DIV/0!"}]
[null,null,null,null,null,854,17.080000000000002,-59.690399999999997,0,null,null,20.849609375,null,null,0,{"$error":"#DIV/0!"}]
[null,null,null,null,null,855,17.100000000000001,-62.510300000000001,0,null,null,20.8740234375,null,null,0,{"$error":"#DIV/0!"}]
[null,null,null,null,null,856,17.12,-51.590600000000002,0,null,null,20.8984375,null,null,0,{"$error":"#DIV/0!"}]
[null,null,null,null,null,857,17.14,-28.7013,0,null,null,20.9228515625,null,null,0,{"$error":"#DIV/0!"}]
[null,null,null,null,null,858,17.16,-1.5521,0,null,null,20.947265625,null,null,0,{"$error":"#DIV/0!"}]
[null,null,null,null,null,859,17.18,30.456900000000001,0,null,null,20.9716796875,null,null,0,{"$error":"#DIV/0!"}]
[null,null,null,null,null,860,17.2,69.095699999999994,0,null,null,20.99609375,null,null,0,{"$error":"#DIV/0!"}]
[null,null,null,null,null,861,17.22,104.94459999999999,0,null,null,21.0205078125,null,null,0,{"$error":"#DIV/0!"}]
[null,null,null,null,null,862,17.240000000000002,130.9838,0,null,null,21.044921875,null,null,0,{"$error":"#DIV/0!"}]
[null,null,null,null,null,863,17.260000000000002,146.67339999999999,0,null,null,21.0693359375,null,null,0,{"$error":"#DIV/0!"}]
[null,null,null,null,null,864,17.28,151.50319999999999,0,null,null,21.09375,null,null,0,{"$error":"#DIV/0!"}]
[null,null,null,null,null,865,17.3,147.27330000000001,0,null,null,21.1181640625,null,null,0,{"$error":"#DIV/0!"}]
[null,null,null,null,null,866,17.32,135.4537,0,null,null,21.142578125,null,null,0,{"$error":"#DIV/0!"}]
[null,null,null,null,null,867,17.34,112.59439999999999,0,null,null,21.1669921875,null,null,0,{"$error":"#DIV/0!"}]
[null,null,null,null,null,868,17.36,78.785499999999999,0,null,null,21.19140625,null,null,0,{"$error":"#DIV/0!"}]
[null,null,null,null,null,869,17.38,41.526600000000002,0,null,null,21.2158203125,null,null,0,{"$error":"#DIV/0!"}]
[null,null,null,null,null,870,17.400000000000002,1.8378000000000001,0,null,null,21.240234375,null,null,0,{"$error":"#DIV/0!"}]
[null,null,null,null,null,871,17.420000000000002,-39.380899999999997,0,null,null,21.2646484375,null,null,0,{"$error":"#DIV/0!"}]
[null,null,null,null,null,872,17.440000000000001,-73.729799999999997,0,null,null,21.2890625,null,null,0,{"$error":"#DIV/0!"}]
[null,null,null,null,null,873,17.46,-100.429,0,null,null,21.3134765625,null,null,0,{"$error":"#DIV/0!"}]
[null,null,null,null,null,874,17.48,-121.878,0,null,null,21.337890625,null,null,0,{"$error":"#DIV/0!"}]
[null,null,null,null,null,875,17.5,-128.238,0,null,null,21.3623046875,null,null,0,{"$error":"#DIV/0!"}]
[null,null,null,null,null,876,17.52,-113.779,0,null,null,21.38671875,null,null,0,{"$error":"#DIV/0!"}]
[null,null,null,null,null,877,17.54,-89.809299999999993,0,null,null,21.4111328125,null,null,0,{"$error":"#DIV/0!"}]
[null,null,null,null,null,878,17.559999999999999,-66.83,0,null,null,21.435546875,null,null,0,{"$error":"#DIV/0!"}]
[null,null,null,null,null,879,17.580000000000002,-48.290599999999998,0,null,null,21.4599609375,null,null,0,{"$error":"#DIV/0!"}]
[null,null,null,null,null,880,17.600000000000001,-22.2514,0,null,null,21.484375,null,null,0,{"$error":"#DIV/0!"}]
[null,null,null,null,null,881,17.62,14.6175,0,null,null,21.5087890625,null,null,0,{"$error":"#DIV/0!"}]
[null,null,null,null,null,882,17.64,46.746499999999997,0,null,null,21.533203125,null,null,0,{"$error":"#DIV/0!"}]
[null,null,null,null,null,883,17.66,66.395899999999997,0,null,null,21.5576171875,null,null,0,{"$error":"#DIV/0!"}]
[null,null,null,null,null,884,17.68,76.625600000000006,0,null,null,21.58203125,null,null,0,{"$error":"#DIV/0!"}]
[null,null,null,null,null,885,17.7,69.725800000000007,0,null,null,21.6064453125,null,null,0,{"$error":"#DIV/0!"}]
[null,null,null,null,null,886,17.72,41.346699999999998,0,null,null,21.630859375,null,null,0,{"$error":"#DIV/0!"}]
[null,null,null,null,null,887,17.740000000000002,8.0176999999999996,0,null,null,21.6552734375,null,null,0,{"$error":"#DIV/0!"}]
[null,null,null,null,null,888,17.760000000000002,-20.4514,0,null,null,21.6796875,null,null,0,{"$error":"#DIV/0!"}]
[null,null,null,null,null,889,17.78,-46.160600000000002,0,null,null,21.7041015625,null,null,0,{"$error":"#DIV/0!"}]
[null,null,null,null,null,890,17.8,-66.05,0,null,null,21.728515625,null,null,0,{"$error":"#DIV/0!"}]
[null,null,null,null,null,891,17.82,-81.319500000000005,0,null,null,21.7529296875,null,null,0,{"$error":"#DIV/0!"}]
[null,null,null,null,null,892,17.84,-95.7791,0,null,null,21.77734375,null,null,0,{"$error":"#DIV/0!"}]
[null,null,null,null,null,893,17.86,-101.599,0,null,null,21.8017578125,null,null,0,{"$error":"#DIV/0!"}]
[null,null,null,null,null,894,17.88,-92.179199999999994,0,null,null,21.826171875,null,null,0,{"$error":"#DIV/0!"}]
[null,null,null,null,null,895,17.900000000000002,-70.0398,0,null,null,21.8505859375,null,null,0,{"$error":"#DIV/0!"}]
[null,null,null,null,null,896,{"$f":"B$6*(F899-1)","v":17.920000000000002},-39.020800000000001,0,null,null,21.875,null,null,0,{"$error":"#DIV/0!"}]
[null,null,null,null,null,897,17.940000000000001,-4.8517999999999999,0,null,null,{"$f":"(F899)/B$9/B$6","v":21.8994140625},null,null,{"$f":"SQRT(M899^2+N899^2)","v":0},{"$f":"ATAN(N899/M899)","v":{"$error":"#DIV/0!"}}]
[null,null,null,null,null,898,17.96,23.467300000000002,0,null,null,21.923828125,null,null,0,{"$error":"#DIV/0!"}]
[null,null,null,null,null,899,17.98,43.356699999999996,0,null,null,21.9482421875,null,null,0,{"$error":"#DIV/0!"}]
[null,null,null,null,null,900,18,56.076300000000003,0,null,null,21.97265625,null,null,0,{"$error":"#DIV/0!"}]
[null,null,null,null,null,901,18.02,59.196199999999997,0,null,null,21.9970703125,null,null,0,{"$error":"#DIV/0!"}]
[null,null,null,null,null,902,18.04,51.786499999999997,0,null,null,22.021484375,null,null,0,{"$error":"#DIV/0!"}]
[null,null,null,null,null,903,18.059999999999999,41.976799999999997,0,null,null,22.0458984375,null,null,0,{"$error":"#DIV/0!"}]
[null,null,null,null,null,904,18.080000000000002,30.847100000000001,0,null,null,22.0703125,null,null,0,{"$error":"#DIV/0!"}]
[null,null,null,null,null,905,18.100000000000001,12.8177,0,null,null,22.0947265625,null,null,0,{"$error":"#DIV/0!"}]
[null,null,null,null,null,906,18.12,-6.3517000000000001,0,null,null,22.119140625,null,null,0,{"$error":"#DIV/0!"}]
[null,null,null,null,null,907,18.14,-16.6114,0,null,null,22.1435546875,null,null,0,{"$error":"#DIV/0!"}]
[null,null,null,null,null,908,18.16,-19.011299999999999,0,null,null,22.16796875,null,null,0,{"$error":"#DIV/0!"}]
[null,null,null,null,null,909,18.18,-20.511299999999999,0,null,null,22.1923828125,null,null,0,{"$error":"#DIV/0!"}]
[null,null,null,null,null,910,18.2,-18.351400000000002,0,null,null,22.216796875,null,null,0,{"$error":"#DIV/0!"}]
[null,null,null,null,null,911,18.22,-4.8517999999999999,0,null,null,22.2412109375,null,null,0,{"$error":"#DIV/0!"}]
[null,null,null,null,null,912,18.240000000000002,14.4976,0,null,null,22.265625,null,null,0,{"$error":"#DIV/0!"}]
[null,null,null,null,null,913,18.260000000000002,28.417200000000001,0,null,null,22.2900390625,null,null,0,{"$error":"#DIV/0!"}]
[null,null,null,null,null,914,18.28,32.377099999999999,0,null,null,22.314453125,null,null,0,{"$error":"#DIV/0!"}]
[null,null,null,null,null,915,18.3,30.9072,0,null,null,22.3388671875,null,null,0,{"$error":"#DIV/0!"}]
[null,null,null,null,null,916,18.32,27.3673,0,null,null,22.36328125,null,null,0,{"$error":"#DIV/0!"}]
[null,null,null,null,null,917,18.34,16.867599999999999,0,null,null,22.3876953125,null,null,0,{"$error":"#DIV/0!"}]
[null,null,null,null,null,918,18.36,-1.6718,0,null,null,22.412109375,null,null,0,{"$error":"#DIV/0!"}]
[null,null,null,null,null,919,18.38,-22.851199999999999,0,null,null,22.4365234375,null,null,0,{"$error":"#DIV/0!"}]
[null,null,null,null,null,920,18.400000000000002,-41.360599999999998,0,null,null,22.4609375,null,null,0,{"$error":"#DIV/0!"}]
[null,null,null,null,null,921,18.420000000000002,-52.940199999999997,0,null,null,22.4853515625,null,null,0,{"$error":"#DIV/0!"}]
[null,null,null,null,null,922,18.440000000000001,-49.580300000000001,0,null,null,22.509765625,null,null,0,{"$error":"#DIV/0!"}]
[null,null,null,null,null,923,18.46,-28.280999999999999,0,null,null,22.5341796875,null,null,0,{"$error":"#DIV/0!"}]
[null,null,null,null,null,924,18.48,-3.8016999999999999,0,null,null,22.55859375,null,null,0,{"$error":"#DIV/0!"}]
[null,null,null,null,null,925,18.5,5.4980000000000002,0,null,null,22.5830078125,null,null,0,{"$error":"#DIV/0!"}]
[null,null,null,null,null,926,18.52,10.957800000000001,0,null,null,22.607421875,null,null,0,{"$error":"#DIV/0!"}]
[null,null,null,null,null,927,18.54,28.657299999999999,0,null,null,22.6318359375,null,null,0,{"$error":"#DIV/0!"}]
[null,null,null,null,null,928,18.559999999999999,47.526699999999998,0,null,null,22.65625,null,null,0,{"$error":"#DIV/0!"}]
[null,null,null,null,null,929,18.580000000000002,54.366500000000002,0,null,null,22.6806640625,null,null,0,{"$error":"#DIV/0!"}]
[null,null,null,null,null,930,18.600000000000001,46.806699999999999,0,null,null,22.705078125,null,null,0,{"$error":"#DIV/0!"}]
[null,null,null,null,null,931,18.62,30.607199999999999,0,null,null,22.7294921875,null,null,0,{"$error":"#DIV/0!"}]
[null,null,null,null,null,932,18.64,13.297800000000001,0,null,null,22.75390625,null,null,0,{"$error":"#DIV/0!"}]
[null,null,null,null,null,933,18.66,3.2780999999999998,0,null,null,22.7783203125,null,null,0,{"$error":"#DIV/0!"}]
[null,null,null,null,null,934,18.68,3.7281,0,null,null,22.802734375,null,null,0,{"$error":"#DIV/0!"}]
[null,null,null,null,null,935,18.7,7.0279999999999996,0,null,null,22.8271484375,null,null,0,{"$error":"#DIV/0!"}]
[null,null,null,null,null,936,18.72,10.2979,0,null,null,22.8515625,null,null,0,{"$error":"#DIV/0!"}]
[null,null,null,null,null,937,18.740000000000002,16.087700000000002,0,null,null,22.8759765625,null,null,0,{"$error":"#DIV/0!"}]
[null,null,null,null,null,938,18.760000000000002,19.357600000000001,0,null,null,22.900390625,null,null,0,{"$error":"#DIV/0!"}]
[null,null,null,null,null,939,18.78,12.7578,0,null,null,22.9248046875,null,null,0,{"$error":"#DIV/0!"}]
[null,null,null,null,null,940,18.8,1.0582,0,null,null,22.94921875,null,null,0,{"$error":"#DIV/0!"}]
[null,null,null,null,null,941,18.82,-8.3015000000000008,0,null,null,22.9736328125,null,null,0,{"$error":"#DIV/0!"}]
[null,null,null,null,null,942,18.84,-12.1114,0,null,null,22.998046875,null,null,0,{"$error":"#DIV/0!"}]
[null,null,null,null,null,943,18.86,-10.1615,0,null,null,23.0224609375,null,null,0,{"$error":"#DIV/0!"}]
[null,null,null,null,null,944,18.88,-12.1114,0,null,null,23.046875,null,null,0,{"$error":"#DIV/0!"}]
[null,null,null,null,null,945,18.900000000000002,-22.971,0,null,null,23.0712890625,null,null,0,{"$error":"#DIV/0!"}]
[null,null,null,null,null,946,18.920000000000002,-31.4908,0,null,null,23.095703125,null,null,0,{"$error":"#DIV/0!"}]
[null,null,null,null,null,947,18.940000000000001,-30.500800000000002,0,null,null,23.1201171875,null,null,0,{"$error":"#DIV/0!"}]
[null,null,null,null,null,948,18.96,-23.030999999999999,0,null,null,23.14453125,null,null,0,{"$error":"#DIV/0!"}]
[null,null,null,null,null,949,18.98,-12.981299999999999,0,null,null,23.1689453125,null,null,0,{"$error":"#DIV/0!"}]
[null,null,null,null,null,950,19,-5.1215999999999999,0,null,null,23.193359375,null,null,0,{"$error":"#DIV/0!"}]
[null,null,null,null,null,951,19.02,-2.7816000000000001,0,null,null,23.2177734375,null,null,0,{"$error":"#DIV/0!"}]
[null,null,null,null,null,952,19.04,0.42830000000000001,0,null,null,23.2421875,null,null,0,{"$error":"#DIV/0!"}]
[null,null,null,null,null,953,19.059999999999999,9.218,0,null,null,23.2666015625,null,null,0,{"$error":"#DIV/0!"}]
[null,null,null,null,null,954,19.080000000000002,19.5077,0,null,null,23.291015625,null,null,0,{"$error":"#DIV/0!"}]
[null,null,null,null,null,955,19.100000000000001,29.1374,0,null,null,23.3154296875,null,null,0,{"$error":"#DIV/0!"}]
[null,null,null,null,null,956,19.12,36.8172,0,null,null,23.33984375,null,null,0,{"$error":"#DIV/0!"}]
[null,null,null,null,null,957,19.14,38.887099999999997,0,null,null,23.3642578125,null,null,0,{"$error":"#DIV/0!"}]
[null,null,null,null,null,958,19.16,36.547199999999997,0,null,null,23.388671875,null,null,0,{"$error":"#DIV/0!"}]
[null,null,null,null,null,959,19.18,33.337299999999999,0,null,null,23.4130859375,null,null,0,{"$error":"#DIV/0!"}]
[null,null,null,null,null,960,{"$f":"B$6*(F963-1)","v":19.2},28.5974,0,null,null,23.4375,null,null,0,{"$error":"#DIV/0!"}]
[null,null,null,null,null,961,19.22,18.727699999999999,0,null,null,{"$f":"(F963)/B$9/B$6","v":23.4619140625},null,null,{"$f":"SQRT(M963^2+N963^2)","v":0},{"$f":"ATAN(N963/M963)","v":{"$error":"#DIV/0!"}}]
[null,null,null,null,null,962,19.240000000000002,4.5682,0,null,null,23.486328125,null,null,0,{"$error":"#DIV/0!"}]
[null,null,null,null,null,963,19.260000000000002,-12.141299999999999,0,null,null,23.5107421875,null,null,0,{"$error":"#DIV/0!"}]
[null,null,null,null,null,964,19.28,-30.1707,0,null,null,23.53515625,null,null,0,{"$error":"#DIV/0!"}]
[null,null,null,null,null,965,19.3,-39.290500000000002,0,null,null,23.5595703125,null,null,0,{"$error":"#DIV/0!"}]
[null,null,null,null,null,966,19.32,-34.430599999999998,0,null,null,23.583984375,null,null,0,{"$error":"#DIV/0!"}]
[null,null,null,null,null,967,19.34,-27.410799999999998,0,null,null,23.6083984375,null,null,0,{"$error":"#DIV/0!"}]
[null,null,null,null,null,968,19.36,-29.030799999999999,0,null,null,23.6328125,null,null,0,{"$error":"#DIV/0!"}]
[null,null,null,null,null,969,19.38,-36.4405,0,null,null,23.6572265625,null,null,0,{"$error":"#DIV/0!"}]
[null,null,null,null,null,970,19.400000000000002,-39.500399999999999,0,null,null,23.681640625,null,null,0,{"$error":"#DIV/0!"}]
[null,null,null,null,null,971,19.420000000000002,-34.220599999999997,0,null,null,23.7060546875,null,null,0,{"$error":"#DIV/0!"}]
[null,null,null,null,null,972,19.440000000000001,-23.930900000000001,0,null,null,23.73046875,null,null,0,{"$error":"#DIV/0!"}]
[null,null,null,null,null,973,19.46,-10.821300000000001,0,null,null,23.7548828125,null,null,0,{"$error":"#DIV/0!"}]
[null,null,null,null,null,974,19.48,4.6882000000000001,0,null,null,23.779296875,null,null,0,{"$error":"#DIV/0!"}]
[null,null,null,null,null,975,19.5,17.047899999999998,0,null,null,23.8037109375,null,null,0,{"$error":"#DIV/0!"}]
[null,null,null,null,null,976,19.52,24.787600000000001,0,null,null,23.828125,null,null,0,{"$error":"#DIV/0!"}]
[null,null,null,null,null,977,19.54,29.7075,0,null,null,23.8525390625,null,null,0,{"$error":"#DIV/0!"}]
[null,null,null,null,null,978,19.559999999999999,31.3874,0,null,null,23.876953125,null,null,0,{"$error":"#DIV/0!"}]
[null,null,null,null,null,979,19.580000000000002,30.307500000000001,0,null,null,23.9013671875,null,null,0,{"$error":"#DIV/0!"}]
[null,null,null,null,null,980,19.600000000000001,25.087599999999998,0,null,null,23.92578125,null,null,0,{"$error":"#DIV/0!"}]
[null,null,null,null,null,981,19.62,16.357900000000001,0,null,null,23.9501953125,null,null,0,{"$error":"#DIV/0!"}]
[null,null,null,null,null,982,19.64,12.938000000000001,0,null,null,23.974609375,null,null,0,{"$error":"#DIV/0!"}]
[null,null,null,null,null,983,19.66,15.278,0,null,null,23.9990234375,null,null,0,{"$error":"#DIV/0!"}]
[null,null,null,null,null,984,19.68,13.718,0,null,null,24.0234375,null,null,0,{"$error":"#DIV/0!"}]
[null,null,null,null,null,985,19.7,11.7081,0,null,null,24.0478515625,null,null,0,{"$error":"#DIV/0!"}]
[null,null,null,null,null,986,19.72,14.378,0,null,null,24.072265625,null,null,0,{"$error":"#DIV/0!"}]
[null,null,null,null,null,987,19.740000000000002,14.917999999999999,0,null,null,24.0966796875,null,null,0,{"$error":"#DIV/0!"}]
[null,null,null,null,null,988,19.760000000000002,10.598100000000001,0,null,null,24.12109375,null,null,0,{"$error":"#DIV/0!"}]
[null,null,null,null,null,989,19.78,7.2081999999999997,0,null,null,24.1455078125,null,null,0,{"$error":"#DIV/0!"}]
[null,null,null,null,null,990,19.8,9.5782000000000007,0,null,null,24.169921875,null,null,0,{"$error":"#DIV/0!"}]
[null,null,null,null,null,991,19.82,10.7781,0,null,null,24.1943359375,null,null,0,{"$error":"#DIV/0!"}]
[null,null,null,null,null,992,19.84,9.0381999999999998,0,null,null,24.21875,null,null,0,{"$error":"#DIV/0!"}]
[null,null,null,null,null,993,19.86,10.2082,0,null,null,24.2431640625,null,null,0,{"$error":"#DIV/0!"}]
[null,null,null,null,null,994,19.88,6.9983000000000004,0,null,null,24.267578125,null,null,0,{"$error":"#DIV/0!"}]
[null,null,null,null,null,995,19.900000000000002,-4.2813999999999997,0,null,null,24.2919921875,null,null,0,{"$error":"#DIV/0!"}]
[null,null,null,null,null,996,19.920000000000002,-12.2011,0,null,null,24.31640625,null,null,0,{"$error":"#DIV/0!"}]
[null,null,null,null,null,997,19.940000000000001,-13.671099999999999,0,null,null,24.3408203125,null,null,0,{"$error":"#DIV/0!"}]
[null,null,null,null,null,998,19.96,-12.8611,0,null,null,24.365234375,null,null,0,{"$error":"#DIV/0!"}]
[null,null,null,null,null,999,19.98,-10.761200000000001,0,null,null,24.3896484375,null,null,0,{"$error":"#DIV/0!"}]
[null,null,null,null,null,1000,20,-4.7613000000000003,0,null,null,24.4140625,null,null,0,{"$error":"#DIV/0!"}]
[null,null,null,null,null,1001,20.02,0.45850000000000002,0,null,null,24.4384765625,null,null,0,{"$error":"#DIV/0!"}]
[null,null,null,null,null,1002,20.04,-1.9114,0,null,null,24.462890625,null,null,0,{"$error":"#DIV/0!"}]
[null,null,null,null,null,1003,20.059999999999999,-7.0113000000000003,0,null,null,24.4873046875,null,null,0,{"$error":"#DIV/0!"}]
[null,null,null,null,null,1004,20.080000000000002,-8.5112000000000005,0,null,null,24.51171875,null,null,0,{"$error":"#DIV/0!"}]
[null,null,null,null,null,1005,20.100000000000001,-8.4811999999999994,0,null,null,24.5361328125,null,null,0,{"$error":"#DIV/0!"}]
[null,null,null,null,null,1006,20.12,-8.8412000000000006,0,null,null,24.560546875,null,null,0,{"$error":"#DIV/0!"}]
[null,null,null,null,null,1007,20.14,-7.3411999999999997,0,null,null,24.5849609375,null,null,0,{"$error":"#DIV/0!"}]
[null,null,null,null,null,1008,20.16,-7.4912000000000001,0,null,null,24.609375,null,null,0,{"$error":"#DIV/0!"}]
[null,null,null,null,null,1009,20.18,-9.8611000000000004,0,null,null,24.6337890625,null,null,0,{"$error":"#DIV/0!"}]
[null,null,null,null,null,1010,20.2,-8.0312000000000001,0,null,null,24.658203125,null,null,0,{"$error":"#DIV/0!"}]
[null,null,null,null,null,1011,20.22,-5.8712999999999997,0,null,null,24.6826171875,null,null,0,{"$error":"#DIV/0!"}]
[null,null,null,null,null,1012,20.240000000000002,-6.2611999999999997,0,null,null,24.70703125,null,null,0,{"$error":"#DIV/0!"}]
[null,null,null,null,null,1013,20.260000000000002,-3.6513,0,null,null,24.7314453125,null,null,0,{"$error":"#DIV/0!"}]
[null,null,null,null,null,1014,20.28,-2.5112999999999999,0,null,null,24.755859375,null,null,0,{"$error":"#DIV/0!"}]
[null,null,null,null,null,1015,20.3,-3.5613000000000001,0,null,null,24.7802734375,null,null,0,{"$error":"#DIV/0!"}]
[null,null,null,null,null,1016,20.32,-2.6913,0,null,null,24.8046875,null,null,0,{"$error":"#DIV/0!"}]
[null,null,null,null,null,1017,20.34,-4.4612999999999996,0,null,null,24.8291015625,null,null,0,{"$error":"#DIV/0!"}]
[null,null,null,null,null,1018,20.36,-11.4511,0,null,null,24.853515625,null,null,0,{"$error":"#DIV/0!"}]
[null,null,null,null,null,1019,20.38,-18.710799999999999,0,null,null,24.8779296875,null,null,0,{"$error":"#DIV/0!"}]
[null,null,null,null,null,1020,20.400000000000002,-21.8307,0,null,null,24.90234375,null,null,0,{"$error":"#DIV/0!"}]
[null,null,null,null,null,1021,20.420000000000002,-20.6008,0,null,null,24.9267578125,null,null,0,{"$error":"#DIV/0!"}]
[null,null,null,null,null,1022,20.440000000000001,-15.350899999999999,0,null,null,24.951171875,null,null,0,{"$error":"#DIV/0!"}]
[null,null,null,null,null,1023,20.46,-6.5312000000000001,0,null,null,24.9755859375,null,null,0,{"$error":"#DIV/0!"}]
[null,null,null,null,null,1024,{"$f":"B$6*(F1027-1)","v":20.48},6.2484000000000002,0,null,null,25,null,null,0,{"$error":"#DIV/0!"}]
[null,null,null,null,null,1025,20.5,20.558,0,null,null,{"$f":"(F1027)/B$9/B$6","v":25.0244140625},null,null,{"$f":"SQRT(M1027^2+N1027^2)","v":0},{"$f":"ATAN(N1027/M1027)","v":{"$error":"#DIV/0!"}}]
[null,null,null,null,null,1026,20.52,31.957699999999999,0,null,null,25.048828125,null,null,0,{"$error":"#DIV/0!"}]
[null,null,null,null,null,1027,20.54,37.6875,0,null,null,25.0732421875,null,null,0,{"$error":"#DIV/0!"}]
[null,null,null,null,null,1028,20.56,38.287500000000001,0,null,null,25.09765625,null,null,0,{"$error":"#DIV/0!"}]
[null,null,null,null,null,1029,20.580000000000002,31.837700000000002,0,null,null,25.1220703125,null,null,0,{"$error":"#DIV/0!"}]
[null,null,null,null,null,1030,20.6,19.118099999999998,0,null,null,25.146484375,null,null,0,{"$error":"#DIV/0!"}]
[null,null,null,null,null,1031,20.62,5.6784999999999997,0,null,null,25.1708984375,null,null,0,{"$error":"#DIV/0!"}]
[null,null,null,null,null,1032,20.64,-7.5510999999999999,0,null,null,25.1953125,null,null,0,{"$error":"#DIV/0!"}]
[null,null,null,null,null,1033,20.66,-22.340599999999998,0,null,null,25.2197265625,null,null,0,{"$error":"#DIV/0!"}]
[null,null,null,null,null,1034,20.68,-34.970300000000002,0,null,null,25.244140625,null,null,0,{"$error":"#DIV/0!"}]
[null,null,null,null,null,1035,20.7,-42.92,0,null,null,25.2685546875,null,null,0,{"$error":"#DIV/0!"}]
[null,null,null,null,null,1036,20.72,-43.85,0,null,null,25.29296875,null,null,0,{"$error":"#DIV/0!"}]
[null,null,null,null,null,1037,20.740000000000002,-36.380200000000002,0,null,null,25.3173828125,null,null,0,{"$error":"#DIV/0!"}]
[null,null,null,null,null,1038,20.76,-26.5105,0,null,null,25.341796875,null,null,0,{"$error":"#DIV/0!"}]
[null,null,null,null,null,1039,20.78,-18.140699999999999,0,null,null,25.3662109375,null,null,0,{"$error":"#DIV/0!"}]
[null,null,null,null,null,1040,20.8,-8.4209999999999994,0,null,null,25.390625,null,null,0,{"$error":"#DIV/0!"}]
[null,null,null,null,null,1041,20.82,2.6486000000000001,0,null,null,25.4150390625,null,null,0,{"$error":"#DIV/0!"}]
[null,null,null,null,null,1042,20.84,11.2584,0,null,null,25.439453125,null,null,0,{"$error":"#DIV/0!"}]
[null,null,null,null,null,1043,20.86,16.058199999999999,0,null,null,25.4638671875,null,null,0,{"$error":"#DIV/0!"}]
[null,null,null,null,null,1044,20.88,18.578099999999999,0,null,null,25.48828125,null,null,0,{"$error":"#DIV/0!"}]
[null,null,null,null,null,1045,20.900000000000002,18.7881,0,null,null,25.5126953125,null,null,0,{"$error":"#DIV/0!"}]
[null,null,null,null,null,1046,20.92,16.2682,0,null,null,25.537109375,null,null,0,{"$error":"#DIV/0!"}]
[null,null,null,null,null,1047,20.94,9.3084000000000007,0,null,null,25.5615234375,null,null,0,{"$error":"#DIV/0!"}]
[null,null,null,null,null,1048,20.96,-0.86119999999999997,0,null,null,25.5859375,null,null,0,{"$error":"#DIV/0!"}]
[null,null,null,null,null,1049,20.98,-7.641,0,null,null,25.6103515625,null,null,0,{"$error":"#DIV/0!"}]
[null,null,null,null,null,1050,21,-10.790900000000001,0,null,null,25.634765625,null,null,0,{"$error":"#DIV/0!"}]
[null,null,null,null,null,1051,21.02,-14.7508,0,null,null,25.6591796875,null,null,0,{"$error":"#DIV/0!"}]
[null,null,null,null,null,1052,21.04,-17.090699999999998,0,null,null,25.68359375,null,null,0,{"$error":"#DIV/0!"}]
[null,null,null,null,null,1053,21.06,-15.1708,0,null,null,25.7080078125,null,null,0,{"$error":"#DIV/0!"}]
[null,null,null,null,null,1054,21.080000000000002,-11.4809,0,null,null,25.732421875,null,null,0,{"$error":"#DIV/0!"}]
[null,null,null,null,null,1055,21.1,-6.1710000000000003,0,null,null,25.7568359375,null,null,0,{"$error":"#DIV/0!"}]
[null,null,null,null,null,1056,21.12,1.1487000000000001,0,null,null,25.78125,null,null,0,{"$error":"#DIV/0!"}]
[null,null,null,null,null,1057,21.14,4.5686,0,null,null,25.8056640625,null,null,0,{"$error":"#DIV/0!"}]
[null,null,null,null,null,1058,21.16,1.9587000000000001,0,null,null,25.830078125,null,null,0,{"$error":"#DIV/0!"}]
[null,null,null,null,null,1059,21.18,-1.0711999999999999,0,null,null,25.8544921875,null,null,0,{"$error":"#DIV/0!"}]
[null,null,null,null,null,1060,21.2,-2.6311,0,null,null,25.87890625,null,null,0,{"$error":"#DIV/0!"}]
[null,null,null,null,null,1061,21.22,-2.3010999999999999,0,null,null,25.9033203125,null,null,0,{"$error":"#DIV/0!"}]
[null,null,null,null,null,1062,21.240000000000002,-1.0711999999999999,0,null,null,25.927734375,null,null,0,{"$error":"#DIV/0!"}]
[null,null,null,null,null,1063,21.26,-2.3311000000000002,0,null,null,25.9521484375,null,null,0,{"$error":"#DIV/0!"}]
[null,null,null,null,null,1064,21.28,-5.5110000000000001,0,null,null,25.9765625,null,null,0,{"$error":"#DIV/0!"}]
[null,null,null,null,null,1065,21.3,-8.1209000000000007,0,null,null,26.0009765625,null,null,0,{"$error":"#DIV/0!"}]
[null,null,null,null,null,1066,21.32,-7.4908999999999999,0,null,null,26.025390625,null,null,0,{"$error":"#DIV/0!"}]
[null,null,null,null,null,1067,21.34,-2.7210999999999999,0,null,null,26.0498046875,null,null,0,{"$error":"#DIV/0!"}]
[null,null,null,null,null,1068,21.36,3.7286999999999999,0,null,null,26.07421875,null,null,0,{"$error":"#DIV/0!"}]
[null,null,null,null,null,1069,21.38,10.5085,0,null,null,26.0986328125,null,null,0,{"$error":"#DIV/0!"}]
[null,null,null,null,null,1070,21.400000000000002,18.548300000000001,0,null,null,26.123046875,null,null,0,{"$error":"#DIV/0!"}]
[null,null,null,null,null,1071,21.42,26.437999999999999,0,null,null,26.1474609375,null,null,0,{"$error":"#DIV/0!"}]
[null,null,null,null,null,1072,21.44,31.177900000000001,0,null,null,26.171875,null,null,0,{"$error":"#DIV/0!"}]
[null,null,null,null,null,1073,21.46,35.017800000000001,0,null,null,26.1962890625,null,null,0,{"$error":"#DIV/0!"}]
[null,null,null,null,null,1074,21.48,37.807699999999997,0,null,null,26.220703125,null,null,0,{"$error":"#DIV/0!"}]
[null,null,null,null,null,1075,21.5,35.857799999999997,0,null,null,26.2451171875,null,null,0,{"$error":"#DIV/0!"}]
[null,null,null,null,null,1076,21.52,27.398,0,null,null,26.26953125,null,null,0,{"$error":"#DIV/0!"}]
[null,null,null,null,null,1077,21.54,14.888400000000001,0,null,null,26.2939453125,null,null,0,{"$error":"#DIV/0!"}]
[null,null,null,null,null,1078,21.56,4.4486999999999997,0,null,null,26.318359375,null,null,0,{"$error":"#DIV/0!"}]
[null,null,null,null,null,1079,21.580000000000002,-3.0510000000000002,0,null,null,26.3427734375,null,null,0,{"$error":"#DIV/0!"}]
[null,null,null,null,null,1080,21.6,-9.9808000000000003,0,null,null,26.3671875,null,null,0,{"$error":"#DIV/0!"}]
[null,null,null,null,null,1081,21.62,-15.710599999999999,0,null,null,26.3916015625,null,null,0,{"$error":"#DIV/0!"}]
[null,null,null,null,null,1082,21.64,-18.020499999999998,0,null,null,26.416015625,null,null,0,{"$error":"#DIV/0!"}]
[null,null,null,null,null,1083,21.66,-16.460599999999999,0,null,null,26.4404296875,null,null,0,{"$error":"#DIV/0!"}]
[null,null,null,null,null,1084,21.68,-12.4107,0,null,null,26.46484375,null,null,0,{"$error":"#DIV/0!"}]
[null,null,null,null,null,1085,21.7,-7.6407999999999996,0,null,null,26.4892578125,null,null,0,{"$error":"#DIV/0!"}]
[null,null,null,null,null,1086,21.72,-3.351,0,null,null,26.513671875,null,null,0,{"$error":"#DIV/0!"}]
[null,null,null,null,null,1087,21.740000000000002,1.9888999999999999,0,null,null,26.5380859375,null,null,0,{"$error":"#DIV/0!"}]
[null,null,null,null,null,1088,{"$f":"B$6*(F1091-1)","v":21.76},9.8186,0,null,null,26.5625,null,null,0,{"$error":"#DIV/0!"}]
[null,null,null,null,null,1089,21.78,15.188499999999999,0,null,null,{"$f":"(F1091)/B$9/B$6","v":26.5869140625},null,null,{"$f":"SQRT(M1091^2+N1091^2)","v":0},{"$f":"ATAN(N1091/M1091)","v":{"$error":"#DIV/0!"}}]
[null,null,null,null,null,1090,21.8,11.7386,0,null,null,26.611328125,null,null,0,{"$error":"#DIV/0!"}]
[null,null,null,null,null,1091,21.82,1.5388999999999999,0,null,null,26.6357421875,null,null,0,{"$error":"#DIV/0!"}]
[null,null,null,null,null,1092,21.84,-9.2607999999999997,0,null,null,26.66015625,null,null,0,{"$error":"#DIV/0!"}]
[null,null,null,null,null,1093,21.86,-17.5105,0,null,null,26.6845703125,null,null,0,{"$error":"#DIV/0!"}]
[null,null,null,null,null,1094,21.88,-18.860499999999998,0,null,null,26.708984375,null,null,0,{"$error":"#DIV/0!"}]
[null,null,null,null,null,1095,21.900000000000002,-14.960599999999999,0,null,null,26.7333984375,null,null,0,{"$error":"#DIV/0!"}]
[null,null,null,null,null,1096,21.92,-11.960699999999999,0,null,null,26.7578125,null,null,0,{"$error":"#DIV/0!"}]
[null,null,null,null,null,1097,21.94,-8.7807999999999993,0,null,null,26.7822265625,null,null,0,{"$error":"#DIV/0!"}]
[null,null,null,null,null,1098,21.96,-2.5108999999999999,0,null,null,26.806640625,null,null,0,{"$error":"#DIV/0!"}]
[null,null,null,null,null,1099,21.98,4.5987999999999998,0,null,null,26.8310546875,null,null,0,{"$error":"#DIV/0!"}]
[null,null,null,null,null,1100,22,9.2187000000000001,0,null,null,26.85546875,null,null,0,{"$error":"#DIV/0!"}]
[null,null,null,null,null,1101,22.02,10.2387,0,null,null,26.8798828125,null,null,0,{"$error":"#DIV/0!"}]
[null,null,null,null,null,1102,22.04,9.7286999999999999,0,null,null,26.904296875,null,null,0,{"$error":"#DIV/0!"}]
[null,null,null,null,null,1103,22.06,6.8487999999999998,0,null,null,26.9287109375,null,null,0,{"$error":"#DIV/0!"}]
[null,null,null,null,null,1104,22.080000000000002,-0.80100000000000005,0,null,null,26.953125,null,null,0,{"$error":"#DIV/0!"}]
[null,null,null,null,null,1105,22.1,-7.3108000000000004,0,null,null,26.9775390625,null,null,0,{"$error":"#DIV/0!"}]
[null,null,null,null,null,1106,22.12,-8.3606999999999996,0,null,null,27.001953125,null,null,0,{"$error":"#DIV/0!"}]
[null,null,null,null,null,1107,22.14,-7.1608000000000001,0,null,null,27.0263671875,null,null,0,{"$error":"#DIV/0!"}]
[null,null,null,null,null,1108,22.16,-6.1407999999999996,0,null,null,27.05078125,null,null,0,{"$error":"#DIV/0!"}]
[null,null,null,null,null,1109,22.18,-3.2608999999999999,0,null,null,27.0751953125,null,null,0,{"$error":"#DIV/0!"}]
[null,null,null,null,null,1110,22.2,0.45900000000000002,0,null,null,27.099609375,null,null,0,{"$error":"#DIV/0!"}]
[null,null,null,null,null,1111,22.22,1.8089999999999999,0,null,null,27.1240234375,null,null,0,{"$error":"#DIV/0!"}]
[null,null,null,null,null,1112,22.240000000000002,3.3389000000000002,0,null,null,27.1484375,null,null,0,{"$error":"#DIV/0!"}]
[null,null,null,null,null,1113,22.26,5.6189,0,null,null,27.1728515625,null,null,0,{"$error":"#DIV/0!"}]
[null,null,null,null,null,1114,22.28,5.8589000000000002,0,null,null,27.197265625,null,null,0,{"$error":"#DIV/0!"}]
[null,null,null,null,null,1115,22.3,2.4990000000000001,0,null,null,27.2216796875,null,null,0,{"$error":"#DIV/0!"}]
[null,null,null,null,null,1116,22.32,-2.5409000000000002,0,null,null,27.24609375,null,null,0,{"$error":"#DIV/0!"}]
[null,null,null,null,null,1117,22.34,-4.4307999999999996,0,null,null,27.2705078125,null,null,0,{"$error":"#DIV/0!"}]
[null,null,null,null,null,1118,22.36,-4.2507999999999999,0,null,null,27.294921875,null,null,0,{"$error":"#DIV/0!"}]
[null,null,null,null,null,1119,22.38,-2.3008999999999999,0,null,null,27.3193359375,null,null,0,{"$error":"#DIV/0!"}]
[null,null,null,null,null,1120,22.400000000000002,3.7890000000000001,0,null,null,27.34375,null,null,0,{"$error":"#DIV/0!"}]
[null,null,null,null,null,1121,22.42,8.8887999999999998,0,null,null,27.3681640625,null,null,0,{"$error":"#DIV/0!"}]
[null,null,null,null,null,1122,22.44,9.7588000000000008,0,null,null,27.392578125,null,null,0,{"$error":"#DIV/0!"}]
[null,null,null,null,null,1123,22.46,7.0589000000000004,0,null,null,27.4169921875,null,null,0,{"$error":"#DIV/0!"}]
[null,null,null,null,null,1124,22.48,4.359,0,null,null,27.44140625,null,null,0,{"$error":"#DIV/0!"}]
[null,null,null,null,null,1125,22.5,3.2789999999999999,0,null,null,27.4658203125,null,null,0,{"$error":"#DIV/0!"}]
[null,null,null,null,null,1126,22.52,2.8290000000000002,0,null,null,27.490234375,null,null,0,{"$error":"#DIV/0!"}]
[null,null,null,null,null,1127,22.54,4.0590000000000002,0,null,null,27.5146484375,null,null,0,{"$error":"#DIV/0!"}]
[null,null,null,null,null,1128,22.56,6.3989000000000003,0,null,null,27.5390625,null,null,0,{"$error":"#DIV/0!"}]
[null,null,null,null,null,1129,22.580000000000002,10.418799999999999,0,null,null,27.5634765625,null,null,0,{"$error":"#DIV/0!"}]
[null,null,null,null,null,1130,22.6,16.808599999999998,0,null,null,27.587890625,null,null,0,{"$error":"#DIV/0!"}]
[null,null,null,null,null,1131,22.62,22.778400000000001,0,null,null,27.6123046875,null,null,0,{"$error":"#DIV/0!"}]
[null,null,null,null,null,1132,22.64,26.4983,0,null,null,27.63671875,null,null,0,{"$error":"#DIV/0!"}]
[null,null,null,null,null,1133,22.66,28.418299999999999,0,null,null,27.6611328125,null,null,0,{"$error":"#DIV/0!"}]
[null,null,null,null,null,1134,22.68,25.5684,0,null,null,27.685546875,null,null,0,{"$error":"#DIV/0!"}]
[null,null,null,null,null,1135,22.7,15.8787,0,null,null,27.7099609375,null,null,0,{"$error":"#DIV/0!"}]
[null,null,null,null,null,1136,22.72,2.7991000000000001,0,null,null,27.734375,null,null,0,{"$error":"#DIV/0!"}]
[null,null,null,null,null,1137,22.740000000000002,-10.640499999999999,0,null,null,27.7587890625,null,null,0,{"$error":"#DIV/0!"}]
[null,null,null,null,null,1138,22.76,-23.240100000000002,0,null,null,27.783203125,null,null,0,{"$error":"#DIV/0!"}]
[null,null,null,null,null,1139,22.78,-32.329799999999999,0,null,null,27.8076171875,null,null,0,{"$error":"#DIV/0!"}]
[null,null,null,null,null,1140,22.8,-37.729700000000001,0,null,null,27.83203125,null,null,0,{"$error":"#DIV/0!"}]
[null,null,null,null,null,1141,22.82,-44.659399999999998,0,null,null,27.8564453125,null,null,0,{"$error":"#DIV/0!"}]
[null,null,null,null,null,1142,22.84,-52.789200000000001,0,null,null,27.880859375,null,null,0,{"$error":"#DIV/0!"}]
[null,null,null,null,null,1143,22.86,-54.889099999999999,0,null,null,27.9052734375,null,null,0,{"$error":"#DIV/0!"}]
[null,null,null,null,null,1144,22.88,-48.319299999999998,0,null,null,27.9296875,null,null,0,{"$error":"#DIV/0!"}]
[null,null,null,null,null,1145,22.900000000000002,-35.929699999999997,0,null,null,27.9541015625,null,null,0,{"$error":"#DIV/0!"}]
[null,null,null,null,null,1146,22.92,-23.7501,0,null,null,27.978515625,null,null,0,{"$error":"#DIV/0!"}]
[null,null,null,null,null,1147,22.94,-13.1304,0,null,null,28.0029296875,null,null,0,{"$error":"#DIV/0!"}]
[null,null,null,null,null,1148,22.96,-1.5507,0,null,null,28.02734375,null,null,0,{"$error":"#DIV/0!"}]
[null,null,null,null,null,1149,22.98,8.9489000000000001,0,null,null,28.0517578125,null,null,0,{"$error":"#DIV/0!"}]
[null,null,null,null,null,1150,23,17.768699999999999,0,null,null,28.076171875,null,null,0,{"$error":"#DIV/0!"}]
[null,null,null,null,null,1151,23.02,25.238499999999998,0,null,null,28.1005859375,null,null,0,{"$error":"#DIV/0!"}]
[null,null,null,null,null,1152,{"$f":"B$6*(F1155-1)","v":23.04},29.2883,0,null,null,28.125,null,null,0,{"$error":"#DIV/0!"}]
[null,null,null,null,null,1153,23.06,27.938400000000001,0,null,null,{"$f":"(F1155)/B$9/B$6","v":28.1494140625},null,null,{"$f":"SQRT(M1155^2+N1155^2)","v":0},{"$f":"ATAN(N1155/M1155)","v":{"$error":"#DIV/0!"}}]
[null,null,null,null,null,1154,23.080000000000002,22.508600000000001,0,null,null,28.173828125,null,null,0,{"$error":"#DIV/0!"}]
[null,null,null,null,null,1155,23.1,15.1288,0,null,null,28.1982421875,null,null,0,{"$error":"#DIV/0!"}]
[null,null,null,null,null,1156,23.12,7.1790000000000003,0,null,null,28.22265625,null,null,0,{"$error":"#DIV/0!"}]
[null,null,null,null,null,1157,23.14,-0.23069999999999999,0,null,null,28.2470703125,null,null,0,{"$error":"#DIV/0!"}]
[null,null,null,null,null,1158,23.16,-7.1304999999999996,0,null,null,28.271484375,null,null,0,{"$error":"#DIV/0!"}]
[null,null,null,null,null,1159,23.18,-10.820399999999999,0,null,null,28.2958984375,null,null,0,{"$error":"#DIV/0!"}]
[null,null,null,null,null,1160,23.2,-9.3203999999999994,0,null,null,28.3203125,null,null,0,{"$error":"#DIV/0!"}]
[null,null,null,null,null,1161,23.22,-4.3406000000000002,0,null,null,28.3447265625,null,null,0,{"$error":"#DIV/0!"}]
[null,null,null,null,null,1162,23.240000000000002,3.8792,0,null,null,28.369140625,null,null,0,{"$error":"#DIV/0!"}]
[null,null,null,null,null,1163,23.26,12.578900000000001,0,null,null,28.3935546875,null,null,0,{"$error":"#DIV/0!"}]
[null,null,null,null,null,1164,23.28,15.3988,0,null,null,28.41796875,null,null,0,{"$error":"#DIV/0!"}]
[null,null,null,null,null,1165,23.3,14.5589,0,null,null,28.4423828125,null,null,0,{"$error":"#DIV/0!"}]
[null,null,null,null,null,1166,23.32,14.3489,0,null,null,28.466796875,null,null,0,{"$error":"#DIV/0!"}]
[null,null,null,null,null,1167,23.34,12.9689,0,null,null,28.4912109375,null,null,0,{"$error":"#DIV/0!"}]
[null,null,null,null,null,1168,23.36,11.259,0,null,null,28.515625,null,null,0,{"$error":"#DIV/0!"}]
[null,null,null,null,null,1169,23.38,9.7590000000000003,0,null,null,28.5400390625,null,null,0,{"$error":"#DIV/0!"}]
[null,null,null,null,null,1170,23.400000000000002,5.8590999999999998,0,null,null,28.564453125,null,null,0,{"$error":"#DIV/0!"}]
[null,null,null,null,null,1171,23.42,-5.0700000000000002E-2,0,null,null,28.5888671875,null,null,0,{"$error":"#DIV/0!"}]
[null,null,null,null,null,1172,23.44,-5.2104999999999997,0,null,null,28.61328125,null,null,0,{"$error":"#DIV/0!"}]
[null,null,null,null,null,1173,23.46,-7.4004000000000003,0,null,null,28.6376953125,null,null,0,{"$error":"#DIV/0!"}]
[null,null,null,null,null,1174,23.48,-5.9305000000000003,0,null,null,28.662109375,null,null,0,{"$error":"#DIV/0!"}]
[null,null,null,null,null,1175,23.5,-2.2406000000000001,0,null,null,28.6865234375,null,null,0,{"$error":"#DIV/0!"}]
[null,null,null,null,null,1176,23.52,1.9893000000000001,0,null,null,28.7109375,null,null,0,{"$error":"#DIV/0!"}]
[null,null,null,null,null,1177,23.54,4.8692000000000002,0,null,null,28.7353515625,null,null,0,{"$error":"#DIV/0!"}]
[null,null,null,null,null,1178,23.56,7.2690999999999999,0,null,null,28.759765625,null,null,0,{"$error":"#DIV/0!"}]
[null,null,null,null,null,1179,23.580000000000002,10.419,0,null,null,28.7841796875,null,null,0,{"$error":"#DIV/0!"}]
[null,null,null,null,null,1180,23.6,10.149100000000001,0,null,null,28.80859375,null,null,0,{"$error":"#DIV/0!"}]
[null,null,null,null,null,1181,23.62,5.0191999999999997,0,null,null,28.8330078125,null,null,0,{"$error":"#DIV/0!"}]
[null,null,null,null,null,1182,23.64,-2.1206,0,null,null,28.857421875,null,null,0,{"$error":"#DIV/0!"}]
[null,null,null,null,null,1183,23.66,-8.8402999999999992,0,null,null,28.8818359375,null,null,0,{"$error":"#DIV/0!"}]
[null,null,null,null,null,1184,23.68,-14.5402,0,null,null,28.90625,null,null,0,{"$error":"#DIV/0!"}]
[null,null,null,null,null,1185,23.7,-17.4801,0,null,null,28.9306640625,null,null,0,{"$error":"#DIV/0!"}]
[null,null,null,null,null,1186,23.72,-14.4802,0,null,null,28.955078125,null,null,0,{"$error":"#DIV/0!"}]
[null,null,null,null,null,1187,23.740000000000002,-6.2004000000000001,0,null,null,28.9794921875,null,null,0,{"$error":"#DIV/0!"}]
[null,null,null,null,null,1188,23.76,3.9992999999999999,0,null,null,29.00390625,null,null,0,{"$error":"#DIV/0!"}]
[null,null,null,null,null,1189,23.78,12.069000000000001,0,null,null,29.0283203125,null,null,0,{"$error":"#DIV/0!"}]
[null,null,null,null,null,1190,23.8,15.4589,0,null,null,29.052734375,null,null,0,{"$error":"#DIV/0!"}]
[null,null,null,null,null,1191,23.82,13.779,0,null,null,29.0771484375,null,null,0,{"$error":"#DIV/0!"}]
[null,null,null,null,null,1192,23.84,7.6292,0,null,null,29.1015625,null,null,0,{"$error":"#DIV/0!"}]
[null,null,null,null,null,1193,23.86,-1.4305000000000001,0,null,null,29.1259765625,null,null,0,{"$error":"#DIV/0!"}]
[null,null,null,null,null,1194,23.88,-11.030200000000001,0,null,null,29.150390625,null,null,0,{"$error":"#DIV/0!"}]
[null,null,null,null,null,1195,23.900000000000002,-19.579999999999998,0,null,null,29.1748046875,null,null,0,{"$error":"#DIV/0!"}]
[null,null,null,null,null,1196,23.92,-26.389700000000001,0,null,null,29.19921875,null,null,0,{"$error":"#DIV/0!"}]
[null,null,null,null,null,1197,23.94,-29.8096,0,null,null,29.2236328125,null,null,0,{"$error":"#DIV/0!"}]
[null,null,null,null,null,1198,23.96,-29.059699999999999,0,null,null,29.248046875,null,null,0,{"$error":"#DIV/0!"}]
[null,null,null,null,null,1199,23.98,-25.579799999999999,0,null,null,29.2724609375,null,null,0,{"$error":"#DIV/0!"}]
[null,null,null,null,null,1200,24,-17.93,0,null,null,29.296875,null,null,0,{"$error":"#DIV/0!"}]
[null,null,null,null,null,1201,24.02,-5.8403999999999998,0,null,null,29.3212890625,null,null,0,{"$error":"#DIV/0!"}]
[null,null,null,null,null,1202,24.04,5.0792999999999999,0,null,null,29.345703125,null,null,0,{"$error":"#DIV/0!"}]
[null,null,null,null,null,1203,24.060000000000002,12.459099999999999,0,null,null,29.3701171875,null,null,0,{"$error":"#DIV/0!"}]
[null,null,null,null,null,1204,24.080000000000002,18.698899999999998,0,null,null,29.39453125,null,null,0,{"$error":"#DIV/0!"}]
[null,null,null,null,null,1205,24.1,22.598800000000001,0,null,null,29.4189453125,null,null,0,{"$error":"#DIV/0!"}]
[null,null,null,null,null,1206,24.12,23.378799999999998,0,null,null,29.443359375,null,null,0,{"$error":"#DIV/0!"}]
[null,null,null,null,null,1207,24.14,22.058800000000002,0,null,null,29.4677734375,null,null,0,{"$error":"#DIV/0!"}]
[null,null,null,null,null,1208,24.16,17.498999999999999,0,null,null,29.4921875,null,null,0,{"$error":"#DIV/0!"}]
[null,null,null,null,null,1209,24.18,10.6892,0,null,null,29.5166015625,null,null,0,{"$error":"#DIV/0!"}]
[null,null,null,null,null,1210,24.2,5.5293000000000001,0,null,null,29.541015625,null,null,0,{"$error":"#DIV/0!"}]
[null,null,null,null,null,1211,24.22,5.4093999999999998,0,null,null,29.5654296875,null,null,0,{"$error":"#DIV/0!"}]
[null,null,null,null,null,1212,24.240000000000002,7.6893000000000002,0,null,null,29.58984375,null,null,0,{"$error":"#DIV/0!"}]
[null,null,null,null,null,1213,24.26,6.3993000000000002,0,null,null,29.6142578125,null,null,0,{"$error":"#DIV/0!"}]
[null,null,null,null,null,1214,24.28,1.2695000000000001,0,null,null,29.638671875,null,null,0,{"$error":"#DIV/0!"}]
[null,null,null,null,null,1215,24.3,-4.1902999999999997,0,null,null,29.6630859375,null,null,0,{"$error":"#DIV/0!"}]
[null,null,null,null,null,1216,{"$f":"B$6*(F1219-1)","v":24.32},-5.9603000000000002,0,null,null,29.6875,null,null,0,{"$error":"#DIV/0!"}]
[null,null,null,null,null,1217,24.34,-3.5003000000000002,0,null,null,{"$f":"(F1219)/B$9/B$6","v":29.7119140625},null,null,{"$f":"SQRT(M1219^2+N1219^2)","v":0},{"$f":"ATAN(N1219/M1219)","v":{"$error":"#DIV/0!"}}]
[null,null,null,null,null,1218,24.36,-0.74039999999999995,0,null,null,29.736328125,null,null,0,{"$error":"#DIV/0!"}]
[null,null,null,null,null,1219,24.38,0.45950000000000002,0,null,null,29.7607421875,null,null,0,{"$error":"#DIV/0!"}]
[null,null,null,null,null,1220,24.400000000000002,-5.04E-2,0,null,null,29.78515625,null,null,0,{"$error":"#DIV/0!"}]
[null,null,null,null,null,1221,24.42,0.57950000000000002,0,null,null,29.8095703125,null,null,0,{"$error":"#DIV/0!"}]
[null,null,null,null,null,1222,24.44,3.8795000000000002,0,null,null,29.833984375,null,null,0,{"$error":"#DIV/0!"}]
[null,null,null,null,null,1223,24.46,6.4294000000000002,0,null,null,29.8583984375,null,null,0,{"$error":"#DIV/0!"}]
[null,null,null,null,null,1224,24.48,6.8494000000000002,0,null,null,29.8828125,null,null,0,{"$error":"#DIV/0!"}]
[null,null,null,null,null,1225,24.5,6.6093999999999999,0,null,null,29.9072265625,null,null,0,{"$error":"#DIV/0!"}]
[null,null,null,null,null,1226,24.52,6.4593999999999996,0,null,null,29.931640625,null,null,0,{"$error":"#DIV/0!"}]
[null,null,null,null,null,1227,24.54,6.0693999999999999,0,null,null,29.9560546875,null,null,0,{"$error":"#DIV/0!"}]
[null,null,null,null,null,1228,24.560000000000002,5.5594000000000001,0,null,null,29.98046875,null,null,0,{"$error":"#DIV/0!"}]
[null,null,null,null,null,1229,24.580000000000002,6.0393999999999997,0,null,null,30.0048828125,null,null,0,{"$error":"#DIV/0!"}]
[null,null,null,null,null,1230,24.6,6.3994,0,null,null,30.029296875,null,null,0,{"$error":"#DIV/0!"}]
[null,null,null,null,null,1231,24.62,5.6494,0,null,null,30.0537109375,null,null,0,{"$error":"#DIV/0!"}]
[null,null,null,null,null,1232,24.64,1.9596,0,null,null,30.078125,null,null,0,{"$error":"#DIV/0!"}]
[null,null,null,null,null,1233,24.66,-7.1302000000000003,0,null,null,30.1025390625,null,null,0,{"$error":"#DIV/0!"}]
[null,null,null,null,null,1234,24.68,-17.629799999999999,0,null,null,30.126953125,null,null,0,{"$error":"#DIV/0!"}]
[null,null,null,null,null,1235,24.7,-23.329699999999999,0,null,null,30.1513671875,null,null,0,{"$error":"#DIV/0!"}]
[null,null,null,null,null,1236,24.72,-22.6997,0,null,null,30.17578125,null,null,0,{"$error":"#DIV/0!"}]
[null,null,null,null,null,1237,24.740000000000002,-19.6098,0,null,null,30.2001953125,null,null,0,{"$error":"#DIV/0!"}]
[null,null,null,null,null,1238,24.76,-19.129799999999999,0,null,null,30.224609375,null,null,0,{"$error":"#DIV/0!"}]
[null,null,null,null,null,1239,24.78,-20.059699999999999,0,null,null,30.2490234375,null,null,0,{"$error":"#DIV/0!"}]
[null,null,null,null,null,1240,24.8,-18.169799999999999,0,null,null,30.2734375,null,null,0,{"$error":"#DIV/0!"}]
[null,null,null,null,null,1241,24.82,-12.32,0,null,null,30.2978515625,null,null,0,{"$error":"#DIV/0!"}]
[null,null,null,null,null,1242,24.84,-3.1402000000000001,0,null,null,30.322265625,null,null,0,{"$error":"#DIV/0!"}]
[null,null,null,null,null,1243,24.86,5.2895000000000003,0,null,null,30.3466796875,null,null,0,{"$error":"#DIV/0!"}]
[null,null,null,null,null,1244,24.88,10.269399999999999,0,null,null,30.37109375,null,null,0,{"$error":"#DIV/0!"}]
[null,null,null,null,null,1245,24.900000000000002,14.4392,0,null,null,30.3955078125,null,null,0,{"$error":"#DIV/0!"}]
[null,null,null,null,null,1246,24.92,18.0991,0,null,null,30.419921875,null,null,0,{"$error":"#DIV/0!"}]
[null,null,null,null,null,1247,24.94,19.0291,0,null,null,30.4443359375,null,null,0,{"$error":"#DIV/0!"}]
[null,null,null,null,null,1248,24.96,17.109200000000001,0,null,null,30.46875,null,null,0,{"$error":"#DIV/0!"}]
[null,null,null,null,null,1249,24.98,12.4893,0,null,null,30.4931640625,null,null,0,{"$error":"#DIV/0!"}]
[null,null,null,null,null,1250,25,8.1395,0,null,null,30.517578125,null,null,0,{"$error":"#DIV/0!"}]
[null,null,null,null,null,1251,25.02,4.4196,0,null,null,30.5419921875,null,null,0,{"$error":"#DIV/0!"}]
[null,null,null,null,null,1252,25.04,0.18970000000000001,0,null,null,30.56640625,null,null,0,{"$error":"#DIV/0!"}]
[null,null,null,null,null,1253,25.060000000000002,-2.4502000000000002,0,null,null,30.5908203125,null,null,0,{"$error":"#DIV/0!"}]
[null,null,null,null,null,1254,25.080000000000002,-3.0202,0,null,null,30.615234375,null,null,0,{"$error":"#DIV/0!"}]
[null,null,null,null,null,1255,25.1,-1.8202,0,null,null,30.6396484375,null,null,0,{"$error":"#DIV/0!"}]
[null,null,null,null,null,1256,25.12,0.96970000000000001,0,null,null,30.6640625,null,null,0,{"$error":"#DIV/0!"}]
[null,null,null,null,null,1257,25.14,4.3895999999999997,0,null,null,30.6884765625,null,null,0,{"$error":"#DIV/0!"}]
[null,null,null,null,null,1258,25.16,7.5395000000000003,0,null,null,30.712890625,null,null,0,{"$error":"#DIV/0!"}]
[null,null,null,null,null,1259,25.18,10.689399999999999,0,null,null,30.7373046875,null,null,0,{"$error":"#DIV/0!"}]
[null,null,null,null,null,1260,25.2,13.299300000000001,0,null,null,30.76171875,null,null,0,{"$error":"#DIV/0!"}]
[null,null,null,null,null,1261,25.22,12.339399999999999,0,null,null,30.7861328125,null,null,0,{"$error":"#DIV/0!"}]
[null,null,null,null,null,1262,25.240000000000002,7.5095000000000001,0,null,null,30.810546875,null,null,0,{"$error":"#DIV/0!"}]
[null,null,null,null,null,1263,25.26,0.69969999999999999,0,null,null,30.8349609375,null,null,0,{"$error":"#DIV/0!"}]
[null,null,null,null,null,1264,25.28,-4.7900999999999998,0,null,null,30.859375,null,null,0,{"$error":"#DIV/0!"}]
[null,null,null,null,null,1265,25.3,-7.01,0,null,null,30.8837890625,null,null,0,{"$error":"#DIV/0!"}]
[null,null,null,null,null,1266,25.32,-7.58,0,null,null,30.908203125,null,null,0,{"$error":"#DIV/0!"}]
[null,null,null,null,null,1267,25.34,-9.2599,0,null,null,30.9326171875,null,null,0,{"$error":"#DIV/0!"}]
[null,null,null,null,null,1268,25.36,-10.549899999999999,0,null,null,30.95703125,null,null,0,{"$error":"#DIV/0!"}]
[null,null,null,null,null,1269,25.38,-9.4699000000000009,0,null,null,30.9814453125,null,null,0,{"$error":"#DIV/0!"}]
[null,null,null,null,null,1270,25.400000000000002,-7.07,0,null,null,31.005859375,null,null,0,{"$error":"#DIV/0!"}]
[null,null,null,null,null,1271,25.42,-2.1200999999999999,0,null,null,31.0302734375,null,null,0,{"$error":"#DIV/0!"}]
[null,null,null,null,null,1272,25.44,2.1997,0,null,null,31.0546875,null,null,0,{"$error":"#DIV/0!"}]
[null,null,null,null,null,1273,25.46,1.7198,0,null,null,31.0791015625,null,null,0,{"$error":"#DIV/0!"}]
[null,null,null,null,null,1274,25.48,1.0598000000000001,0,null,null,31.103515625,null,null,0,{"$error":"#DIV/0!"}]
[null,null,null,null,null,1275,25.5,3.9697,0,null,null,31.1279296875,null,null,0,{"$error":"#DIV/0!"}]
[null,null,null,null,null,1276,25.52,4.2397,0,null,null,31.15234375,null,null,0,{"$error":"#DIV/0!"}]
[null,null,null,null,null,1277,25.54,2.8597000000000001,0,null,null,31.1767578125,null,null,0,{"$error":"#DIV/0!"}]
[null,null,null,null,null,1278,25.560000000000002,3.4597000000000002,0,null,null,31.201171875,null,null,0,{"$error":"#DIV/0!"}]
[null,null,null,null,null,1279,25.580000000000002,3.6997,0,null,null,31.2255859375,null,null,0,{"$error":"#DIV/0!"}]
[null,null,null,null,null,1280,{"$f":"B$6*(F1283-1)","v":25.6},2.3797999999999999,0,null,null,31.25,null,null,0,{"$error":"#DIV/0!"}]
[null,null,null,null,null,1281,25.62,2.1698,0,null,null,{"$f":"(F1283)/B$9/B$6","v":31.2744140625},null,null,{"$f":"SQRT(M1283^2+N1283^2)","v":0},{"$f":"ATAN(N1283/M1283)","v":{"$error":"#DIV/0!"}}]
[null,null,null,null,null,1282,25.64,3.3698000000000001,0,null,null,31.298828125,null,null,0,{"$error":"#DIV/0!"}]
[null,null,null,null,null,1283,25.66,4.7496999999999998,0,null,null,31.3232421875,null,null,0,{"$error":"#DIV/0!"}]
[null,null,null,null,null,1284,25.68,6.1597,0,null,null,31.34765625,null,null,0,{"$error":"#DIV/0!"}]
[null,null,null,null,null,1285,25.7,6.0396999999999998,0,null,null,31.3720703125,null,null,0,{"$error":"#DIV/0!"}]
[null,null,null,null,null,1286,25.72,2.4698000000000002,0,null,null,31.396484375,null,null,0,{"$error":"#DIV/0!"}]
[null,null,null,null,null,1287,25.740000000000002,-3.95,0,null,null,31.4208984375,null,null,0,{"$error":"#DIV/0!"}]
[null,null,null,null,null,1288,25.76,-8.1798999999999999,0,null,null,31.4453125,null,null,0,{"$error":"#DIV/0!"}]
[null,null,null,null,null,1289,25.78,-6.8598999999999997,0,null,null,31.4697265625,null,null,0,{"$error":"#DIV/0!"}]
[null,null,null,null,null,1290,25.8,-4.7,0,null,null,31.494140625,null,null,0,{"$error":"#DIV/0!"}]
[null,null,null,null,null,1291,25.82,-4.6100000000000003,0,null,null,31.5185546875,null,null,0,{"$error":"#DIV/0!"}]
[null,null,null,null,null,1292,25.84,-4.43,0,null,null,31.54296875,null,null,0,{"$error":"#DIV/0!"}]
[null,null,null,null,null,1293,25.86,-2.81,0,null,null,31.5673828125,null,null,0,{"$error":"#DIV/0!"}]
[null,null,null,null,null,1294,25.88,-0.56010000000000004,0,null,null,31.591796875,null,null,0,{"$error":"#DIV/0!"}]
[null,null,null,null,null,1295,25.900000000000002,0.81989999999999996,0,null,null,31.6162109375,null,null,0,{"$error":"#DIV/0!"}]
[null,null,null,null,null,1296,25.92,0.45989999999999998,0,null,null,31.640625,null,null,0,{"$error":"#DIV/0!"}]
[null,null,null,null,null,1297,25.94,-4.0099,0,null,null,31.6650390625,null,null,0,{"$error":"#DIV/0!"}]
[null,null,null,null,null,1298,25.96,-10.669700000000001,0,null,null,31.689453125,null,null,0,{"$error":"#DIV/0!"}]
[null,null,null,null,null,1299,25.98,-13.6096,0,null,null,31.7138671875,null,null,0,{"$error":"#DIV/0!"}]
[null,null,null,null,null,1300,26,-12.919700000000001,0,null,null,31.73828125,null,null,0,{"$error":"#DIV/0!"}]
[null,null,null,null,null,1301,26.02,-11.1797,0,null,null,31.7626953125,null,null,0,{"$error":"#DIV/0!"}]
[null,null,null,null,null,1302,26.04,-7.5797999999999996,0,null,null,31.787109375,null,null,0,{"$error":"#DIV/0!"}]
[null,null,null,null,null,1303,26.060000000000002,-3.2898999999999998,0,null,null,31.8115234375,null,null,0,{"$error":"#DIV/0!"}]
[null,null,null,null,null,1304,26.080000000000002,-0.5,0,null,null,31.8359375,null,null,0,{"$error":"#DIV/0!"}]
[null,null,null,null,null,1305,26.1,1.8099000000000001,0,null,null,31.8603515625,null,null,0,{"$error":"#DIV/0!"}]
[null,null,null,null,null,1306,26.12,4.9598000000000004,0,null,null,31.884765625,null,null,0,{"$error":"#DIV/0!"}]
[null,null,null,null,null,1307,26.14,4.8098000000000001,0,null,null,31.9091796875,null,null,0,{"$error":"#DIV/0!"}]
[null,null,null,null,null,1308,26.16,1.4198999999999999,0,null,null,31.93359375,null,null,0,{"$error":"#DIV/0!"}]
[null,null,null,null,null,1309,26.18,1.5099,0,null,null,31.9580078125,null,null,0,{"$error":"#DIV/0!"}]
[null,null,null,null,null,1310,26.2,4.4499000000000004,0,null,null,31.982421875,null,null,0,{"$error":"#DIV/0!"}]
[null,null,null,null,null,1311,26.22,3.9699,0,null,null,32.0068359375,null,null,0,{"$error":"#DIV/0!"}]
[null,null,null,null,null,1312,26.240000000000002,-2.4799000000000002,0,null,null,32.03125,null,null,0,{"$error":"#DIV/0!"}]
[null,null,null,null,null,1313,26.26,-8.2697000000000003,0,null,null,32.0556640625,null,null,0,{"$error":"#DIV/0!"}]
[null,null,null,null,null,1314,26.28,-8.2996999999999996,0,null,null,32.080078125,null,null,0,{"$error":"#DIV/0!"}]
[null,null,null,null,null,1315,26.3,-5.6597999999999997,0,null,null,32.1044921875,null,null,0,{"$error":"#DIV/0!"}]
[null,null,null,null,null,1316,26.32,-2.4199000000000002,0,null,null,32.12890625,null,null,0,{"$error":"#DIV/0!"}]
[null,null,null,null,null,1317,26.34,-0.17,0,null,null,32.1533203125,null,null,0,{"$error":"#DIV/0!"}]
[null,null,null,null,null,1318,26.36,0.16,0,null,null,32.177734375,null,null,0,{"$error":"#DIV/0!"}]
[null,null,null,null,null,1319,26.38,0.97,0,null,null,32.2021484375,null,null,0,{"$error":"#DIV/0!"}]
[null,null,null,null,null,1320,26.400000000000002,4.3299000000000003,0,null,null,32.2265625,null,null,0,{"$error":"#DIV/0!"}]
[null,null,null,null,null,1321,26.42,7.2397999999999998,0,null,null,32.2509765625,null,null,0,{"$error":"#DIV/0!"}]
[null,null,null,null,null,1322,26.44,7.4497999999999998,0,null,null,32.275390625,null,null,0,{"$error":"#DIV/0!"}]
[null,null,null,null,null,1323,26.46,6.5499000000000001,0,null,null,32.2998046875,null,null,0,{"$error":"#DIV/0!"}]
[null,null,null,null,null,1324,26.48,5.1398999999999999,0,null,null,32.32421875,null,null,0,{"$error":"#DIV/0!"}]
[null,null,null,null,null,1325,26.5,2.17,0,null,null,32.3486328125,null,null,0,{"$error":"#DIV/0!"}]
[null,null,null,null,null,1326,26.52,-1.2199,0,null,null,32.373046875,null,null,0,{"$error":"#DIV/0!"}]
[null,null,null,null,null,1327,26.54,-0.79990000000000006,0,null,null,32.3974609375,null,null,0,{"$error":"#DIV/0!"}]
[null,null,null,null,null,1328,26.560000000000002,1.87,0,null,null,32.421875,null,null,0,{"$error":"#DIV/0!"}]
[null,null,null,null,null,1329,26.580000000000002,2.86,0,null,null,32.4462890625,null,null,0,{"$error":"#DIV/0!"}]
[null,null,null,null,null,1330,26.6,3.28,0,null,null,32.470703125,null,null,0,{"$error":"#DIV/0!"}]
[null,null,null,null,null,1331,26.62,4.51,0,null,null,32.4951171875,null,null,0,{"$error":"#DIV/0!"}]
[null,null,null,null,null,1332,26.64,5.9798999999999998,0,null,null,32.51953125,null,null,0,{"$error":"#DIV/0!"}]
[null,null,null,null,null,1333,26.66,8.0799000000000003,0,null,null,32.5439453125,null,null,0,{"$error":"#DIV/0!"}]
[null,null,null,null,null,1334,26.68,9.6698000000000004,0,null,null,32.568359375,null,null,0,{"$error":"#DIV/0!"}]
[null,null,null,null,null,1335,26.7,8.1998999999999995,0,null,null,32.5927734375,null,null,0,{"$error":"#DIV/0!"}]
[null,null,null,null,null,1336,26.72,4.33,0,null,null,32.6171875,null,null,0,{"$error":"#DIV/0!"}]
[null,null,null,null,null,1337,26.740000000000002,0.58009999999999995,0,null,null,32.6416015625,null,null,0,{"$error":"#DIV/0!"}]
[null,null,null,null,null,1338,26.76,-3.0198,0,null,null,32.666015625,null,null,0,{"$error":"#DIV/0!"}]
[null,null,null,null,null,1339,26.78,-7.0697000000000001,0,null,null,32.6904296875,null,null,0,{"$error":"#DIV/0!"}]
[null,null,null,null,null,1340,26.8,-9.3496000000000006,0,null,null,32.71484375,null,null,0,{"$error":"#DIV/0!"}]
[null,null,null,null,null,1341,26.82,-8.3895999999999997,0,null,null,32.7392578125,null,null,0,{"$error":"#DIV/0!"}]
[null,null,null,null,null,1342,26.84,-5.1196999999999999,0,null,null,32.763671875,null,null,0,{"$error":"#DIV/0!"}]
[null,null,null,null,null,1343,26.86,-1.4598,0,null,null,32.7880859375,null,null,0,{"$error":"#DIV/0!"}]
[null,null,null,null,null,1344,{"$f":"B$6*(F1347-1)","v":26.88},0.91010000000000002,0,null,null,32.8125,null,null,0,{"$error":"#DIV/0!"}]
[null,null,null,null,null,1345,26.900000000000002,2.2601,0,null,null,{"$f":"(F1347)/B$9/B$6","v":32.8369140625},null,null,{"$f":"SQRT(M1347^2+N1347^2)","v":0},{"$f":"ATAN(N1347/M1347)","v":{"$error":"#DIV/0!"}}]
[null,null,null,null,null,1346,26.92,2.6501000000000001,0,null,null,32.861328125,null,null,0,{"$error":"#DIV/0!"}]
[null,null,null,null,null,1347,26.94,0.31019999999999998,0,null,null,32.8857421875,null,null,0,{"$error":"#DIV/0!"}]
[null,null,null,null,null,1348,26.96,-2.8397000000000001,0,null,null,32.91015625,null,null,0,{"$error":"#DIV/0!"}]
[null,null,null,null,null,1349,26.98,-4.6696999999999997,0,null,null,32.9345703125,null,null,0,{"$error":"#DIV/0!"}]
[null,null,null,null,null,1350,27,-6.3795999999999999,0,null,null,32.958984375,null,null,0,{"$error":"#DIV/0!"}]
[null,null,null,null,null,1351,27.02,-7.0396000000000001,0,null,null,32.9833984375,null,null,0,{"$error":"#DIV/0!"}]
[null,null,null,null,null,1352,27.04,-6.6196000000000002,0,null,null,33.0078125,null,null,0,{"$error":"#DIV/0!"}]
[null,null,null,null,null,1353,27.060000000000002,-8.9894999999999996,0,null,null,33.0322265625,null,null,0,{"$error":"#DIV/0!"}]
[null,null,null,null,null,1354,27.080000000000002,-13.279400000000001,0,null,null,33.056640625,null,null,0,{"$error":"#DIV/0!"}]
[null,null,null,null,null,1355,27.1,-15.6493,0,null,null,33.0810546875,null,null,0,{"$error":"#DIV/0!"}]
[null,null,null,null,null,1356,27.12,-15.9793,0,null,null,33.10546875,null,null,0,{"$error":"#DIV/0!"}]
[null,null,null,null,null,1357,27.14,-15.6493,0,null,null,33.1298828125,null,null,0,{"$error":"#DIV/0!"}]
[null,null,null,null,null,1358,27.16,-14.449299999999999,0,null,null,33.154296875,null,null,0,{"$error":"#DIV/0!"}]
[null,null,null,null,null,1359,27.18,-12.109400000000001,0,null,null,33.1787109375,null,null,0,{"$error":"#DIV/0!"}]
[null,null,null,null,null,1360,27.2,-9.4994999999999994,0,null,null,33.203125,null,null,0,{"$error":"#DIV/0!"}]
[null,null,null,null,null,1361,27.22,-5.2695999999999996,0,null,null,33.2275390625,null,null,0,{"$error":"#DIV/0!"}]
[null,null,null,null,null,1362,27.240000000000002,0.2802,0,null,null,33.251953125,null,null,0,{"$error":"#DIV/0!"}]
[null,null,null,null,null,1363,27.26,3.2801,0,null,null,33.2763671875,null,null,0,{"$error":"#DIV/0!"}]
[null,null,null,null,null,1364,27.28,3.7301000000000002,0,null,null,33.30078125,null,null,0,{"$error":"#DIV/0!"}]
[null,null,null,null,null,1365,27.3,5.7401,0,null,null,33.3251953125,null,null,0,{"$error":"#DIV/0!"}]
[null,null,null,null,null,1366,27.32,9.3699999999999992,0,null,null,33.349609375,null,null,0,{"$error":"#DIV/0!"}]
[null,null,null,null,null,1367,27.34,13.149900000000001,0,null,null,33.3740234375,null,null,0,{"$error":"#DIV/0!"}]
[null,null,null,null,null,1368,27.36,15.7898,0,null,null,33.3984375,null,null,0,{"$error":"#DIV/0!"}]
[null,null,null,null,null,1369,27.38,15.819800000000001,0,null,null,33.4228515625,null,null,0,{"$error":"#DIV/0!"}]
[null,null,null,null,null,1370,27.400000000000002,13.809900000000001,0,null,null,33.447265625,null,null,0,{"$error":"#DIV/0!"}]
[null,null,null,null,null,1371,27.42,10.75,0,null,null,33.4716796875,null,null,0,{"$error":"#DIV/0!"}]
[null,null,null,null,null,1372,27.44,6.5500999999999996,0,null,null,33.49609375,null,null,0,{"$error":"#DIV/0!"}]
[null,null,null,null,null,1373,27.46,0.64029999999999998,0,null,null,33.5205078125,null,null,0,{"$error":"#DIV/0!"}]
[null,null,null,null,null,1374,27.48,-6.1695000000000002,0,null,null,33.544921875,null,null,0,{"$error":"#DIV/0!"}]
[null,null,null,null,null,1375,27.5,-9.8594000000000008,0,null,null,33.5693359375,null,null,0,{"$error":"#DIV/0!"}]
[null,null,null,null,null,1376,27.52,-9.9193999999999996,0,null,null,33.59375,null,null,0,{"$error":"#DIV/0!"}]
[null,null,null,null,null,1377,27.54,-8.6593999999999998,0,null,null,33.6181640625,null,null,0,{"$error":"#DIV/0!"}]
[null,null,null,null,null,1378,27.560000000000002,-5.4794999999999998,0,null,null,33.642578125,null,null,0,{"$error":"#DIV/0!"}]
[null,null,null,null,null,1379,27.580000000000002,-1.9996,0,null,null,33.6669921875,null,null,0,{"$error":"#DIV/0!"}]
[null,null,null,null,null,1380,27.6,-0.67969999999999997,0,null,null,33.69140625,null,null,0,{"$error":"#DIV/0!"}]
[null,null,null,null,null,1381,27.62,1.0603,0,null,null,33.7158203125,null,null,0,{"$error":"#DIV/0!"}]
[null,null,null,null,null,1382,27.64,3.7302,0,null,null,33.740234375,null,null,0,{"$error":"#DIV/0!"}]
[null,null,null,null,null,1383,27.66,5.0202,0,null,null,33.7646484375,null,null,0,{"$error":"#DIV/0!"}]
[null,null,null,null,null,1384,27.68,4.6601999999999997,0,null,null,33.7890625,null,null,0,{"$error":"#DIV/0!"}]
[null,null,null,null,null,1385,27.7,3.7002000000000002,0,null,null,33.8134765625,null,null,0,{"$error":"#DIV/0!"}]
[null,null,null,null,null,1386,27.72,2.1703000000000001,0,null,null,33.837890625,null,null,0,{"$error":"#DIV/0!"}]
[null,null,null,null,null,1387,27.740000000000002,-0.91959999999999997,0,null,null,33.8623046875,null,null,0,{"$error":"#DIV/0!"}]
[null,null,null,null,null,1388,27.76,-4.7294999999999998,0,null,null,33.88671875,null,null,0,{"$error":"#DIV/0!"}]
[null,null,null,null,null,1389,27.78,-7.4593999999999996,0,null,null,33.9111328125,null,null,0,{"$error":"#DIV/0!"}]
[null,null,null,null,null,1390,27.8,-8.6893999999999991,0,null,null,33.935546875,null,null,0,{"$error":"#DIV/0!"}]
[null,null,null,null,null,1391,27.82,-7.3693999999999997,0,null,null,33.9599609375,null,null,0,{"$error":"#DIV/0!"}]
[null,null,null,null,null,1392,27.84,-2.9295,0,null,null,33.984375,null,null,0,{"$error":"#DIV/0!"}]
[null,null,null,null,null,1393,27.86,2.0503,0,null,null,34.0087890625,null,null,0,{"$error":"#DIV/0!"}]
[null,null,null,null,null,1394,27.88,7.3601999999999999,0,null,null,34.033203125,null,null,0,{"$error":"#DIV/0!"}]
[null,null,null,null,null,1395,27.900000000000002,11.65,0,null,null,34.0576171875,null,null,0,{"$error":"#DIV/0!"}]
[null,null,null,null,null,1396,27.92,12.61,0,null,null,34.08203125,null,null,0,{"$error":"#DIV/0!"}]
[null,null,null,null,null,1397,27.94,12.37,0,null,null,34.1064453125,null,null,0,{"$error":"#DIV/0!"}]
[null,null,null,null,null,1398,27.96,10.450100000000001,0,null,null,34.130859375,null,null,0,{"$error":"#DIV/0!"}]
[null,null,null,null,null,1399,27.98,6.3701999999999996,0,null,null,34.1552734375,null,null,0,{"$error":"#DIV/0!"}]
[null,null,null,null,null,1400,28,3.1002999999999998,0,null,null,34.1796875,null,null,0,{"$error":"#DIV/0!"}]
[null,null,null,null,null,1401,28.02,0.6704,0,null,null,34.2041015625,null,null,0,{"$error":"#DIV/0!"}]
[null,null,null,null,null,1402,28.04,-0.70950000000000002,0,null,null,34.228515625,null,null,0,{"$error":"#DIV/0!"}]
[null,null,null,null,null,1403,28.060000000000002,0.61040000000000005,0,null,null,34.2529296875,null,null,0,{"$error":"#DIV/0!"}]
[null,null,null,null,null,1404,28.080000000000002,3.6703000000000001,0,null,null,34.27734375,null,null,0,{"$error":"#DIV/0!"}]
[null,null,null,null,null,1405,28.1,5.7103000000000002,0,null,null,34.3017578125,null,null,0,{"$error":"#DIV/0!"}]
[null,null,null,null,null,1406,28.12,4.9903000000000004,0,null,null,34.326171875,null,null,0,{"$error":"#DIV/0!"}]
[null,null,null,null,null,1407,28.14,4.0303000000000004,0,null,null,34.3505859375,null,null,0,{"$error":"#DIV/0!"}]
[null,null,null,null,null,1408,{"$f":"B$6*(F1411-1)","v":28.16},4.4503000000000004,0,null,null,34.375,null,null,0,{"$error":"#DIV/0!"}]
[null,null,null,null,null,1409,28.18,4.9903000000000004,0,null,null,{"$f":"(F1411)/B$9/B$6","v":34.3994140625},null,null,{"$f":"SQRT(M1411^2+N1411^2)","v":0},{"$f":"ATAN(N1411/M1411)","v":{"$error":"#DIV/0!"}}]
[null,null,null,null,null,1410,28.2,4.5403000000000002,0,null,null,34.423828125,null,null,0,{"$error":"#DIV/0!"}]
[null,null,null,null,null,1411,28.22,3.9104000000000001,0,null,null,34.4482421875,null,null,0,{"$error":"#DIV/0!"}]
[null,null,null,null,null,1412,28.240000000000002,4.0903999999999998,0,null,null,34.47265625,null,null,0,{"$error":"#DIV/0!"}]
[null,null,null,null,null,1413,28.26,3.3403999999999998,0,null,null,34.4970703125,null,null,0,{"$error":"#DIV/0!"}]
[null,null,null,null,null,1414,28.28,1.9603999999999999,0,null,null,34.521484375,null,null,0,{"$error":"#DIV/0!"}]
[null,null,null,null,null,1415,28.3,1.4205000000000001,0,null,null,34.5458984375,null,null,0,{"$error":"#DIV/0!"}]
[null,null,null,null,null,1416,28.32,0.9405,0,null,null,34.5703125,null,null,0,{"$error":"#DIV/0!"}]
[null,null,null,null,null,1417,28.34,-1.3095000000000001,0,null,null,34.5947265625,null,null,0,{"$error":"#DIV/0!"}]
[null,null,null,null,null,1418,28.36,-3.5293999999999999,0,null,null,34.619140625,null,null,0,{"$error":"#DIV/0!"}]
[null,null,null,null,null,1419,28.38,-2.8994,0,null,null,34.6435546875,null,null,0,{"$error":"#DIV/0!"}]
[null,null,null,null,null,1420,28.400000000000002,-1.6394,0,null,null,34.66796875,null,null,0,{"$error":"#DIV/0!"}]
[null,null,null,null,null,1421,28.42,-0.73950000000000005,0,null,null,34.6923828125,null,null,0,{"$error":"#DIV/0!"}]
[null,null,null,null,null,1422,28.44,1.9604999999999999,0,null,null,34.716796875,null,null,0,{"$error":"#DIV/0!"}]
[null,null,null,null,null,1423,28.46,3.2504,0,null,null,34.7412109375,null,null,0,{"$error":"#DIV/0!"}]
[null,null,null,null,null,1424,28.48,0.10050000000000001,0,null,null,34.765625,null,null,0,{"$error":"#DIV/0!"}]
[null,null,null,null,null,1425,28.5,-2.4493999999999998,0,null,null,34.7900390625,null,null,0,{"$error":"#DIV/0!"}]
[null,null,null,null,null,1426,28.52,-3.1093999999999999,0,null,null,34.814453125,null,null,0,{"$error":"#DIV/0!"}]
[null,null,null,null,null,1427,28.54,-3.9192999999999998,0,null,null,34.8388671875,null,null,0,{"$error":"#DIV/0!"}]
[null,null,null,null,null,1428,28.560000000000002,-4.8193000000000001,0,null,null,34.86328125,null,null,0,{"$error":"#DIV/0!"}]
[null,null,null,null,null,1429,28.580000000000002,-3.9493,0,null,null,34.8876953125,null,null,0,{"$error":"#DIV/0!"}]
[null,null,null,null,null,1430,28.6,-1.0394000000000001,0,null,null,34.912109375,null,null,0,{"$error":"#DIV/0!"}]
[null,null,null,null,null,1431,28.62,2.0804999999999998,0,null,null,34.9365234375,null,null,0,{"$error":"#DIV/0!"}]
[null,null,null,null,null,1432,28.64,3.9104999999999999,0,null,null,34.9609375,null,null,0,{"$error":"#DIV/0!"}]
[null,null,null,null,null,1433,28.66,4.1805000000000003,0,null,null,34.9853515625,null,null,0,{"$error":"#DIV/0!"}]
[null,null,null,null,null,1434,28.68,3.6404999999999998,0,null,null,35.009765625,null,null,0,{"$error":"#DIV/0!"}]
[null,null,null,null,null,1435,28.7,4.4204999999999997,0,null,null,35.0341796875,null,null,0,{"$error":"#DIV/0!"}]
[null,null,null,null,null,1436,28.72,5.6803999999999997,0,null,null,35.05859375,null,null,0,{"$error":"#DIV/0!"}]
[null,null,null,null,null,1437,28.740000000000002,5.3503999999999996,0,null,null,35.0830078125,null,null,0,{"$error":"#DIV/0!"}]
[null,null,null,null,null,1438,28.76,4.6905000000000001,0,null,null,35.107421875,null,null,0,{"$error":"#DIV/0!"}]
[null,null,null,null,null,1439,28.78,5.7404000000000002,0,null,null,35.1318359375,null,null,0,{"$error":"#DIV/0!"}]
[null,null,null,null,null,1440,28.8,6.8503999999999996,0,null,null,35.15625,null,null,0,{"$error":"#DIV/0!"}]
[null,null,null,null,null,1441,28.82,6.5804,0,null,null,35.1806640625,null,null,0,{"$error":"#DIV/0!"}]
[null,null,null,null,null,1442,28.84,4.8404999999999996,0,null,null,35.205078125,null,null,0,{"$error":"#DIV/0!"}]
[null,null,null,null,null,1443,28.86,3.7305000000000001,0,null,null,35.2294921875,null,null,0,{"$error":"#DIV/0!"}]
[null,null,null,null,null,1444,28.88,3.7605,0,null,null,35.25390625,null,null,0,{"$error":"#DIV/0!"}]
[null,null,null,null,null,1445,28.900000000000002,4.1204999999999998,0,null,null,35.2783203125,null,null,0,{"$error":"#DIV/0!"}]
[null,null,null,null,null,1446,28.92,3.7605,0,null,null,35.302734375,null,null,0,{"$error":"#DIV/0!"}]
[null,null,null,null,null,1447,28.94,1.7505999999999999,0,null,null,35.3271484375,null,null,0,{"$error":"#DIV/0!"}]
[null,null,null,null,null,1448,28.96,-1.0992999999999999,0,null,null,35.3515625,null,null,0,{"$error":"#DIV/0!"}]
[null,null,null,null,null,1449,28.98,-5.3292000000000002,0,null,null,35.3759765625,null,null,0,{"$error":"#DIV/0!"}]
[null,null,null,null,null,1450,29,-9.7089999999999996,0,null,null,35.400390625,null,null,0,{"$error":"#DIV/0!"}]
[null,null,null,null,null,1451,29.02,-11.239000000000001,0,null,null,35.4248046875,null,null,0,{"$error":"#DIV/0!"}]
[null,null,null,null,null,1452,29.04,-10.638999999999999,0,null,null,35.44921875,null,null,0,{"$error":"#DIV/0!"}]
[null,null,null,null,null,1453,29.060000000000002,-9.4390000000000001,0,null,null,35.4736328125,null,null,0,{"$error":"#DIV/0!"}]
[null,null,null,null,null,1454,29.080000000000002,-8.1791,0,null,null,35.498046875,null,null,0,{"$error":"#DIV/0!"}]
[null,null,null,null,null,1455,29.1,-8.1791,0,null,null,35.5224609375,null,null,0,{"$error":"#DIV/0!"}]
[null,null,null,null,null,1456,29.12,-8.5090000000000003,0,null,null,35.546875,null,null,0,{"$error":"#DIV/0!"}]
[null,null,null,null,null,1457,29.14,-7.6090999999999998,0,null,null,35.5712890625,null,null,0,{"$error":"#DIV/0!"}]
[null,null,null,null,null,1458,29.16,-5.9591000000000003,0,null,null,35.595703125,null,null,0,{"$error":"#DIV/0!"}]
[null,null,null,null,null,1459,29.18,-5.4490999999999996,0,null,null,35.6201171875,null,null,0,{"$error":"#DIV/0!"}]
[null,null,null,null,null,1460,29.2,-7.1890999999999998,0,null,null,35.64453125,null,null,0,{"$error":"#DIV/0!"}]
[null,null,null,null,null,1461,29.22,-8.9589999999999996,0,null,null,35.6689453125,null,null,0,{"$error":"#DIV/0!"}]
[null,null,null,null,null,1462,29.240000000000002,-9.2289999999999992,0,null,null,35.693359375,null,null,0,{"$error":"#DIV/0!"}]
[null,null,null,null,null,1463,29.26,-9.5289999999999999,0,null,null,35.7177734375,null,null,0,{"$error":"#DIV/0!"}]
[null,null,null,null,null,1464,29.28,-9.5890000000000004,0,null,null,35.7421875,null,null,0,{"$error":"#DIV/0!"}]
[null,null,null,null,null,1465,29.3,-9.0790000000000006,0,null,null,35.7666015625,null,null,0,{"$error":"#DIV/0!"}]
[null,null,null,null,null,1466,29.32,-7.9390000000000001,0,null,null,35.791015625,null,null,0,{"$error":"#DIV/0!"}]
[null,null,null,null,null,1467,29.34,-5.0891000000000002,0,null,null,35.8154296875,null,null,0,{"$error":"#DIV/0!"}]
[null,null,null,null,null,1468,29.36,-1.0691999999999999,0,null,null,35.83984375,null,null,0,{"$error":"#DIV/0!"}]
[null,null,null,null,null,1469,29.38,3.2806999999999999,0,null,null,35.8642578125,null,null,0,{"$error":"#DIV/0!"}]
[null,null,null,null,null,1470,29.400000000000002,6.9104999999999999,0,null,null,35.888671875,null,null,0,{"$error":"#DIV/0!"}]
[null,null,null,null,null,1471,29.42,9.2204999999999995,0,null,null,35.9130859375,null,null,0,{"$error":"#DIV/0!"}]
[null,null,null,null,null,1472,{"$f":"B$6*(F1475-1)","v":29.44},10.0905,0,null,null,35.9375,null,null,0,{"$error":"#DIV/0!"}]
[null,null,null,null,null,1473,29.46,9.7904999999999998,0,null,null,{"$f":"(F1475)/B$9/B$6","v":35.9619140625},null,null,{"$f":"SQRT(M1475^2+N1475^2)","v":0},{"$f":"ATAN(N1475/M1475)","v":{"$error":"#DIV/0!"}}]
[null,null,null,null,null,1474,29.48,9.4905000000000008,0,null,null,35.986328125,null,null,0,{"$error":"#DIV/0!"}]
[null,null,null,null,null,1475,29.5,8.9804999999999993,0,null,null,36.0107421875,null,null,0,{"$error":"#DIV/0!"}]
[null,null,null,null,null,1476,29.52,7.1205999999999996,0,null,null,36.03515625,null,null,0,{"$error":"#DIV/0!"}]
[null,null,null,null,null,1477,29.54,3.1606999999999998,0,null,null,36.0595703125,null,null,0,{"$error":"#DIV/0!"}]
[null,null,null,null,null,1478,29.560000000000002,-0.67920000000000003,0,null,null,36.083984375,null,null,0,{"$error":"#DIV/0!"}]
[null,null,null,null,null,1479,29.580000000000002,-2.3591000000000002,0,null,null,36.1083984375,null,null,0,{"$error":"#DIV/0!"}]
[null,null,null,null,null,1480,29.6,-2.1191,0,null,null,36.1328125,null,null,0,{"$error":"#DIV/0!"}]
[null,null,null,null,null,1481,29.62,-0.5292,0,null,null,36.1572265625,null,null,0,{"$error":"#DIV/0!"}]
[null,null,null,null,null,1482,29.64,1.1208,0,null,null,36.181640625,null,null,0,{"$error":"#DIV/0!"}]
[null,null,null,null,null,1483,29.66,0.28079999999999999,0,null,null,36.2060546875,null,null,0,{"$error":"#DIV/0!"}]
[null,null,null,null,null,1484,29.68,-1.3090999999999999,0,null,null,36.23046875,null,null,0,{"$error":"#DIV/0!"}]
[null,null,null,null,null,1485,29.7,-0.55920000000000003,0,null,null,36.2548828125,null,null,0,{"$error":"#DIV/0!"}]
[null,null,null,null,null,1486,29.72,0.49080000000000001,0,null,null,36.279296875,null,null,0,{"$error":"#DIV/0!"}]
[null,null,null,null,null,1487,29.740000000000002,-7.9200000000000007E-2,0,null,null,36.3037109375,null,null,0,{"$error":"#DIV/0!"}]
[null,null,null,null,null,1488,29.76,-1.2491000000000001,0,null,null,36.328125,null,null,0,{"$error":"#DIV/0!"}]
[null,null,null,null,null,1489,29.78,-3.0790999999999999,0,null,null,36.3525390625,null,null,0,{"$error":"#DIV/0!"}]
[null,null,null,null,null,1490,29.8,-3.379,0,null,null,36.376953125,null,null,0,{"$error":"#DIV/0!"}]
[null,null,null,null,null,1491,29.82,-0.8891,0,null,null,36.4013671875,null,null,0,{"$error":"#DIV/0!"}]
[null,null,null,null,null,1492,29.84,2.4108000000000001,0,null,null,36.42578125,null,null,0,{"$error":"#DIV/0!"}]
[null,null,null,null,null,1493,29.86,5.3207000000000004,0,null,null,36.4501953125,null,null,0,{"$error":"#DIV/0!"}]
[null,null,null,null,null,1494,29.88,7.0606999999999998,0,null,null,36.474609375,null,null,0,{"$error":"#DIV/0!"}]
[null,null,null,null,null,1495,29.900000000000002,6.8207000000000004,0,null,null,36.4990234375,null,null,0,{"$error":"#DIV/0!"}]
[null,null,null,null,null,1496,29.92,5.1406999999999998,0,null,null,36.5234375,null,null,0,{"$error":"#DIV/0!"}]
[null,null,null,null,null,1497,29.94,3.3708,0,null,null,36.5478515625,null,null,0,{"$error":"#DIV/0!"}]
[null,null,null,null,null,1498,29.96,0.85089999999999999,0,null,null,36.572265625,null,null,0,{"$error":"#DIV/0!"}]
[null,null,null,null,null,1499,29.98,-4.3090000000000002,0,null,null,36.5966796875,null,null,0,{"$error":"#DIV/0!"}]
[null,null,null,null,null,1500,30,-9.2287999999999997,0,null,null,36.62109375,null,null,0,{"$error":"#DIV/0!"}]
[null,null,null,null,null,1501,30.02,0,0,null,null,36.6455078125,null,null,0,{"$error":"#DIV/0!"}]
[null,null,null,null,null,1502,30.04,0,0,null,null,36.669921875,null,null,0,{"$error":"#DIV/0!"}]
[null,null,null,null,null,1503,30.060000000000002,0,0,null,null,36.6943359375,null,null,0,{"$error":"#DIV/0!"}]
[null,null,null,null,null,1504,30.080000000000002,0,0,null,null,36.71875,null,null,0,{"$error":"#DIV/0!"}]
[null,null,null,null,null,1505,30.1,0,0,null,null,36.7431640625,null,null,0,{"$error":"#DIV/0!"}]
[null,null,null,null,null,1506,30.12,0,0,null,null,36.767578125,null,null,0,{"$error":"#DIV/0!"}]
[null,null,null,null,null,1507,30.14,0,0,null,null,36.7919921875,null,null,0,{"$error":"#DIV/0!"}]
[null,null,null,null,null,1508,30.16,0,0,null,null,36.81640625,null,null,0,{"$error":"#DIV/0!"}]
[null,null,null,null,null,1509,30.18,0,0,null,null,36.8408203125,null,null,0,{"$error":"#DIV/0!"}]
[null,null,null,null,null,1510,30.2,0,0,null,null,36.865234375,null,null,0,{"$error":"#DIV/0!"}]
[null,null,null,null,null,1511,30.22,0,0,null,null,36.8896484375,null,null,0,{"$error":"#DIV/0!"}]
[null,null,null,null,null,1512,30.240000000000002,0,0,null,null,36.9140625,null,null,0,{"$error":"#DIV/0!"}]
[null,null,null,null,null,1513,30.26,0,0,null,null,36.9384765625,null,null,0,{"$error":"#DIV/0!"}]
[null,null,null,null,null,1514,30.28,0,0,null,null,36.962890625,null,null,0,{"$error":"#DIV/0!"}]
[null,null,null,null,null,1515,30.3,0,0,null,null,36.9873046875,null,null,0,{"$error":"#DIV/0!"}]
[null,null,null,null,null,1516,30.32,0,0,null,null,37.01171875,null,null,0,{"$error":"#DIV/0!"}]
[null,null,null,null,null,1517,30.34,0,0,null,null,37.0361328125,null,null,0,{"$error":"#DIV/0!"}]
[null,null,null,null,null,1518,30.36,0,0,null,null,37.060546875,null,null,0,{"$error":"#DIV/0!"}]
[null,null,null,null,null,1519,30.38,0,0,null,null,37.0849609375,null,null,0,{"$error":"#DIV/0!"}]
[null,null,null,null,null,1520,30.400000000000002,0,0,null,null,37.109375,null,null,0,{"$error":"#DIV/0!"}]
[null,null,null,null,null,1521,30.42,0,0,null,null,37.1337890625,null,null,0,{"$error":"#DIV/0!"}]
[null,null,null,null,null,1522,30.44,0,0,null,null,37.158203125,null,null,0,{"$error":"#DIV/0!"}]
[null,null,null,null,null,1523,30.46,0,0,null,null,37.1826171875,null,null,0,{"$error":"#DIV/0!"}]
[null,null,null,null,null,1524,30.48,0,0,null,null,37.20703125,null,null,0,{"$error":"#DIV/0!"}]
[null,null,null,null,null,1525,30.5,0,0,null,null,37.2314453125,null,null,0,{"$error":"#DIV/0!"}]
[null,null,null,null,null,1526,30.52,0,0,null,null,37.255859375,null,null,0,{"$error":"#DIV/0!"}]
[null,null,null,null,null,1527,30.54,0,0,null,null,37.2802734375,null,null,0,{"$error":"#DIV/0!"}]
[null,null,null,null,null,1528,30.560000000000002,0,0,null,null,37.3046875,null,null,0,{"$error":"#DIV/0!"}]
[null,null,null,null,null,1529,30.580000000000002,0,0,null,null,37.3291015625,null,null,0,{"$error":"#DIV/0!"}]
[null,null,null,null,null,1530,30.6,0,0,null,null,37.353515625,null,null,0,{"$error":"#DIV/0!"}]
[null,null,null,null,null,1531,30.62,0,0,null,null,37.3779296875,null,null,0,{"$error":"#DIV/0!"}]
[null,null,null,null,null,1532,30.64,0,0,null,null,37.40234375,null,null,0,{"$error":"#DIV/0!"}]
[null,null,null,null,null,1533,30.66,0,0,null,null,37.4267578125,null,null,0,{"$error":"#DIV/0!"}]
[null,null,null,null,null,1534,30.68,0,0,null,null,37.451171875,null,null,0,{"$error":"#DIV/0!"}]
[null,null,null,null,null,1535,30.7,0,0,null,null,37.4755859375,null,null,0,{"$error":"#DIV/0!"}]
[null,null,null,null,null,1536,{"$f":"B$6*(F1539-1)","v":30.72},0,0,null,null,37.5,null,null,0,{"$error":"#DIV/0!"}]
[null,null,null,null,null,1537,30.740000000000002,0,0,null,null,{"$f":"(F1539)/B$9/B$6","v":37.5244140625},null,null,{"$f":"SQRT(M1539^2+N1539^2)","v":0},{"$f":"ATAN(N1539/M1539)","v":{"$error":"#DIV/0!"}}]
[null,null,null,null,null,1538,30.76,0,0,null,null,37.548828125,null,null,0,{"$error":"#DIV/0!"}]
[null,null,null,null,null,1539,30.78,0,0,null,null,37.5732421875,null,null,0,{"$error":"#DIV/0!"}]
[null,null,null,null,null,1540,30.8,0,0,null,null,37.59765625,null,null,0,{"$error":"#DIV/0!"}]
[null,null,null,null,null,1541,30.82,0,0,null,null,37.6220703125,null,null,0,{"$error":"#DIV/0!"}]
[null,null,null,null,null,1542,30.84,0,0,null,null,37.646484375,null,null,0,{"$error":"#DIV/0!"}]
[null,null,null,null,null,1543,30.86,0,0,null,null,37.6708984375,null,null,0,{"$error":"#DIV/0!"}]
[null,null,null,null,null,1544,30.88,0,0,null,null,37.6953125,null,null,0,{"$error":"#DIV/0!"}]
[null,null,null,null,null,1545,30.900000000000002,0,0,null,null,37.7197265625,null,null,0,{"$error":"#DIV/0!"}]
[null,null,null,null,null,1546,30.92,0,0,null,null,37.744140625,null,null,0,{"$error":"#DIV/0!"}]
[null,null,null,null,null,1547,30.94,0,0,null,null,37.7685546875,null,null,0,{"$error":"#DIV/0!"}]
[null,null,null,null,null,1548,30.96,0,0,null,null,37.79296875,null,null,0,{"$error":"#DIV/0!"}]
[null,null,null,null,null,1549,30.98,0,0,null,null,37.8173828125,null,null,0,{"$error":"#DIV/0!"}]
[null,null,null,null,null,1550,31,0,0,null,null,37.841796875,null,null,0,{"$error":"#DIV/0!"}]
[null,null,null,null,null,1551,31.02,0,0,null,null,37.8662109375,null,null,0,{"$error":"#DIV/0!"}]
[null,null,null,null,null,1552,31.04,0,0,null,null,37.890625,null,null,0,{"$error":"#DIV/0!"}]
[null,null,null,null,null,1553,31.060000000000002,0,0,null,null,37.9150390625,null,null,0,{"$error":"#DIV/0!"}]
[null,null,null,null,null,1554,31.080000000000002,0,0,null,null,37.939453125,null,null,0,{"$error":"#DIV/0!"}]
[null,null,null,null,null,1555,31.1,0,0,null,null,37.9638671875,null,null,0,{"$error":"#DIV/0!"}]
[null,null,null,null,null,1556,31.12,0,0,null,null,37.98828125,null,null,0,{"$error":"#DIV/0!"}]
[null,null,null,null,null,1557,31.14,0,0,null,null,38.0126953125,null,null,0,{"$error":"#DIV/0!"}]
[null,null,null,null,null,1558,31.16,0,0,null,null,38.037109375,null,null,0,{"$error":"#DIV/0!"}]
[null,null,null,null,null,1559,31.18,0,0,null,null,38.0615234375,null,null,0,{"$error":"#DIV/0!"}]
[null,null,null,null,null,1560,31.2,0,0,null,null,38.0859375,null,null,0,{"$error":"#DIV/0!"}]
[null,null,null,null,null,1561,31.220000000000002,0,0,null,null,38.1103515625,null,null,0,{"$error":"#DIV/0!"}]
[null,null,null,null,null,1562,31.240000000000002,0,0,null,null,38.134765625,null,null,0,{"$error":"#DIV/0!"}]
[null,null,null,null,null,1563,31.26,0,0,null,null,38.1591796875,null,null,0,{"$error":"#DIV/0!"}]
[null,null,null,null,null,1564,31.28,0,0,null,null,38.18359375,null,null,0,{"$error":"#DIV/0!"}]
[null,null,null,null,null,1565,31.3,0,0,null,null,38.2080078125,null,null,0,{"$error":"#DIV/0!"}]
[null,null,null,null,null,1566,31.32,0,0,null,null,38.232421875,null,null,0,{"$error":"#DIV/0!"}]
[null,null,null,null,null,1567,31.34,0,0,null,null,38.2568359375,null,null,0,{"$error":"#DIV/0!"}]
[null,null,null,null,null,1568,31.36,0,0,null,null,38.28125,null,null,0,{"$error":"#DIV/0!"}]
[null,null,null,null,null,1569,31.38,0,0,null,null,38.3056640625,null,null,0,{"$error":"#DIV/0!"}]
[null,null,null,null,null,1570,31.400000000000002,0,0,null,null,38.330078125,null,null,0,{"$error":"#DIV/0!"}]
[null,null,null,null,null,1571,31.42,0,0,null,null,38.3544921875,null,null,0,{"$error":"#DIV/0!"}]
[null,null,null,null,null,1572,31.44,0,0,null,null,38.37890625,null,null,0,{"$error":"#DIV/0!"}]
[null,null,null,null,null,1573,31.46,0,0,null,null,38.4033203125,null,null,0,{"$error":"#DIV/0!"}]
[null,null,null,null,null,1574,31.48,0,0,null,null,38.427734375,null,null,0,{"$error":"#DIV/0!"}]
[null,null,null,null,null,1575,31.5,0,0,null,null,38.4521484375,null,null,0,{"$error":"#DIV/0!"}]
[null,null,null,null,null,1576,31.52,0,0,null,null,38.4765625,null,null,0,{"$error":"#DIV/0!"}]
[null,null,null,null,null,1577,31.54,0,0,null,null,38.5009765625,null,null,0,{"$error":"#DIV/0!"}]
[null,null,null,null,null,1578,31.560000000000002,0,0,null,null,38.525390625,null,null,0,{"$error":"#DIV/0!"}]
[null,null,null,null,null,1579,31.580000000000002,0,0,null,null,38.5498046875,null,null,0,{"$error":"#DIV/0!"}]
[null,null,null,null,null,1580,31.6,0,0,null,null,38.57421875,null,null,0,{"$error":"#DIV/0!"}]
[null,null,null,null,null,1581,31.62,0,0,null,null,38.5986328125,null,null,0,{"$error":"#DIV/0!"}]
[null,null,null,null,null,1582,31.64,0,0,null,null,38.623046875,null,null,0,{"$error":"#DIV/0!"}]
[null,null,null,null,null,1583,31.66,0,0,null,null,38.6474609375,null,null,0,{"$error":"#DIV/0!"}]
[null,null,null,null,null,1584,31.68,0,0,null,null,38.671875,null,null,0,{"$error":"#DIV/0!"}]
[null,null,null,null,null,1585,31.7,0,0,null,null,38.6962890625,null,null,0,{"$error":"#DIV/0!"}]
[null,null,null,null,null,1586,31.720000000000002,0,0,null,null,38.720703125,null,null,0,{"$error":"#DIV/0!"}]
[null,null,null,null,null,1587,31.740000000000002,0,0,null,null,38.7451171875,null,null,0,{"$error":"#DIV/0!"}]
[null,null,null,null,null,1588,31.76,0,0,null,null,38.76953125,null,null,0,{"$error":"#DIV/0!"}]
[null,null,null,null,null,1589,31.78,0,0,null,null,38.7939453125,null,null,0,{"$error":"#DIV/0!"}]
[null,null,null,null,null,1590,31.8,0,0,null,null,38.818359375,null,null,0,{"$error":"#DIV/0!"}]
[null,null,null,null,null,1591,31.82,0,0,null,null,38.8427734375,null,null,0,{"$error":"#DIV/0!"}]
[null,null,null,null,null,1592,31.84,0,0,null,null,38.8671875,null,null,0,{"$error":"#DIV/0!"}]
[null,null,null,null,null,1593,31.86,0,0,null,null,38.8916015625,null,null,0,{"$error":"#DIV/0!"}]
[null,null,null,null,null,1594,31.88,0,0,null,null,38.916015625,null,null,0,{"$error":"#DIV/0!"}]
[null,null,null,null,null,1595,31.900000000000002,0,0,null,null,38.9404296875,null,null,0,{"$error":"#DIV/0!"}]
[null,null,null,null,null,1596,31.92,0,0,null,null,38.96484375,null,null,0,{"$error":"#DIV/0!"}]
[null,null,null,null,null,1597,31.94,0,0,null,null,38.9892578125,null,null,0,{"$error":"#DIV/0!"}]
[null,null,null,null,null,1598,31.96,0,0,null,null,39.013671875,null,null,0,{"$error":"#DIV/0!"}]
[null,null,null,null,null,1599,31.98,0,0,null,null,39.0380859375,null,null,0,{"$error":"#DIV/0!"}]
[null,null,null,null,null,1600,{"$f":"B$6*(F1603-1)","v":32},0,0,null,null,39.0625,null,null,0,{"$error":"#DIV/0!"}]
[null,null,null,null,null,1601,32.020000000000003,0,0,null,null,{"$f":"(F1603)/B$9/B$6","v":39.0869140625},null,null,{"$f":"SQRT(M1603^2+N1603^2)","v":0},{"$f":"ATAN(N1603/M1603)","v":{"$error":"#DIV/0!"}}]
[null,null,null,null,null,1602,32.04,0,0,null,null,39.111328125,null,null,0,{"$error":"#DIV/0!"}]
[null,null,null,null,null,1603,32.06,0,0,null,null,39.1357421875,null,null,0,{"$error":"#DIV/0!"}]
[null,null,null,null,null,1604,32.08,0,0,null,null,39.16015625,null,null,0,{"$error":"#DIV/0!"}]
[null,null,null,null,null,1605,32.1,0,0,null,null,39.1845703125,null,null,0,{"$error":"#DIV/0!"}]
[null,null,null,null,null,1606,32.119999999999997,0,0,null,null,39.208984375,null,null,0,{"$error":"#DIV/0!"}]
[null,null,null,null,null,1607,32.14,0,0,null,null,39.2333984375,null,null,0,{"$error":"#DIV/0!"}]
[null,null,null,null,null,1608,32.160000000000004,0,0,null,null,39.2578125,null,null,0,{"$error":"#DIV/0!"}]
[null,null,null,null,null,1609,32.18,0,0,null,null,39.2822265625,null,null,0,{"$error":"#DIV/0!"}]
[null,null,null,null,null,1610,32.200000000000003,0,0,null,null,39.306640625,null,null,0,{"$error":"#DIV/0!"}]
[null,null,null,null,null,1611,32.22,0,0,null,null,39.3310546875,null,null,0,{"$error":"#DIV/0!"}]
[null,null,null,null,null,1612,32.24,0,0,null,null,39.35546875,null,null,0,{"$error":"#DIV/0!"}]
[null,null,null,null,null,1613,32.26,0,0,null,null,39.3798828125,null,null,0,{"$error":"#DIV/0!"}]
[null,null,null,null,null,1614,32.28,0,0,null,null,39.404296875,null,null,0,{"$error":"#DIV/0!"}]
[null,null,null,null,null,1615,32.299999999999997,0,0,null,null,39.4287109375,null,null,0,{"$error":"#DIV/0!"}]
[null,null,null,null,null,1616,32.32,0,0,null,null,39.453125,null,null,0,{"$error":"#DIV/0!"}]
[null,null,null,null,null,1617,32.340000000000003,0,0,null,null,39.4775390625,null,null,0,{"$error":"#DIV/0!"}]
[null,null,null,null,null,1618,32.36,0,0,null,null,39.501953125,null,null,0,{"$error":"#DIV/0!"}]
[null,null,null,null,null,1619,32.380000000000003,0,0,null,null,39.5263671875,null,null,0,{"$error":"#DIV/0!"}]
[null,null,null,null,null,1620,32.4,0,0,null,null,39.55078125,null,null,0,{"$error":"#DIV/0!"}]
[null,null,null,null,null,1621,32.42,0,0,null,null,39.5751953125,null,null,0,{"$error":"#DIV/0!"}]
[null,null,null,null,null,1622,32.44,0,0,null,null,39.599609375,null,null,0,{"$error":"#DIV/0!"}]
[null,null,null,null,null,1623,32.46,0,0,null,null,39.6240234375,null,null,0,{"$error":"#DIV/0!"}]
[null,null,null,null,null,1624,32.480000000000004,0,0,null,null,39.6484375,null,null,0,{"$error":"#DIV/0!"}]
[null,null,null,null,null,1625,32.5,0,0,null,null,39.6728515625,null,null,0,{"$error":"#DIV/0!"}]
[null,null,null,null,null,1626,32.520000000000003,0,0,null,null,39.697265625,null,null,0,{"$error":"#DIV/0!"}]
[null,null,null,null,null,1627,32.54,0,0,null,null,39.7216796875,null,null,0,{"$error":"#DIV/0!"}]
[null,null,null,null,null,1628,32.56,0,0,null,null,39.74609375,null,null,0,{"$error":"#DIV/0!"}]
[null,null,null,null,null,1629,32.58,0,0,null,null,39.7705078125,null,null,0,{"$error":"#DIV/0!"}]
[null,null,null,null,null,1630,32.6,0,0,null,null,39.794921875,null,null,0,{"$error":"#DIV/0!"}]
[null,null,null,null,null,1631,32.619999999999997,0,0,null,null,39.8193359375,null,null,0,{"$error":"#DIV/0!"}]
[null,null,null,null,null,1632,32.64,0,0,null,null,39.84375,null,null,0,{"$error":"#DIV/0!"}]
[null,null,null,null,null,1633,32.660000000000004,0,0,null,null,39.8681640625,null,null,0,{"$error":"#DIV/0!"}]
[null,null,null,null,null,1634,32.68,0,0,null,null,39.892578125,null,null,0,{"$error":"#DIV/0!"}]
[null,null,null,null,null,1635,32.700000000000003,0,0,null,null,39.9169921875,null,null,0,{"$error":"#DIV/0!"}]
[null,null,null,null,null,1636,32.72,0,0,null,null,39.94140625,null,null,0,{"$error":"#DIV/0!"}]
[null,null,null,null,null,1637,32.74,0,0,null,null,39.9658203125,null,null,0,{"$error":"#DIV/0!"}]
[null,null,null,null,null,1638,32.76,0,0,null,null,39.990234375,null,null,0,{"$error":"#DIV/0!"}]
[null,null,null,null,null,1639,32.78,0,0,null,null,40.0146484375,null,null,0,{"$error":"#DIV/0!"}]
[null,null,null,null,null,1640,32.799999999999997,0,0,null,null,40.0390625,null,null,0,{"$error":"#DIV/0!"}]
[null,null,null,null,null,1641,32.82,0,0,null,null,40.0634765625,null,null,0,{"$error":"#DIV/0!"}]
[null,null,null,null,null,1642,32.840000000000003,0,0,null,null,40.087890625,null,null,0,{"$error":"#DIV/0!"}]
[null,null,null,null,null,1643,32.86,0,0,null,null,40.1123046875,null,null,0,{"$error":"#DIV/0!"}]
[null,null,null,null,null,1644,32.880000000000003,0,0,null,null,40.13671875,null,null,0,{"$error":"#DIV/0!"}]
[null,null,null,null,null,1645,32.9,0,0,null,null,40.1611328125,null,null,0,{"$error":"#DIV/0!"}]
[null,null,null,null,null,1646,32.92,0,0,null,null,40.185546875,null,null,0,{"$error":"#DIV/0!"}]
[null,null,null,null,null,1647,32.94,0,0,null,null,40.2099609375,null,null,0,{"$error":"#DIV/0!"}]
[null,null,null,null,null,1648,32.96,0,0,null,null,40.234375,null,null,0,{"$error":"#DIV/0!"}]
[null,null,null,null,null,1649,32.980000000000004,0,0,null,null,40.2587890625,null,null,0,{"$error":"#DIV/0!"}]
[null,null,null,null,null,1650,33,0,0,null,null,40.283203125,null,null,0,{"$error":"#DIV/0!"}]
[null,null,null,null,null,1651,33.020000000000003,0,0,null,null,40.3076171875,null,null,0,{"$error":"#DIV/0!"}]
[null,null,null,null,null,1652,33.04,0,0,null,null,40.33203125,null,null,0,{"$error":"#DIV/0!"}]
[null,null,null,null,null,1653,33.06,0,0,null,null,40.3564453125,null,null,0,{"$error":"#DIV/0!"}]
[null,null,null,null,null,1654,33.08,0,0,null,null,40.380859375,null,null,0,{"$error":"#DIV/0!"}]
[null,null,null,null,null,1655,33.1,0,0,null,null,40.4052734375,null,null,0,{"$error":"#DIV/0!"}]
[null,null,null,null,null,1656,33.119999999999997,0,0,null,null,40.4296875,null,null,0,{"$error":"#DIV/0!"}]
[null,null,null,null,null,1657,33.14,0,0,null,null,40.4541015625,null,null,0,{"$error":"#DIV/0!"}]
[null,null,null,null,null,1658,33.160000000000004,0,0,null,null,40.478515625,null,null,0,{"$error":"#DIV/0!"}]
[null,null,null,null,null,1659,33.18,0,0,null,null,40.5029296875,null,null,0,{"$error":"#DIV/0!"}]
[null,null,null,null,null,1660,33.200000000000003,0,0,null,null,40.52734375,null,null,0,{"$error":"#DIV/0!"}]
[null,null,null,null,null,1661,33.22,0,0,null,null,40.5517578125,null,null,0,{"$error":"#DIV/0!"}]
[null,null,null,null,null,1662,33.24,0,0,null,null,40.576171875,null,null,0,{"$error":"#DIV/0!"}]
[null,null,null,null,null,1663,33.26,0,0,null,null,40.6005859375,null,null,0,{"$error":"#DIV/0!"}]
[null,null,null,null,null,1664,{"$f":"B$6*(F1667-1)","v":33.28},0,0,null,null,40.625,null,null,0,{"$error":"#DIV/0!"}]
[null,null,null,null,null,1665,33.299999999999997,0,0,null,null,{"$f":"(F1667)/B$9/B$6","v":40.6494140625},null,null,{"$f":"SQRT(M1667^2+N1667^2)","v":0},{"$f":"ATAN(N1667/M1667)","v":{"$error":"#DIV/0!"}}]
[null,null,null,null,null,1666,33.32,0,0,null,null,40.673828125,null,null,0,{"$error":"#DIV/0!"}]
[null,null,null,null,null,1667,33.340000000000003,0,0,null,null,40.6982421875,null,null,0,{"$error":"#DIV/0!"}]
[null,null,null,null,null,1668,33.36,0,0,null,null,40.72265625,null,null,0,{"$error":"#DIV/0!"}]
[null,null,null,null,null,1669,33.380000000000003,0,0,null,null,40.7470703125,null,null,0,{"$error":"#DIV/0!"}]
[null,null,null,null,null,1670,33.4,0,0,null,null,40.771484375,null,null,0,{"$error":"#DIV/0!"}]
[null,null,null,null,null,1671,33.42,0,0,null,null,40.7958984375,null,null,0,{"$error":"#DIV/0!"}]
[null,null,null,null,null,1672,33.44,0,0,null,null,40.8203125,null,null,0,{"$error":"#DIV/0!"}]
[null,null,null,null,null,1673,33.46,0,0,null,null,40.8447265625,null,null,0,{"$error":"#DIV/0!"}]
[null,null,null,null,null,1674,33.480000000000004,0,0,null,null,40.869140625,null,null,0,{"$error":"#DIV/0!"}]
[null,null,null,null,null,1675,33.5,0,0,null,null,40.8935546875,null,null,0,{"$error":"#DIV/0!"}]
[null,null,null,null,null,1676,33.520000000000003,0,0,null,null,40.91796875,null,null,0,{"$error":"#DIV/0!"}]
[null,null,null,null,null,1677,33.54,0,0,null,null,40.9423828125,null,null,0,{"$error":"#DIV/0!"}]
[null,null,null,null,null,1678,33.56,0,0,null,null,40.966796875,null,null,0,{"$error":"#DIV/0!"}]
[null,null,null,null,null,1679,33.58,0,0,null,null,40.9912109375,null,null,0,{"$error":"#DIV/0!"}]
[null,null,null,null,null,1680,33.6,0,0,null,null,41.015625,null,null,0,{"$error":"#DIV/0!"}]
[null,null,null,null,null,1681,33.619999999999997,0,0,null,null,41.0400390625,null,null,0,{"$error":"#DIV/0!"}]
[null,null,null,null,null,1682,33.64,0,0,null,null,41.064453125,null,null,0,{"$error":"#DIV/0!"}]
[null,null,null,null,null,1683,33.660000000000004,0,0,null,null,41.0888671875,null,null,0,{"$error":"#DIV/0!"}]
[null,null,null,null,null,1684,33.68,0,0,null,null,41.11328125,null,null,0,{"$error":"#DIV/0!"}]
[null,null,null,null,null,1685,33.700000000000003,0,0,null,null,41.1376953125,null,null,0,{"$error":"#DIV/0!"}]
[null,null,null,null,null,1686,33.72,0,0,null,null,41.162109375,null,null,0,{"$error":"#DIV/0!"}]
[null,null,null,null,null,1687,33.74,0,0,null,null,41.1865234375,null,null,0,{"$error":"#DIV/0!"}]
[null,null,null,null,null,1688,33.76,0,0,null,null,41.2109375,null,null,0,{"$error":"#DIV/0!"}]
[null,null,null,null,null,1689,33.78,0,0,null,null,41.2353515625,null,null,0,{"$error":"#DIV/0!"}]
[null,null,null,null,null,1690,33.799999999999997,0,0,null,null,41.259765625,null,null,0,{"$error":"#DIV/0!"}]
[null,null,null,null,null,1691,33.82,0,0,null,null,41.2841796875,null,null,0,{"$error":"#DIV/0!"}]
[null,null,null,null,null,1692,33.840000000000003,0,0,null,null,41.30859375,null,null,0,{"$error":"#DIV/0!"}]
[null,null,null,null,null,1693,33.86,0,0,null,null,41.3330078125,null,null,0,{"$error":"#DIV/0!"}]
[null,null,null,null,null,1694,33.880000000000003,0,0,null,null,41.357421875,null,null,0,{"$error":"#DIV/0!"}]
[null,null,null,null,null,1695,33.9,0,0,null,null,41.3818359375,null,null,0,{"$error":"#DIV/0!"}]
[null,null,null,null,null,1696,33.92,0,0,null,null,41.40625,null,null,0,{"$error":"#DIV/0!"}]
[null,null,null,null,null,1697,33.94,0,0,null,null,41.4306640625,null,null,0,{"$error":"#DIV/0!"}]
[null,null,null,null,null,1698,33.96,0,0,null,null,41.455078125,null,null,0,{"$error":"#DIV/0!"}]
[null,null,null,null,null,1699,33.980000000000004,0,0,null,null,41.4794921875,null,null,0,{"$error":"#DIV/0!"}]
[null,null,null,null,null,1700,34,0,0,null,null,41.50390625,null,null,0,{"$error":"#DIV/0!"}]
[null,null,null,null,null,1701,34.020000000000003,0,0,null,null,41.5283203125,null,null,0,{"$error":"#DIV/0!"}]
[null,null,null,null,null,1702,34.04,0,0,null,null,41.552734375,null,null,0,{"$error":"#DIV/0!"}]
[null,null,null,null,null,1703,34.06,0,0,null,null,41.5771484375,null,null,0,{"$error":"#DIV/0!"}]
[null,null,null,null,null,1704,34.08,0,0,null,null,41.6015625,null,null,0,{"$error":"#DIV/0!"}]
[null,null,null,null,null,1705,34.1,0,0,null,null,41.6259765625,null,null,0,{"$error":"#DIV/0!"}]
[null,null,null,null,null,1706,34.119999999999997,0,0,null,null,41.650390625,null,null,0,{"$error":"#DIV/0!"}]
[null,null,null,null,null,1707,34.14,0,0,null,null,41.6748046875,null,null,0,{"$error":"#DIV/0!"}]
[null,null,null,null,null,1708,34.160000000000004,0,0,null,null,41.69921875,null,null,0,{"$error":"#DIV/0!"}]
[null,null,null,null,null,1709,34.18,0,0,null,null,41.7236328125,null,null,0,{"$error":"#DIV/0!"}]
[null,null,null,null,null,1710,34.200000000000003,0,0,null,null,41.748046875,null,null,0,{"$error":"#DIV/0!"}]
[null,null,null,null,null,1711,34.22,0,0,null,null,41.7724609375,null,null,0,{"$error":"#DIV/0!"}]
[null,null,null,null,null,1712,34.24,0,0,null,null,41.796875,null,null,0,{"$error":"#DIV/0!"}]
[null,null,null,null,null,1713,34.26,0,0,null,null,41.8212890625,null,null,0,{"$error":"#DIV/0!"}]
[null,null,null,null,null,1714,34.28,0,0,null,null,41.845703125,null,null,0,{"$error":"#DIV/0!"}]
[null,null,null,null,null,1715,34.300000000000004,0,0,null,null,41.8701171875,null,null,0,{"$error":"#DIV/0!"}]
[null,null,null,null,null,1716,34.32,0,0,null,null,41.89453125,null,null,0,{"$error":"#DIV/0!"}]
[null,null,null,null,null,1717,34.340000000000003,0,0,null,null,41.9189453125,null,null,0,{"$error":"#DIV/0!"}]
[null,null,null,null,null,1718,34.36,0,0,null,null,41.943359375,null,null,0,{"$error":"#DIV/0!"}]
[null,null,null,null,null,1719,34.380000000000003,0,0,null,null,41.9677734375,null,null,0,{"$error":"#DIV/0!"}]
[null,null,null,null,null,1720,34.4,0,0,null,null,41.9921875,null,null,0,{"$error":"#DIV/0!"}]
[null,null,null,null,null,1721,34.42,0,0,null,null,42.0166015625,null,null,0,{"$error":"#DIV/0!"}]
[null,null,null,null,null,1722,34.44,0,0,null,null,42.041015625,null,null,0,{"$error":"#DIV/0!"}]
[null,null,null,null,null,1723,34.46,0,0,null,null,42.0654296875,null,null,0,{"$error":"#DIV/0!"}]
[null,null,null,null,null,1724,34.480000000000004,0,0,null,null,42.08984375,null,null,0,{"$error":"#DIV/0!"}]
[null,null,null,null,null,1725,34.5,0,0,null,null,42.1142578125,null,null,0,{"$error":"#DIV/0!"}]
[null,null,null,null,null,1726,34.520000000000003,0,0,null,null,42.138671875,null,null,0,{"$error":"#DIV/0!"}]
[null,null,null,null,null,1727,34.54,0,0,null,null,42.1630859375,null,null,0,{"$error":"#DIV/0!"}]
[null,null,null,null,null,1728,{"$f":"B$6*(F1731-1)","v":34.56},0,0,null,null,42.1875,null,null,0,{"$error":"#DIV/0!"}]
[null,null,null,null,null,1729,34.58,0,0,null,null,{"$f":"(F1731)/B$9/B$6","v":42.2119140625},null,null,{"$f":"SQRT(M1731^2+N1731^2)","v":0},{"$f":"ATAN(N1731/M1731)","v":{"$error":"#DIV/0!"}}]
[null,null,null,null,null,1730,34.6,0,0,null,null,42.236328125,null,null,0,{"$error":"#DIV/0!"}]
[null,null,null,null,null,1731,34.619999999999997,0,0,null,null,42.2607421875,null,null,0,{"$error":"#DIV/0!"}]
[null,null,null,null,null,1732,34.64,0,0,null,null,42.28515625,null,null,0,{"$error":"#DIV/0!"}]
[null,null,null,null,null,1733,34.660000000000004,0,0,null,null,42.3095703125,null,null,0,{"$error":"#DIV/0!"}]
[null,null,null,null,null,1734,34.68,0,0,null,null,42.333984375,null,null,0,{"$error":"#DIV/0!"}]
[null,null,null,null,null,1735,34.700000000000003,0,0,null,null,42.3583984375,null,null,0,{"$error":"#DIV/0!"}]
[null,null,null,null,null,1736,34.72,0,0,null,null,42.3828125,null,null,0,{"$error":"#DIV/0!"}]
[null,null,null,null,null,1737,34.74,0,0,null,null,42.4072265625,null,null,0,{"$error":"#DIV/0!"}]
[null,null,null,null,null,1738,34.76,0,0,null,null,42.431640625,null,null,0,{"$error":"#DIV/0!"}]
[null,null,null,null,null,1739,34.78,0,0,null,null,42.4560546875,null,null,0,{"$error":"#DIV/0!"}]
[null,null,null,null,null,1740,34.800000000000004,0,0,null,null,42.48046875,null,null,0,{"$error":"#DIV/0!"}]
[null,null,null,null,null,1741,34.82,0,0,null,null,42.5048828125,null,null,0,{"$error":"#DIV/0!"}]
[null,null,null,null,null,1742,34.840000000000003,0,0,null,null,42.529296875,null,null,0,{"$error":"#DIV/0!"}]
[null,null,null,null,null,1743,34.86,0,0,null,null,42.5537109375,null,null,0,{"$error":"#DIV/0!"}]
[null,null,null,null,null,1744,34.880000000000003,0,0,null,null,42.578125,null,null,0,{"$error":"#DIV/0!"}]
[null,null,null,null,null,1745,34.9,0,0,null,null,42.6025390625,null,null,0,{"$error":"#DIV/0!"}]
[null,null,null,null,null,1746,34.92,0,0,null,null,42.626953125,null,null,0,{"$error":"#DIV/0!"}]
[null,null,null,null,null,1747,34.94,0,0,null,null,42.6513671875,null,null,0,{"$error":"#DIV/0!"}]
[null,null,null,null,null,1748,34.96,0,0,null,null,42.67578125,null,null,0,{"$error":"#DIV/0!"}]
[null,null,null,null,null,1749,34.980000000000004,0,0,null,null,42.7001953125,null,null,0,{"$error":"#DIV/0!"}]
[null,null,null,null,null,1750,35,0,0,null,null,42.724609375,null,null,0,{"$error":"#DIV/0!"}]
[null,null,null,null,null,1751,35.020000000000003,0,0,null,null,42.7490234375,null,null,0,{"$error":"#DIV/0!"}]
[null,null,null,null,null,1752,35.04,0,0,null,null,42.7734375,null,null,0,{"$error":"#DIV/0!"}]
[null,null,null,null,null,1753,35.06,0,0,null,null,42.7978515625,null,null,0,{"$error":"#DIV/0!"}]
[null,null,null,null,null,1754,35.08,0,0,null,null,42.822265625,null,null,0,{"$error":"#DIV/0!"}]
[null,null,null,null,null,1755,35.1,0,0,null,null,42.8466796875,null,null,0,{"$error":"#DIV/0!"}]
[null,null,null,null,null,1756,35.119999999999997,0,0,null,null,42.87109375,null,null,0,{"$error":"#DIV/0!"}]
[null,null,null,null,null,1757,35.14,0,0,null,null,42.8955078125,null,null,0,{"$error":"#DIV/0!"}]
[null,null,null,null,null,1758,35.160000000000004,0,0,null,null,42.919921875,null,null,0,{"$error":"#DIV/0!"}]
[null,null,null,null,null,1759,35.18,0,0,null,null,42.9443359375,null,null,0,{"$error":"#DIV/0!"}]
[null,null,null,null,null,1760,35.200000000000003,0,0,null,null,42.96875,null,null,0,{"$error":"#DIV/0!"}]
[null,null,null,null,null,1761,35.22,0,0,null,null,42.9931640625,null,null,0,{"$error":"#DIV/0!"}]
[null,null,null,null,null,1762,35.24,0,0,null,null,43.017578125,null,null,0,{"$error":"#DIV/0!"}]
[null,null,null,null,null,1763,35.26,0,0,null,null,43.0419921875,null,null,0,{"$error":"#DIV/0!"}]
[null,null,null,null,null,1764,35.28,0,0,null,null,43.06640625,null,null,0,{"$error":"#DIV/0!"}]
[null,null,null,null,null,1765,35.300000000000004,0,0,null,null,43.0908203125,null,null,0,{"$error":"#DIV/0!"}]
[null,null,null,null,null,1766,35.32,0,0,null,null,43.115234375,null,null,0,{"$error":"#DIV/0!"}]
[null,null,null,null,null,1767,35.340000000000003,0,0,null,null,43.1396484375,null,null,0,{"$error":"#DIV/0!"}]
[null,null,null,null,null,1768,35.36,0,0,null,null,43.1640625,null,null,0,{"$error":"#DIV/0!"}]
[null,null,null,null,null,1769,35.380000000000003,0,0,null,null,43.1884765625,null,null,0,{"$error":"#DIV/0!"}]
[null,null,null,null,null,1770,35.4,0,0,null,null,43.212890625,null,null,0,{"$error":"#DIV/0!"}]
[null,null,null,null,null,1771,35.42,0,0,null,null,43.2373046875,null,null,0,{"$error":"#DIV/0!"}]
[null,null,null,null,null,1772,35.44,0,0,null,null,43.26171875,null,null,0,{"$error":"#DIV/0!"}]
[null,null,null,null,null,1773,35.46,0,0,null,null,43.2861328125,null,null,0,{"$error":"#DIV/0!"}]
[null,null,null,null,null,1774,35.480000000000004,0,0,null,null,43.310546875,null,null,0,{"$error":"#DIV/0!"}]
[null,null,null,null,null,1775,35.5,0,0,null,null,43.3349609375,null,null,0,{"$error":"#DIV/0!"}]
[null,null,null,null,null,1776,35.520000000000003,0,0,null,null,43.359375,null,null,0,{"$error":"#DIV/0!"}]
[null,null,null,null,null,1777,35.54,0,0,null,null,43.3837890625,null,null,0,{"$error":"#DIV/0!"}]
[null,null,null,null,null,1778,35.56,0,0,null,null,43.408203125,null,null,0,{"$error":"#DIV/0!"}]
[null,null,null,null,null,1779,35.58,0,0,null,null,43.4326171875,null,null,0,{"$error":"#DIV/0!"}]
[null,null,null,null,null,1780,35.6,0,0,null,null,43.45703125,null,null,0,{"$error":"#DIV/0!"}]
[null,null,null,null,null,1781,35.619999999999997,0,0,null,null,43.4814453125,null,null,0,{"$error":"#DIV/0!"}]
[null,null,null,null,null,1782,35.64,0,0,null,null,43.505859375,null,null,0,{"$error":"#DIV/0!"}]
[null,null,null,null,null,1783,35.660000000000004,0,0,null,null,43.5302734375,null,null,0,{"$error":"#DIV/0!"}]
[null,null,null,null,null,1784,35.68,0,0,null,null,43.5546875,null,null,0,{"$error":"#DIV/0!"}]
[null,null,null,null,null,1785,35.700000000000003,0,0,null,null,43.5791015625,null,null,0,{"$error":"#DIV/0!"}]
[null,null,null,null,null,1786,35.72,0,0,null,null,43.603515625,null,null,0,{"$error":"#DIV/0!"}]
[null,null,null,null,null,1787,35.74,0,0,null,null,43.6279296875,null,null,0,{"$error":"#DIV/0!"}]
[null,null,null,null,null,1788,35.76,0,0,null,null,43.65234375,null,null,0,{"$error":"#DIV/0!"}]
[null,null,null,null,null,1789,35.78,0,0,null,null,43.6767578125,null,null,0,{"$error":"#DIV/0!"}]
[null,null,null,null,null,1790,35.800000000000004,0,0,null,null,43.701171875,null,null,0,{"$error":"#DIV/0!"}]
[null,null,null,null,null,1791,35.82,0,0,null,null,43.7255859375,null,null,0,{"$error":"#DIV/0!"}]
[null,null,null,null,null,1792,{"$f":"B$6*(F1795-1)","v":35.840000000000003},0,0,null,null,43.75,null,null,0,{"$error":"#DIV/0!"}]
[null,null,null,null,null,1793,35.86,0,0,null,null,{"$f":"(F1795)/B$9/B$6","v":43.7744140625},null,null,{"$f":"SQRT(M1795^2+N1795^2)","v":0},{"$f":"ATAN(N1795/M1795)","v":{"$error":"#DIV/0!"}}]
[null,null,null,null,null,1794,35.880000000000003,0,0,null,null,43.798828125,null,null,0,{"$error":"#DIV/0!"}]
[null,null,null,null,null,1795,35.9,0,0,null,null,43.8232421875,null,null,0,{"$error":"#DIV/0!"}]
[null,null,null,null,null,1796,35.92,0,0,null,null,43.84765625,null,null,0,{"$error":"#DIV/0!"}]
[null,null,null,null,null,1797,35.94,0,0,null,null,43.8720703125,null,null,0,{"$error":"#DIV/0!"}]
[null,null,null,null,null,1798,35.96,0,0,null,null,43.896484375,null,null,0,{"$error":"#DIV/0!"}]
[null,null,null,null,null,1799,35.980000000000004,0,0,null,null,43.9208984375,null,null,0,{"$error":"#DIV/0!"}]
[null,null,null,null,null,1800,36,0,0,null,null,43.9453125,null,null,0,{"$error":"#DIV/0!"}]
[null,null,null,null,null,1801,36.020000000000003,0,0,null,null,43.9697265625,null,null,0,{"$error":"#DIV/0!"}]
[null,null,null,null,null,1802,36.04,0,0,null,null,43.994140625,null,null,0,{"$error":"#DIV/0!"}]
[null,null,null,null,null,1803,36.06,0,0,null,null,44.0185546875,null,null,0,{"$error":"#DIV/0!"}]
[null,null,null,null,null,1804,36.08,0,0,null,null,44.04296875,null,null,0,{"$error":"#DIV/0!"}]
[null,null,null,null,null,1805,36.1,0,0,null,null,44.0673828125,null,null,0,{"$error":"#DIV/0!"}]
[null,null,null,null,null,1806,36.119999999999997,0,0,null,null,44.091796875,null,null,0,{"$error":"#DIV/0!"}]
[null,null,null,null,null,1807,36.14,0,0,null,null,44.1162109375,null,null,0,{"$error":"#DIV/0!"}]
[null,null,null,null,null,1808,36.160000000000004,0,0,null,null,44.140625,null,null,0,{"$error":"#DIV/0!"}]
[null,null,null,null,null,1809,36.18,0,0,null,null,44.1650390625,null,null,0,{"$error":"#DIV/0!"}]
[null,null,null,null,null,1810,36.200000000000003,0,0,null,null,44.189453125,null,null,0,{"$error":"#DIV/0!"}]
[null,null,null,null,null,1811,36.22,0,0,null,null,44.2138671875,null,null,0,{"$error":"#DIV/0!"}]
[null,null,null,null,null,1812,36.24,0,0,null,null,44.23828125,null,null,0,{"$error":"#DIV/0!"}]
[null,null,null,null,null,1813,36.26,0,0,null,null,44.2626953125,null,null,0,{"$error":"#DIV/0!"}]
[null,null,null,null,null,1814,36.28,0,0,null,null,44.287109375,null,null,0,{"$error":"#DIV/0!"}]
[null,null,null,null,null,1815,36.300000000000004,0,0,null,null,44.3115234375,null,null,0,{"$error":"#DIV/0!"}]
[null,null,null,null,null,1816,36.32,0,0,null,null,44.3359375,null,null,0,{"$error":"#DIV/0!"}]
[null,null,null,null,null,1817,36.340000000000003,0,0,null,null,44.3603515625,null,null,0,{"$error":"#DIV/0!"}]
[null,null,null,null,null,1818,36.36,0,0,null,null,44.384765625,null,null,0,{"$error":"#DIV/0!"}]
[null,null,null,null,null,1819,36.380000000000003,0,0,null,null,44.4091796875,null,null,0,{"$error":"#DIV/0!"}]
[null,null,null,null,null,1820,36.4,0,0,null,null,44.43359375,null,null,0,{"$error":"#DIV/0!"}]
[null,null,null,null,null,1821,36.42,0,0,null,null,44.4580078125,null,null,0,{"$error":"#DIV/0!"}]
[null,null,null,null,null,1822,36.44,0,0,null,null,44.482421875,null,null,0,{"$error":"#DIV/0!"}]
[null,null,null,null,null,1823,36.46,0,0,null,null,44.5068359375,null,null,0,{"$error":"#DIV/0!"}]
[null,null,null,null,null,1824,36.480000000000004,0,0,null,null,44.53125,null,null,0,{"$error":"#DIV/0!"}]
[null,null,null,null,null,1825,36.5,0,0,null,null,44.5556640625,null,null,0,{"$error":"#DIV/0!"}]
[null,null,null,null,null,1826,36.520000000000003,0,0,null,null,44.580078125,null,null,0,{"$error":"#DIV/0!"}]
[null,null,null,null,null,1827,36.54,0,0,null,null,44.6044921875,null,null,0,{"$error":"#DIV/0!"}]
[null,null,null,null,null,1828,36.56,0,0,null,null,44.62890625,null,null,0,{"$error":"#DIV/0!"}]
[null,null,null,null,null,1829,36.58,0,0,null,null,44.6533203125,null,null,0,{"$error":"#DIV/0!"}]
[null,null,null,null,null,1830,36.6,0,0,null,null,44.677734375,null,null,0,{"$error":"#DIV/0!"}]
[null,null,null,null,null,1831,36.619999999999997,0,0,null,null,44.7021484375,null,null,0,{"$error":"#DIV/0!"}]
[null,null,null,null,null,1832,36.64,0,0,null,null,44.7265625,null,null,0,{"$error":"#DIV/0!"}]
[null,null,null,null,null,1833,36.660000000000004,0,0,null,null,44.7509765625,null,null,0,{"$error":"#DIV/0!"}]
[null,null,null,null,null,1834,36.68,0,0,null,null,44.775390625,null,null,0,{"$error":"#DIV/0!"}]
[null,null,null,null,null,1835,36.700000000000003,0,0,null,null,44.7998046875,null,null,0,{"$error":"#DIV/0!"}]
[null,null,null,null,null,1836,36.72,0,0,null,null,44.82421875,null,null,0,{"$error":"#DIV/0!"}]
[null,null,null,null,null,1837,36.74,0,0,null,null,44.8486328125,null,null,0,{"$error":"#DIV/0!"}]
[null,null,null,null,null,1838,36.76,0,0,null,null,44.873046875,null,null,0,{"$error":"#DIV/0!"}]
[null,null,null,null,null,1839,36.78,0,0,null,null,44.8974609375,null,null,0,{"$error":"#DIV/0!"}]
[null,null,null,null,null,1840,36.800000000000004,0,0,null,null,44.921875,null,null,0,{"$error":"#DIV/0!"}]
[null,null,null,null,null,1841,36.82,0,0,null,null,44.9462890625,null,null,0,{"$error":"#DIV/0!"}]
[null,null,null,null,null,1842,36.840000000000003,0,0,null,null,44.970703125,null,null,0,{"$error":"#DIV/0!"}]
[null,null,null,null,null,1843,36.86,0,0,null,null,44.9951171875,null,null,0,{"$error":"#DIV/0!"}]
[null,null,null,null,null,1844,36.880000000000003,0,0,null,null,45.01953125,null,null,0,{"$error":"#DIV/0!"}]
[null,null,null,null,null,1845,36.9,0,0,null,null,45.0439453125,null,null,0,{"$error":"#DIV/0!"}]
[null,null,null,null,null,1846,36.92,0,0,null,null,45.068359375,null,null,0,{"$error":"#DIV/0!"}]
[null,null,null,null,null,1847,36.94,0,0,null,null,45.0927734375,null,null,0,{"$error":"#DIV/0!"}]
[null,null,null,null,null,1848,36.96,0,0,null,null,45.1171875,null,null,0,{"$error":"#DIV/0!"}]
[null,null,null,null,null,1849,36.980000000000004,0,0,null,null,45.1416015625,null,null,0,{"$error":"#DIV/0!"}]
[null,null,null,null,null,1850,37,0,0,null,null,45.166015625,null,null,0,{"$error":"#DIV/0!"}]
[null,null,null,null,null,1851,37.020000000000003,0,0,null,null,45.1904296875,null,null,0,{"$error":"#DIV/0!"}]
[null,null,null,null,null,1852,37.04,0,0,null,null,45.21484375,null,null,0,{"$error":"#DIV/0!"}]
[null,null,null,null,null,1853,37.06,0,0,null,null,45.2392578125,null,null,0,{"$error":"#DIV/0!"}]
[null,null,null,null,null,1854,37.08,0,0,null,null,45.263671875,null,null,0,{"$error":"#DIV/0!"}]
[null,null,null,null,null,1855,37.1,0,0,null,null,45.2880859375,null,null,0,{"$error":"#DIV/0!"}]
[null,null,null,null,null,1856,{"$f":"B$6*(F1859-1)","v":37.119999999999997},0,0,null,null,45.3125,null,null,0,{"$error":"#DIV/0!"}]
[null,null,null,null,null,1857,37.14,0,0,null,null,{"$f":"(F1859)/B$9/B$6","v":45.3369140625},null,null,{"$f":"SQRT(M1859^2+N1859^2)","v":0},{"$f":"ATAN(N1859/M1859)","v":{"$error":"#DIV/0!"}}]
[null,null,null,null,null,1858,37.160000000000004,0,0,null,null,45.361328125,null,null,0,{"$error":"#DIV/0!"}]
[null,null,null,null,null,1859,37.18,0,0,null,null,45.3857421875,null,null,0,{"$error":"#DIV/0!"}]
[null,null,null,null,null,1860,37.200000000000003,0,0,null,null,45.41015625,null,null,0,{"$error":"#DIV/0!"}]
[null,null,null,null,null,1861,37.22,0,0,null,null,45.4345703125,null,null,0,{"$error":"#DIV/0!"}]
[null,null,null,null,null,1862,37.24,0,0,null,null,45.458984375,null,null,0,{"$error":"#DIV/0!"}]
[null,null,null,null,null,1863,37.26,0,0,null,null,45.4833984375,null,null,0,{"$error":"#DIV/0!"}]
[null,null,null,null,null,1864,37.28,0,0,null,null,45.5078125,null,null,0,{"$error":"#DIV/0!"}]
[null,null,null,null,null,1865,37.300000000000004,0,0,null,null,45.5322265625,null,null,0,{"$error":"#DIV/0!"}]
[null,null,null,null,null,1866,37.32,0,0,null,null,45.556640625,null,null,0,{"$error":"#DIV/0!"}]
[null,null,null,null,null,1867,37.340000000000003,0,0,null,null,45.5810546875,null,null,0,{"$error":"#DIV/0!"}]
[null,null,null,null,null,1868,37.36,0,0,null,null,45.60546875,null,null,0,{"$error":"#DIV/0!"}]
[null,null,null,null,null,1869,37.380000000000003,0,0,null,null,45.6298828125,null,null,0,{"$error":"#DIV/0!"}]
[null,null,null,null,null,1870,37.4,0,0,null,null,45.654296875,null,null,0,{"$error":"#DIV/0!"}]
[null,null,null,null,null,1871,37.42,0,0,null,null,45.6787109375,null,null,0,{"$error":"#DIV/0!"}]
[null,null,null,null,null,1872,37.44,0,0,null,null,45.703125,null,null,0,{"$error":"#DIV/0!"}]
[null,null,null,null,null,1873,37.46,0,0,null,null,45.7275390625,null,null,0,{"$error":"#DIV/0!"}]
[null,null,null,null,null,1874,37.480000000000004,0,0,null,null,45.751953125,null,null,0,{"$error":"#DIV/0!"}]
[null,null,null,null,null,1875,37.5,0,0,null,null,45.7763671875,null,null,0,{"$error":"#DIV/0!"}]
[null,null,null,null,null,1876,37.520000000000003,0,0,null,null,45.80078125,null,null,0,{"$error":"#DIV/0!"}]
[null,null,null,null,null,1877,37.54,0,0,null,null,45.8251953125,null,null,0,{"$error":"#DIV/0!"}]
[null,null,null,null,null,1878,37.56,0,0,null,null,45.849609375,null,null,0,{"$error":"#DIV/0!"}]
[null,null,null,null,null,1879,37.58,0,0,null,null,45.8740234375,null,null,0,{"$error":"#DIV/0!"}]
[null,null,null,null,null,1880,37.6,0,0,null,null,45.8984375,null,null,0,{"$error":"#DIV/0!"}]
[null,null,null,null,null,1881,37.619999999999997,0,0,null,null,45.9228515625,null,null,0,{"$error":"#DIV/0!"}]
[null,null,null,null,null,1882,37.64,0,0,null,null,45.947265625,null,null,0,{"$error":"#DIV/0!"}]
[null,null,null,null,null,1883,37.660000000000004,0,0,null,null,45.9716796875,null,null,0,{"$error":"#DIV/0!"}]
[null,null,null,null,null,1884,37.68,0,0,null,null,45.99609375,null,null,0,{"$error":"#DIV/0!"}]
[null,null,null,null,null,1885,37.700000000000003,0,0,null,null,46.0205078125,null,null,0,{"$error":"#DIV/0!"}]
[null,null,null,null,null,1886,37.72,0,0,null,null,46.044921875,null,null,0,{"$error":"#DIV/0!"}]
[null,null,null,null,null,1887,37.74,0,0,null,null,46.0693359375,null,null,0,{"$error":"#DIV/0!"}]
[null,null,null,null,null,1888,37.76,0,0,null,null,46.09375,null,null,0,{"$error":"#DIV/0!"}]
[null,null,null,null,null,1889,37.78,0,0,null,null,46.1181640625,null,null,0,{"$error":"#DIV/0!"}]
[null,null,null,null,null,1890,37.800000000000004,0,0,null,null,46.142578125,null,null,0,{"$error":"#DIV/0!"}]
[null,null,null,null,null,1891,37.82,0,0,null,null,46.1669921875,null,null,0,{"$error":"#DIV/0!"}]
[null,null,null,null,null,1892,37.840000000000003,0,0,null,null,46.19140625,null,null,0,{"$error":"#DIV/0!"}]
[null,null,null,null,null,1893,37.86,0,0,null,null,46.2158203125,null,null,0,{"$error":"#DIV/0!"}]
[null,null,null,null,null,1894,37.880000000000003,0,0,null,null,46.240234375,null,null,0,{"$error":"#DIV/0!"}]
[null,null,null,null,null,1895,37.9,0,0,null,null,46.2646484375,null,null,0,{"$error":"#DIV/0!"}]
[null,null,null,null,null,1896,37.92,0,0,null,null,46.2890625,null,null,0,{"$error":"#DIV/0!"}]
[null,null,null,null,null,1897,37.94,0,0,null,null,46.3134765625,null,null,0,{"$error":"#DIV/0!"}]
[null,null,null,null,null,1898,37.96,0,0,null,null,46.337890625,null,null,0,{"$error":"#DIV/0!"}]
[null,null,null,null,null,1899,37.980000000000004,0,0,null,null,46.3623046875,null,null,0,{"$error":"#DIV/0!"}]
[null,null,null,null,null,1900,38,0,0,null,null,46.38671875,null,null,0,{"$error":"#DIV/0!"}]
[null,null,null,null,null,1901,38.020000000000003,0,0,null,null,46.4111328125,null,null,0,{"$error":"#DIV/0!"}]
[null,null,null,null,null,1902,38.04,0,0,null,null,46.435546875,null,null,0,{"$error":"#DIV/0!"}]
[null,null,null,null,null,1903,38.06,0,0,null,null,46.4599609375,null,null,0,{"$error":"#DIV/0!"}]
[null,null,null,null,null,1904,38.08,0,0,null,null,46.484375,null,null,0,{"$error":"#DIV/0!"}]
[null,null,null,null,null,1905,38.1,0,0,null,null,46.5087890625,null,null,0,{"$error":"#DIV/0!"}]
[null,null,null,null,null,1906,38.119999999999997,0,0,null,null,46.533203125,null,null,0,{"$error":"#DIV/0!"}]
[null,null,null,null,null,1907,38.14,0,0,null,null,46.5576171875,null,null,0,{"$error":"#DIV/0!"}]
[null,null,null,null,null,1908,38.160000000000004,0,0,null,null,46.58203125,null,null,0,{"$error":"#DIV/0!"}]
[null,null,null,null,null,1909,38.18,0,0,null,null,46.6064453125,null,null,0,{"$error":"#DIV/0!"}]
[null,null,null,null,null,1910,38.200000000000003,0,0,null,null,46.630859375,null,null,0,{"$error":"#DIV/0!"}]
[null,null,null,null,null,1911,38.22,0,0,null,null,46.6552734375,null,null,0,{"$error":"#DIV/0!"}]
[null,null,null,null,null,1912,38.24,0,0,null,null,46.6796875,null,null,0,{"$error":"#DIV/0!"}]
[null,null,null,null,null,1913,38.26,0,0,null,null,46.7041015625,null,null,0,{"$error":"#DIV/0!"}]
[null,null,null,null,null,1914,38.28,0,0,null,null,46.728515625,null,null,0,{"$error":"#DIV/0!"}]
[null,null,null,null,null,1915,38.300000000000004,0,0,null,null,46.7529296875,null,null,0,{"$error":"#DIV/0!"}]
[null,null,null,null,null,1916,38.32,0,0,null,null,46.77734375,null,null,0,{"$error":"#DIV/0!"}]
[null,null,null,null,null,1917,38.340000000000003,0,0,null,null,46.8017578125,null,null,0,{"$error":"#DIV/0!"}]
[null,null,null,null,null,1918,38.36,0,0,null,null,46.826171875,null,null,0,{"$error":"#DIV/0!"}]
[null,null,null,null,null,1919,38.380000000000003,0,0,null,null,46.8505859375,null,null,0,{"$error":"#DIV/0!"}]
[null,null,null,null,null,1920,{"$f":"B$6*(F1923-1)","v":38.4},0,0,null,null,46.875,null,null,0,{"$error":"#DIV/0!"}]
[null,null,null,null,null,1921,38.42,0,0,null,null,{"$f":"(F1923)/B$9/B$6","v":46.8994140625},null,null,{"$f":"SQRT(M1923^2+N1923^2)","v":0},{"$f":"ATAN(N1923/M1923)","v":{"$error":"#DIV/0!"}}]
[null,null,null,null,null,1922,38.44,0,0,null,null,46.923828125,null,null,0,{"$error":"#DIV/0!"}]
[null,null,null,null,null,1923,38.46,0,0,null,null,46.9482421875,null,null,0,{"$error":"#DIV/0!"}]
[null,null,null,null,null,1924,38.480000000000004,0,0,null,null,46.97265625,null,null,0,{"$error":"#DIV/0!"}]
[null,null,null,null,null,1925,38.5,0,0,null,null,46.9970703125,null,null,0,{"$error":"#DIV/0!"}]
[null,null,null,null,null,1926,38.520000000000003,0,0,null,null,47.021484375,null,null,0,{"$error":"#DIV/0!"}]
[null,null,null,null,null,1927,38.54,0,0,null,null,47.0458984375,null,null,0,{"$error":"#DIV/0!"}]
[null,null,null,null,null,1928,38.56,0,0,null,null,47.0703125,null,null,0,{"$error":"#DIV/0!"}]
[null,null,null,null,null,1929,38.58,0,0,null,null,47.0947265625,null,null,0,{"$error":"#DIV/0!"}]
[null,null,null,null,null,1930,38.6,0,0,null,null,47.119140625,null,null,0,{"$error":"#DIV/0!"}]
[null,null,null,null,null,1931,38.619999999999997,0,0,null,null,47.1435546875,null,null,0,{"$error":"#DIV/0!"}]
[null,null,null,null,null,1932,38.64,0,0,null,null,47.16796875,null,null,0,{"$error":"#DIV/0!"}]
[null,null,null,null,null,1933,38.660000000000004,0,0,null,null,47.1923828125,null,null,0,{"$error":"#DIV/0!"}]
[null,null,null,null,null,1934,38.68,0,0,null,null,47.216796875,null,null,0,{"$error":"#DIV/0!"}]
[null,null,null,null,null,1935,38.700000000000003,0,0,null,null,47.2412109375,null,null,0,{"$error":"#DIV/0!"}]
[null,null,null,null,null,1936,38.72,0,0,null,null,47.265625,null,null,0,{"$error":"#DIV/0!"}]
[null,null,null,null,null,1937,38.74,0,0,null,null,47.2900390625,null,null,0,{"$error":"#DIV/0!"}]
[null,null,null,null,null,1938,38.76,0,0,null,null,47.314453125,null,null,0,{"$error":"#DIV/0!"}]
[null,null,null,null,null,1939,38.78,0,0,null,null,47.3388671875,null,null,0,{"$error":"#DIV/0!"}]
[null,null,null,null,null,1940,38.800000000000004,0,0,null,null,47.36328125,null,null,0,{"$error":"#DIV/0!"}]
[null,null,null,null,null,1941,38.82,0,0,null,null,47.3876953125,null,null,0,{"$error":"#DIV/0!"}]
[null,null,null,null,null,1942,38.840000000000003,0,0,null,null,47.412109375,null,null,0,{"$error":"#DIV/0!"}]
[null,null,null,null,null,1943,38.86,0,0,null,null,47.4365234375,null,null,0,{"$error":"#DIV/0!"}]
[null,null,null,null,null,1944,38.880000000000003,0,0,null,null,47.4609375,null,null,0,{"$error":"#DIV/0!"}]
[null,null,null,null,null,1945,38.9,0,0,null,null,47.4853515625,null,null,0,{"$error":"#DIV/0!"}]
[null,null,null,null,null,1946,38.92,0,0,null,null,47.509765625,null,null,0,{"$error":"#DIV/0!"}]
[null,null,null,null,null,1947,38.94,0,0,null,null,47.5341796875,null,null,0,{"$error":"#DIV/0!"}]
[null,null,null,null,null,1948,38.96,0,0,null,null,47.55859375,null,null,0,{"$error":"#DIV/0!"}]
[null,null,null,null,null,1949,38.980000000000004,0,0,null,null,47.5830078125,null,null,0,{"$error":"#DIV/0!"}]
[null,null,null,null,null,1950,39,0,0,null,null,47.607421875,null,null,0,{"$error":"#DIV/0!"}]
[null,null,null,null,null,1951,39.020000000000003,0,0,null,null,47.6318359375,null,null,0,{"$error":"#DIV/0!"}]
[null,null,null,null,null,1952,39.04,0,0,null,null,47.65625,null,null,0,{"$error":"#DIV/0!"}]
[null,null,null,null,null,1953,39.06,0,0,null,null,47.6806640625,null,null,0,{"$error":"#DIV/0!"}]
[null,null,null,null,null,1954,39.08,0,0,null,null,47.705078125,null,null,0,{"$error":"#DIV/0!"}]
[null,null,null,null,null,1955,39.1,0,0,null,null,47.7294921875,null,null,0,{"$error":"#DIV/0!"}]
[null,null,null,null,null,1956,39.119999999999997,0,0,null,null,47.75390625,null,null,0,{"$error":"#DIV/0!"}]
[null,null,null,null,null,1957,39.14,0,0,null,null,47.7783203125,null,null,0,{"$error":"#DIV/0!"}]
[null,null,null,null,null,1958,39.160000000000004,0,0,null,null,47.802734375,null,null,0,{"$error":"#DIV/0!"}]
[null,null,null,null,null,1959,39.18,0,0,null,null,47.8271484375,null,null,0,{"$error":"#DIV/0!"}]
[null,null,null,null,null,1960,39.200000000000003,0,0,null,null,47.8515625,null,null,0,{"$error":"#DIV/0!"}]
[null,null,null,null,null,1961,39.22,0,0,null,null,47.8759765625,null,null,0,{"$error":"#DIV/0!"}]
[null,null,null,null,null,1962,39.24,0,0,null,null,47.900390625,null,null,0,{"$error":"#DIV/0!"}]
[null,null,null,null,null,1963,39.26,0,0,null,null,47.9248046875,null,null,0,{"$error":"#DIV/0!"}]
[null,null,null,null,null,1964,39.28,0,0,null,null,47.94921875,null,null,0,{"$error":"#DIV/0!"}]
[null,null,null,null,null,1965,39.300000000000004,0,0,null,null,47.9736328125,null,null,0,{"$error":"#DIV/0!"}]
[null,null,null,null,null,1966,39.32,0,0,null,null,47.998046875,null,null,0,{"$error":"#DIV/0!"}]
[null,null,null,null,null,1967,39.340000000000003,0,0,null,null,48.0224609375,null,null,0,{"$error":"#DIV/0!"}]
[null,null,null,null,null,1968,39.36,0,0,null,null,48.046875,null,null,0,{"$error":"#DIV/0!"}]
[null,null,null,null,null,1969,39.380000000000003,0,0,null,null,48.0712890625,null,null,0,{"$error":"#DIV/0!"}]
[null,null,null,null,null,1970,39.4,0,0,null,null,48.095703125,null,null,0,{"$error":"#DIV/0!"}]
[null,null,null,null,null,1971,39.42,0,0,null,null,48.1201171875,null,null,0,{"$error":"#DIV/0!"}]
[null,null,null,null,null,1972,39.44,0,0,null,null,48.14453125,null,null,0,{"$error":"#DIV/0!"}]
[null,null,null,null,null,1973,39.46,0,0,null,null,48.1689453125,null,null,0,{"$error":"#DIV/0!"}]
[null,null,null,null,null,1974,39.480000000000004,0,0,null,null,48.193359375,null,null,0,{"$error":"#DIV/0!"}]
[null,null,null,null,null,1975,39.5,0,0,null,null,48.2177734375,null,null,0,{"$error":"#DIV/0!"}]
[null,null,null,null,null,1976,39.520000000000003,0,0,null,null,48.2421875,null,null,0,{"$error":"#DIV/0!"}]
[null,null,null,null,null,1977,39.54,0,0,null,null,48.2666015625,null,null,0,{"$error":"#DIV/0!"}]
[null,null,null,null,null,1978,39.56,0,0,null,null,48.291015625,null,null,0,{"$error":"#DIV/0!"}]
[null,null,null,null,null,1979,39.58,0,0,null,null,48.3154296875,null,null,0,{"$error":"#DIV/0!"}]
[null,null,null,null,null,1980,39.6,0,0,null,null,48.33984375,null,null,0,{"$error":"#DIV/0!"}]
[null,null,null,null,null,1981,39.619999999999997,0,0,null,null,48.3642578125,null,null,0,{"$error":"#DIV/0!"}]
[null,null,null,null,null,1982,39.64,0,0,null,null,48.388671875,null,null,0,{"$error":"#DIV/0!"}]
[null,null,null,null,null,1983,39.660000000000004,0,0,null,null,48.4130859375,null,null,0,{"$error":"#DIV/0!"}]
[null,null,null,null,null,1984,{"$f":"B$6*(F1987-1)","v":39.68},0,0,null,null,48.4375,null,null,0,{"$error":"#DIV/0!"}]
[null,null,null,null,null,1985,39.700000000000003,0,0,null,null,{"$f":"(F1987)/B$9/B$6","v":48.4619140625},null,null,{"$f":"SQRT(M1987^2+N1987^2)","v":0},{"$f":"ATAN(N1987/M1987)","v":{"$error":"#DIV/0!"}}]
[null,null,null,null,null,1986,39.72,0,0,null,null,48.486328125,null,null,0,{"$error":"#DIV/0!"}]
[null,null,null,null,null,1987,39.74,0,0,null,null,48.5107421875,null,null,0,{"$error":"#DIV/0!"}]
[null,null,null,null,null,1988,39.76,0,0,null,null,48.53515625,null,null,0,{"$error":"#DIV/0!"}]
[null,null,null,null,null,1989,39.78,0,0,null,null,48.5595703125,null,null,0,{"$error":"#DIV/0!"}]
[null,null,null,null,null,1990,39.800000000000004,0,0,null,null,48.583984375,null,null,0,{"$error":"#DIV/0!"}]
[null,null,null,null,null,1991,39.82,0,0,null,null,48.6083984375,null,null,0,{"$error":"#DIV/0!"}]
[null,null,null,null,null,1992,39.840000000000003,0,0,null,null,48.6328125,null,null,0,{"$error":"#DIV/0!"}]
[null,null,null,null,null,1993,39.86,0,0,null,null,48.6572265625,null,null,0,{"$error":"#DIV/0!"}]
[null,null,null,null,null,1994,39.880000000000003,0,0,null,null,48.681640625,null,null,0,{"$error":"#DIV/0!"}]
[null,null,null,null,null,1995,39.9,0,0,null,null,48.7060546875,null,null,0,{"$error":"#DIV/0!"}]
[null,null,null,null,null,1996,39.92,0,0,null,null,48.73046875,null,null,0,{"$error":"#DIV/0!"}]
[null,null,null,null,null,1997,39.94,0,0,null,null,48.7548828125,null,null,0,{"$error":"#DIV/0!"}]
[null,null,null,null,null,1998,39.96,0,0,null,null,48.779296875,null,null,0,{"$error":"#DIV/0!"}]
[null,null,null,null,null,1999,39.980000000000004,0,0,null,null,48.8037109375,null,null,0,{"$error":"#DIV/0!"}]
[null,null,null,null,null,2000,40,0,0,null,null,48.828125,null,null,0,{"$error":"#DIV/0!"}]
[null,null,null,null,null,2001,40.020000000000003,0,0,null,null,48.8525390625,null,null,0,{"$error":"#DIV/0!"}]
[null,null,null,null,null,2002,40.04,0,0,null,null,48.876953125,null,null,0,{"$error":"#DIV/0!"}]
[null,null,null,null,null,2003,40.06,0,0,null,null,48.9013671875,null,null,0,{"$error":"#DIV/0!"}]
[null,null,null,null,null,2004,40.08,0,0,null,null,48.92578125,null,null,0,{"$error":"#DIV/0!"}]
[null,null,null,null,null,2005,40.1,0,0,null,null,48.9501953125,null,null,0,{"$error":"#DIV/0!"}]
[null,null,null,null,null,2006,40.119999999999997,0,0,null,null,48.974609375,null,null,0,{"$error":"#DIV/0!"}]
[null,null,null,null,null,2007,40.14,0,0,null,null,48.9990234375,null,null,0,{"$error":"#DIV/0!"}]
[null,null,null,null,null,2008,40.160000000000004,0,0,null,null,49.0234375,null,null,0,{"$error":"#DIV/0!"}]
[null,null,null,null,null,2009,40.18,0,0,null,null,49.0478515625,null,null,0,{"$error":"#DIV/0!"}]
[null,null,null,null,null,2010,40.200000000000003,0,0,null,null,49.072265625,null,null,0,{"$error":"#DIV/0!"}]
[null,null,null,null,null,2011,40.22,0,0,null,null,49.0966796875,null,null,0,{"$error":"#DIV/0!"}]
[null,null,null,null,null,2012,40.24,0,0,null,null,49.12109375,null,null,0,{"$error":"#DIV/0!"}]
[null,null,null,null,null,2013,40.26,0,0,null,null,49.1455078125,null,null,0,{"$error":"#DIV/0!"}]
[null,null,null,null,null,2014,40.28,0,0,null,null,49.169921875,null,null,0,{"$error":"#DIV/0!"}]
[null,null,null,null,null,2015,40.300000000000004,0,0,null,null,49.1943359375,null,null,0,{"$error":"#DIV/0!"}]
[null,null,null,null,null,2016,40.32,0,0,null,null,49.21875,null,null,0,{"$error":"#DIV/0!"}]
[null,null,null,null,null,2017,40.340000000000003,0,0,null,null,49.2431640625,null,null,0,{"$error":"#DIV/0!"}]
[null,null,null,null,null,2018,40.36,0,0,null,null,49.267578125,null,null,0,{"$error":"#DIV/0!"}]
[null,null,null,null,null,2019,40.380000000000003,0,0,null,null,49.2919921875,null,null,0,{"$error":"#DIV/0!"}]
[null,null,null,null,null,2020,40.4,0,0,null,null,49.31640625,null,null,0,{"$error":"#DIV/0!"}]
[null,null,null,null,null,2021,40.42,0,0,null,null,49.3408203125,null,null,0,{"$error":"#DIV/0!"}]
[null,null,null,null,null,2022,40.44,0,0,null,null,49.365234375,null,null,0,{"$error":"#DIV/0!"}]
[null,null,null,null,null,2023,40.46,0,0,null,null,49.3896484375,null,null,0,{"$error":"#DIV/0!"}]
[null,null,null,null,null,2024,40.480000000000004,0,0,null,null,49.4140625,null,null,0,{"$error":"#DIV/0!"}]
[null,null,null,null,null,2025,40.5,0,0,null,null,49.4384765625,null,null,0,{"$error":"#DIV/0!"}]
[null,null,null,null,null,2026,40.520000000000003,0,0,null,null,49.462890625,null,null,0,{"$error":"#DIV/0!"}]
[null,null,null,null,null,2027,40.54,0,0,null,null,49.4873046875,null,null,0,{"$error":"#DIV/0!"}]
[null,null,null,null,null,2028,40.56,0,0,null,null,49.51171875,null,null,0,{"$error":"#DIV/0!"}]
[null,null,null,null,null,2029,40.58,0,0,null,null,49.5361328125,null,null,0,{"$error":"#DIV/0!"}]
[null,null,null,null,null,2030,40.6,0,0,null,null,49.560546875,null,null,0,{"$error":"#DIV/0!"}]
[null,null,null,null,null,2031,40.619999999999997,0,0,null,null,49.5849609375,null,null,0,{"$error":"#DIV/0!"}]
[null,null,null,null,null,2032,40.64,0,0,null,null,49.609375,null,null,0,{"$error":"#DIV/0!"}]
[null,null,null,null,null,2033,40.660000000000004,0,0,null,null,49.6337890625,null,null,0,{"$error":"#DIV/0!"}]
[null,null,null,null,null,2034,40.68,0,0,null,null,49.658203125,null,null,0,{"$error":"#DIV/0!"}]
[null,null,null,null,null,2035,40.700000000000003,0,0,null,null,49.6826171875,null,null,0,{"$error":"#DIV/0!"}]
[null,null,null,null,null,2036,40.72,0,0,null,null,49.70703125,null,null,0,{"$error":"#DIV/0!"}]
[null,null,null,null,null,2037,40.74,0,0,null,null,49.7314453125,null,null,0,{"$error":"#DIV/0!"}]
[null,null,null,null,null,2038,40.76,0,0,null,null,49.755859375,null,null,0,{"$error":"#DIV/0!"}]
[null,null,null,null,null,2039,40.78,0,0,null,null,49.7802734375,null,null,0,{"$error":"#DIV/0!"}]
[null,null,null,null,null,2040,40.800000000000004,0,0,null,null,49.8046875,null,null,0,{"$error":"#DIV/0!"}]
[null,null,null,null,null,2041,40.82,0,0,null,null,49.8291015625,null,null,0,{"$error":"#DIV/0!"}]
[null,null,null,null,null,2042,40.840000000000003,0,0,null,null,49.853515625,null,null,0,{"$error":"#DIV/0!"}]
[null,null,null,null,null,2043,40.86,0,0,null,null,49.8779296875,null,null,0,{"$error":"#DIV/0!"}]
[null,null,null,null,null,2044,40.880000000000003,0,0,null,null,49.90234375,null,null,0,{"$error":"#DIV/0!"}]
[null,null,null,null,null,2045,40.9,0,0,null,null,49.9267578125,null,null,0,{"$error":"#DIV/0!"}]
[null,null,null,null,null,2046,40.92,0,0,null,null,49.951171875,null,null,0,{"$error":"#DIV/0!"}]
[null,null,null,null,null,2047,-0.02,0,0,null,null,49.9755859375,null,null,0,{"$error":"#DIV/0!"}]

{"sheet":"INVERSE","index":1,"n_rows":2049,"n_cols":14,"rows_kept":2049,"cut":false,"hidden":false,"merged":[]}
["MASS M",{"$f":"FOURIER!B1","v":1},"t",null,null,"FOURIER","k","FREQ. (Hz)","C(Rk)","C(Ik)",null,"INVERSE","X(Rk)","X(Ik)"]
["STIFFNESS K",{"$f":"FOURIER!B2","v":5},"kN/m",null,null,"TRANSFORM",0,{"$f":"(G2)/B$9/B$6","v":0},{"$f":"FOURIER!M2","v":0},{"$f":"FOURIER!N2","v":0},null,"TRANSFORM"]
["DAMPING C",{"$f":"FOURIER!B3","v":0.2},"kNsec/m",null,null,null,1,2.44140625E-2,{"$f":"FOURIER!M3","v":0},{"$f":"FOURIER!N3","v":0}]
["ANGULAR FREQUENCY ω0",{"$f":"FOURIER!B4","v":2.2360679774997898},"1/sec",null,null,null,2,4.8828125E-2,{"$f":"FOURIER!M4","v":0},{"$f":"FOURIER!N4","v":0}]
["FREQUENCY f0",{"$f":"FOURIER!B5","v":0.35588127170858858},"1/sec",null,null,null,3,7.32421875E-2,{"$f":"FOURIER!M5","v":0},{"$f":"FOURIER!N5","v":0}]
["TIME INTERVAL Δt",{"$f":"FOURIER!B6","v":0.02},"sec",null,null,null,4,9.765625E-2,{"$f":"FOURIER!M6","v":0},{"$f":"FOURIER!N6","v":0}]
["DURATION T",{"$f":"FOURIER!B7","v":40.96},"sec",null,null,null,5,0.1220703125,{"$f":"FOURIER!M7","v":0},{"$f":"FOURIER!N7","v":0}]
["DAMPING COEFFICIENT h",{"$f":"FOURIER!B8","v":4.4721359549995794E-2},null,null,null,null,6,0.146484375,{"$f":"FOURIER!M8","v":0},{"$f":"FOURIER!N8","v":0}]
["NUMBER OF DATA N",{"$f":"FOURIER!B9","v":2048},null,null,null,null,7,0.1708984375,{"$f":"FOURIER!M9","v":0},{"$f":"FOURIER!N9","v":0}]
["NATURALPERIOD　T0　",{"$f":"FOURIER!B10","v":2.80992589241629},"sec",null,null,null,8,0.1953125,{"$f":"FOURIER!M10","v":0},{"$f":"FOURIER!N10","v":0}]
[null,null,null,null,null,null,9,0.2197265625,{"$f":"FOURIER!M11","v":0},{"$f":"FOURIER!N11","v":0}]
["INPUT FOURIER REAL","I",null,null,null,null,10,0.244140625,{"$f":"FOURIER!M12","v":0},{"$f":"FOURIER!N12","v":0}]
["INPUT FOURIER IMAG","J",null,null,null,null,11,0.2685546875,{"$f":"FOURIER!M13","v":0},{"$f":"FOURIER!N13","v":0}]
["OUTPUT INVERSE REAL","M",null,null,null,null,12,0.29296875,{"$f":"FOURIER!M14","v":0},{"$f":"FOURIER!N14","v":0}]
["OUTPUT INVERSE IMAG","N",null,null,null,null,13,0.3173828125,{"$f":"FOURIER!M15","v":0},{"$f":"FOURIER!N15","v":0}]
[null,null,null,null,null,null,14,0.341796875,{"$f":"FOURIER!M16","v":0},{"$f":"FOURIER!N16","v":0}]
["※オレンジで塗られた箇所はVBAで計算",null,null,null,null,null,15,0.3662109375,{"$f":"FOURIER!M17","v":0},{"$f":"FOURIER!N17","v":0}]
[null,null,null,null,null,null,16,0.390625,{"$f":"FOURIER!M18","v":0},{"$f":"FOURIER!N18","v":0}]
["※無断複製、転載を禁ず",null,null,null,null,null,17,0.4150390625,{"$f":"FOURIER!M19","v":0},{"$f":"FOURIER!N19","v":0}]
["©Tokyo Tech Takeuchi Lab.",null,null,null,null,null,18,0.439453125,{"$f":"FOURIER!M20","v":0},{"$f":"FOURIER!N20","v":0}]
["All rights reserved",null,null,null,null,null,19,0.4638671875,{"$f":"FOURIER!M21","v":0},{"$f":"FOURIER!N21","v":0}]
[null,null,null,null,null,null,20,0.48828125,{"$f":"FOURIER!M22","v":0},{"$f":"FOURIER!N22","v":0}]
[null,null,null,null,null,null,21,0.5126953125,{"$f":"FOURIER!M23","v":0},{"$f":"FOURIER!N23","v":0}]
[null,null,null,null,null,null,22,0.537109375,{"$f":"FOURIER!M24","v":0},{"$f":"FOURIER!N24","v":0}]
[null,null,null,null,null,null,23,0.5615234375,{"$f":"FOURIER!M25","v":0},{"$f":"FOURIER!N25","v":0}]
[null,null,null,null,null,null,24,0.5859375,{"$f":"FOURIER!M26","v":0},{"$f":"FOURIER!N26","v":0}]
[null,null,null,null,null,null,25,0.6103515625,{"$f":"FOURIER!M27","v":0},{"$f":"FOURIER!N27","v":0}]
[null,null,null,null,null,null,26,0.634765625,{"$f":"FOURIER!M28","v":0},{"$f":"FOURIER!N28","v":0}]
[null,null,null,null,null,null,27,0.6591796875,{"$f":"FOURIER!M29","v":0},{"$f":"FOURIER!N29","v":0}]
[null,null,null,null,null,null,28,0.68359375,{"$f":"FOURIER!M30","v":0},{"$f":"FOURIER!N30","v":0}]
[null,null,null,null,null,null,29,0.7080078125,{"$f":"FOURIER!M31","v":0},{"$f":"FOURIER!N31","v":0}]
[null,null,null,null,null,null,30,0.732421875,{"$f":"FOURIER!M32","v":0},{"$f":"FOURIER!N32","v":0}]
[null,null,null,null,null,null,31,0.7568359375,{"$f":"FOURIER!M33","v":0},{"$f":"FOURIER!N33","v":0}]
[null,null,null,null,null,null,32,0.78125,{"$f":"FOURIER!M34","v":0},{"$f":"FOURIER!N34","v":0}]
[null,null,null,null,null,null,33,0.8056640625,{"$f":"FOURIER!M35","v":0},{"$f":"FOURIER!N35","v":0}]
[null,null,null,null,null,null,34,0.830078125,{"$f":"FOURIER!M36","v":0},{"$f":"FOURIER!N36","v":0}]
[null,null,null,null,null,null,35,0.8544921875,{"$f":"FOURIER!M37","v":0},{"$f":"FOURIER!N37","v":0}]
[null,null,null,null,null,null,36,0.87890625,{"$f":"FOURIER!M38","v":0},{"$f":"FOURIER!N38","v":0}]
[null,null,null,null,null,null,37,0.9033203125,{"$f":"FOURIER!M39","v":0},{"$f":"FOURIER!N39","v":0}]
[null,null,null,null,null,null,38,0.927734375,{"$f":"FOURIER!M40","v":0},{"$f":"FOURIER!N40","v":0}]
[null,null,null,null,null,null,39,0.9521484375,{"$f":"FOURIER!M41","v":0},{"$f":"FOURIER!N41","v":0}]
[null,null,null,null,null,null,40,0.9765625,{"$f":"FOURIER!M42","v":0},{"$f":"FOURIER!N42","v":0}]
[null,null,null,null,null,null,41,1.0009765625,{"$f":"FOURIER!M43","v":0},{"$f":"FOURIER!N43","v":0}]
[null,null,null,null,null,null,42,1.025390625,{"$f":"FOURIER!M44","v":0},{"$f":"FOURIER!N44","v":0}]
[null,null,null,null,null,null,43,1.0498046875,{"$f":"FOURIER!M45","v":0},{"$f":"FOURIER!N45","v":0}]
[null,null,null,null,null,null,44,1.07421875,{"$f":"FOURIER!M46","v":0},{"$f":"FOURIER!N46","v":0}]
[null,null,null,null,null,null,45,1.0986328125,{"$f":"FOURIER!M47","v":0},{"$f":"FOURIER!N47","v":0}]
[null,null,null,null,null,null,46,1.123046875,{"$f":"FOURIER!M48","v":0},{"$f":"FOURIER!N48","v":0}]
[null,null,null,null,null,null,47,1.1474609375,{"$f":"FOURIER!M49","v":0},{"$f":"FOURIER!N49","v":0}]
[null,null,null,null,null,null,48,1.171875,{"$f":"FOURIER!M50","v":0},{"$f":"FOURIER!N50","v":0}]
[null,null,null,null,null,null,49,1.1962890625,{"$f":"FOURIER!M51","v":0},{"$f":"FOURIER!N51","v":0}]
[null,null,null,null,null,null,50,1.220703125,{"$f":"FOURIER!M52","v":0},{"$f":"FOURIER!N52","v":0}]
[null,null,null,null,null,null,51,1.2451171875,{"$f":"FOURIER!M53","v":0},{"$f":"FOURIER!N53","v":0}]
[null,null,null,null,null,null,52,1.26953125,{"$f":"FOURIER!M54","v":0},{"$f":"FOURIER!N54","v":0}]
[null,null,null,null,null,null,53,1.2939453125,{"$f":"FOURIER!M55","v":0},{"$f":"FOURIER!N55","v":0}]
[null,null,null,null,null,null,54,1.318359375,{"$f":"FOURIER!M56","v":0},{"$f":"FOURIER!N56","v":0}]
[null,null,null,null,null,null,55,1.3427734375,{"$f":"FOURIER!M57","v":0},{"$f":"FOURIER!N57","v":0}]
[null,null,null,null,null,null,56,1.3671875,{"$f":"FOURIER!M58","v":0},{"$f":"FOURIER!N58","v":0}]
[null,null,null,null,null,null,57,1.3916015625,{"$f":"FOURIER!M59","v":0},{"$f":"FOURIER!N59","v":0}]
[null,null,null,null,null,null,58,1.416015625,{"$f":"FOURIER!M60","v":0},{"$f":"FOURIER!N60","v":0}]
[null,null,null,null,null,null,59,1.4404296875,{"$f":"FOURIER!M61","v":0},{"$f":"FOURIER!N61","v":0}]
[null,null,null,null,null,null,60,1.46484375,{"$f":"FOURIER!M62","v":0},{"$f":"FOURIER!N62","v":0}]
[null,null,null,null,null,null,61,1.4892578125,{"$f":"FOURIER!M63","v":0},{"$f":"FOURIER!N63","v":0}]
[null,null,null,null,null,null,62,1.513671875,{"$f":"FOURIER!M64","v":0},{"$f":"FOURIER!N64","v":0}]
[null,null,null,null,null,null,63,1.5380859375,{"$f":"FOURIER!M65","v":0},{"$f":"FOURIER!N65","v":0}]
[null,null,null,null,null,null,64,{"$f":"(G66)/B$9/B$6","v":1.5625},{"$f":"FOURIER!M66","v":0},{"$f":"FOURIER!N66","v":0}]
[null,null,null,null,null,null,65,1.5869140625,{"$f":"FOURIER!M67","v":0},{"$f":"FOURIER!N67","v":0}]
[null,null,null,null,null,null,66,1.611328125,{"$f":"FOURIER!M68","v":0},{"$f":"FOURIER!N68","v":0}]
[null,null,null,null,null,null,67,1.6357421875,{"$f":"FOURIER!M69","v":0},{"$f":"FOURIER!N69","v":0}]
[null,null,null,null,null,null,68,1.66015625,{"$f":"FOURIER!M70","v":0},{"$f":"FOURIER!N70","v":0}]
[null,null,null,null,null,null,69,1.6845703125,{"$f":"FOURIER!M71","v":0},{"$f":"FOURIER!N71","v":0}]
[null,null,null,null,null,null,70,1.708984375,{"$f":"FOURIER!M72","v":0},{"$f":"FOURIER!N72","v":0}]
[null,null,null,null,null,null,71,1.7333984375,{"$f":"FOURIER!M73","v":0},{"$f":"FOURIER!N73","v":0}]
[null,null,null,null,null,null,72,1.7578125,{"$f":"FOURIER!M74","v":0},{"$f":"FOURIER!N74","v":0}]
[null,null,null,null,null,null,73,1.7822265625,{"$f":"FOURIER!M75","v":0},{"$f":"FOURIER!N75","v":0}]
[null,null,null,null,null,null,74,1.806640625,{"$f":"FOURIER!M76","v":0},{"$f":"FOURIER!N76","v":0}]
[null,null,null,null,null,null,75,1.8310546875,{"$f":"FOURIER!M77","v":0},{"$f":"FOURIER!N77","v":0}]
[null,null,null,null,null,null,76,1.85546875,{"$f":"FOURIER!M78","v":0},{"$f":"FOURIER!N78","v":0}]
[null,null,null,null,null,null,77,1.8798828125,{"$f":"FOURIER!M79","v":0},{"$f":"FOURIER!N79","v":0}]
[null,null,null,null,null,null,78,1.904296875,{"$f":"FOURIER!M80","v":0},{"$f":"FOURIER!N80","v":0}]
[null,null,null,null,null,null,79,1.9287109375,{"$f":"FOURIER!M81","v":0},{"$f":"FOURIER!N81","v":0}]
[null,null,null,null,null,null,80,1.953125,{"$f":"FOURIER!M82","v":0},{"$f":"FOURIER!N82","v":0}]
[null,null,null,null,null,null,81,1.9775390625,{"$f":"FOURIER!M83","v":0},{"$f":"FOURIER!N83","v":0}]
[null,null,null,null,null,null,82,2.001953125,{"$f":"FOURIER!M84","v":0},{"$f":"FOURIER!N84","v":0}]
[null,null,null,null,null,null,83,2.0263671875,{"$f":"FOURIER!M85","v":0},{"$f":"FOURIER!N85","v":0}]
[null,null,null,null,null,null,84,2.05078125,{"$f":"FOURIER!M86","v":0},{"$f":"FOURIER!N86","v":0}]
[null,null,null,null,null,null,85,2.0751953125,{"$f":"FOURIER!M87","v":0},{"$f":"FOURIER!N87","v":0}]
[null,null,null,null,null,null,86,2.099609375,{"$f":"FOURIER!M88","v":0},{"$f":"FOURIER!N88","v":0}]
[null,null,null,null,null,null,87,2.1240234375,{"$f":"FOURIER!M89","v":0},{"$f":"FOURIER!N89","v":0}]
[null,null,null,null,null,null,88,2.1484375,{"$f":"FOURIER!M90","v":0},{"$f":"FOURIER!N90","v":0}]
[null,null,null,null,null,null,89,2.1728515625,{"$f":"FOURIER!M91","v":0},{"$f":"FOURIER!N91","v":0}]
[null,null,null,null,null,null,90,2.197265625,{"$f":"FOURIER!M92","v":0},{"$f":"FOURIER!N92","v":0}]
[null,null,null,null,null,null,91,2.2216796875,{"$f":"FOURIER!M93","v":0},{"$f":"FOURIER!N93","v":0}]
[null,null,null,null,null,null,92,2.24609375,{"$f":"FOURIER!M94","v":0},{"$f":"FOURIER!N94","v":0}]
[null,null,null,null,null,null,93,2.2705078125,{"$f":"FOURIER!M95","v":0},{"$f":"FOURIER!N95","v":0}]
[null,null,null,null,null,null,94,2.294921875,{"$f":"FOURIER!M96","v":0},{"$f":"FOURIER!N96","v":0}]
[null,null,null,null,null,null,95,2.3193359375,{"$f":"FOURIER!M97","v":0},{"$f":"FOURIER!N97","v":0}]
[null,null,null,null,null,null,96,2.34375,{"$f":"FOURIER!M98","v":0},{"$f":"FOURIER!N98","v":0}]
[null,null,null,null,null,null,97,2.3681640625,{"$f":"FOURIER!M99","v":0},{"$f":"FOURIER!N99","v":0}]
[null,null,null,null,null,null,98,2.392578125,{"$f":"FOURIER!M100","v":0},{"$f":"FOURIER!N100","v":0}]
[null,null,null,null,null,null,99,2.4169921875,{"$f":"FOURIER!M101","v":0},{"$f":"FOURIER!N101","v":0}]
[null,null,null,null,null,null,100,2.44140625,{"$f":"FOURIER!M102","v":0},{"$f":"FOURIER!N102","v":0}]
[null,null,null,null,null,null,101,2.4658203125,{"$f":"FOURIER!M103","v":0},{"$f":"FOURIER!N103","v":0}]
[null,null,null,null,null,null,102,2.490234375,{"$f":"FOURIER!M104","v":0},{"$f":"FOURIER!N104","v":0}]
[null,null,null,null,null,null,103,2.5146484375,{"$f":"FOURIER!M105","v":0},{"$f":"FOURIER!N105","v":0}]
[null,null,null,null,null,null,104,2.5390625,{"$f":"FOURIER!M106","v":0},{"$f":"FOURIER!N106","v":0}]
[null,null,null,null,null,null,105,2.5634765625,{"$f":"FOURIER!M107","v":0},{"$f":"FOURIER!N107","v":0}]
[null,null,null,null,null,null,106,2.587890625,{"$f":"FOURIER!M108","v":0},{"$f":"FOURIER!N108","v":0}]
[null,null,null,null,null,null,107,2.6123046875,{"$f":"FOURIER!M109","v":0},{"$f":"FOURIER!N109","v":0}]
[null,null,null,null,null,null,108,2.63671875,{"$f":"FOURIER!M110","v":0},{"$f":"FOURIER!N110","v":0}]
[null,null,null,null,null,null,109,2.6611328125,{"$f":"FOURIER!M111","v":0},{"$f":"FOURIER!N111","v":0}]
[null,null,null,null,null,null,110,2.685546875,{"$f":"FOURIER!M112","v":0},{"$f":"FOURIER!N112","v":0}]
[null,null,null,null,null,null,111,2.7099609375,{"$f":"FOURIER!M113","v":0},{"$f":"FOURIER!N113","v":0}]
[null,null,null,null,null,null,112,2.734375,{"$f":"FOURIER!M114","v":0},{"$f":"FOURIER!N114","v":0}]
[null,null,null,null,null,null,113,2.7587890625,{"$f":"FOURIER!M115","v":0},{"$f":"FOURIER!N115","v":0}]
[null,null,null,null,null,null,114,2.783203125,{"$f":"FOURIER!M116","v":0},{"$f":"FOURIER!N116","v":0}]
[null,null,null,null,null,null,115,2.8076171875,{"$f":"FOURIER!M117","v":0},{"$f":"FOURIER!N117","v":0}]
[null,null,null,null,null,null,116,2.83203125,{"$f":"FOURIER!M118","v":0},{"$f":"FOURIER!N118","v":0}]
[null,null,null,null,null,null,117,2.8564453125,{"$f":"FOURIER!M119","v":0},{"$f":"FOURIER!N119","v":0}]
[null,null,null,null,null,null,118,2.880859375,{"$f":"FOURIER!M120","v":0},{"$f":"FOURIER!N120","v":0}]
[null,null,null,null,null,null,119,2.9052734375,{"$f":"FOURIER!M121","v":0},{"$f":"FOURIER!N121","v":0}]
[null,null,null,null,null,null,120,2.9296875,{"$f":"FOURIER!M122","v":0},{"$f":"FOURIER!N122","v":0}]
[null,null,null,null,null,null,121,2.9541015625,{"$f":"FOURIER!M123","v":0},{"$f":"FOURIER!N123","v":0}]
[null,null,null,null,null,null,122,2.978515625,{"$f":"FOURIER!M124","v":0},{"$f":"FOURIER!N124","v":0}]
[null,null,null,null,null,null,123,3.0029296875,{"$f":"FOURIER!M125","v":0},{"$f":"FOURIER!N125","v":0}]
[null,null,null,null,null,null,124,3.02734375,{"$f":"FOURIER!M126","v":0},{"$f":"FOURIER!N126","v":0}]
[null,null,null,null,null,null,125,3.0517578125,{"$f":"FOURIER!M127","v":0},{"$f":"FOURIER!N127","v":0}]
[null,null,null,null,null,null,126,3.076171875,{"$f":"FOURIER!M128","v":0},{"$f":"FOURIER!N128","v":0}]
[null,null,null,null,null,null,127,3.1005859375,{"$f":"FOURIER!M129","v":0},{"$f":"FOURIER!N129","v":0}]
[null,null,null,null,null,null,128,{"$f":"(G130)/B$9/B$6","v":3.125},{"$f":"FOURIER!M130","v":0},{"$f":"FOURIER!N130","v":0}]
[null,null,null,null,null,null,129,3.1494140625,{"$f":"FOURIER!M131","v":0},{"$f":"FOURIER!N131","v":0}]
[null,null,null,null,null,null,130,3.173828125,{"$f":"FOURIER!M132","v":0},{"$f":"FOURIER!N132","v":0}]
[null,null,null,null,null,null,131,3.1982421875,{"$f":"FOURIER!M133","v":0},{"$f":"FOURIER!N133","v":0}]
[null,null,null,null,null,null,132,3.22265625,{"$f":"FOURIER!M134","v":0},{"$f":"FOURIER!N134","v":0}]
[null,null,null,null,null,null,133,3.2470703125,{"$f":"FOURIER!M135","v":0},{"$f":"FOURIER!N135","v":0}]
[null,null,null,null,null,null,134,3.271484375,{"$f":"FOURIER!M136","v":0},{"$f":"FOURIER!N136","v":0}]
[null,null,null,null,null,null,135,3.2958984375,{"$f":"FOURIER!M137","v":0},{"$f":"FOURIER!N137","v":0}]
[null,null,null,null,null,null,136,3.3203125,{"$f":"FOURIER!M138","v":0},{"$f":"FOURIER!N138","v":0}]
[null,null,null,null,null,null,137,3.3447265625,{"$f":"FOURIER!M139","v":0},{"$f":"FOURIER!N139","v":0}]
[null,null,null,null,null,null,138,3.369140625,{"$f":"FOURIER!M140","v":0},{"$f":"FOURIER!N140","v":0}]
[null,null,null,null,null,null,139,3.3935546875,{"$f":"FOURIER!M141","v":0},{"$f":"FOURIER!N141","v":0}]
[null,null,null,null,null,null,140,3.41796875,{"$f":"FOURIER!M142","v":0},{"$f":"FOURIER!N142","v":0}]
[null,null,null,null,null,null,141,3.4423828125,{"$f":"FOURIER!M143","v":0},{"$f":"FOURIER!N143","v":0}]
[null,null,null,null,null,null,142,3.466796875,{"$f":"FOURIER!M144","v":0},{"$f":"FOURIER!N144","v":0}]
[null,null,null,null,null,null,143,3.4912109375,{"$f":"FOURIER!M145","v":0},{"$f":"FOURIER!N145","v":0}]
[null,null,null,null,null,null,144,3.515625,{"$f":"FOURIER!M146","v":0},{"$f":"FOURIER!N146","v":0}]
[null,null,null,null,null,null,145,3.5400390625,{"$f":"FOURIER!M147","v":0},{"$f":"FOURIER!N147","v":0}]
[null,null,null,null,null,null,146,3.564453125,{"$f":"FOURIER!M148","v":0},{"$f":"FOURIER!N148","v":0}]
[null,null,null,null,null,null,147,3.5888671875,{"$f":"FOURIER!M149","v":0},{"$f":"FOURIER!N149","v":0}]
[null,null,null,null,null,null,148,3.61328125,{"$f":"FOURIER!M150","v":0},{"$f":"FOURIER!N150","v":0}]
[null,null,null,null,null,null,149,3.6376953125,{"$f":"FOURIER!M151","v":0},{"$f":"FOURIER!N151","v":0}]
[null,null,null,null,null,null,150,3.662109375,{"$f":"FOURIER!M152","v":0},{"$f":"FOURIER!N152","v":0}]
[null,null,null,null,null,null,151,3.6865234375,{"$f":"FOURIER!M153","v":0},{"$f":"FOURIER!N153","v":0}]
[null,null,null,null,null,null,152,3.7109375,{"$f":"FOURIER!M154","v":0},{"$f":"FOURIER!N154","v":0}]
[null,null,null,null,null,null,153,3.7353515625,{"$f":"FOURIER!M155","v":0},{"$f":"FOURIER!N155","v":0}]
[null,null,null,null,null,null,154,3.759765625,{"$f":"FOURIER!M156","v":0},{"$f":"FOURIER!N156","v":0}]
[null,null,null,null,null,null,155,3.7841796875,{"$f":"FOURIER!M157","v":0},{"$f":"FOURIER!N157","v":0}]
[null,null,null,null,null,null,156,3.80859375,{"$f":"FOURIER!M158","v":0},{"$f":"FOURIER!N158","v":0}]
[null,null,null,null,null,null,157,3.8330078125,{"$f":"FOURIER!M159","v":0},{"$f":"FOURIER!N159","v":0}]
[null,null,null,null,null,null,158,3.857421875,{"$f":"FOURIER!M160","v":0},{"$f":"FOURIER!N160","v":0}]
[null,null,null,null,null,null,159,3.8818359375,{"$f":"FOURIER!M161","v":0},{"$f":"FOURIER!N161","v":0}]
[null,null,null,null,null,null,160,3.90625,{"$f":"FOURIER!M162","v":0},{"$f":"FOURIER!N162","v":0}]
[null,null,null,null,null,null,161,3.9306640625,{"$f":"FOURIER!M163","v":0},{"$f":"FOURIER!N163","v":0}]
[null,null,null,null,null,null,162,3.955078125,{"$f":"FOURIER!M164","v":0},{"$f":"FOURIER!N164","v":0}]
[null,null,null,null,null,null,163,3.9794921875,{"$f":"FOURIER!M165","v":0},{"$f":"FOURIER!N165","v":0}]
[null,null,null,null,null,null,164,4.00390625,{"$f":"FOURIER!M166","v":0},{"$f":"FOURIER!N166","v":0}]
[null,null,null,null,null,null,165,4.0283203125,{"$f":"FOURIER!M167","v":0},{"$f":"FOURIER!N167","v":0}]
[null,null,null,null,null,null,166,4.052734375,{"$f":"FOURIER!M168","v":0},{"$f":"FOURIER!N168","v":0}]
[null,null,null,null,null,null,167,4.0771484375,{"$f":"FOURIER!M169","v":0},{"$f":"FOURIER!N169","v":0}]
[null,null,null,null,null,null,168,4.1015625,{"$f":"FOURIER!M170","v":0},{"$f":"FOURIER!N170","v":0}]
[null,null,null,null,null,null,169,4.1259765625,{"$f":"FOURIER!M171","v":0},{"$f":"FOURIER!N171","v":0}]
[null,null,null,null,null,null,170,4.150390625,{"$f":"FOURIER!M172","v":0},{"$f":"FOURIER!N172","v":0}]
[null,null,null,null,null,null,171,4.1748046875,{"$f":"FOURIER!M173","v":0},{"$f":"FOURIER!N173","v":0}]
[null,null,null,null,null,null,172,4.19921875,{"$f":"FOURIER!M174","v":0},{"$f":"FOURIER!N174","v":0}]
[null,null,null,null,null,null,173,4.2236328125,{"$f":"FOURIER!M175","v":0},{"$f":"FOURIER!N175","v":0}]
[null,null,null,null,null,null,174,4.248046875,{"$f":"FOURIER!M176","v":0},{"$f":"FOURIER!N176","v":0}]
[null,null,null,null,null,null,175,4.2724609375,{"$f":"FOURIER!M177","v":0},{"$f":"FOURIER!N177","v":0}]
[null,null,null,null,null,null,176,4.296875,{"$f":"FOURIER!M178","v":0},{"$f":"FOURIER!N178","v":0}]
[null,null,null,null,null,null,177,4.3212890625,{"$f":"FOURIER!M179","v":0},{"$f":"FOURIER!N179","v":0}]
[null,null,null,null,null,null,178,4.345703125,{"$f":"FOURIER!M180","v":0},{"$f":"FOURIER!N180","v":0}]
[null,null,null,null,null,null,179,4.3701171875,{"$f":"FOURIER!M181","v":0},{"$f":"FOURIER!N181","v":0}]
[null,null,null,null,null,null,180,4.39453125,{"$f":"FOURIER!M182","v":0},{"$f":"FOURIER!N182","v":0}]
[null,null,null,null,null,null,181,4.4189453125,{"$f":"FOURIER!M183","v":0},{"$f":"FOURIER!N183","v":0}]
[null,null,null,null,null,null,182,4.443359375,{"$f":"FOURIER!M184","v":0},{"$f":"FOURIER!N184","v":0}]
[null,null,null,null,null,null,183,4.4677734375,{"$f":"FOURIER!M185","v":0},{"$f":"FOURIER!N185","v":0}]
[null,null,null,null,null,null,184,4.4921875,{"$f":"FOURIER!M186","v":0},{"$f":"FOURIER!N186","v":0}]
[null,null,null,null,null,null,185,4.5166015625,{"$f":"FOURIER!M187","v":0},{"$f":"FOURIER!N187","v":0}]
[null,null,null,null,null,null,186,4.541015625,{"$f":"FOURIER!M188","v":0},{"$f":"FOURIER!N188","v":0}]
[null,null,null,null,null,null,187,4.5654296875,{"$f":"FOURIER!M189","v":0},{"$f":"FOURIER!N189","v":0}]
[null,null,null,null,null,null,188,4.58984375,{"$f":"FOURIER!M190","v":0},{"$f":"FOURIER!N190","v":0}]
[null,null,null,null,null,null,189,4.6142578125,{"$f":"FOURIER!M191","v":0},{"$f":"FOURIER!N191","v":0}]
[null,null,null,null,null,null,190,4.638671875,{"$f":"FOURIER!M192","v":0},{"$f":"FOURIER!N192","v":0}]
[null,null,null,null,null,null,191,4.6630859375,{"$f":"FOURIER!M193","v":0},{"$f":"FOURIER!N193","v":0}]
[null,null,null,null,null,null,192,{"$f":"(G194)/B$9/B$6","v":4.6875},{"$f":"FOURIER!M194","v":0},{"$f":"FOURIER!N194","v":0}]
[null,null,null,null,null,null,193,4.7119140625,{"$f":"FOURIER!M195","v":0},{"$f":"FOURIER!N195","v":0}]
[null,null,null,null,null,null,194,4.736328125,{"$f":"FOURIER!M196","v":0},{"$f":"FOURIER!N196","v":0}]
[null,null,null,null,null,null,195,4.7607421875,{"$f":"FOURIER!M197","v":0},{"$f":"FOURIER!N197","v":0}]
[null,null,null,null,null,null,196,4.78515625,{"$f":"FOURIER!M198","v":0},{"$f":"FOURIER!N198","v":0}]
[null,null,null,null,null,null,197,4.8095703125,{"$f":"FOURIER!M199","v":0},{"$f":"FOURIER!N199","v":0}]
[null,null,null,null,null,null,198,4.833984375,{"$f":"FOURIER!M200","v":0},{"$f":"FOURIER!N200","v":0}]
[null,null,null,null,null,null,199,4.8583984375,{"$f":"FOURIER!M201","v":0},{"$f":"FOURIER!N201","v":0}]
[null,null,null,null,null,null,200,4.8828125,{"$f":"FOURIER!M202","v":0},{"$f":"FOURIER!N202","v":0}]
[null,null,null,null,null,null,201,4.9072265625,{"$f":"FOURIER!M203","v":0},{"$f":"FOURIER!N203","v":0}]
[null,null,null,null,null,null,202,4.931640625,{"$f":"FOURIER!M204","v":0},{"$f":"FOURIER!N204","v":0}]
[null,null,null,null,null,null,203,4.9560546875,{"$f":"FOURIER!M205","v":0},{"$f":"FOURIER!N205","v":0}]
[null,null,null,null,null,null,204,4.98046875,{"$f":"FOURIER!M206","v":0},{"$f":"FOURIER!N206","v":0}]
[null,null,null,null,null,null,205,5.0048828125,{"$f":"FOURIER!M207","v":0},{"$f":"FOURIER!N207","v":0}]
[null,null,null,null,null,null,206,5.029296875,{"$f":"FOURIER!M208","v":0},{"$f":"FOURIER!N208","v":0}]
[null,null,null,null,null,null,207,5.0537109375,{"$f":"FOURIER!M209","v":0},{"$f":"FOURIER!N209","v":0}]
[null,null,null,null,null,null,208,5.078125,{"$f":"FOURIER!M210","v":0},{"$f":"FOURIER!N210","v":0}]
[null,null,null,null,null,null,209,5.1025390625,{"$f":"FOURIER!M211","v":0},{"$f":"FOURIER!N211","v":0}]
[null,null,null,null,null,null,210,5.126953125,{"$f":"FOURIER!M212","v":0},{"$f":"FOURIER!N212","v":0}]
[null,null,null,null,null,null,211,5.1513671875,{"$f":"FOURIER!M213","v":0},{"$f":"FOURIER!N213","v":0}]
[null,null,null,null,null,null,212,5.17578125,{"$f":"FOURIER!M214","v":0},{"$f":"FOURIER!N214","v":0}]
[null,null,null,null,null,null,213,5.2001953125,{"$f":"FOURIER!M215","v":0},{"$f":"FOURIER!N215","v":0}]
[null,null,null,null,null,null,214,5.224609375,{"$f":"FOURIER!M216","v":0},{"$f":"FOURIER!N216","v":0}]
[null,null,null,null,null,null,215,5.2490234375,{"$f":"FOURIER!M217","v":0},{"$f":"FOURIER!N217","v":0}]
[null,null,null,null,null,null,216,5.2734375,{"$f":"FOURIER!M218","v":0},{"$f":"FOURIER!N218","v":0}]
[null,null,null,null,null,null,217,5.2978515625,{"$f":"FOURIER!M219","v":0},{"$f":"FOURIER!N219","v":0}]
[null,null,null,null,null,null,218,5.322265625,{"$f":"FOURIER!M220","v":0},{"$f":"FOURIER!N220","v":0}]
[null,null,null,null,null,null,219,5.3466796875,{"$f":"FOURIER!M221","v":0},{"$f":"FOURIER!N221","v":0}]
[null,null,null,null,null,null,220,5.37109375,{"$f":"FOURIER!M222","v":0},{"$f":"FOURIER!N222","v":0}]
[null,null,null,null,null,null,221,5.3955078125,{"$f":"FOURIER!M223","v":0},{"$f":"FOURIER!N223","v":0}]
[null,null,null,null,null,null,222,5.419921875,{"$f":"FOURIER!M224","v":0},{"$f":"FOURIER!N224","v":0}]
[null,null,null,null,null,null,223,5.4443359375,{"$f":"FOURIER!M225","v":0},{"$f":"FOURIER!N225","v":0}]
[null,null,null,null,null,null,224,5.46875,{"$f":"FOURIER!M226","v":0},{"$f":"FOURIER!N226","v":0}]
[null,null,null,null,null,null,225,5.4931640625,{"$f":"FOURIER!M227","v":0},{"$f":"FOURIER!N227","v":0}]
[null,null,null,null,null,null,226,5.517578125,{"$f":"FOURIER!M228","v":0},{"$f":"FOURIER!N228","v":0}]
[null,null,null,null,null,null,227,5.5419921875,{"$f":"FOURIER!M229","v":0},{"$f":"FOURIER!N229","v":0}]
[null,null,null,null,null,null,228,5.56640625,{"$f":"FOURIER!M230","v":0},{"$f":"FOURIER!N230","v":0}]
[null,null,null,null,null,null,229,5.5908203125,{"$f":"FOURIER!M231","v":0},{"$f":"FOURIER!N231","v":0}]
[null,null,null,null,null,null,230,5.615234375,{"$f":"FOURIER!M232","v":0},{"$f":"FOURIER!N232","v":0}]
[null,null,null,null,null,null,231,5.6396484375,{"$f":"FOURIER!M233","v":0},{"$f":"FOURIER!N233","v":0}]
[null,null,null,null,null,null,232,5.6640625,{"$f":"FOURIER!M234","v":0},{"$f":"FOURIER!N234","v":0}]
[null,null,null,null,null,null,233,5.6884765625,{"$f":"FOURIER!M235","v":0},{"$f":"FOURIER!N235","v":0}]
[null,null,null,null,null,null,234,5.712890625,{"$f":"FOURIER!M236","v":0},{"$f":"FOURIER!N236","v":0}]
[null,null,null,null,null,null,235,5.7373046875,{"$f":"FOURIER!M237","v":0},{"$f":"FOURIER!N237","v":0}]
[null,null,null,null,null,null,236,5.76171875,{"$f":"FOURIER!M238","v":0},{"$f":"FOURIER!N238","v":0}]
[null,null,null,null,null,null,237,5.7861328125,{"$f":"FOURIER!M239","v":0},{"$f":"FOURIER!N239","v":0}]
[null,null,null,null,null,null,238,5.810546875,{"$f":"FOURIER!M240","v":0},{"$f":"FOURIER!N240","v":0}]
[null,null,null,null,null,null,239,5.8349609375,{"$f":"FOURIER!M241","v":0},{"$f":"FOURIER!N241","v":0}]
[null,null,null,null,null,null,240,5.859375,{"$f":"FOURIER!M242","v":0},{"$f":"FOURIER!N242","v":0}]
[null,null,null,null,null,null,241,5.8837890625,{"$f":"FOURIER!M243","v":0},{"$f":"FOURIER!N243","v":0}]
[null,null,null,null,null,null,242,5.908203125,{"$f":"FOURIER!M244","v":0},{"$f":"FOURIER!N244","v":0}]
[null,null,null,null,null,null,243,5.9326171875,{"$f":"FOURIER!M245","v":0},{"$f":"FOURIER!N245","v":0}]
[null,null,null,null,null,null,244,5.95703125,{"$f":"FOURIER!M246","v":0},{"$f":"FOURIER!N246","v":0}]
[null,null,null,null,null,null,245,5.9814453125,{"$f":"FOURIER!M247","v":0},{"$f":"FOURIER!N247","v":0}]
[null,null,null,null,null,null,246,6.005859375,{"$f":"FOURIER!M248","v":0},{"$f":"FOURIER!N248","v":0}]
[null,null,null,null,null,null,247,6.0302734375,{"$f":"FOURIER!M249","v":0},{"$f":"FOURIER!N249","v":0}]
[null,null,null,null,null,null,248,6.0546875,{"$f":"FOURIER!M250","v":0},{"$f":"FOURIER!N250","v":0}]
[null,null,null,null,null,null,249,6.0791015625,{"$f":"FOURIER!M251","v":0},{"$f":"FOURIER!N251","v":0}]
[null,null,null,null,null,null,250,6.103515625,{"$f":"FOURIER!M252","v":0},{"$f":"FOURIER!N252","v":0}]
[null,null,null,null,null,null,251,6.1279296875,{"$f":"FOURIER!M253","v":0},{"$f":"FOURIER!N253","v":0}]
[null,null,null,null,null,null,252,6.15234375,{"$f":"FOURIER!M254","v":0},{"$f":"FOURIER!N254","v":0}]
[null,null,null,null,null,null,253,6.1767578125,{"$f":"FOURIER!M255","v":0},{"$f":"FOURIER!N255","v":0}]
[null,null,null,null,null,null,254,6.201171875,{"$f":"FOURIER!M256","v":0},{"$f":"FOURIER!N256","v":0}]
[null,null,null,null,null,null,255,6.2255859375,{"$f":"FOURIER!M257","v":0},{"$f":"FOURIER!N257","v":0}]
[null,null,null,null,null,null,256,{"$f":"(G258)/B$9/B$6","v":6.25},{"$f":"FOURIER!M258","v":0},{"$f":"FOURIER!N258","v":0}]
[null,null,null,null,null,null,257,6.2744140625,{"$f":"FOURIER!M259","v":0},{"$f":"FOURIER!N259","v":0}]
[null,null,null,null,null,null,258,6.298828125,{"$f":"FOURIER!M260","v":0},{"$f":"FOURIER!N260","v":0}]
[null,null,null,null,null,null,259,6.3232421875,{"$f":"FOURIER!M261","v":0},{"$f":"FOURIER!N261","v":0}]
[null,null,null,null,null,null,260,6.34765625,{"$f":"FOURIER!M262","v":0},{"$f":"FOURIER!N262","v":0}]
[null,null,null,null,null,null,261,6.3720703125,{"$f":"FOURIER!M263","v":0},{"$f":"FOURIER!N263","v":0}]
[null,null,null,null,null,null,262,6.396484375,{"$f":"FOURIER!M264","v":0},{"$f":"FOURIER!N264","v":0}]
[null,null,null,null,null,null,263,6.4208984375,{"$f":"FOURIER!M265","v":0},{"$f":"FOURIER!N265","v":0}]
[null,null,null,null,null,null,264,6.4453125,{"$f":"FOURIER!M266","v":0},{"$f":"FOURIER!N266","v":0}]
[null,null,null,null,null,null,265,6.4697265625,{"$f":"FOURIER!M267","v":0},{"$f":"FOURIER!N267","v":0}]
[null,null,null,null,null,null,266,6.494140625,{"$f":"FOURIER!M268","v":0},{"$f":"FOURIER!N268","v":0}]
[null,null,null,null,null,null,267,6.5185546875,{"$f":"FOURIER!M269","v":0},{"$f":"FOURIER!N269","v":0}]
[null,null,null,null,null,null,268,6.54296875,{"$f":"FOURIER!M270","v":0},{"$f":"FOURIER!N270","v":0}]
[null,null,null,null,null,null,269,6.5673828125,{"$f":"FOURIER!M271","v":0},{"$f":"FOURIER!N271","v":0}]
[null,null,null,null,null,null,270,6.591796875,{"$f":"FOURIER!M272","v":0},{"$f":"FOURIER!N272","v":0}]
[null,null,null,null,null,null,271,6.6162109375,{"$f":"FOURIER!M273","v":0},{"$f":"FOURIER!N273","v":0}]
[null,null,null,null,null,null,272,6.640625,{"$f":"FOURIER!M274","v":0},{"$f":"FOURIER!N274","v":0}]
[null,null,null,null,null,null,273,6.6650390625,{"$f":"FOURIER!M275","v":0},{"$f":"FOURIER!N275","v":0}]
[null,null,null,null,null,null,274,6.689453125,{"$f":"FOURIER!M276","v":0},{"$f":"FOURIER!N276","v":0}]
[null,null,null,null,null,null,275,6.7138671875,{"$f":"FOURIER!M277","v":0},{"$f":"FOURIER!N277","v":0}]
[null,null,null,null,null,null,276,6.73828125,{"$f":"FOURIER!M278","v":0},{"$f":"FOURIER!N278","v":0}]
[null,null,null,null,null,null,277,6.7626953125,{"$f":"FOURIER!M279","v":0},{"$f":"FOURIER!N279","v":0}]
[null,null,null,null,null,null,278,6.787109375,{"$f":"FOURIER!M280","v":0},{"$f":"FOURIER!N280","v":0}]
[null,null,null,null,null,null,279,6.8115234375,{"$f":"FOURIER!M281","v":0},{"$f":"FOURIER!N281","v":0}]
[null,null,null,null,null,null,280,6.8359375,{"$f":"FOURIER!M282","v":0},{"$f":"FOURIER!N282","v":0}]
[null,null,null,null,null,null,281,6.8603515625,{"$f":"FOURIER!M283","v":0},{"$f":"FOURIER!N283","v":0}]
[null,null,null,null,null,null,282,6.884765625,{"$f":"FOURIER!M284","v":0},{"$f":"FOURIER!N284","v":0}]
[null,null,null,null,null,null,283,6.9091796875,{"$f":"FOURIER!M285","v":0},{"$f":"FOURIER!N285","v":0}]
[null,null,null,null,null,null,284,6.93359375,{"$f":"FOURIER!M286","v":0},{"$f":"FOURIER!N286","v":0}]
[null,null,null,null,null,null,285,6.9580078125,{"$f":"FOURIER!M287","v":0},{"$f":"FOURIER!N287","v":0}]
[null,null,null,null,null,null,286,6.982421875,{"$f":"FOURIER!M288","v":0},{"$f":"FOURIER!N288","v":0}]
[null,null,null,null,null,null,287,7.0068359375,{"$f":"FOURIER!M289","v":0},{"$f":"FOURIER!N289","v":0}]
[null,null,null,null,null,null,288,7.03125,{"$f":"FOURIER!M290","v":0},{"$f":"FOURIER!N290","v":0}]
[null,null,null,null,null,null,289,7.0556640625,{"$f":"FOURIER!M291","v":0},{"$f":"FOURIER!N291","v":0}]
[null,null,null,null,null,null,290,7.080078125,{"$f":"FOURIER!M292","v":0},{"$f":"FOURIER!N292","v":0}]
[null,null,null,null,null,null,291,7.1044921875,{"$f":"FOURIER!M293","v":0},{"$f":"FOURIER!N293","v":0}]
[null,null,null,null,null,null,292,7.12890625,{"$f":"FOURIER!M294","v":0},{"$f":"FOURIER!N294","v":0}]
[null,null,null,null,null,null,293,7.1533203125,{"$f":"FOURIER!M295","v":0},{"$f":"FOURIER!N295","v":0}]
[null,null,null,null,null,null,294,7.177734375,{"$f":"FOURIER!M296","v":0},{"$f":"FOURIER!N296","v":0}]
[null,null,null,null,null,null,295,7.2021484375,{"$f":"FOURIER!M297","v":0},{"$f":"FOURIER!N297","v":0}]
[null,null,null,null,null,null,296,7.2265625,{"$f":"FOURIER!M298","v":0},{"$f":"FOURIER!N298","v":0}]
[null,null,null,null,null,null,297,7.2509765625,{"$f":"FOURIER!M299","v":0},{"$f":"FOURIER!N299","v":0}]
[null,null,null,null,null,null,298,7.275390625,{"$f":"FOURIER!M300","v":0},{"$f":"FOURIER!N300","v":0}]
[null,null,null,null,null,null,299,7.2998046875,{"$f":"FOURIER!M301","v":0},{"$f":"FOURIER!N301","v":0}]
[null,null,null,null,null,null,300,7.32421875,{"$f":"FOURIER!M302","v":0},{"$f":"FOURIER!N302","v":0}]
[null,null,null,null,null,null,301,7.3486328125,{"$f":"FOURIER!M303","v":0},{"$f":"FOURIER!N303","v":0}]
[null,null,null,null,null,null,302,7.373046875,{"$f":"FOURIER!M304","v":0},{"$f":"FOURIER!N304","v":0}]
[null,null,null,null,null,null,303,7.3974609375,{"$f":"FOURIER!M305","v":0},{"$f":"FOURIER!N305","v":0}]
[null,null,null,null,null,null,304,7.421875,{"$f":"FOURIER!M306","v":0},{"$f":"FOURIER!N306","v":0}]
[null,null,null,null,null,null,305,7.4462890625,{"$f":"FOURIER!M307","v":0},{"$f":"FOURIER!N307","v":0}]
[null,null,null,null,null,null,306,7.470703125,{"$f":"FOURIER!M308","v":0},{"$f":"FOURIER!N308","v":0}]
[null,null,null,null,null,null,307,7.4951171875,{"$f":"FOURIER!M309","v":0},{"$f":"FOURIER!N309","v":0}]
[null,null,null,null,null,null,308,7.51953125,{"$f":"FOURIER!M310","v":0},{"$f":"FOURIER!N310","v":0}]
[null,null,null,null,null,null,309,7.5439453125,{"$f":"FOURIER!M311","v":0},{"$f":"FOURIER!N311","v":0}]
[null,null,null,null,null,null,310,7.568359375,{"$f":"FOURIER!M312","v":0},{"$f":"FOURIER!N312","v":0}]
[null,null,null,null,null,null,311,7.5927734375,{"$f":"FOURIER!M313","v":0},{"$f":"FOURIER!N313","v":0}]
[null,null,null,null,null,null,312,7.6171875,{"$f":"FOURIER!M314","v":0},{"$f":"FOURIER!N314","v":0}]
[null,null,null,null,null,null,313,7.6416015625,{"$f":"FOURIER!M315","v":0},{"$f":"FOURIER!N315","v":0}]
[null,null,null,null,null,null,314,7.666015625,{"$f":"FOURIER!M316","v":0},{"$f":"FOURIER!N316","v":0}]
[null,null,null,null,null,null,315,7.6904296875,{"$f":"FOURIER!M317","v":0},{"$f":"FOURIER!N317","v":0}]
[null,null,null,null,null,null,316,7.71484375,{"$f":"FOURIER!M318","v":0},{"$f":"FOURIER!N318","v":0}]
[null,null,null,null,null,null,317,7.7392578125,{"$f":"FOURIER!M319","v":0},{"$f":"FOURIER!N319","v":0}]
[null,null,null,null,null,null,318,7.763671875,{"$f":"FOURIER!M320","v":0},{"$f":"FOURIER!N320","v":0}]
[null,null,null,null,null,null,319,7.7880859375,{"$f":"FOURIER!M321","v":0},{"$f":"FOURIER!N321","v":0}]
[null,null,null,null,null,null,320,{"$f":"(G322)/B$9/B$6","v":7.8125},{"$f":"FOURIER!M322","v":0},{"$f":"FOURIER!N322","v":0}]
[null,null,null,null,null,null,321,7.8369140625,{"$f":"FOURIER!M323","v":0},{"$f":"FOURIER!N323","v":0}]
[null,null,null,null,null,null,322,7.861328125,{"$f":"FOURIER!M324","v":0},{"$f":"FOURIER!N324","v":0}]
[null,null,null,null,null,null,323,7.8857421875,{"$f":"FOURIER!M325","v":0},{"$f":"FOURIER!N325","v":0}]
[null,null,null,null,null,null,324,7.91015625,{"$f":"FOURIER!M326","v":0},{"$f":"FOURIER!N326","v":0}]
[null,null,null,null,null,null,325,7.9345703125,{"$f":"FOURIER!M327","v":0},{"$f":"FOURIER!N327","v":0}]
[null,null,null,null,null,null,326,7.958984375,{"$f":"FOURIER!M328","v":0},{"$f":"FOURIER!N328","v":0}]
[null,null,null,null,null,null,327,7.9833984375,{"$f":"FOURIER!M329","v":0},{"$f":"FOURIER!N329","v":0}]
[null,null,null,null,null,null,328,8.0078125,{"$f":"FOURIER!M330","v":0},{"$f":"FOURIER!N330","v":0}]
[null,null,null,null,null,null,329,8.0322265625,{"$f":"FOURIER!M331","v":0},{"$f":"FOURIER!N331","v":0}]
[null,null,null,null,null,null,330,8.056640625,{"$f":"FOURIER!M332","v":0},{"$f":"FOURIER!N332","v":0}]
[null,null,null,null,null,null,331,8.0810546875,{"$f":"FOURIER!M333","v":0},{"$f":"FOURIER!N333","v":0}]
[null,null,null,null,null,null,332,8.10546875,{"$f":"FOURIER!M334","v":0},{"$f":"FOURIER!N334","v":0}]
[null,null,null,null,null,null,333,8.1298828125,{"$f":"FOURIER!M335","v":0},{"$f":"FOURIER!N335","v":0}]
[null,null,null,null,null,null,334,8.154296875,{"$f":"FOURIER!M336","v":0},{"$f":"FOURIER!N336","v":0}]
[null,null,null,null,null,null,335,8.1787109375,{"$f":"FOURIER!M337","v":0},{"$f":"FOURIER!N337","v":0}]
[null,null,null,null,null,null,336,8.203125,{"$f":"FOURIER!M338","v":0},{"$f":"FOURIER!N338","v":0}]
[null,null,null,null,null,null,337,8.2275390625,{"$f":"FOURIER!M339","v":0},{"$f":"FOURIER!N339","v":0}]
[null,null,null,null,null,null,338,8.251953125,{"$f":"FOURIER!M340","v":0},{"$f":"FOURIER!N340","v":0}]
[null,null,null,null,null,null,339,8.2763671875,{"$f":"FOURIER!M341","v":0},{"$f":"FOURIER!N341","v":0}]
[null,null,null,null,null,null,340,8.30078125,{"$f":"FOURIER!M342","v":0},{"$f":"FOURIER!N342","v":0}]
[null,null,null,null,null,null,341,8.3251953125,{"$f":"FOURIER!M343","v":0},{"$f":"FOURIER!N343","v":0}]
[null,null,null,null,null,null,342,8.349609375,{"$f":"FOURIER!M344","v":0},{"$f":"FOURIER!N344","v":0}]
[null,null,null,null,null,null,343,8.3740234375,{"$f":"FOURIER!M345","v":0},{"$f":"FOURIER!N345","v":0}]
[null,null,null,null,null,null,344,8.3984375,{"$f":"FOURIER!M346","v":0},{"$f":"FOURIER!N346","v":0}]
[null,null,null,null,null,null,345,8.4228515625,{"$f":"FOURIER!M347","v":0},{"$f":"FOURIER!N347","v":0}]
[null,null,null,null,null,null,346,8.447265625,{"$f":"FOURIER!M348","v":0},{"$f":"FOURIER!N348","v":0}]
[null,null,null,null,null,null,347,8.4716796875,{"$f":"FOURIER!M349","v":0},{"$f":"FOURIER!N349","v":0}]
[null,null,null,null,null,null,348,8.49609375,{"$f":"FOURIER!M350","v":0},{"$f":"FOURIER!N350","v":0}]
[null,null,null,null,null,null,349,8.5205078125,{"$f":"FOURIER!M351","v":0},{"$f":"FOURIER!N351","v":0}]
[null,null,null,null,null,null,350,8.544921875,{"$f":"FOURIER!M352","v":0},{"$f":"FOURIER!N352","v":0}]
[null,null,null,null,null,null,351,8.5693359375,{"$f":"FOURIER!M353","v":0},{"$f":"FOURIER!N353","v":0}]
[null,null,null,null,null,null,352,8.59375,{"$f":"FOURIER!M354","v":0},{"$f":"FOURIER!N354","v":0}]
[null,null,null,null,null,null,353,8.6181640625,{"$f":"FOURIER!M355","v":0},{"$f":"FOURIER!N355","v":0}]
[null,null,null,null,null,null,354,8.642578125,{"$f":"FOURIER!M356","v":0},{"$f":"FOURIER!N356","v":0}]
[null,null,null,null,null,null,355,8.6669921875,{"$f":"FOURIER!M357","v":0},{"$f":"FOURIER!N357","v":0}]
[null,null,null,null,null,null,356,8.69140625,{"$f":"FOURIER!M358","v":0},{"$f":"FOURIER!N358","v":0}]
[null,null,null,null,null,null,357,8.7158203125,{"$f":"FOURIER!M359","v":0},{"$f":"FOURIER!N359","v":0}]
[null,null,null,null,null,null,358,8.740234375,{"$f":"FOURIER!M360","v":0},{"$f":"FOURIER!N360","v":0}]
[null,null,null,null,null,null,359,8.7646484375,{"$f":"FOURIER!M361","v":0},{"$f":"FOURIER!N361","v":0}]
[null,null,null,null,null,null,360,8.7890625,{"$f":"FOURIER!M362","v":0},{"$f":"FOURIER!N362","v":0}]
[null,null,null,null,null,null,361,8.8134765625,{"$f":"FOURIER!M363","v":0},{"$f":"FOURIER!N363","v":0}]
[null,null,null,null,null,null,362,8.837890625,{"$f":"FOURIER!M364","v":0},{"$f":"FOURIER!N364","v":0}]
[null,null,null,null,null,null,363,8.8623046875,{"$f":"FOURIER!M365","v":0},{"$f":"FOURIER!N365","v":0}]
[null,null,null,null,null,null,364,8.88671875,{"$f":"FOURIER!M366","v":0},{"$f":"FOURIER!N366","v":0}]
[null,null,null,null,null,null,365,8.9111328125,{"$f":"FOURIER!M367","v":0},{"$f":"FOURIER!N367","v":0}]
[null,null,null,null,null,null,366,8.935546875,{"$f":"FOURIER!M368","v":0},{"$f":"FOURIER!N368","v":0}]
[null,null,null,null,null,null,367,8.9599609375,{"$f":"FOURIER!M369","v":0},{"$f":"FOURIER!N369","v":0}]
[null,null,null,null,null,null,368,8.984375,{"$f":"FOURIER!M370","v":0},{"$f":"FOURIER!N370","v":0}]
[null,null,null,null,null,null,369,9.0087890625,{"$f":"FOURIER!M371","v":0},{"$f":"FOURIER!N371","v":0}]
[null,null,null,null,null,null,370,9.033203125,{"$f":"FOURIER!M372","v":0},{"$f":"FOURIER!N372","v":0}]
[null,null,null,null,null,null,371,9.0576171875,{"$f":"FOURIER!M373","v":0},{"$f":"FOURIER!N373","v":0}]
[null,null,null,null,null,null,372,9.08203125,{"$f":"FOURIER!M374","v":0},{"$f":"FOURIER!N374","v":0}]
[null,null,null,null,null,null,373,9.1064453125,{"$f":"FOURIER!M375","v":0},{"$f":"FOURIER!N375","v":0}]
[null,null,null,null,null,null,374,9.130859375,{"$f":"FOURIER!M376","v":0},{"$f":"FOURIER!N376","v":0}]
[null,null,null,null,null,null,375,9.1552734375,{"$f":"FOURIER!M377","v":0},{"$f":"FOURIER!N377","v":0}]
[null,null,null,null,null,null,376,9.1796875,{"$f":"FOURIER!M378","v":0},{"$f":"FOURIER!N378","v":0}]
[null,null,null,null,null,null,377,9.2041015625,{"$f":"FOURIER!M379","v":0},{"$f":"FOURIER!N379","v":0}]
[null,null,null,null,null,null,378,9.228515625,{"$f":"FOURIER!M380","v":0},{"$f":"FOURIER!N380","v":0}]
[null,null,null,null,null,null,379,9.2529296875,{"$f":"FOURIER!M381","v":0},{"$f":"FOURIER!N381","v":0}]
[null,null,null,null,null,null,380,9.27734375,{"$f":"FOURIER!M382","v":0},{"$f":"FOURIER!N382","v":0}]
[null,null,null,null,null,null,381,9.3017578125,{"$f":"FOURIER!M383","v":0},{"$f":"FOURIER!N383","v":0}]
[null,null,null,null,null,null,382,9.326171875,{"$f":"FOURIER!M384","v":0},{"$f":"FOURIER!N384","v":0}]
[null,null,null,null,null,null,383,9.3505859375,{"$f":"FOURIER!M385","v":0},{"$f":"FOURIER!N385","v":0}]
[null,null,null,null,null,null,384,{"$f":"(G386)/B$9/B$6","v":9.375},{"$f":"FOURIER!M386","v":0},{"$f":"FOURIER!N386","v":0}]
[null,null,null,null,null,null,385,9.3994140625,{"$f":"FOURIER!M387","v":0},{"$f":"FOURIER!N387","v":0}]
[null,null,null,null,null,null,386,9.423828125,{"$f":"FOURIER!M388","v":0},{"$f":"FOURIER!N388","v":0}]
[null,null,null,null,null,null,387,9.4482421875,{"$f":"FOURIER!M389","v":0},{"$f":"FOURIER!N389","v":0}]
[null,null,null,null,null,null,388,9.47265625,{"$f":"FOURIER!M390","v":0},{"$f":"FOURIER!N390","v":0}]
[null,null,null,null,null,null,389,9.4970703125,{"$f":"FOURIER!M391","v":0},{"$f":"FOURIER!N391","v":0}]
[null,null,null,null,null,null,390,9.521484375,{"$f":"FOURIER!M392","v":0},{"$f":"FOURIER!N392","v":0}]
[null,null,null,null,null,null,391,9.5458984375,{"$f":"FOURIER!M393","v":0},{"$f":"FOURIER!N393","v":0}]
[null,null,null,null,null,null,392,9.5703125,{"$f":"FOURIER!M394","v":0},{"$f":"FOURIER!N394","v":0}]
[null,null,null,null,null,null,393,9.5947265625,{"$f":"FOURIER!M395","v":0},{"$f":"FOURIER!N395","v":0}]
[null,null,null,null,null,null,394,9.619140625,{"$f":"FOURIER!M396","v":0},{"$f":"FOURIER!N396","v":0}]
[null,null,null,null,null,null,395,9.6435546875,{"$f":"FOURIER!M397","v":0},{"$f":"FOURIER!N397","v":0}]
[null,null,null,null,null,null,396,9.66796875,{"$f":"FOURIER!M398","v":0},{"$f":"FOURIER!N398","v":0}]
[null,null,null,null,null,null,397,9.6923828125,{"$f":"FOURIER!M399","v":0},{"$f":"FOURIER!N399","v":0}]
[null,null,null,null,null,null,398,9.716796875,{"$f":"FOURIER!M400","v":0},{"$f":"FOURIER!N400","v":0}]
[null,null,null,null,null,null,399,9.7412109375,{"$f":"FOURIER!M401","v":0},{"$f":"FOURIER!N401","v":0}]
[null,null,null,null,null,null,400,9.765625,{"$f":"FOURIER!M402","v":0},{"$f":"FOURIER!N402","v":0}]
[null,null,null,null,null,null,401,9.7900390625,{"$f":"FOURIER!M403","v":0},{"$f":"FOURIER!N403","v":0}]
[null,null,null,null,null,null,402,9.814453125,{"$f":"FOURIER!M404","v":0},{"$f":"FOURIER!N404","v":0}]
[null,null,null,null,null,null,403,9.8388671875,{"$f":"FOURIER!M405","v":0},{"$f":"FOURIER!N405","v":0}]
[null,null,null,null,null,null,404,9.86328125,{"$f":"FOURIER!M406","v":0},{"$f":"FOURIER!N406","v":0}]
[null,null,null,null,null,null,405,9.8876953125,{"$f":"FOURIER!M407","v":0},{"$f":"FOURIER!N407","v":0}]
[null,null,null,null,null,null,406,9.912109375,{"$f":"FOURIER!M408","v":0},{"$f":"FOURIER!N408","v":0}]
[null,null,null,null,null,null,407,9.9365234375,{"$f":"FOURIER!M409","v":0},{"$f":"FOURIER!N409","v":0}]
[null,null,null,null,null,null,408,9.9609375,{"$f":"FOURIER!M410","v":0},{"$f":"FOURIER!N410","v":0}]
[null,null,null,null,null,null,409,9.9853515625,{"$f":"FOURIER!M411","v":0},{"$f":"FOURIER!N411","v":0}]
[null,null,null,null,null,null,410,10.009765625,{"$f":"FOURIER!M412","v":0},{"$f":"FOURIER!N412","v":0}]
[null,null,null,null,null,null,411,10.0341796875,{"$f":"FOURIER!M413","v":0},{"$f":"FOURIER!N413","v":0}]
[null,null,null,null,null,null,412,10.05859375,{"$f":"FOURIER!M414","v":0},{"$f":"FOURIER!N414","v":0}]
[null,null,null,null,null,null,413,10.0830078125,{"$f":"FOURIER!M415","v":0},{"$f":"FOURIER!N415","v":0}]
[null,null,null,null,null,null,414,10.107421875,{"$f":"FOURIER!M416","v":0},{"$f":"FOURIER!N416","v":0}]
[null,null,null,null,null,null,415,10.1318359375,{"$f":"FOURIER!M417","v":0},{"$f":"FOURIER!N417","v":0}]
[null,null,null,null,null,null,416,10.15625,{"$f":"FOURIER!M418","v":0},{"$f":"FOURIER!N418","v":0}]
[null,null,null,null,null,null,417,10.1806640625,{"$f":"FOURIER!M419","v":0},{"$f":"FOURIER!N419","v":0}]
[null,null,null,null,null,null,418,10.205078125,{"$f":"FOURIER!M420","v":0},{"$f":"FOURIER!N420","v":0}]
[null,null,null,null,null,null,419,10.2294921875,{"$f":"FOURIER!M421","v":0},{"$f":"FOURIER!N421","v":0}]
[null,null,null,null,null,null,420,10.25390625,{"$f":"FOURIER!M422","v":0},{"$f":"FOURIER!N422","v":0}]
[null,null,null,null,null,null,421,10.2783203125,{"$f":"FOURIER!M423","v":0},{"$f":"FOURIER!N423","v":0}]
[null,null,null,null,null,null,422,10.302734375,{"$f":"FOURIER!M424","v":0},{"$f":"FOURIER!N424","v":0}]
[null,null,null,null,null,null,423,10.3271484375,{"$f":"FOURIER!M425","v":0},{"$f":"FOURIER!N425","v":0}]
[null,null,null,null,null,null,424,10.3515625,{"$f":"FOURIER!M426","v":0},{"$f":"FOURIER!N426","v":0}]
[null,null,null,null,null,null,425,10.3759765625,{"$f":"FOURIER!M427","v":0},{"$f":"FOURIER!N427","v":0}]
[null,null,null,null,null,null,426,10.400390625,{"$f":"FOURIER!M428","v":0},{"$f":"FOURIER!N428","v":0}]
[null,null,null,null,null,null,427,10.4248046875,{"$f":"FOURIER!M429","v":0},{"$f":"FOURIER!N429","v":0}]
[null,null,null,null,null,null,428,10.44921875,{"$f":"FOURIER!M430","v":0},{"$f":"FOURIER!N430","v":0}]
[null,null,null,null,null,null,429,10.4736328125,{"$f":"FOURIER!M431","v":0},{"$f":"FOURIER!N431","v":0}]
[null,null,null,null,null,null,430,10.498046875,{"$f":"FOURIER!M432","v":0},{"$f":"FOURIER!N432","v":0}]
[null,null,null,null,null,null,431,10.5224609375,{"$f":"FOURIER!M433","v":0},{"$f":"FOURIER!N433","v":0}]
[null,null,null,null,null,null,432,10.546875,{"$f":"FOURIER!M434","v":0},{"$f":"FOURIER!N434","v":0}]
[null,null,null,null,null,null,433,10.5712890625,{"$f":"FOURIER!M435","v":0},{"$f":"FOURIER!N435","v":0}]
[null,null,null,null,null,null,434,10.595703125,{"$f":"FOURIER!M436","v":0},{"$f":"FOURIER!N436","v":0}]
[null,null,null,null,null,null,435,10.6201171875,{"$f":"FOURIER!M437","v":0},{"$f":"FOURIER!N437","v":0}]
[null,null,null,null,null,null,436,10.64453125,{"$f":"FOURIER!M438","v":0},{"$f":"FOURIER!N438","v":0}]
[null,null,null,null,null,null,437,10.6689453125,{"$f":"FOURIER!M439","v":0},{"$f":"FOURIER!N439","v":0}]
[null,null,null,null,null,null,438,10.693359375,{"$f":"FOURIER!M440","v":0},{"$f":"FOURIER!N440","v":0}]
[null,null,null,null,null,null,439,10.7177734375,{"$f":"FOURIER!M441","v":0},{"$f":"FOURIER!N441","v":0}]
[null,null,null,null,null,null,440,10.7421875,{"$f":"FOURIER!M442","v":0},{"$f":"FOURIER!N442","v":0}]
[null,null,null,null,null,null,441,10.7666015625,{"$f":"FOURIER!M443","v":0},{"$f":"FOURIER!N443","v":0}]
[null,null,null,null,null,null,442,10.791015625,{"$f":"FOURIER!M444","v":0},{"$f":"FOURIER!N444","v":0}]
[null,null,null,null,null,null,443,10.8154296875,{"$f":"FOURIER!M445","v":0},{"$f":"FOURIER!N445","v":0}]
[null,null,null,null,null,null,444,10.83984375,{"$f":"FOURIER!M446","v":0},{"$f":"FOURIER!N446","v":0}]
[null,null,null,null,null,null,445,10.8642578125,{"$f":"FOURIER!M447","v":0},{"$f":"FOURIER!N447","v":0}]
[null,null,null,null,null,null,446,10.888671875,{"$f":"FOURIER!M448","v":0},{"$f":"FOURIER!N448","v":0}]
[null,null,null,null,null,null,447,10.9130859375,{"$f":"FOURIER!M449","v":0},{"$f":"FOURIER!N449","v":0}]
[null,null,null,null,null,null,448,{"$f":"(G450)/B$9/B$6","v":10.9375},{"$f":"FOURIER!M450","v":0},{"$f":"FOURIER!N450","v":0}]
[null,null,null,null,null,null,449,10.9619140625,{"$f":"FOURIER!M451","v":0},{"$f":"FOURIER!N451","v":0}]
[null,null,null,null,null,null,450,10.986328125,{"$f":"FOURIER!M452","v":0},{"$f":"FOURIER!N452","v":0}]
[null,null,null,null,null,null,451,11.0107421875,{"$f":"FOURIER!M453","v":0},{"$f":"FOURIER!N453","v":0}]
[null,null,null,null,null,null,452,11.03515625,{"$f":"FOURIER!M454","v":0},{"$f":"FOURIER!N454","v":0}]
[null,null,null,null,null,null,453,11.0595703125,{"$f":"FOURIER!M455","v":0},{"$f":"FOURIER!N455","v":0}]
[null,null,null,null,null,null,454,11.083984375,{"$f":"FOURIER!M456","v":0},{"$f":"FOURIER!N456","v":0}]
[null,null,null,null,null,null,455,11.1083984375,{"$f":"FOURIER!M457","v":0},{"$f":"FOURIER!N457","v":0}]
[null,null,null,null,null,null,456,11.1328125,{"$f":"FOURIER!M458","v":0},{"$f":"FOURIER!N458","v":0}]
[null,null,null,null,null,null,457,11.1572265625,{"$f":"FOURIER!M459","v":0},{"$f":"FOURIER!N459","v":0}]
[null,null,null,null,null,null,458,11.181640625,{"$f":"FOURIER!M460","v":0},{"$f":"FOURIER!N460","v":0}]
[null,null,null,null,null,null,459,11.2060546875,{"$f":"FOURIER!M461","v":0},{"$f":"FOURIER!N461","v":0}]
[null,null,null,null,null,null,460,11.23046875,{"$f":"FOURIER!M462","v":0},{"$f":"FOURIER!N462","v":0}]
[null,null,null,null,null,null,461,11.2548828125,{"$f":"FOURIER!M463","v":0},{"$f":"FOURIER!N463","v":0}]
[null,null,null,null,null,null,462,11.279296875,{"$f":"FOURIER!M464","v":0},{"$f":"FOURIER!N464","v":0}]
[null,null,null,null,null,null,463,11.3037109375,{"$f":"FOURIER!M465","v":0},{"$f":"FOURIER!N465","v":0}]
[null,null,null,null,null,null,464,11.328125,{"$f":"FOURIER!M466","v":0},{"$f":"FOURIER!N466","v":0}]
[null,null,null,null,null,null,465,11.3525390625,{"$f":"FOURIER!M467","v":0},{"$f":"FOURIER!N467","v":0}]
[null,null,null,null,null,null,466,11.376953125,{"$f":"FOURIER!M468","v":0},{"$f":"FOURIER!N468","v":0}]
[null,null,null,null,null,null,467,11.4013671875,{"$f":"FOURIER!M469","v":0},{"$f":"FOURIER!N469","v":0}]
[null,null,null,null,null,null,468,11.42578125,{"$f":"FOURIER!M470","v":0},{"$f":"FOURIER!N470","v":0}]
[null,null,null,null,null,null,469,11.4501953125,{"$f":"FOURIER!M471","v":0},{"$f":"FOURIER!N471","v":0}]
[null,null,null,null,null,null,470,11.474609375,{"$f":"FOURIER!M472","v":0},{"$f":"FOURIER!N472","v":0}]
[null,null,null,null,null,null,471,11.4990234375,{"$f":"FOURIER!M473","v":0},{"$f":"FOURIER!N473","v":0}]
[null,null,null,null,null,null,472,11.5234375,{"$f":"FOURIER!M474","v":0},{"$f":"FOURIER!N474","v":0}]
[null,null,null,null,null,null,473,11.5478515625,{"$f":"FOURIER!M475","v":0},{"$f":"FOURIER!N475","v":0}]
[null,null,null,null,null,null,474,11.572265625,{"$f":"FOURIER!M476","v":0},{"$f":"FOURIER!N476","v":0}]
[null,null,null,null,null,null,475,11.5966796875,{"$f":"FOURIER!M477","v":0},{"$f":"FOURIER!N477","v":0}]
[null,null,null,null,null,null,476,11.62109375,{"$f":"FOURIER!M478","v":0},{"$f":"FOURIER!N478","v":0}]
[null,null,null,null,null,null,477,11.6455078125,{"$f":"FOURIER!M479","v":0},{"$f":"FOURIER!N479","v":0}]
[null,null,null,null,null,null,478,11.669921875,{"$f":"FOURIER!M480","v":0},{"$f":"FOURIER!N480","v":0}]
[null,null,null,null,null,null,479,11.6943359375,{"$f":"FOURIER!M481","v":0},{"$f":"FOURIER!N481","v":0}]
[null,null,null,null,null,null,480,11.71875,{"$f":"FOURIER!M482","v":0},{"$f":"FOURIER!N482","v":0}]
[null,null,null,null,null,null,481,11.7431640625,{"$f":"FOURIER!M483","v":0},{"$f":"FOURIER!N483","v":0}]
[null,null,null,null,null,null,482,11.767578125,{"$f":"FOURIER!M484","v":0},{"$f":"FOURIER!N484","v":0}]
[null,null,null,null,null,null,483,11.7919921875,{"$f":"FOURIER!M485","v":0},{"$f":"FOURIER!N485","v":0}]
[null,null,null,null,null,null,484,11.81640625,{"$f":"FOURIER!M486","v":0},{"$f":"FOURIER!N486","v":0}]
[null,null,null,null,null,null,485,11.8408203125,{"$f":"FOURIER!M487","v":0},{"$f":"FOURIER!N487","v":0}]
[null,null,null,null,null,null,486,11.865234375,{"$f":"FOURIER!M488","v":0},{"$f":"FOURIER!N488","v":0}]
[null,null,null,null,null,null,487,11.8896484375,{"$f":"FOURIER!M489","v":0},{"$f":"FOURIER!N489","v":0}]
[null,null,null,null,null,null,488,11.9140625,{"$f":"FOURIER!M490","v":0},{"$f":"FOURIER!N490","v":0}]
[null,null,null,null,null,null,489,11.9384765625,{"$f":"FOURIER!M491","v":0},{"$f":"FOURIER!N491","v":0}]
[null,null,null,null,null,null,490,11.962890625,{"$f":"FOURIER!M492","v":0},{"$f":"FOURIER!N492","v":0}]
[null,null,null,null,null,null,491,11.9873046875,{"$f":"FOURIER!M493","v":0},{"$f":"FOURIER!N493","v":0}]
[null,null,null,null,null,null,492,12.01171875,{"$f":"FOURIER!M494","v":0},{"$f":"FOURIER!N494","v":0}]
[null,null,null,null,null,null,493,12.0361328125,{"$f":"FOURIER!M495","v":0},{"$f":"FOURIER!N495","v":0}]
[null,null,null,null,null,null,494,12.060546875,{"$f":"FOURIER!M496","v":0},{"$f":"FOURIER!N496","v":0}]
[null,null,null,null,null,null,495,12.0849609375,{"$f":"FOURIER!M497","v":0},{"$f":"FOURIER!N497","v":0}]
[null,null,null,null,null,null,496,12.109375,{"$f":"FOURIER!M498","v":0},{"$f":"FOURIER!N498","v":0}]
[null,null,null,null,null,null,497,12.1337890625,{"$f":"FOURIER!M499","v":0},{"$f":"FOURIER!N499","v":0}]
[null,null,null,null,null,null,498,12.158203125,{"$f":"FOURIER!M500","v":0},{"$f":"FOURIER!N500","v":0}]
[null,null,null,null,null,null,499,12.1826171875,{"$f":"FOURIER!M501","v":0},{"$f":"FOURIER!N501","v":0}]
[null,null,null,null,null,null,500,12.20703125,{"$f":"FOURIER!M502","v":0},{"$f":"FOURIER!N502","v":0}]
[null,null,null,null,null,null,501,12.2314453125,{"$f":"FOURIER!M503","v":0},{"$f":"FOURIER!N503","v":0}]
[null,null,null,null,null,null,502,12.255859375,{"$f":"FOURIER!M504","v":0},{"$f":"FOURIER!N504","v":0}]
[null,null,null,null,null,null,503,12.2802734375,{"$f":"FOURIER!M505","v":0},{"$f":"FOURIER!N505","v":0}]
[null,null,null,null,null,null,504,12.3046875,{"$f":"FOURIER!M506","v":0},{"$f":"FOURIER!N506","v":0}]
[null,null,null,null,null,null,505,12.3291015625,{"$f":"FOURIER!M507","v":0},{"$f":"FOURIER!N507","v":0}]
[null,null,null,null,null,null,506,12.353515625,{"$f":"FOURIER!M508","v":0},{"$f":"FOURIER!N508","v":0}]
[null,null,null,null,null,null,507,12.3779296875,{"$f":"FOURIER!M509","v":0},{"$f":"FOURIER!N509","v":0}]
[null,null,null,null,null,null,508,12.40234375,{"$f":"FOURIER!M510","v":0},{"$f":"FOURIER!N510","v":0}]
[null,null,null,null,null,null,509,12.4267578125,{"$f":"FOURIER!M511","v":0},{"$f":"FOURIER!N511","v":0}]
[null,null,null,null,null,null,510,12.451171875,{"$f":"FOURIER!M512","v":0},{"$f":"FOURIER!N512","v":0}]
[null,null,null,null,null,null,511,12.4755859375,{"$f":"FOURIER!M513","v":0},{"$f":"FOURIER!N513","v":0}]
[null,null,null,null,null,null,512,{"$f":"(G514)/B$9/B$6","v":12.5},{"$f":"FOURIER!M514","v":0},{"$f":"FOURIER!N514","v":0}]
[null,null,null,null,null,null,513,12.5244140625,{"$f":"FOURIER!M515","v":0},{"$f":"FOURIER!N515","v":0}]
[null,null,null,null,null,null,514,12.548828125,{"$f":"FOURIER!M516","v":0},{"$f":"FOURIER!N516","v":0}]
[null,null,null,null,null,null,515,12.5732421875,{"$f":"FOURIER!M517","v":0},{"$f":"FOURIER!N517","v":0}]
[null,null,null,null,null,null,516,12.59765625,{"$f":"FOURIER!M518","v":0},{"$f":"FOURIER!N518","v":0}]
[null,null,null,null,null,null,517,12.6220703125,{"$f":"FOURIER!M519","v":0},{"$f":"FOURIER!N519","v":0}]
[null,null,null,null,null,null,518,12.646484375,{"$f":"FOURIER!M520","v":0},{"$f":"FOURIER!N520","v":0}]
[null,null,null,null,null,null,519,12.6708984375,{"$f":"FOURIER!M521","v":0},{"$f":"FOURIER!N521","v":0}]
[null,null,null,null,null,null,520,12.6953125,{"$f":"FOURIER!M522","v":0},{"$f":"FOURIER!N522","v":0}]
[null,null,null,null,null,null,521,12.7197265625,{"$f":"FOURIER!M523","v":0},{"$f":"FOURIER!N523","v":0}]
[null,null,null,null,null,null,522,12.744140625,{"$f":"FOURIER!M524","v":0},{"$f":"FOURIER!N524","v":0}]
[null,null,null,null,null,null,523,12.7685546875,{"$f":"FOURIER!M525","v":0},{"$f":"FOURIER!N525","v":0}]
[null,null,null,null,null,null,524,12.79296875,{"$f":"FOURIER!M526","v":0},{"$f":"FOURIER!N526","v":0}]
[null,null,null,null,null,null,525,12.8173828125,{"$f":"FOURIER!M527","v":0},{"$f":"FOURIER!N527","v":0}]
[null,null,null,null,null,null,526,12.841796875,{"$f":"FOURIER!M528","v":0},{"$f":"FOURIER!N528","v":0}]
[null,null,null,null,null,null,527,12.8662109375,{"$f":"FOURIER!M529","v":0},{"$f":"FOURIER!N529","v":0}]
[null,null,null,null,null,null,528,12.890625,{"$f":"FOURIER!M530","v":0},{"$f":"FOURIER!N530","v":0}]
[null,null,null,null,null,null,529,12.9150390625,{"$f":"FOURIER!M531","v":0},{"$f":"FOURIER!N531","v":0}]
[null,null,null,null,null,null,530,12.939453125,{"$f":"FOURIER!M532","v":0},{"$f":"FOURIER!N532","v":0}]
[null,null,null,null,null,null,531,12.9638671875,{"$f":"FOURIER!M533","v":0},{"$f":"FOURIER!N533","v":0}]
[null,null,null,null,null,null,532,12.98828125,{"$f":"FOURIER!M534","v":0},{"$f":"FOURIER!N534","v":0}]
[null,null,null,null,null,null,533,13.0126953125,{"$f":"FOURIER!M535","v":0},{"$f":"FOURIER!N535","v":0}]
[null,null,null,null,null,null,534,13.037109375,{"$f":"FOURIER!M536","v":0},{"$f":"FOURIER!N536","v":0}]
[null,null,null,null,null,null,535,13.0615234375,{"$f":"FOURIER!M537","v":0},{"$f":"FOURIER!N537","v":0}]
[null,null,null,null,null,null,536,13.0859375,{"$f":"FOURIER!M538","v":0},{"$f":"FOURIER!N538","v":0}]
[null,null,null,null,null,null,537,13.1103515625,{"$f":"FOURIER!M539","v":0},{"$f":"FOURIER!N539","v":0}]
[null,null,null,null,null,null,538,13.134765625,{"$f":"FOURIER!M540","v":0},{"$f":"FOURIER!N540","v":0}]
[null,null,null,null,null,null,539,13.1591796875,{"$f":"FOURIER!M541","v":0},{"$f":"FOURIER!N541","v":0}]
[null,null,null,null,null,null,540,13.18359375,{"$f":"FOURIER!M542","v":0},{"$f":"FOURIER!N542","v":0}]
[null,null,null,null,null,null,541,13.2080078125,{"$f":"FOURIER!M543","v":0},{"$f":"FOURIER!N543","v":0}]
[null,null,null,null,null,null,542,13.232421875,{"$f":"FOURIER!M544","v":0},{"$f":"FOURIER!N544","v":0}]
[null,null,null,null,null,null,543,13.2568359375,{"$f":"FOURIER!M545","v":0},{"$f":"FOURIER!N545","v":0}]
[null,null,null,null,null,null,544,13.28125,{"$f":"FOURIER!M546","v":0},{"$f":"FOURIER!N546","v":0}]
[null,null,null,null,null,null,545,13.3056640625,{"$f":"FOURIER!M547","v":0},{"$f":"FOURIER!N547","v":0}]
[null,null,null,null,null,null,546,13.330078125,{"$f":"FOURIER!M548","v":0},{"$f":"FOURIER!N548","v":0}]
[null,null,null,null,null,null,547,13.3544921875,{"$f":"FOURIER!M549","v":0},{"$f":"FOURIER!N549","v":0}]
[null,null,null,null,null,null,548,13.37890625,{"$f":"FOURIER!M550","v":0},{"$f":"FOURIER!N550","v":0}]
[null,null,null,null,null,null,549,13.4033203125,{"$f":"FOURIER!M551","v":0},{"$f":"FOURIER!N551","v":0}]
[null,null,null,null,null,null,550,13.427734375,{"$f":"FOURIER!M552","v":0},{"$f":"FOURIER!N552","v":0}]
[null,null,null,null,null,null,551,13.4521484375,{"$f":"FOURIER!M553","v":0},{"$f":"FOURIER!N553","v":0}]
[null,null,null,null,null,null,552,13.4765625,{"$f":"FOURIER!M554","v":0},{"$f":"FOURIER!N554","v":0}]
[null,null,null,null,null,null,553,13.5009765625,{"$f":"FOURIER!M555","v":0},{"$f":"FOURIER!N555","v":0}]
[null,null,null,null,null,null,554,13.525390625,{"$f":"FOURIER!M556","v":0},{"$f":"FOURIER!N556","v":0}]
[null,null,null,null,null,null,555,13.5498046875,{"$f":"FOURIER!M557","v":0},{"$f":"FOURIER!N557","v":0}]
[null,null,null,null,null,null,556,13.57421875,{"$f":"FOURIER!M558","v":0},{"$f":"FOURIER!N558","v":0}]
[null,null,null,null,null,null,557,13.5986328125,{"$f":"FOURIER!M559","v":0},{"$f":"FOURIER!N559","v":0}]
[null,null,null,null,null,null,558,13.623046875,{"$f":"FOURIER!M560","v":0},{"$f":"FOURIER!N560","v":0}]
[null,null,null,null,null,null,559,13.6474609375,{"$f":"FOURIER!M561","v":0},{"$f":"FOURIER!N561","v":0}]
[null,null,null,null,null,null,560,13.671875,{"$f":"FOURIER!M562","v":0},{"$f":"FOURIER!N562","v":0}]
[null,null,null,null,null,null,561,13.6962890625,{"$f":"FOURIER!M563","v":0},{"$f":"FOURIER!N563","v":0}]
[null,null,null,null,null,null,562,13.720703125,{"$f":"FOURIER!M564","v":0},{"$f":"FOURIER!N564","v":0}]
[null,null,null,null,null,null,563,13.7451171875,{"$f":"FOURIER!M565","v":0},{"$f":"FOURIER!N565","v":0}]
[null,null,null,null,null,null,564,13.76953125,{"$f":"FOURIER!M566","v":0},{"$f":"FOURIER!N566","v":0}]
[null,null,null,null,null,null,565,13.7939453125,{"$f":"FOURIER!M567","v":0},{"$f":"FOURIER!N567","v":0}]
[null,null,null,null,null,null,566,13.818359375,{"$f":"FOURIER!M568","v":0},{"$f":"FOURIER!N568","v":0}]
[null,null,null,null,null,null,567,13.8427734375,{"$f":"FOURIER!M569","v":0},{"$f":"FOURIER!N569","v":0}]
[null,null,null,null,null,null,568,13.8671875,{"$f":"FOURIER!M570","v":0},{"$f":"FOURIER!N570","v":0}]
[null,null,null,null,null,null,569,13.8916015625,{"$f":"FOURIER!M571","v":0},{"$f":"FOURIER!N571","v":0}]
[null,null,null,null,null,null,570,13.916015625,{"$f":"FOURIER!M572","v":0},{"$f":"FOURIER!N572","v":0}]
[null,null,null,null,null,null,571,13.9404296875,{"$f":"FOURIER!M573","v":0},{"$f":"FOURIER!N573","v":0}]
[null,null,null,null,null,null,572,13.96484375,{"$f":"FOURIER!M574","v":0},{"$f":"FOURIER!N574","v":0}]
[null,null,null,null,null,null,573,13.9892578125,{"$f":"FOURIER!M575","v":0},{"$f":"FOURIER!N575","v":0}]
[null,null,null,null,null,null,574,14.013671875,{"$f":"FOURIER!M576","v":0},{"$f":"FOURIER!N576","v":0}]
[null,null,null,null,null,null,575,14.0380859375,{"$f":"FOURIER!M577","v":0},{"$f":"FOURIER!N577","v":0}]
[null,null,null,null,null,null,576,{"$f":"(G578)/B$9/B$6","v":14.0625},{"$f":"FOURIER!M578","v":0},{"$f":"FOURIER!N578","v":0}]
[null,null,null,null,null,null,577,14.0869140625,{"$f":"FOURIER!M579","v":0},{"$f":"FOURIER!N579","v":0}]
[null,null,null,null,null,null,578,14.111328125,{"$f":"FOURIER!M580","v":0},{"$f":"FOURIER!N580","v":0}]
[null,null,null,null,null,null,579,14.1357421875,{"$f":"FOURIER!M581","v":0},{"$f":"FOURIER!N581","v":0}]
[null,null,null,null,null,null,580,14.16015625,{"$f":"FOURIER!M582","v":0},{"$f":"FOURIER!N582","v":0}]
[null,null,null,null,null,null,581,14.1845703125,{"$f":"FOURIER!M583","v":0},{"$f":"FOURIER!N583","v":0}]
[null,null,null,null,null,null,582,14.208984375,{"$f":"FOURIER!M584","v":0},{"$f":"FOURIER!N584","v":0}]
[null,null,null,null,null,null,583,14.2333984375,{"$f":"FOURIER!M585","v":0},{"$f":"FOURIER!N585","v":0}]
[null,null,null,null,null,null,584,14.2578125,{"$f":"FOURIER!M586","v":0},{"$f":"FOURIER!N586","v":0}]
[null,null,null,null,null,null,585,14.2822265625,{"$f":"FOURIER!M587","v":0},{"$f":"FOURIER!N587","v":0}]
[null,null,null,null,null,null,586,14.306640625,{"$f":"FOURIER!M588","v":0},{"$f":"FOURIER!N588","v":0}]
[null,null,null,null,null,null,587,14.3310546875,{"$f":"FOURIER!M589","v":0},{"$f":"FOURIER!N589","v":0}]
[null,null,null,null,null,null,588,14.35546875,{"$f":"FOURIER!M590","v":0},{"$f":"FOURIER!N590","v":0}]
[null,null,null,null,null,null,589,14.3798828125,{"$f":"FOURIER!M591","v":0},{"$f":"FOURIER!N591","v":0}]
[null,null,null,null,null,null,590,14.404296875,{"$f":"FOURIER!M592","v":0},{"$f":"FOURIER!N592","v":0}]
[null,null,null,null,null,null,591,14.4287109375,{"$f":"FOURIER!M593","v":0},{"$f":"FOURIER!N593","v":0}]
[null,null,null,null,null,null,592,14.453125,{"$f":"FOURIER!M594","v":0},{"$f":"FOURIER!N594","v":0}]
[null,null,null,null,null,null,593,14.4775390625,{"$f":"FOURIER!M595","v":0},{"$f":"FOURIER!N595","v":0}]
[null,null,null,null,null,null,594,14.501953125,{"$f":"FOURIER!M596","v":0},{"$f":"FOURIER!N596","v":0}]
[null,null,null,null,null,null,595,14.5263671875,{"$f":"FOURIER!M597","v":0},{"$f":"FOURIER!N597","v":0}]
[null,null,null,null,null,null,596,14.55078125,{"$f":"FOURIER!M598","v":0},{"$f":"FOURIER!N598","v":0}]
[null,null,null,null,null,null,597,14.5751953125,{"$f":"FOURIER!M599","v":0},{"$f":"FOURIER!N599","v":0}]
[null,null,null,null,null,null,598,14.599609375,{"$f":"FOURIER!M600","v":0},{"$f":"FOURIER!N600","v":0}]
[null,null,null,null,null,null,599,14.6240234375,{"$f":"FOURIER!M601","v":0},{"$f":"FOURIER!N601","v":0}]
[null,null,null,null,null,null,600,14.6484375,{"$f":"FOURIER!M602","v":0},{"$f":"FOURIER!N602","v":0}]
[null,null,null,null,null,null,601,14.6728515625,{"$f":"FOURIER!M603","v":0},{"$f":"FOURIER!N603","v":0}]
[null,null,null,null,null,null,602,14.697265625,{"$f":"FOURIER!M604","v":0},{"$f":"FOURIER!N604","v":0}]
[null,null,null,null,null,null,603,14.7216796875,{"$f":"FOURIER!M605","v":0},{"$f":"FOURIER!N605","v":0}]
[null,null,null,null,null,null,604,14.74609375,{"$f":"FOURIER!M606","v":0},{"$f":"FOURIER!N606","v":0}]
[null,null,null,null,null,null,605,14.7705078125,{"$f":"FOURIER!M607","v":0},{"$f":"FOURIER!N607","v":0}]
[null,null,null,null,null,null,606,14.794921875,{"$f":"FOURIER!M608","v":0},{"$f":"FOURIER!N608","v":0}]
[null,null,null,null,null,null,607,14.8193359375,{"$f":"FOURIER!M609","v":0},{"$f":"FOURIER!N609","v":0}]
[null,null,null,null,null,null,608,14.84375,{"$f":"FOURIER!M610","v":0},{"$f":"FOURIER!N610","v":0}]
[null,null,null,null,null,null,609,14.8681640625,{"$f":"FOURIER!M611","v":0},{"$f":"FOURIER!N611","v":0}]
[null,null,null,null,null,null,610,14.892578125,{"$f":"FOURIER!M612","v":0},{"$f":"FOURIER!N612","v":0}]
[null,null,null,null,null,null,611,14.9169921875,{"$f":"FOURIER!M613","v":0},{"$f":"FOURIER!N613","v":0}]
[null,null,null,null,null,null,612,14.94140625,{"$f":"FOURIER!M614","v":0},{"$f":"FOURIER!N614","v":0}]
[null,null,null,null,null,null,613,14.9658203125,{"$f":"FOURIER!M615","v":0},{"$f":"FOURIER!N615","v":0}]
[null,null,null,null,null,null,614,14.990234375,{"$f":"FOURIER!M616","v":0},{"$f":"FOURIER!N616","v":0}]
[null,null,null,null,null,null,615,15.0146484375,{"$f":"FOURIER!M617","v":0},{"$f":"FOURIER!N617","v":0}]
[null,null,null,null,null,null,616,15.0390625,{"$f":"FOURIER!M618","v":0},{"$f":"FOURIER!N618","v":0}]
[null,null,null,null,null,null,617,15.0634765625,{"$f":"FOURIER!M619","v":0},{"$f":"FOURIER!N619","v":0}]
[null,null,null,null,null,null,618,15.087890625,{"$f":"FOURIER!M620","v":0},{"$f":"FOURIER!N620","v":0}]
[null,null,null,null,null,null,619,15.1123046875,{"$f":"FOURIER!M621","v":0},{"$f":"FOURIER!N621","v":0}]
[null,null,null,null,null,null,620,15.13671875,{"$f":"FOURIER!M622","v":0},{"$f":"FOURIER!N622","v":0}]
[null,null,null,null,null,null,621,15.1611328125,{"$f":"FOURIER!M623","v":0},{"$f":"FOURIER!N623","v":0}]
[null,null,null,null,null,null,622,15.185546875,{"$f":"FOURIER!M624","v":0},{"$f":"FOURIER!N624","v":0}]
[null,null,null,null,null,null,623,15.2099609375,{"$f":"FOURIER!M625","v":0},{"$f":"FOURIER!N625","v":0}]
[null,null,null,null,null,null,624,15.234375,{"$f":"FOURIER!M626","v":0},{"$f":"FOURIER!N626","v":0}]
[null,null,null,null,null,null,625,15.2587890625,{"$f":"FOURIER!M627","v":0},{"$f":"FOURIER!N627","v":0}]
[null,null,null,null,null,null,626,15.283203125,{"$f":"FOURIER!M628","v":0},{"$f":"FOURIER!N628","v":0}]
[null,null,null,null,null,null,627,15.3076171875,{"$f":"FOURIER!M629","v":0},{"$f":"FOURIER!N629","v":0}]
[null,null,null,null,null,null,628,15.33203125,{"$f":"FOURIER!M630","v":0},{"$f":"FOURIER!N630","v":0}]
[null,null,null,null,null,null,629,15.3564453125,{"$f":"FOURIER!M631","v":0},{"$f":"FOURIER!N631","v":0}]
[null,null,null,null,null,null,630,15.380859375,{"$f":"FOURIER!M632","v":0},{"$f":"FOURIER!N632","v":0}]
[null,null,null,null,null,null,631,15.4052734375,{"$f":"FOURIER!M633","v":0},{"$f":"FOURIER!N633","v":0}]
[null,null,null,null,null,null,632,15.4296875,{"$f":"FOURIER!M634","v":0},{"$f":"FOURIER!N634","v":0}]
[null,null,null,null,null,null,633,15.4541015625,{"$f":"FOURIER!M635","v":0},{"$f":"FOURIER!N635","v":0}]
[null,null,null,null,null,null,634,15.478515625,{"$f":"FOURIER!M636","v":0},{"$f":"FOURIER!N636","v":0}]
[null,null,null,null,null,null,635,15.5029296875,{"$f":"FOURIER!M637","v":0},{"$f":"FOURIER!N637","v":0}]
[null,null,null,null,null,null,636,15.52734375,{"$f":"FOURIER!M638","v":0},{"$f":"FOURIER!N638","v":0}]
[null,null,null,null,null,null,637,15.5517578125,{"$f":"FOURIER!M639","v":0},{"$f":"FOURIER!N639","v":0}]
[null,null,null,null,null,null,638,15.576171875,{"$f":"FOURIER!M640","v":0},{"$f":"FOURIER!N640","v":0}]
[null,null,null,null,null,null,639,15.6005859375,{"$f":"FOURIER!M641","v":0},{"$f":"FOURIER!N641","v":0}]
[null,null,null,null,null,null,640,{"$f":"(G642)/B$9/B$6","v":15.625},{"$f":"FOURIER!M642","v":0},{"$f":"FOURIER!N642","v":0}]
[null,null,null,null,null,null,641,15.6494140625,{"$f":"FOURIER!M643","v":0},{"$f":"FOURIER!N643","v":0}]
[null,null,null,null,null,null,642,15.673828125,{"$f":"FOURIER!M644","v":0},{"$f":"FOURIER!N644","v":0}]
[null,null,null,null,null,null,643,15.6982421875,{"$f":"FOURIER!M645","v":0},{"$f":"FOURIER!N645","v":0}]
[null,null,null,null,null,null,644,15.72265625,{"$f":"FOURIER!M646","v":0},{"$f":"FOURIER!N646","v":0}]
[null,null,null,null,null,null,645,15.7470703125,{"$f":"FOURIER!M647","v":0},{"$f":"FOURIER!N647","v":0}]
[null,null,null,null,null,null,646,15.771484375,{"$f":"FOURIER!M648","v":0},{"$f":"FOURIER!N648","v":0}]
[null,null,null,null,null,null,647,15.7958984375,{"$f":"FOURIER!M649","v":0},{"$f":"FOURIER!N649","v":0}]
[null,null,null,null,null,null,648,15.8203125,{"$f":"FOURIER!M650","v":0},{"$f":"FOURIER!N650","v":0}]
[null,null,null,null,null,null,649,15.8447265625,{"$f":"FOURIER!M651","v":0},{"$f":"FOURIER!N651","v":0}]
[null,null,null,null,null,null,650,15.869140625,{"$f":"FOURIER!M652","v":0},{"$f":"FOURIER!N652","v":0}]
[null,null,null,null,null,null,651,15.8935546875,{"$f":"FOURIER!M653","v":0},{"$f":"FOURIER!N653","v":0}]
[null,null,null,null,null,null,652,15.91796875,{"$f":"FOURIER!M654","v":0},{"$f":"FOURIER!N654","v":0}]
[null,null,null,null,null,null,653,15.9423828125,{"$f":"FOURIER!M655","v":0},{"$f":"FOURIER!N655","v":0}]
[null,null,null,null,null,null,654,15.966796875,{"$f":"FOURIER!M656","v":0},{"$f":"FOURIER!N656","v":0}]
[null,null,null,null,null,null,655,15.9912109375,{"$f":"FOURIER!M657","v":0},{"$f":"FOURIER!N657","v":0}]
[null,null,null,null,null,null,656,16.015625,{"$f":"FOURIER!M658","v":0},{"$f":"FOURIER!N658","v":0}]
[null,null,null,null,null,null,657,16.0400390625,{"$f":"FOURIER!M659","v":0},{"$f":"FOURIER!N659","v":0}]
[null,null,null,null,null,null,658,16.064453125,{"$f":"FOURIER!M660","v":0},{"$f":"FOURIER!N660","v":0}]
[null,null,null,null,null,null,659,16.0888671875,{"$f":"FOURIER!M661","v":0},{"$f":"FOURIER!N661","v":0}]
[null,null,null,null,null,null,660,16.11328125,{"$f":"FOURIER!M662","v":0},{"$f":"FOURIER!N662","v":0}]
[null,null,null,null,null,null,661,16.1376953125,{"$f":"FOURIER!M663","v":0},{"$f":"FOURIER!N663","v":0}]
[null,null,null,null,null,null,662,16.162109375,{"$f":"FOURIER!M664","v":0},{"$f":"FOURIER!N664","v":0}]
[null,null,null,null,null,null,663,16.1865234375,{"$f":"FOURIER!M665","v":0},{"$f":"FOURIER!N665","v":0}]
[null,null,null,null,null,null,664,16.2109375,{"$f":"FOURIER!M666","v":0},{"$f":"FOURIER!N666","v":0}]
[null,null,null,null,null,null,665,16.2353515625,{"$f":"FOURIER!M667","v":0},{"$f":"FOURIER!N667","v":0}]
[null,null,null,null,null,null,666,16.259765625,{"$f":"FOURIER!M668","v":0},{"$f":"FOURIER!N668","v":0}]
[null,null,null,null,null,null,667,16.2841796875,{"$f":"FOURIER!M669","v":0},{"$f":"FOURIER!N669","v":0}]
[null,null,null,null,null,null,668,16.30859375,{"$f":"FOURIER!M670","v":0},{"$f":"FOURIER!N670","v":0}]
[null,null,null,null,null,null,669,16.3330078125,{"$f":"FOURIER!M671","v":0},{"$f":"FOURIER!N671","v":0}]
[null,null,null,null,null,null,670,16.357421875,{"$f":"FOURIER!M672","v":0},{"$f":"FOURIER!N672","v":0}]
[null,null,null,null,null,null,671,16.3818359375,{"$f":"FOURIER!M673","v":0},{"$f":"FOURIER!N673","v":0}]
[null,null,null,null,null,null,672,16.40625,{"$f":"FOURIER!M674","v":0},{"$f":"FOURIER!N674","v":0}]
[null,null,null,null,null,null,673,16.4306640625,{"$f":"FOURIER!M675","v":0},{"$f":"FOURIER!N675","v":0}]
[null,null,null,null,null,null,674,16.455078125,{"$f":"FOURIER!M676","v":0},{"$f":"FOURIER!N676","v":0}]
[null,null,null,null,null,null,675,16.4794921875,{"$f":"FOURIER!M677","v":0},{"$f":"FOURIER!N677","v":0}]
[null,null,null,null,null,null,676,16.50390625,{"$f":"FOURIER!M678","v":0},{"$f":"FOURIER!N678","v":0}]
[null,null,null,null,null,null,677,16.5283203125,{"$f":"FOURIER!M679","v":0},{"$f":"FOURIER!N679","v":0}]
[null,null,null,null,null,null,678,16.552734375,{"$f":"FOURIER!M680","v":0},{"$f":"FOURIER!N680","v":0}]
[null,null,null,null,null,null,679,16.5771484375,{"$f":"FOURIER!M681","v":0},{"$f":"FOURIER!N681","v":0}]
[null,null,null,null,null,null,680,16.6015625,{"$f":"FOURIER!M682","v":0},{"$f":"FOURIER!N682","v":0}]
[null,null,null,null,null,null,681,16.6259765625,{"$f":"FOURIER!M683","v":0},{"$f":"FOURIER!N683","v":0}]
[null,null,null,null,null,null,682,16.650390625,{"$f":"FOURIER!M684","v":0},{"$f":"FOURIER!N684","v":0}]
[null,null,null,null,null,null,683,16.6748046875,{"$f":"FOURIER!M685","v":0},{"$f":"FOURIER!N685","v":0}]
[null,null,null,null,null,null,684,16.69921875,{"$f":"FOURIER!M686","v":0},{"$f":"FOURIER!N686","v":0}]
[null,null,null,null,null,null,685,16.7236328125,{"$f":"FOURIER!M687","v":0},{"$f":"FOURIER!N687","v":0}]
[null,null,null,null,null,null,686,16.748046875,{"$f":"FOURIER!M688","v":0},{"$f":"FOURIER!N688","v":0}]
[null,null,null,null,null,null,687,16.7724609375,{"$f":"FOURIER!M689","v":0},{"$f":"FOURIER!N689","v":0}]
[null,null,null,null,null,null,688,16.796875,{"$f":"FOURIER!M690","v":0},{"$f":"FOURIER!N690","v":0}]
[null,null,null,null,null,null,689,16.8212890625,{"$f":"FOURIER!M691","v":0},{"$f":"FOURIER!N691","v":0}]
[null,null,null,null,null,null,690,16.845703125,{"$f":"FOURIER!M692","v":0},{"$f":"FOURIER!N692","v":0}]
[null,null,null,null,null,null,691,16.8701171875,{"$f":"FOURIER!M693","v":0},{"$f":"FOURIER!N693","v":0}]
[null,null,null,null,null,null,692,16.89453125,{"$f":"FOURIER!M694","v":0},{"$f":"FOURIER!N694","v":0}]
[null,null,null,null,null,null,693,16.9189453125,{"$f":"FOURIER!M695","v":0},{"$f":"FOURIER!N695","v":0}]
[null,null,null,null,null,null,694,16.943359375,{"$f":"FOURIER!M696","v":0},{"$f":"FOURIER!N696","v":0}]
[null,null,null,null,null,null,695,16.9677734375,{"$f":"FOURIER!M697","v":0},{"$f":"FOURIER!N697","v":0}]
[null,null,null,null,null,null,696,16.9921875,{"$f":"FOURIER!M698","v":0},{"$f":"FOURIER!N698","v":0}]
[null,null,null,null,null,null,697,17.0166015625,{"$f":"FOURIER!M699","v":0},{"$f":"FOURIER!N699","v":0}]
[null,null,null,null,null,null,698,17.041015625,{"$f":"FOURIER!M700","v":0},{"$f":"FOURIER!N700","v":0}]
[null,null,null,null,null,null,699,17.0654296875,{"$f":"FOURIER!M701","v":0},{"$f":"FOURIER!N701","v":0}]
[null,null,null,null,null,null,700,17.08984375,{"$f":"FOURIER!M702","v":0},{"$f":"FOURIER!N702","v":0}]
[null,null,null,null,null,null,701,17.1142578125,{"$f":"FOURIER!M703","v":0},{"$f":"FOURIER!N703","v":0}]
[null,null,null,null,null,null,702,17.138671875,{"$f":"FOURIER!M704","v":0},{"$f":"FOURIER!N704","v":0}]
[null,null,null,null,null,null,703,17.1630859375,{"$f":"FOURIER!M705","v":0},{"$f":"FOURIER!N705","v":0}]
[null,null,null,null,null,null,704,{"$f":"(G706)/B$9/B$6","v":17.1875},{"$f":"FOURIER!M706","v":0},{"$f":"FOURIER!N706","v":0}]
[null,null,null,null,null,null,705,17.2119140625,{"$f":"FOURIER!M707","v":0},{"$f":"FOURIER!N707","v":0}]
[null,null,null,null,null,null,706,17.236328125,{"$f":"FOURIER!M708","v":0},{"$f":"FOURIER!N708","v":0}]
[null,null,null,null,null,null,707,17.2607421875,{"$f":"FOURIER!M709","v":0},{"$f":"FOURIER!N709","v":0}]
[null,null,null,null,null,null,708,17.28515625,{"$f":"FOURIER!M710","v":0},{"$f":"FOURIER!N710","v":0}]
[null,null,null,null,null,null,709,17.3095703125,{"$f":"FOURIER!M711","v":0},{"$f":"FOURIER!N711","v":0}]
[null,null,null,null,null,null,710,17.333984375,{"$f":"FOURIER!M712","v":0},{"$f":"FOURIER!N712","v":0}]
[null,null,null,null,null,null,711,17.3583984375,{"$f":"FOURIER!M713","v":0},{"$f":"FOURIER!N713","v":0}]
[null,null,null,null,null,null,712,17.3828125,{"$f":"FOURIER!M714","v":0},{"$f":"FOURIER!N714","v":0}]
[null,null,null,null,null,null,713,17.4072265625,{"$f":"FOURIER!M715","v":0},{"$f":"FOURIER!N715","v":0}]
[null,null,null,null,null,null,714,17.431640625,{"$f":"FOURIER!M716","v":0},{"$f":"FOURIER!N716","v":0}]
[null,null,null,null,null,null,715,17.4560546875,{"$f":"FOURIER!M717","v":0},{"$f":"FOURIER!N717","v":0}]
[null,null,null,null,null,null,716,17.48046875,{"$f":"FOURIER!M718","v":0},{"$f":"FOURIER!N718","v":0}]
[null,null,null,null,null,null,717,17.5048828125,{"$f":"FOURIER!M719","v":0},{"$f":"FOURIER!N719","v":0}]
[null,null,null,null,null,null,718,17.529296875,{"$f":"FOURIER!M720","v":0},{"$f":"FOURIER!N720","v":0}]
[null,null,null,null,null,null,719,17.5537109375,{"$f":"FOURIER!M721","v":0},{"$f":"FOURIER!N721","v":0}]
[null,null,null,null,null,null,720,17.578125,{"$f":"FOURIER!M722","v":0},{"$f":"FOURIER!N722","v":0}]
[null,null,null,null,null,null,721,17.6025390625,{"$f":"FOURIER!M723","v":0},{"$f":"FOURIER!N723","v":0}]
[null,null,null,null,null,null,722,17.626953125,{"$f":"FOURIER!M724","v":0},{"$f":"FOURIER!N724","v":0}]
[null,null,null,null,null,null,723,17.6513671875,{"$f":"FOURIER!M725","v":0},{"$f":"FOURIER!N725","v":0}]
[null,null,null,null,null,null,724,17.67578125,{"$f":"FOURIER!M726","v":0},{"$f":"FOURIER!N726","v":0}]
[null,null,null,null,null,null,725,17.7001953125,{"$f":"FOURIER!M727","v":0},{"$f":"FOURIER!N727","v":0}]
[null,null,null,null,null,null,726,17.724609375,{"$f":"FOURIER!M728","v":0},{"$f":"FOURIER!N728","v":0}]
[null,null,null,null,null,null,727,17.7490234375,{"$f":"FOURIER!M729","v":0},{"$f":"FOURIER!N729","v":0}]
[null,null,null,null,null,null,728,17.7734375,{"$f":"FOURIER!M730","v":0},{"$f":"FOURIER!N730","v":0}]
[null,null,null,null,null,null,729,17.7978515625,{"$f":"FOURIER!M731","v":0},{"$f":"FOURIER!N731","v":0}]
[null,null,null,null,null,null,730,17.822265625,{"$f":"FOURIER!M732","v":0},{"$f":"FOURIER!N732","v":0}]
[null,null,null,null,null,null,731,17.8466796875,{"$f":"FOURIER!M733","v":0},{"$f":"FOURIER!N733","v":0}]
[null,null,null,null,null,null,732,17.87109375,{"$f":"FOURIER!M734","v":0},{"$f":"FOURIER!N734","v":0}]
[null,null,null,null,null,null,733,17.8955078125,{"$f":"FOURIER!M735","v":0},{"$f":"FOURIER!N735","v":0}]
[null,null,null,null,null,null,734,17.919921875,{"$f":"FOURIER!M736","v":0},{"$f":"FOURIER!N736","v":0}]
[null,null,null,null,null,null,735,17.9443359375,{"$f":"FOURIER!M737","v":0},{"$f":"FOURIER!N737","v":0}]
[null,null,null,null,null,null,736,17.96875,{"$f":"FOURIER!M738","v":0},{"$f":"FOURIER!N738","v":0}]
[null,null,null,null,null,null,737,17.9931640625,{"$f":"FOURIER!M739","v":0},{"$f":"FOURIER!N739","v":0}]
[null,null,null,null,null,null,738,18.017578125,{"$f":"FOURIER!M740","v":0},{"$f":"FOURIER!N740","v":0}]
[null,null,null,null,null,null,739,18.0419921875,{"$f":"FOURIER!M741","v":0},{"$f":"FOURIER!N741","v":0}]
[null,null,null,null,null,null,740,18.06640625,{"$f":"FOURIER!M742","v":0},{"$f":"FOURIER!N742","v":0}]
[null,null,null,null,null,null,741,18.0908203125,{"$f":"FOURIER!M743","v":0},{"$f":"FOURIER!N743","v":0}]
[null,null,null,null,null,null,742,18.115234375,{"$f":"FOURIER!M744","v":0},{"$f":"FOURIER!N744","v":0}]
[null,null,null,null,null,null,743,18.1396484375,{"$f":"FOURIER!M745","v":0},{"$f":"FOURIER!N745","v":0}]
[null,null,null,null,null,null,744,18.1640625,{"$f":"FOURIER!M746","v":0},{"$f":"FOURIER!N746","v":0}]
[null,null,null,null,null,null,745,18.1884765625,{"$f":"FOURIER!M747","v":0},{"$f":"FOURIER!N747","v":0}]
[null,null,null,null,null,null,746,18.212890625,{"$f":"FOURIER!M748","v":0},{"$f":"FOURIER!N748","v":0}]
[null,null,null,null,null,null,747,18.2373046875,{"$f":"FOURIER!M749","v":0},{"$f":"FOURIER!N749","v":0}]
[null,null,null,null,null,null,748,18.26171875,{"$f":"FOURIER!M750","v":0},{"$f":"FOURIER!N750","v":0}]
[null,null,null,null,null,null,749,18.2861328125,{"$f":"FOURIER!M751","v":0},{"$f":"FOURIER!N751","v":0}]
[null,null,null,null,null,null,750,18.310546875,{"$f":"FOURIER!M752","v":0},{"$f":"FOURIER!N752","v":0}]
[null,null,null,null,null,null,751,18.3349609375,{"$f":"FOURIER!M753","v":0},{"$f":"FOURIER!N753","v":0}]
[null,null,null,null,null,null,752,18.359375,{"$f":"FOURIER!M754","v":0},{"$f":"FOURIER!N754","v":0}]
[null,null,null,null,null,null,753,18.3837890625,{"$f":"FOURIER!M755","v":0},{"$f":"FOURIER!N755","v":0}]
[null,null,null,null,null,null,754,18.408203125,{"$f":"FOURIER!M756","v":0},{"$f":"FOURIER!N756","v":0}]
[null,null,null,null,null,null,755,18.4326171875,{"$f":"FOURIER!M757","v":0},{"$f":"FOURIER!N757","v":0}]
[null,null,null,null,null,null,756,18.45703125,{"$f":"FOURIER!M758","v":0},{"$f":"FOURIER!N758","v":0}]
[null,null,null,null,null,null,757,18.4814453125,{"$f":"FOURIER!M759","v":0},{"$f":"FOURIER!N759","v":0}]
[null,null,null,null,null,null,758,18.505859375,{"$f":"FOURIER!M760","v":0},{"$f":"FOURIER!N760","v":0}]
[null,null,null,null,null,null,759,18.5302734375,{"$f":"FOURIER!M761","v":0},{"$f":"FOURIER!N761","v":0}]
[null,null,null,null,null,null,760,18.5546875,{"$f":"FOURIER!M762","v":0},{"$f":"FOURIER!N762","v":0}]
[null,null,null,null,null,null,761,18.5791015625,{"$f":"FOURIER!M763","v":0},{"$f":"FOURIER!N763","v":0}]
[null,null,null,null,null,null,762,18.603515625,{"$f":"FOURIER!M764","v":0},{"$f":"FOURIER!N764","v":0}]
[null,null,null,null,null,null,763,18.6279296875,{"$f":"FOURIER!M765","v":0},{"$f":"FOURIER!N765","v":0}]
[null,null,null,null,null,null,764,18.65234375,{"$f":"FOURIER!M766","v":0},{"$f":"FOURIER!N766","v":0}]
[null,null,null,null,null,null,765,18.6767578125,{"$f":"FOURIER!M767","v":0},{"$f":"FOURIER!N767","v":0}]
[null,null,null,null,null,null,766,18.701171875,{"$f":"FOURIER!M768","v":0},{"$f":"FOURIER!N768","v":0}]
[null,null,null,null,null,null,767,18.7255859375,{"$f":"FOURIER!M769","v":0},{"$f":"FOURIER!N769","v":0}]
[null,null,null,null,null,null,768,{"$f":"(G770)/B$9/B$6","v":18.75},{"$f":"FOURIER!M770","v":0},{"$f":"FOURIER!N770","v":0}]
[null,null,null,null,null,null,769,18.7744140625,{"$f":"FOURIER!M771","v":0},{"$f":"FOURIER!N771","v":0}]
[null,null,null,null,null,null,770,18.798828125,{"$f":"FOURIER!M772","v":0},{"$f":"FOURIER!N772","v":0}]
[null,null,null,null,null,null,771,18.8232421875,{"$f":"FOURIER!M773","v":0},{"$f":"FOURIER!N773","v":0}]
[null,null,null,null,null,null,772,18.84765625,{"$f":"FOURIER!M774","v":0},{"$f":"FOURIER!N774","v":0}]
[null,null,null,null,null,null,773,18.8720703125,{"$f":"FOURIER!M775","v":0},{"$f":"FOURIER!N775","v":0}]
[null,null,null,null,null,null,774,18.896484375,{"$f":"FOURIER!M776","v":0},{"$f":"FOURIER!N776","v":0}]
[null,null,null,null,null,null,775,18.9208984375,{"$f":"FOURIER!M777","v":0},{"$f":"FOURIER!N777","v":0}]
[null,null,null,null,null,null,776,18.9453125,{"$f":"FOURIER!M778","v":0},{"$f":"FOURIER!N778","v":0}]
[null,null,null,null,null,null,777,18.9697265625,{"$f":"FOURIER!M779","v":0},{"$f":"FOURIER!N779","v":0}]
[null,null,null,null,null,null,778,18.994140625,{"$f":"FOURIER!M780","v":0},{"$f":"FOURIER!N780","v":0}]
[null,null,null,null,null,null,779,19.0185546875,{"$f":"FOURIER!M781","v":0},{"$f":"FOURIER!N781","v":0}]
[null,null,null,null,null,null,780,19.04296875,{"$f":"FOURIER!M782","v":0},{"$f":"FOURIER!N782","v":0}]
[null,null,null,null,null,null,781,19.0673828125,{"$f":"FOURIER!M783","v":0},{"$f":"FOURIER!N783","v":0}]
[null,null,null,null,null,null,782,19.091796875,{"$f":"FOURIER!M784","v":0},{"$f":"FOURIER!N784","v":0}]
[null,null,null,null,null,null,783,19.1162109375,{"$f":"FOURIER!M785","v":0},{"$f":"FOURIER!N785","v":0}]
[null,null,null,null,null,null,784,19.140625,{"$f":"FOURIER!M786","v":0},{"$f":"FOURIER!N786","v":0}]
[null,null,null,null,null,null,785,19.1650390625,{"$f":"FOURIER!M787","v":0},{"$f":"FOURIER!N787","v":0}]
[null,null,null,null,null,null,786,19.189453125,{"$f":"FOURIER!M788","v":0},{"$f":"FOURIER!N788","v":0}]
[null,null,null,null,null,null,787,19.2138671875,{"$f":"FOURIER!M789","v":0},{"$f":"FOURIER!N789","v":0}]
[null,null,null,null,null,null,788,19.23828125,{"$f":"FOURIER!M790","v":0},{"$f":"FOURIER!N790","v":0}]
[null,null,null,null,null,null,789,19.2626953125,{"$f":"FOURIER!M791","v":0},{"$f":"FOURIER!N791","v":0}]
[null,null,null,null,null,null,790,19.287109375,{"$f":"FOURIER!M792","v":0},{"$f":"FOURIER!N792","v":0}]
[null,null,null,null,null,null,791,19.3115234375,{"$f":"FOURIER!M793","v":0},{"$f":"FOURIER!N793","v":0}]
[null,null,null,null,null,null,792,19.3359375,{"$f":"FOURIER!M794","v":0},{"$f":"FOURIER!N794","v":0}]
[null,null,null,null,null,null,793,19.3603515625,{"$f":"FOURIER!M795","v":0},{"$f":"FOURIER!N795","v":0}]
[null,null,null,null,null,null,794,19.384765625,{"$f":"FOURIER!M796","v":0},{"$f":"FOURIER!N796","v":0}]
[null,null,null,null,null,null,795,19.4091796875,{"$f":"FOURIER!M797","v":0},{"$f":"FOURIER!N797","v":0}]
[null,null,null,null,null,null,796,19.43359375,{"$f":"FOURIER!M798","v":0},{"$f":"FOURIER!N798","v":0}]
[null,null,null,null,null,null,797,19.4580078125,{"$f":"FOURIER!M799","v":0},{"$f":"FOURIER!N799","v":0}]
[null,null,null,null,null,null,798,19.482421875,{"$f":"FOURIER!M800","v":0},{"$f":"FOURIER!N800","v":0}]
[null,null,null,null,null,null,799,19.5068359375,{"$f":"FOURIER!M801","v":0},{"$f":"FOURIER!N801","v":0}]
[null,null,null,null,null,null,800,19.53125,{"$f":"FOURIER!M802","v":0},{"$f":"FOURIER!N802","v":0}]
[null,null,null,null,null,null,801,19.5556640625,{"$f":"FOURIER!M803","v":0},{"$f":"FOURIER!N803","v":0}]
[null,null,null,null,null,null,802,19.580078125,{"$f":"FOURIER!M804","v":0},{"$f":"FOURIER!N804","v":0}]
[null,null,null,null,null,null,803,19.6044921875,{"$f":"FOURIER!M805","v":0},{"$f":"FOURIER!N805","v":0}]
[null,null,null,null,null,null,804,19.62890625,{"$f":"FOURIER!M806","v":0},{"$f":"FOURIER!N806","v":0}]
[null,null,null,null,null,null,805,19.6533203125,{"$f":"FOURIER!M807","v":0},{"$f":"FOURIER!N807","v":0}]
[null,null,null,null,null,null,806,19.677734375,{"$f":"FOURIER!M808","v":0},{"$f":"FOURIER!N808","v":0}]
[null,null,null,null,null,null,807,19.7021484375,{"$f":"FOURIER!M809","v":0},{"$f":"FOURIER!N809","v":0}]
[null,null,null,null,null,null,808,19.7265625,{"$f":"FOURIER!M810","v":0},{"$f":"FOURIER!N810","v":0}]
[null,null,null,null,null,null,809,19.7509765625,{"$f":"FOURIER!M811","v":0},{"$f":"FOURIER!N811","v":0}]
[null,null,null,null,null,null,810,19.775390625,{"$f":"FOURIER!M812","v":0},{"$f":"FOURIER!N812","v":0}]
[null,null,null,null,null,null,811,19.7998046875,{"$f":"FOURIER!M813","v":0},{"$f":"FOURIER!N813","v":0}]
[null,null,null,null,null,null,812,19.82421875,{"$f":"FOURIER!M814","v":0},{"$f":"FOURIER!N814","v":0}]
[null,null,null,null,null,null,813,19.8486328125,{"$f":"FOURIER!M815","v":0},{"$f":"FOURIER!N815","v":0}]
[null,null,null,null,null,null,814,19.873046875,{"$f":"FOURIER!M816","v":0},{"$f":"FOURIER!N816","v":0}]
[null,null,null,null,null,null,815,19.8974609375,{"$f":"FOURIER!M817","v":0},{"$f":"FOURIER!N817","v":0}]
[null,null,null,null,null,null,816,19.921875,{"$f":"FOURIER!M818","v":0},{"$f":"FOURIER!N818","v":0}]
[null,null,null,null,null,null,817,19.9462890625,{"$f":"FOURIER!M819","v":0},{"$f":"FOURIER!N819","v":0}]
[null,null,null,null,null,null,818,19.970703125,{"$f":"FOURIER!M820","v":0},{"$f":"FOURIER!N820","v":0}]
[null,null,null,null,null,null,819,19.9951171875,{"$f":"FOURIER!M821","v":0},{"$f":"FOURIER!N821","v":0}]
[null,null,null,null,null,null,820,20.01953125,{"$f":"FOURIER!M822","v":0},{"$f":"FOURIER!N822","v":0}]
[null,null,null,null,null,null,821,20.0439453125,{"$f":"FOURIER!M823","v":0},{"$f":"FOURIER!N823","v":0}]
[null,null,null,null,null,null,822,20.068359375,{"$f":"FOURIER!M824","v":0},{"$f":"FOURIER!N824","v":0}]
[null,null,null,null,null,null,823,20.0927734375,{"$f":"FOURIER!M825","v":0},{"$f":"FOURIER!N825","v":0}]
[null,null,null,null,null,null,824,20.1171875,{"$f":"FOURIER!M826","v":0},{"$f":"FOURIER!N826","v":0}]
[null,null,null,null,null,null,825,20.1416015625,{"$f":"FOURIER!M827","v":0},{"$f":"FOURIER!N827","v":0}]
[null,null,null,null,null,null,826,20.166015625,{"$f":"FOURIER!M828","v":0},{"$f":"FOURIER!N828","v":0}]
[null,null,null,null,null,null,827,20.1904296875,{"$f":"FOURIER!M829","v":0},{"$f":"FOURIER!N829","v":0}]
[null,null,null,null,null,null,828,20.21484375,{"$f":"FOURIER!M830","v":0},{"$f":"FOURIER!N830","v":0}]
[null,null,null,null,null,null,829,20.2392578125,{"$f":"FOURIER!M831","v":0},{"$f":"FOURIER!N831","v":0}]
[null,null,null,null,null,null,830,20.263671875,{"$f":"FOURIER!M832","v":0},{"$f":"FOURIER!N832","v":0}]
[null,null,null,null,null,null,831,20.2880859375,{"$f":"FOURIER!M833","v":0},{"$f":"FOURIER!N833","v":0}]
[null,null,null,null,null,null,832,{"$f":"(G834)/B$9/B$6","v":20.3125},{"$f":"FOURIER!M834","v":0},{"$f":"FOURIER!N834","v":0}]
[null,null,null,null,null,null,833,20.3369140625,{"$f":"FOURIER!M835","v":0},{"$f":"FOURIER!N835","v":0}]
[null,null,null,null,null,null,834,20.361328125,{"$f":"FOURIER!M836","v":0},{"$f":"FOURIER!N836","v":0}]
[null,null,null,null,null,null,835,20.3857421875,{"$f":"FOURIER!M837","v":0},{"$f":"FOURIER!N837","v":0}]
[null,null,null,null,null,null,836,20.41015625,{"$f":"FOURIER!M838","v":0},{"$f":"FOURIER!N838","v":0}]
[null,null,null,null,null,null,837,20.4345703125,{"$f":"FOURIER!M839","v":0},{"$f":"FOURIER!N839","v":0}]
[null,null,null,null,null,null,838,20.458984375,{"$f":"FOURIER!M840","v":0},{"$f":"FOURIER!N840","v":0}]
[null,null,null,null,null,null,839,20.4833984375,{"$f":"FOURIER!M841","v":0},{"$f":"FOURIER!N841","v":0}]
[null,null,null,null,null,null,840,20.5078125,{"$f":"FOURIER!M842","v":0},{"$f":"FOURIER!N842","v":0}]
[null,null,null,null,null,null,841,20.5322265625,{"$f":"FOURIER!M843","v":0},{"$f":"FOURIER!N843","v":0}]
[null,null,null,null,null,null,842,20.556640625,{"$f":"FOURIER!M844","v":0},{"$f":"FOURIER!N844","v":0}]
[null,null,null,null,null,null,843,20.5810546875,{"$f":"FOURIER!M845","v":0},{"$f":"FOURIER!N845","v":0}]
[null,null,null,null,null,null,844,20.60546875,{"$f":"FOURIER!M846","v":0},{"$f":"FOURIER!N846","v":0}]
[null,null,null,null,null,null,845,20.6298828125,{"$f":"FOURIER!M847","v":0},{"$f":"FOURIER!N847","v":0}]
[null,null,null,null,null,null,846,20.654296875,{"$f":"FOURIER!M848","v":0},{"$f":"FOURIER!N848","v":0}]
[null,null,null,null,null,null,847,20.6787109375,{"$f":"FOURIER!M849","v":0},{"$f":"FOURIER!N849","v":0}]
[null,null,null,null,null,null,848,20.703125,{"$f":"FOURIER!M850","v":0},{"$f":"FOURIER!N850","v":0}]
[null,null,null,null,null,null,849,20.7275390625,{"$f":"FOURIER!M851","v":0},{"$f":"FOURIER!N851","v":0}]
[null,null,null,null,null,null,850,20.751953125,{"$f":"FOURIER!M852","v":0},{"$f":"FOURIER!N852","v":0}]
[null,null,null,null,null,null,851,20.7763671875,{"$f":"FOURIER!M853","v":0},{"$f":"FOURIER!N853","v":0}]
[null,null,null,null,null,null,852,20.80078125,{"$f":"FOURIER!M854","v":0},{"$f":"FOURIER!N854","v":0}]
[null,null,null,null,null,null,853,20.8251953125,{"$f":"FOURIER!M855","v":0},{"$f":"FOURIER!N855","v":0}]
[null,null,null,null,null,null,854,20.849609375,{"$f":"FOURIER!M856","v":0},{"$f":"FOURIER!N856","v":0}]
[null,null,null,null,null,null,855,20.8740234375,{"$f":"FOURIER!M857","v":0},{"$f":"FOURIER!N857","v":0}]
[null,null,null,null,null,null,856,20.8984375,{"$f":"FOURIER!M858","v":0},{"$f":"FOURIER!N858","v":0}]
[null,null,null,null,null,null,857,20.9228515625,{"$f":"FOURIER!M859","v":0},{"$f":"FOURIER!N859","v":0}]
[null,null,null,null,null,null,858,20.947265625,{"$f":"FOURIER!M860","v":0},{"$f":"FOURIER!N860","v":0}]
[null,null,null,null,null,null,859,20.9716796875,{"$f":"FOURIER!M861","v":0},{"$f":"FOURIER!N861","v":0}]
[null,null,null,null,null,null,860,20.99609375,{"$f":"FOURIER!M862","v":0},{"$f":"FOURIER!N862","v":0}]
[null,null,null,null,null,null,861,21.0205078125,{"$f":"FOURIER!M863","v":0},{"$f":"FOURIER!N863","v":0}]
[null,null,null,null,null,null,862,21.044921875,{"$f":"FOURIER!M864","v":0},{"$f":"FOURIER!N864","v":0}]
[null,null,null,null,null,null,863,21.0693359375,{"$f":"FOURIER!M865","v":0},{"$f":"FOURIER!N865","v":0}]
[null,null,null,null,null,null,864,21.09375,{"$f":"FOURIER!M866","v":0},{"$f":"FOURIER!N866","v":0}]
[null,null,null,null,null,null,865,21.1181640625,{"$f":"FOURIER!M867","v":0},{"$f":"FOURIER!N867","v":0}]
[null,null,null,null,null,null,866,21.142578125,{"$f":"FOURIER!M868","v":0},{"$f":"FOURIER!N868","v":0}]
[null,null,null,null,null,null,867,21.1669921875,{"$f":"FOURIER!M869","v":0},{"$f":"FOURIER!N869","v":0}]
[null,null,null,null,null,null,868,21.19140625,{"$f":"FOURIER!M870","v":0},{"$f":"FOURIER!N870","v":0}]
[null,null,null,null,null,null,869,21.2158203125,{"$f":"FOURIER!M871","v":0},{"$f":"FOURIER!N871","v":0}]
[null,null,null,null,null,null,870,21.240234375,{"$f":"FOURIER!M872","v":0},{"$f":"FOURIER!N872","v":0}]
[null,null,null,null,null,null,871,21.2646484375,{"$f":"FOURIER!M873","v":0},{"$f":"FOURIER!N873","v":0}]
[null,null,null,null,null,null,872,21.2890625,{"$f":"FOURIER!M874","v":0},{"$f":"FOURIER!N874","v":0}]
[null,null,null,null,null,null,873,21.3134765625,{"$f":"FOURIER!M875","v":0},{"$f":"FOURIER!N875","v":0}]
[null,null,null,null,null,null,874,21.337890625,{"$f":"FOURIER!M876","v":0},{"$f":"FOURIER!N876","v":0}]
[null,null,null,null,null,null,875,21.3623046875,{"$f":"FOURIER!M877","v":0},{"$f":"FOURIER!N877","v":0}]
[null,null,null,null,null,null,876,21.38671875,{"$f":"FOURIER!M878","v":0},{"$f":"FOURIER!N878","v":0}]
[null,null,null,null,null,null,877,21.4111328125,{"$f":"FOURIER!M879","v":0},{"$f":"FOURIER!N879","v":0}]
[null,null,null,null,null,null,878,21.435546875,{"$f":"FOURIER!M880","v":0},{"$f":"FOURIER!N880","v":0}]
[null,null,null,null,null,null,879,21.4599609375,{"$f":"FOURIER!M881","v":0},{"$f":"FOURIER!N881","v":0}]
[null,null,null,null,null,null,880,21.484375,{"$f":"FOURIER!M882","v":0},{"$f":"FOURIER!N882","v":0}]
[null,null,null,null,null,null,881,21.5087890625,{"$f":"FOURIER!M883","v":0},{"$f":"FOURIER!N883","v":0}]
[null,null,null,null,null,null,882,21.533203125,{"$f":"FOURIER!M884","v":0},{"$f":"FOURIER!N884","v":0}]
[null,null,null,null,null,null,883,21.5576171875,{"$f":"FOURIER!M885","v":0},{"$f":"FOURIER!N885","v":0}]
[null,null,null,null,null,null,884,21.58203125,{"$f":"FOURIER!M886","v":0},{"$f":"FOURIER!N886","v":0}]
[null,null,null,null,null,null,885,21.6064453125,{"$f":"FOURIER!M887","v":0},{"$f":"FOURIER!N887","v":0}]
[null,null,null,null,null,null,886,21.630859375,{"$f":"FOURIER!M888","v":0},{"$f":"FOURIER!N888","v":0}]
[null,null,null,null,null,null,887,21.6552734375,{"$f":"FOURIER!M889","v":0},{"$f":"FOURIER!N889","v":0}]
[null,null,null,null,null,null,888,21.6796875,{"$f":"FOURIER!M890","v":0},{"$f":"FOURIER!N890","v":0}]
[null,null,null,null,null,null,889,21.7041015625,{"$f":"FOURIER!M891","v":0},{"$f":"FOURIER!N891","v":0}]
[null,null,null,null,null,null,890,21.728515625,{"$f":"FOURIER!M892","v":0},{"$f":"FOURIER!N892","v":0}]
[null,null,null,null,null,null,891,21.7529296875,{"$f":"FOURIER!M893","v":0},{"$f":"FOURIER!N893","v":0}]
[null,null,null,null,null,null,892,21.77734375,{"$f":"FOURIER!M894","v":0},{"$f":"FOURIER!N894","v":0}]
[null,null,null,null,null,null,893,21.8017578125,{"$f":"FOURIER!M895","v":0},{"$f":"FOURIER!N895","v":0}]
[null,null,null,null,null,null,894,21.826171875,{"$f":"FOURIER!M896","v":0},{"$f":"FOURIER!N896","v":0}]
[null,null,null,null,null,null,895,21.8505859375,{"$f":"FOURIER!M897","v":0},{"$f":"FOURIER!N897","v":0}]
[null,null,null,null,null,null,896,{"$f":"(G898)/B$9/B$6","v":21.875},{"$f":"FOURIER!M898","v":0},{"$f":"FOURIER!N898","v":0}]
[null,null,null,null,null,null,897,21.8994140625,{"$f":"FOURIER!M899","v":0},{"$f":"FOURIER!N899","v":0}]
[null,null,null,null,null,null,898,21.923828125,{"$f":"FOURIER!M900","v":0},{"$f":"FOURIER!N900","v":0}]
[null,null,null,null,null,null,899,21.9482421875,{"$f":"FOURIER!M901","v":0},{"$f":"FOURIER!N901","v":0}]
[null,null,null,null,null,null,900,21.97265625,{"$f":"FOURIER!M902","v":0},{"$f":"FOURIER!N902","v":0}]
[null,null,null,null,null,null,901,21.9970703125,{"$f":"FOURIER!M903","v":0},{"$f":"FOURIER!N903","v":0}]
[null,null,null,null,null,null,902,22.021484375,{"$f":"FOURIER!M904","v":0},{"$f":"FOURIER!N904","v":0}]
[null,null,null,null,null,null,903,22.0458984375,{"$f":"FOURIER!M905","v":0},{"$f":"FOURIER!N905","v":0}]
[null,null,null,null,null,null,904,22.0703125,{"$f":"FOURIER!M906","v":0},{"$f":"FOURIER!N906","v":0}]
[null,null,null,null,null,null,905,22.0947265625,{"$f":"FOURIER!M907","v":0},{"$f":"FOURIER!N907","v":0}]
[null,null,null,null,null,null,906,22.119140625,{"$f":"FOURIER!M908","v":0},{"$f":"FOURIER!N908","v":0}]
[null,null,null,null,null,null,907,22.1435546875,{"$f":"FOURIER!M909","v":0},{"$f":"FOURIER!N909","v":0}]
[null,null,null,null,null,null,908,22.16796875,{"$f":"FOURIER!M910","v":0},{"$f":"FOURIER!N910","v":0}]
[null,null,null,null,null,null,909,22.1923828125,{"$f":"FOURIER!M911","v":0},{"$f":"FOURIER!N911","v":0}]
[null,null,null,null,null,null,910,22.216796875,{"$f":"FOURIER!M912","v":0},{"$f":"FOURIER!N912","v":0}]
[null,null,null,null,null,null,911,22.2412109375,{"$f":"FOURIER!M913","v":0},{"$f":"FOURIER!N913","v":0}]
[null,null,null,null,null,null,912,22.265625,{"$f":"FOURIER!M914","v":0},{"$f":"FOURIER!N914","v":0}]
[null,null,null,null,null,null,913,22.2900390625,{"$f":"FOURIER!M915","v":0},{"$f":"FOURIER!N915","v":0}]
[null,null,null,null,null,null,914,22.314453125,{"$f":"FOURIER!M916","v":0},{"$f":"FOURIER!N916","v":0}]
[null,null,null,null,null,null,915,22.3388671875,{"$f":"FOURIER!M917","v":0},{"$f":"FOURIER!N917","v":0}]
[null,null,null,null,null,null,916,22.36328125,{"$f":"FOURIER!M918","v":0},{"$f":"FOURIER!N918","v":0}]
[null,null,null,null,null,null,917,22.3876953125,{"$f":"FOURIER!M919","v":0},{"$f":"FOURIER!N919","v":0}]
[null,null,null,null,null,null,918,22.412109375,{"$f":"FOURIER!M920","v":0},{"$f":"FOURIER!N920","v":0}]
[null,null,null,null,null,null,919,22.4365234375,{"$f":"FOURIER!M921","v":0},{"$f":"FOURIER!N921","v":0}]
[null,null,null,null,null,null,920,22.4609375,{"$f":"FOURIER!M922","v":0},{"$f":"FOURIER!N922","v":0}]
[null,null,null,null,null,null,921,22.4853515625,{"$f":"FOURIER!M923","v":0},{"$f":"FOURIER!N923","v":0}]
[null,null,null,null,null,null,922,22.509765625,{"$f":"FOURIER!M924","v":0},{"$f":"FOURIER!N924","v":0}]
[null,null,null,null,null,null,923,22.5341796875,{"$f":"FOURIER!M925","v":0},{"$f":"FOURIER!N925","v":0}]
[null,null,null,null,null,null,924,22.55859375,{"$f":"FOURIER!M926","v":0},{"$f":"FOURIER!N926","v":0}]
[null,null,null,null,null,null,925,22.5830078125,{"$f":"FOURIER!M927","v":0},{"$f":"FOURIER!N927","v":0}]
[null,null,null,null,null,null,926,22.607421875,{"$f":"FOURIER!M928","v":0},{"$f":"FOURIER!N928","v":0}]
[null,null,null,null,null,null,927,22.6318359375,{"$f":"FOURIER!M929","v":0},{"$f":"FOURIER!N929","v":0}]
[null,null,null,null,null,null,928,22.65625,{"$f":"FOURIER!M930","v":0},{"$f":"FOURIER!N930","v":0}]
[null,null,null,null,null,null,929,22.6806640625,{"$f":"FOURIER!M931","v":0},{"$f":"FOURIER!N931","v":0}]
[null,null,null,null,null,null,930,22.705078125,{"$f":"FOURIER!M932","v":0},{"$f":"FOURIER!N932","v":0}]
[null,null,null,null,null,null,931,22.7294921875,{"$f":"FOURIER!M933","v":0},{"$f":"FOURIER!N933","v":0}]
[null,null,null,null,null,null,932,22.75390625,{"$f":"FOURIER!M934","v":0},{"$f":"FOURIER!N934","v":0}]
[null,null,null,null,null,null,933,22.7783203125,{"$f":"FOURIER!M935","v":0},{"$f":"FOURIER!N935","v":0}]
[null,null,null,null,null,null,934,22.802734375,{"$f":"FOURIER!M936","v":0},{"$f":"FOURIER!N936","v":0}]
[null,null,null,null,null,null,935,22.8271484375,{"$f":"FOURIER!M937","v":0},{"$f":"FOURIER!N937","v":0}]
[null,null,null,null,null,null,936,22.8515625,{"$f":"FOURIER!M938","v":0},{"$f":"FOURIER!N938","v":0}]
[null,null,null,null,null,null,937,22.8759765625,{"$f":"FOURIER!M939","v":0},{"$f":"FOURIER!N939","v":0}]
[null,null,null,null,null,null,938,22.900390625,{"$f":"FOURIER!M940","v":0},{"$f":"FOURIER!N940","v":0}]
[null,null,null,null,null,null,939,22.9248046875,{"$f":"FOURIER!M941","v":0},{"$f":"FOURIER!N941","v":0}]
[null,null,null,null,null,null,940,22.94921875,{"$f":"FOURIER!M942","v":0},{"$f":"FOURIER!N942","v":0}]
[null,null,null,null,null,null,941,22.9736328125,{"$f":"FOURIER!M943","v":0},{"$f":"FOURIER!N943","v":0}]
[null,null,null,null,null,null,942,22.998046875,{"$f":"FOURIER!M944","v":0},{"$f":"FOURIER!N944","v":0}]
[null,null,null,null,null,null,943,23.0224609375,{"$f":"FOURIER!M945","v":0},{"$f":"FOURIER!N945","v":0}]
[null,null,null,null,null,null,944,23.046875,{"$f":"FOURIER!M946","v":0},{"$f":"FOURIER!N946","v":0}]
[null,null,null,null,null,null,945,23.0712890625,{"$f":"FOURIER!M947","v":0},{"$f":"FOURIER!N947","v":0}]
[null,null,null,null,null,null,946,23.095703125,{"$f":"FOURIER!M948","v":0},{"$f":"FOURIER!N948","v":0}]
[null,null,null,null,null,null,947,23.1201171875,{"$f":"FOURIER!M949","v":0},{"$f":"FOURIER!N949","v":0}]
[null,null,null,null,null,null,948,23.14453125,{"$f":"FOURIER!M950","v":0},{"$f":"FOURIER!N950","v":0}]
[null,null,null,null,null,null,949,23.1689453125,{"$f":"FOURIER!M951","v":0},{"$f":"FOURIER!N951","v":0}]
[null,null,null,null,null,null,950,23.193359375,{"$f":"FOURIER!M952","v":0},{"$f":"FOURIER!N952","v":0}]
[null,null,null,null,null,null,951,23.2177734375,{"$f":"FOURIER!M953","v":0},{"$f":"FOURIER!N953","v":0}]
[null,null,null,null,null,null,952,23.2421875,{"$f":"FOURIER!M954","v":0},{"$f":"FOURIER!N954","v":0}]
[null,null,null,null,null,null,953,23.2666015625,{"$f":"FOURIER!M955","v":0},{"$f":"FOURIER!N955","v":0}]
[null,null,null,null,null,null,954,23.291015625,{"$f":"FOURIER!M956","v":0},{"$f":"FOURIER!N956","v":0}]
[null,null,null,null,null,null,955,23.3154296875,{"$f":"FOURIER!M957","v":0},{"$f":"FOURIER!N957","v":0}]
[null,null,null,null,null,null,956,23.33984375,{"$f":"FOURIER!M958","v":0},{"$f":"FOURIER!N958","v":0}]
[null,null,null,null,null,null,957,23.3642578125,{"$f":"FOURIER!M959","v":0},{"$f":"FOURIER!N959","v":0}]
[null,null,null,null,null,null,958,23.388671875,{"$f":"FOURIER!M960","v":0},{"$f":"FOURIER!N960","v":0}]
[null,null,null,null,null,null,959,23.4130859375,{"$f":"FOURIER!M961","v":0},{"$f":"FOURIER!N961","v":0}]
[null,null,null,null,null,null,960,{"$f":"(G962)/B$9/B$6","v":23.4375},{"$f":"FOURIER!M962","v":0},{"$f":"FOURIER!N962","v":0}]
[null,null,null,null,null,null,961,23.4619140625,{"$f":"FOURIER!M963","v":0},{"$f":"FOURIER!N963","v":0}]
[null,null,null,null,null,null,962,23.486328125,{"$f":"FOURIER!M964","v":0},{"$f":"FOURIER!N964","v":0}]
[null,null,null,null,null,null,963,23.5107421875,{"$f":"FOURIER!M965","v":0},{"$f":"FOURIER!N965","v":0}]
[null,null,null,null,null,null,964,23.53515625,{"$f":"FOURIER!M966","v":0},{"$f":"FOURIER!N966","v":0}]
[null,null,null,null,null,null,965,23.5595703125,{"$f":"FOURIER!M967","v":0},{"$f":"FOURIER!N967","v":0}]
[null,null,null,null,null,null,966,23.583984375,{"$f":"FOURIER!M968","v":0},{"$f":"FOURIER!N968","v":0}]
[null,null,null,null,null,null,967,23.6083984375,{"$f":"FOURIER!M969","v":0},{"$f":"FOURIER!N969","v":0}]
[null,null,null,null,null,null,968,23.6328125,{"$f":"FOURIER!M970","v":0},{"$f":"FOURIER!N970","v":0}]
[null,null,null,null,null,null,969,23.6572265625,{"$f":"FOURIER!M971","v":0},{"$f":"FOURIER!N971","v":0}]
[null,null,null,null,null,null,970,23.681640625,{"$f":"FOURIER!M972","v":0},{"$f":"FOURIER!N972","v":0}]
[null,null,null,null,null,null,971,23.7060546875,{"$f":"FOURIER!M973","v":0},{"$f":"FOURIER!N973","v":0}]
[null,null,null,null,null,null,972,23.73046875,{"$f":"FOURIER!M974","v":0},{"$f":"FOURIER!N974","v":0}]
[null,null,null,null,null,null,973,23.7548828125,{"$f":"FOURIER!M975","v":0},{"$f":"FOURIER!N975","v":0}]
[null,null,null,null,null,null,974,23.779296875,{"$f":"FOURIER!M976","v":0},{"$f":"FOURIER!N976","v":0}]
[null,null,null,null,null,null,975,23.8037109375,{"$f":"FOURIER!M977","v":0},{"$f":"FOURIER!N977","v":0}]
[null,null,null,null,null,null,976,23.828125,{"$f":"FOURIER!M978","v":0},{"$f":"FOURIER!N978","v":0}]
[null,null,null,null,null,null,977,23.8525390625,{"$f":"FOURIER!M979","v":0},{"$f":"FOURIER!N979","v":0}]
[null,null,null,null,null,null,978,23.876953125,{"$f":"FOURIER!M980","v":0},{"$f":"FOURIER!N980","v":0}]
[null,null,null,null,null,null,979,23.9013671875,{"$f":"FOURIER!M981","v":0},{"$f":"FOURIER!N981","v":0}]
[null,null,null,null,null,null,980,23.92578125,{"$f":"FOURIER!M982","v":0},{"$f":"FOURIER!N982","v":0}]
[null,null,null,null,null,null,981,23.9501953125,{"$f":"FOURIER!M983","v":0},{"$f":"FOURIER!N983","v":0}]
[null,null,null,null,null,null,982,23.974609375,{"$f":"FOURIER!M984","v":0},{"$f":"FOURIER!N984","v":0}]
[null,null,null,null,null,null,983,23.9990234375,{"$f":"FOURIER!M985","v":0},{"$f":"FOURIER!N985","v":0}]
[null,null,null,null,null,null,984,24.0234375,{"$f":"FOURIER!M986","v":0},{"$f":"FOURIER!N986","v":0}]
[null,null,null,null,null,null,985,24.0478515625,{"$f":"FOURIER!M987","v":0},{"$f":"FOURIER!N987","v":0}]
[null,null,null,null,null,null,986,24.072265625,{"$f":"FOURIER!M988","v":0},{"$f":"FOURIER!N988","v":0}]
[null,null,null,null,null,null,987,24.0966796875,{"$f":"FOURIER!M989","v":0},{"$f":"FOURIER!N989","v":0}]
[null,null,null,null,null,null,988,24.12109375,{"$f":"FOURIER!M990","v":0},{"$f":"FOURIER!N990","v":0}]
[null,null,null,null,null,null,989,24.1455078125,{"$f":"FOURIER!M991","v":0},{"$f":"FOURIER!N991","v":0}]
[null,null,null,null,null,null,990,24.169921875,{"$f":"FOURIER!M992","v":0},{"$f":"FOURIER!N992","v":0}]
[null,null,null,null,null,null,991,24.1943359375,{"$f":"FOURIER!M993","v":0},{"$f":"FOURIER!N993","v":0}]
[null,null,null,null,null,null,992,24.21875,{"$f":"FOURIER!M994","v":0},{"$f":"FOURIER!N994","v":0}]
[null,null,null,null,null,null,993,24.2431640625,{"$f":"FOURIER!M995","v":0},{"$f":"FOURIER!N995","v":0}]
[null,null,null,null,null,null,994,24.267578125,{"$f":"FOURIER!M996","v":0},{"$f":"FOURIER!N996","v":0}]
[null,null,null,null,null,null,995,24.2919921875,{"$f":"FOURIER!M997","v":0},{"$f":"FOURIER!N997","v":0}]
[null,null,null,null,null,null,996,24.31640625,{"$f":"FOURIER!M998","v":0},{"$f":"FOURIER!N998","v":0}]
[null,null,null,null,null,null,997,24.3408203125,{"$f":"FOURIER!M999","v":0},{"$f":"FOURIER!N999","v":0}]
[null,null,null,null,null,null,998,24.365234375,{"$f":"FOURIER!M1000","v":0},{"$f":"FOURIER!N1000","v":0}]
[null,null,null,null,null,null,999,24.3896484375,{"$f":"FOURIER!M1001","v":0},{"$f":"FOURIER!N1001","v":0}]
[null,null,null,null,null,null,1000,24.4140625,{"$f":"FOURIER!M1002","v":0},{"$f":"FOURIER!N1002","v":0}]
[null,null,null,null,null,null,1001,24.4384765625,{"$f":"FOURIER!M1003","v":0},{"$f":"FOURIER!N1003","v":0}]
[null,null,null,null,null,null,1002,24.462890625,{"$f":"FOURIER!M1004","v":0},{"$f":"FOURIER!N1004","v":0}]
[null,null,null,null,null,null,1003,24.4873046875,{"$f":"FOURIER!M1005","v":0},{"$f":"FOURIER!N1005","v":0}]
[null,null,null,null,null,null,1004,24.51171875,{"$f":"FOURIER!M1006","v":0},{"$f":"FOURIER!N1006","v":0}]
[null,null,null,null,null,null,1005,24.5361328125,{"$f":"FOURIER!M1007","v":0},{"$f":"FOURIER!N1007","v":0}]
[null,null,null,null,null,null,1006,24.560546875,{"$f":"FOURIER!M1008","v":0},{"$f":"FOURIER!N1008","v":0}]
[null,null,null,null,null,null,1007,24.5849609375,{"$f":"FOURIER!M1009","v":0},{"$f":"FOURIER!N1009","v":0}]
[null,null,null,null,null,null,1008,24.609375,{"$f":"FOURIER!M1010","v":0},{"$f":"FOURIER!N1010","v":0}]
[null,null,null,null,null,null,1009,24.6337890625,{"$f":"FOURIER!M1011","v":0},{"$f":"FOURIER!N1011","v":0}]
[null,null,null,null,null,null,1010,24.658203125,{"$f":"FOURIER!M1012","v":0},{"$f":"FOURIER!N1012","v":0}]
[null,null,null,null,null,null,1011,24.6826171875,{"$f":"FOURIER!M1013","v":0},{"$f":"FOURIER!N1013","v":0}]
[null,null,null,null,null,null,1012,24.70703125,{"$f":"FOURIER!M1014","v":0},{"$f":"FOURIER!N1014","v":0}]
[null,null,null,null,null,null,1013,24.7314453125,{"$f":"FOURIER!M1015","v":0},{"$f":"FOURIER!N1015","v":0}]
[null,null,null,null,null,null,1014,24.755859375,{"$f":"FOURIER!M1016","v":0},{"$f":"FOURIER!N1016","v":0}]
[null,null,null,null,null,null,1015,24.7802734375,{"$f":"FOURIER!M1017","v":0},{"$f":"FOURIER!N1017","v":0}]
[null,null,null,null,null,null,1016,24.8046875,{"$f":"FOURIER!M1018","v":0},{"$f":"FOURIER!N1018","v":0}]
[null,null,null,null,null,null,1017,24.8291015625,{"$f":"FOURIER!M1019","v":0},{"$f":"FOURIER!N1019","v":0}]
[null,null,null,null,null,null,1018,24.853515625,{"$f":"FOURIER!M1020","v":0},{"$f":"FOURIER!N1020","v":0}]
[null,null,null,null,null,null,1019,24.8779296875,{"$f":"FOURIER!M1021","v":0},{"$f":"FOURIER!N1021","v":0}]
[null,null,null,null,null,null,1020,24.90234375,{"$f":"FOURIER!M1022","v":0},{"$f":"FOURIER!N1022","v":0}]
[null,null,null,null,null,null,1021,24.9267578125,{"$f":"FOURIER!M1023","v":0},{"$f":"FOURIER!N1023","v":0}]
[null,null,null,null,null,null,1022,24.951171875,{"$f":"FOURIER!M1024","v":0},{"$f":"FOURIER!N1024","v":0}]
[null,null,null,null,null,null,1023,24.9755859375,{"$f":"FOURIER!M1025","v":0},{"$f":"FOURIER!N1025","v":0}]
[null,null,null,null,null,null,1024,{"$f":"(G1026)/B$9/B$6","v":25},{"$f":"FOURIER!M1026","v":0},{"$f":"FOURIER!N1026","v":0}]
[null,null,null,null,null,null,1025,25.0244140625,{"$f":"FOURIER!M1027","v":0},{"$f":"FOURIER!N1027","v":0}]
[null,null,null,null,null,null,1026,25.048828125,{"$f":"FOURIER!M1028","v":0},{"$f":"FOURIER!N1028","v":0}]
[null,null,null,null,null,null,1027,25.0732421875,{"$f":"FOURIER!M1029","v":0},{"$f":"FOURIER!N1029","v":0}]
[null,null,null,null,null,null,1028,25.09765625,{"$f":"FOURIER!M1030","v":0},{"$f":"FOURIER!N1030","v":0}]
[null,null,null,null,null,null,1029,25.1220703125,{"$f":"FOURIER!M1031","v":0},{"$f":"FOURIER!N1031","v":0}]
[null,null,null,null,null,null,1030,25.146484375,{"$f":"FOURIER!M1032","v":0},{"$f":"FOURIER!N1032","v":0}]
[null,null,null,null,null,null,1031,25.1708984375,{"$f":"FOURIER!M1033","v":0},{"$f":"FOURIER!N1033","v":0}]
[null,null,null,null,null,null,1032,25.1953125,{"$f":"FOURIER!M1034","v":0},{"$f":"FOURIER!N1034","v":0}]
[null,null,null,null,null,null,1033,25.2197265625,{"$f":"FOURIER!M1035","v":0},{"$f":"FOURIER!N1035","v":0}]
[null,null,null,null,null,null,1034,25.244140625,{"$f":"FOURIER!M1036","v":0},{"$f":"FOURIER!N1036","v":0}]
[null,null,null,null,null,null,1035,25.2685546875,{"$f":"FOURIER!M1037","v":0},{"$f":"FOURIER!N1037","v":0}]
[null,null,null,null,null,null,1036,25.29296875,{"$f":"FOURIER!M1038","v":0},{"$f":"FOURIER!N1038","v":0}]
[null,null,null,null,null,null,1037,25.3173828125,{"$f":"FOURIER!M1039","v":0},{"$f":"FOURIER!N1039","v":0}]
[null,null,null,null,null,null,1038,25.341796875,{"$f":"FOURIER!M1040","v":0},{"$f":"FOURIER!N1040","v":0}]
[null,null,null,null,null,null,1039,25.3662109375,{"$f":"FOURIER!M1041","v":0},{"$f":"FOURIER!N1041","v":0}]
[null,null,null,null,null,null,1040,25.390625,{"$f":"FOURIER!M1042","v":0},{"$f":"FOURIER!N1042","v":0}]
[null,null,null,null,null,null,1041,25.4150390625,{"$f":"FOURIER!M1043","v":0},{"$f":"FOURIER!N1043","v":0}]
[null,null,null,null,null,null,1042,25.439453125,{"$f":"FOURIER!M1044","v":0},{"$f":"FOURIER!N1044","v":0}]
[null,null,null,null,null,null,1043,25.4638671875,{"$f":"FOURIER!M1045","v":0},{"$f":"FOURIER!N1045","v":0}]
[null,null,null,null,null,null,1044,25.48828125,{"$f":"FOURIER!M1046","v":0},{"$f":"FOURIER!N1046","v":0}]
[null,null,null,null,null,null,1045,25.5126953125,{"$f":"FOURIER!M1047","v":0},{"$f":"FOURIER!N1047","v":0}]
[null,null,null,null,null,null,1046,25.537109375,{"$f":"FOURIER!M1048","v":0},{"$f":"FOURIER!N1048","v":0}]
[null,null,null,null,null,null,1047,25.5615234375,{"$f":"FOURIER!M1049","v":0},{"$f":"FOURIER!N1049","v":0}]
[null,null,null,null,null,null,1048,25.5859375,{"$f":"FOURIER!M1050","v":0},{"$f":"FOURIER!N1050","v":0}]
[null,null,null,null,null,null,1049,25.6103515625,{"$f":"FOURIER!M1051","v":0},{"$f":"FOURIER!N1051","v":0}]
[null,null,null,null,null,null,1050,25.634765625,{"$f":"FOURIER!M1052","v":0},{"$f":"FOURIER!N1052","v":0}]
[null,null,null,null,null,null,1051,25.6591796875,{"$f":"FOURIER!M1053","v":0},{"$f":"FOURIER!N1053","v":0}]
[null,null,null,null,null,null,1052,25.68359375,{"$f":"FOURIER!M1054","v":0},{"$f":"FOURIER!N1054","v":0}]
[null,null,null,null,null,null,1053,25.7080078125,{"$f":"FOURIER!M1055","v":0},{"$f":"FOURIER!N1055","v":0}]
[null,null,null,null,null,null,1054,25.732421875,{"$f":"FOURIER!M1056","v":0},{"$f":"FOURIER!N1056","v":0}]
[null,null,null,null,null,null,1055,25.7568359375,{"$f":"FOURIER!M1057","v":0},{"$f":"FOURIER!N1057","v":0}]
[null,null,null,null,null,null,1056,25.78125,{"$f":"FOURIER!M1058","v":0},{"$f":"FOURIER!N1058","v":0}]
[null,null,null,null,null,null,1057,25.8056640625,{"$f":"FOURIER!M1059","v":0},{"$f":"FOURIER!N1059","v":0}]
[null,null,null,null,null,null,1058,25.830078125,{"$f":"FOURIER!M1060","v":0},{"$f":"FOURIER!N1060","v":0}]
[null,null,null,null,null,null,1059,25.8544921875,{"$f":"FOURIER!M1061","v":0},{"$f":"FOURIER!N1061","v":0}]
[null,null,null,null,null,null,1060,25.87890625,{"$f":"FOURIER!M1062","v":0},{"$f":"FOURIER!N1062","v":0}]
[null,null,null,null,null,null,1061,25.9033203125,{"$f":"FOURIER!M1063","v":0},{"$f":"FOURIER!N1063","v":0}]
[null,null,null,null,null,null,1062,25.927734375,{"$f":"FOURIER!M1064","v":0},{"$f":"FOURIER!N1064","v":0}]
[null,null,null,null,null,null,1063,25.9521484375,{"$f":"FOURIER!M1065","v":0},{"$f":"FOURIER!N1065","v":0}]
[null,null,null,null,null,null,1064,25.9765625,{"$f":"FOURIER!M1066","v":0},{"$f":"FOURIER!N1066","v":0}]
[null,null,null,null,null,null,1065,26.0009765625,{"$f":"FOURIER!M1067","v":0},{"$f":"FOURIER!N1067","v":0}]
[null,null,null,null,null,null,1066,26.025390625,{"$f":"FOURIER!M1068","v":0},{"$f":"FOURIER!N1068","v":0}]
[null,null,null,null,null,null,1067,26.0498046875,{"$f":"FOURIER!M1069","v":0},{"$f":"FOURIER!N1069","v":0}]
[null,null,null,null,null,null,1068,26.07421875,{"$f":"FOURIER!M1070","v":0},{"$f":"FOURIER!N1070","v":0}]
[null,null,null,null,null,null,1069,26.0986328125,{"$f":"FOURIER!M1071","v":0},{"$f":"FOURIER!N1071","v":0}]
[null,null,null,null,null,null,1070,26.123046875,{"$f":"FOURIER!M1072","v":0},{"$f":"FOURIER!N1072","v":0}]
[null,null,null,null,null,null,1071,26.1474609375,{"$f":"FOURIER!M1073","v":0},{"$f":"FOURIER!N1073","v":0}]
[null,null,null,null,null,null,1072,26.171875,{"$f":"FOURIER!M1074","v":0},{"$f":"FOURIER!N1074","v":0}]
[null,null,null,null,null,null,1073,26.1962890625,{"$f":"FOURIER!M1075","v":0},{"$f":"FOURIER!N1075","v":0}]
[null,null,null,null,null,null,1074,26.220703125,{"$f":"FOURIER!M1076","v":0},{"$f":"FOURIER!N1076","v":0}]
[null,null,null,null,null,null,1075,26.2451171875,{"$f":"FOURIER!M1077","v":0},{"$f":"FOURIER!N1077","v":0}]
[null,null,null,null,null,null,1076,26.26953125,{"$f":"FOURIER!M1078","v":0},{"$f":"FOURIER!N1078","v":0}]
[null,null,null,null,null,null,1077,26.2939453125,{"$f":"FOURIER!M1079","v":0},{"$f":"FOURIER!N1079","v":0}]
[null,null,null,null,null,null,1078,26.318359375,{"$f":"FOURIER!M1080","v":0},{"$f":"FOURIER!N1080","v":0}]
[null,null,null,null,null,null,1079,26.3427734375,{"$f":"FOURIER!M1081","v":0},{"$f":"FOURIER!N1081","v":0}]
[null,null,null,null,null,null,1080,26.3671875,{"$f":"FOURIER!M1082","v":0},{"$f":"FOURIER!N1082","v":0}]
[null,null,null,null,null,null,1081,26.3916015625,{"$f":"FOURIER!M1083","v":0},{"$f":"FOURIER!N1083","v":0}]
[null,null,null,null,null,null,1082,26.416015625,{"$f":"FOURIER!M1084","v":0},{"$f":"FOURIER!N1084","v":0}]
[null,null,null,null,null,null,1083,26.4404296875,{"$f":"FOURIER!M1085","v":0},{"$f":"FOURIER!N1085","v":0}]
[null,null,null,null,null,null,1084,26.46484375,{"$f":"FOURIER!M1086","v":0},{"$f":"FOURIER!N1086","v":0}]
[null,null,null,null,null,null,1085,26.4892578125,{"$f":"FOURIER!M1087","v":0},{"$f":"FOURIER!N1087","v":0}]
[null,null,null,null,null,null,1086,26.513671875,{"$f":"FOURIER!M1088","v":0},{"$f":"FOURIER!N1088","v":0}]
[null,null,null,null,null,null,1087,26.5380859375,{"$f":"FOURIER!M1089","v":0},{"$f":"FOURIER!N1089","v":0}]
[null,null,null,null,null,null,1088,{"$f":"(G1090)/B$9/B$6","v":26.5625},{"$f":"FOURIER!M1090","v":0},{"$f":"FOURIER!N1090","v":0}]
[null,null,null,null,null,null,1089,26.5869140625,{"$f":"FOURIER!M1091","v":0},{"$f":"FOURIER!N1091","v":0}]
[null,null,null,null,null,null,1090,26.611328125,{"$f":"FOURIER!M1092","v":0},{"$f":"FOURIER!N1092","v":0}]
[null,null,null,null,null,null,1091,26.6357421875,{"$f":"FOURIER!M1093","v":0},{"$f":"FOURIER!N1093","v":0}]
[null,null,null,null,null,null,1092,26.66015625,{"$f":"FOURIER!M1094","v":0},{"$f":"FOURIER!N1094","v":0}]
[null,null,null,null,null,null,1093,26.6845703125,{"$f":"FOURIER!M1095","v":0},{"$f":"FOURIER!N1095","v":0}]
[null,null,null,null,null,null,1094,26.708984375,{"$f":"FOURIER!M1096","v":0},{"$f":"FOURIER!N1096","v":0}]
[null,null,null,null,null,null,1095,26.7333984375,{"$f":"FOURIER!M1097","v":0},{"$f":"FOURIER!N1097","v":0}]
[null,null,null,null,null,null,1096,26.7578125,{"$f":"FOURIER!M1098","v":0},{"$f":"FOURIER!N1098","v":0}]
[null,null,null,null,null,null,1097,26.7822265625,{"$f":"FOURIER!M1099","v":0},{"$f":"FOURIER!N1099","v":0}]
[null,null,null,null,null,null,1098,26.806640625,{"$f":"FOURIER!M1100","v":0},{"$f":"FOURIER!N1100","v":0}]
[null,null,null,null,null,null,1099,26.8310546875,{"$f":"FOURIER!M1101","v":0},{"$f":"FOURIER!N1101","v":0}]
[null,null,null,null,null,null,1100,26.85546875,{"$f":"FOURIER!M1102","v":0},{"$f":"FOURIER!N1102","v":0}]
[null,null,null,null,null,null,1101,26.8798828125,{"$f":"FOURIER!M1103","v":0},{"$f":"FOURIER!N1103","v":0}]
[null,null,null,null,null,null,1102,26.904296875,{"$f":"FOURIER!M1104","v":0},{"$f":"FOURIER!N1104","v":0}]
[null,null,null,null,null,null,1103,26.9287109375,{"$f":"FOURIER!M1105","v":0},{"$f":"FOURIER!N1105","v":0}]
[null,null,null,null,null,null,1104,26.953125,{"$f":"FOURIER!M1106","v":0},{"$f":"FOURIER!N1106","v":0}]
[null,null,null,null,null,null,1105,26.9775390625,{"$f":"FOURIER!M1107","v":0},{"$f":"FOURIER!N1107","v":0}]
[null,null,null,null,null,null,1106,27.001953125,{"$f":"FOURIER!M1108","v":0},{"$f":"FOURIER!N1108","v":0}]
[null,null,null,null,null,null,1107,27.0263671875,{"$f":"FOURIER!M1109","v":0},{"$f":"FOURIER!N1109","v":0}]
[null,null,null,null,null,null,1108,27.05078125,{"$f":"FOURIER!M1110","v":0},{"$f":"FOURIER!N1110","v":0}]
[null,null,null,null,null,null,1109,27.0751953125,{"$f":"FOURIER!M1111","v":0},{"$f":"FOURIER!N1111","v":0}]
[null,null,null,null,null,null,1110,27.099609375,{"$f":"FOURIER!M1112","v":0},{"$f":"FOURIER!N1112","v":0}]
[null,null,null,null,null,null,1111,27.1240234375,{"$f":"FOURIER!M1113","v":0},{"$f":"FOURIER!N1113","v":0}]
[null,null,null,null,null,null,1112,27.1484375,{"$f":"FOURIER!M1114","v":0},{"$f":"FOURIER!N1114","v":0}]
[null,null,null,null,null,null,1113,27.1728515625,{"$f":"FOURIER!M1115","v":0},{"$f":"FOURIER!N1115","v":0}]
[null,null,null,null,null,null,1114,27.197265625,{"$f":"FOURIER!M1116","v":0},{"$f":"FOURIER!N1116","v":0}]
[null,null,null,null,null,null,1115,27.2216796875,{"$f":"FOURIER!M1117","v":0},{"$f":"FOURIER!N1117","v":0}]
[null,null,null,null,null,null,1116,27.24609375,{"$f":"FOURIER!M1118","v":0},{"$f":"FOURIER!N1118","v":0}]
[null,null,null,null,null,null,1117,27.2705078125,{"$f":"FOURIER!M1119","v":0},{"$f":"FOURIER!N1119","v":0}]
[null,null,null,null,null,null,1118,27.294921875,{"$f":"FOURIER!M1120","v":0},{"$f":"FOURIER!N1120","v":0}]
[null,null,null,null,null,null,1119,27.3193359375,{"$f":"FOURIER!M1121","v":0},{"$f":"FOURIER!N1121","v":0}]
[null,null,null,null,null,null,1120,27.34375,{"$f":"FOURIER!M1122","v":0},{"$f":"FOURIER!N1122","v":0}]
[null,null,null,null,null,null,1121,27.3681640625,{"$f":"FOURIER!M1123","v":0},{"$f":"FOURIER!N1123","v":0}]
[null,null,null,null,null,null,1122,27.392578125,{"$f":"FOURIER!M1124","v":0},{"$f":"FOURIER!N1124","v":0}]
[null,null,null,null,null,null,1123,27.4169921875,{"$f":"FOURIER!M1125","v":0},{"$f":"FOURIER!N1125","v":0}]
[null,null,null,null,null,null,1124,27.44140625,{"$f":"FOURIER!M1126","v":0},{"$f":"FOURIER!N1126","v":0}]
[null,null,null,null,null,null,1125,27.4658203125,{"$f":"FOURIER!M1127","v":0},{"$f":"FOURIER!N1127","v":0}]
[null,null,null,null,null,null,1126,27.490234375,{"$f":"FOURIER!M1128","v":0},{"$f":"FOURIER!N1128","v":0}]
[null,null,null,null,null,null,1127,27.5146484375,{"$f":"FOURIER!M1129","v":0},{"$f":"FOURIER!N1129","v":0}]
[null,null,null,null,null,null,1128,27.5390625,{"$f":"FOURIER!M1130","v":0},{"$f":"FOURIER!N1130","v":0}]
[null,null,null,null,null,null,1129,27.5634765625,{"$f":"FOURIER!M1131","v":0},{"$f":"FOURIER!N1131","v":0}]
[null,null,null,null,null,null,1130,27.587890625,{"$f":"FOURIER!M1132","v":0},{"$f":"FOURIER!N1132","v":0}]
[null,null,null,null,null,null,1131,27.6123046875,{"$f":"FOURIER!M1133","v":0},{"$f":"FOURIER!N1133","v":0}]
[null,null,null,null,null,null,1132,27.63671875,{"$f":"FOURIER!M1134","v":0},{"$f":"FOURIER!N1134","v":0}]
[null,null,null,null,null,null,1133,27.6611328125,{"$f":"FOURIER!M1135","v":0},{"$f":"FOURIER!N1135","v":0}]
[null,null,null,null,null,null,1134,27.685546875,{"$f":"FOURIER!M1136","v":0},{"$f":"FOURIER!N1136","v":0}]
[null,null,null,null,null,null,1135,27.7099609375,{"$f":"FOURIER!M1137","v":0},{"$f":"FOURIER!N1137","v":0}]
[null,null,null,null,null,null,1136,27.734375,{"$f":"FOURIER!M1138","v":0},{"$f":"FOURIER!N1138","v":0}]
[null,null,null,null,null,null,1137,27.7587890625,{"$f":"FOURIER!M1139","v":0},{"$f":"FOURIER!N1139","v":0}]
[null,null,null,null,null,null,1138,27.783203125,{"$f":"FOURIER!M1140","v":0},{"$f":"FOURIER!N1140","v":0}]
[null,null,null,null,null,null,1139,27.8076171875,{"$f":"FOURIER!M1141","v":0},{"$f":"FOURIER!N1141","v":0}]
[null,null,null,null,null,null,1140,27.83203125,{"$f":"FOURIER!M1142","v":0},{"$f":"FOURIER!N1142","v":0}]
[null,null,null,null,null,null,1141,27.8564453125,{"$f":"FOURIER!M1143","v":0},{"$f":"FOURIER!N1143","v":0}]
[null,null,null,null,null,null,1142,27.880859375,{"$f":"FOURIER!M1144","v":0},{"$f":"FOURIER!N1144","v":0}]
[null,null,null,null,null,null,1143,27.9052734375,{"$f":"FOURIER!M1145","v":0},{"$f":"FOURIER!N1145","v":0}]
[null,null,null,null,null,null,1144,27.9296875,{"$f":"FOURIER!M1146","v":0},{"$f":"FOURIER!N1146","v":0}]
[null,null,null,null,null,null,1145,27.9541015625,{"$f":"FOURIER!M1147","v":0},{"$f":"FOURIER!N1147","v":0}]
[null,null,null,null,null,null,1146,27.978515625,{"$f":"FOURIER!M1148","v":0},{"$f":"FOURIER!N1148","v":0}]
[null,null,null,null,null,null,1147,28.0029296875,{"$f":"FOURIER!M1149","v":0},{"$f":"FOURIER!N1149","v":0}]
[null,null,null,null,null,null,1148,28.02734375,{"$f":"FOURIER!M1150","v":0},{"$f":"FOURIER!N1150","v":0}]
[null,null,null,null,null,null,1149,28.0517578125,{"$f":"FOURIER!M1151","v":0},{"$f":"FOURIER!N1151","v":0}]
[null,null,null,null,null,null,1150,28.076171875,{"$f":"FOURIER!M1152","v":0},{"$f":"FOURIER!N1152","v":0}]
[null,null,null,null,null,null,1151,28.1005859375,{"$f":"FOURIER!M1153","v":0},{"$f":"FOURIER!N1153","v":0}]
[null,null,null,null,null,null,1152,{"$f":"(G1154)/B$9/B$6","v":28.125},{"$f":"FOURIER!M1154","v":0},{"$f":"FOURIER!N1154","v":0}]
[null,null,null,null,null,null,1153,28.1494140625,{"$f":"FOURIER!M1155","v":0},{"$f":"FOURIER!N1155","v":0}]
[null,null,null,null,null,null,1154,28.173828125,{"$f":"FOURIER!M1156","v":0},{"$f":"FOURIER!N1156","v":0}]
[null,null,null,null,null,null,1155,28.1982421875,{"$f":"FOURIER!M1157","v":0},{"$f":"FOURIER!N1157","v":0}]
[null,null,null,null,null,null,1156,28.22265625,{"$f":"FOURIER!M1158","v":0},{"$f":"FOURIER!N1158","v":0}]
[null,null,null,null,null,null,1157,28.2470703125,{"$f":"FOURIER!M1159","v":0},{"$f":"FOURIER!N1159","v":0}]
[null,null,null,null,null,null,1158,28.271484375,{"$f":"FOURIER!M1160","v":0},{"$f":"FOURIER!N1160","v":0}]
[null,null,null,null,null,null,1159,28.2958984375,{"$f":"FOURIER!M1161","v":0},{"$f":"FOURIER!N1161","v":0}]
[null,null,null,null,null,null,1160,28.3203125,{"$f":"FOURIER!M1162","v":0},{"$f":"FOURIER!N1162","v":0}]
[null,null,null,null,null,null,1161,28.3447265625,{"$f":"FOURIER!M1163","v":0},{"$f":"FOURIER!N1163","v":0}]
[null,null,null,null,null,null,1162,28.369140625,{"$f":"FOURIER!M1164","v":0},{"$f":"FOURIER!N1164","v":0}]
[null,null,null,null,null,null,1163,28.3935546875,{"$f":"FOURIER!M1165","v":0},{"$f":"FOURIER!N1165","v":0}]
[null,null,null,null,null,null,1164,28.41796875,{"$f":"FOURIER!M1166","v":0},{"$f":"FOURIER!N1166","v":0}]
[null,null,null,null,null,null,1165,28.4423828125,{"$f":"FOURIER!M1167","v":0},{"$f":"FOURIER!N1167","v":0}]
[null,null,null,null,null,null,1166,28.466796875,{"$f":"FOURIER!M1168","v":0},{"$f":"FOURIER!N1168","v":0}]
[null,null,null,null,null,null,1167,28.4912109375,{"$f":"FOURIER!M1169","v":0},{"$f":"FOURIER!N1169","v":0}]
[null,null,null,null,null,null,1168,28.515625,{"$f":"FOURIER!M1170","v":0},{"$f":"FOURIER!N1170","v":0}]
[null,null,null,null,null,null,1169,28.5400390625,{"$f":"FOURIER!M1171","v":0},{"$f":"FOURIER!N1171","v":0}]
[null,null,null,null,null,null,1170,28.564453125,{"$f":"FOURIER!M1172","v":0},{"$f":"FOURIER!N1172","v":0}]
[null,null,null,null,null,null,1171,28.5888671875,{"$f":"FOURIER!M1173","v":0},{"$f":"FOURIER!N1173","v":0}]
[null,null,null,null,null,null,1172,28.61328125,{"$f":"FOURIER!M1174","v":0},{"$f":"FOURIER!N1174","v":0}]
[null,null,null,null,null,null,1173,28.6376953125,{"$f":"FOURIER!M1175","v":0},{"$f":"FOURIER!N1175","v":0}]
[null,null,null,null,null,null,1174,28.662109375,{"$f":"FOURIER!M1176","v":0},{"$f":"FOURIER!N1176","v":0}]
[null,null,null,null,null,null,1175,28.6865234375,{"$f":"FOURIER!M1177","v":0},{"$f":"FOURIER!N1177","v":0}]
[null,null,null,null,null,null,1176,28.7109375,{"$f":"FOURIER!M1178","v":0},{"$f":"FOURIER!N1178","v":0}]
[null,null,null,null,null,null,1177,28.7353515625,{"$f":"FOURIER!M1179","v":0},{"$f":"FOURIER!N1179","v":0}]
[null,null,null,null,null,null,1178,28.759765625,{"$f":"FOURIER!M1180","v":0},{"$f":"FOURIER!N1180","v":0}]
[null,null,null,null,null,null,1179,28.7841796875,{"$f":"FOURIER!M1181","v":0},{"$f":"FOURIER!N1181","v":0}]
[null,null,null,null,null,null,1180,28.80859375,{"$f":"FOURIER!M1182","v":0},{"$f":"FOURIER!N1182","v":0}]
[null,null,null,null,null,null,1181,28.8330078125,{"$f":"FOURIER!M1183","v":0},{"$f":"FOURIER!N1183","v":0}]
[null,null,null,null,null,null,1182,28.857421875,{"$f":"FOURIER!M1184","v":0},{"$f":"FOURIER!N1184","v":0}]
[null,null,null,null,null,null,1183,28.8818359375,{"$f":"FOURIER!M1185","v":0},{"$f":"FOURIER!N1185","v":0}]
[null,null,null,null,null,null,1184,28.90625,{"$f":"FOURIER!M1186","v":0},{"$f":"FOURIER!N1186","v":0}]
[null,null,null,null,null,null,1185,28.9306640625,{"$f":"FOURIER!M1187","v":0},{"$f":"FOURIER!N1187","v":0}]
[null,null,null,null,null,null,1186,28.955078125,{"$f":"FOURIER!M1188","v":0},{"$f":"FOURIER!N1188","v":0}]
[null,null,null,null,null,null,1187,28.9794921875,{"$f":"FOURIER!M1189","v":0},{"$f":"FOURIER!N1189","v":0}]
[null,null,null,null,null,null,1188,29.00390625,{"$f":"FOURIER!M1190","v":0},{"$f":"FOURIER!N1190","v":0}]
[null,null,null,null,null,null,1189,29.0283203125,{"$f":"FOURIER!M1191","v":0},{"$f":"FOURIER!N1191","v":0}]
[null,null,null,null,null,null,1190,29.052734375,{"$f":"FOURIER!M1192","v":0},{"$f":"FOURIER!N1192","v":0}]
[null,null,null,null,null,null,1191,29.0771484375,{"$f":"FOURIER!M1193","v":0},{"$f":"FOURIER!N1193","v":0}]
[null,null,null,null,null,null,1192,29.1015625,{"$f":"FOURIER!M1194","v":0},{"$f":"FOURIER!N1194","v":0}]
[null,null,null,null,null,null,1193,29.1259765625,{"$f":"FOURIER!M1195","v":0},{"$f":"FOURIER!N1195","v":0}]
[null,null,null,null,null,null,1194,29.150390625,{"$f":"FOURIER!M1196","v":0},{"$f":"FOURIER!N1196","v":0}]
[null,null,null,null,null,null,1195,29.1748046875,{"$f":"FOURIER!M1197","v":0},{"$f":"FOURIER!N1197","v":0}]
[null,null,null,null,null,null,1196,29.19921875,{"$f":"FOURIER!M1198","v":0},{"$f":"FOURIER!N1198","v":0}]
[null,null,null,null,null,null,1197,29.2236328125,{"$f":"FOURIER!M1199","v":0},{"$f":"FOURIER!N1199","v":0}]
[null,null,null,null,null,null,1198,29.248046875,{"$f":"FOURIER!M1200","v":0},{"$f":"FOURIER!N1200","v":0}]
[null,null,null,null,null,null,1199,29.2724609375,{"$f":"FOURIER!M1201","v":0},{"$f":"FOURIER!N1201","v":0}]
[null,null,null,null,null,null,1200,29.296875,{"$f":"FOURIER!M1202","v":0},{"$f":"FOURIER!N1202","v":0}]
[null,null,null,null,null,null,1201,29.3212890625,{"$f":"FOURIER!M1203","v":0},{"$f":"FOURIER!N1203","v":0}]
[null,null,null,null,null,null,1202,29.345703125,{"$f":"FOURIER!M1204","v":0},{"$f":"FOURIER!N1204","v":0}]
[null,null,null,null,null,null,1203,29.3701171875,{"$f":"FOURIER!M1205","v":0},{"$f":"FOURIER!N1205","v":0}]
[null,null,null,null,null,null,1204,29.39453125,{"$f":"FOURIER!M1206","v":0},{"$f":"FOURIER!N1206","v":0}]
[null,null,null,null,null,null,1205,29.4189453125,{"$f":"FOURIER!M1207","v":0},{"$f":"FOURIER!N1207","v":0}]
[null,null,null,null,null,null,1206,29.443359375,{"$f":"FOURIER!M1208","v":0},{"$f":"FOURIER!N1208","v":0}]
[null,null,null,null,null,null,1207,29.4677734375,{"$f":"FOURIER!M1209","v":0},{"$f":"FOURIER!N1209","v":0}]
[null,null,null,null,null,null,1208,29.4921875,{"$f":"FOURIER!M1210","v":0},{"$f":"FOURIER!N1210","v":0}]
[null,null,null,null,null,null,1209,29.5166015625,{"$f":"FOURIER!M1211","v":0},{"$f":"FOURIER!N1211","v":0}]
[null,null,null,null,null,null,1210,29.541015625,{"$f":"FOURIER!M1212","v":0},{"$f":"FOURIER!N1212","v":0}]
[null,null,null,null,null,null,1211,29.5654296875,{"$f":"FOURIER!M1213","v":0},{"$f":"FOURIER!N1213","v":0}]
[null,null,null,null,null,null,1212,29.58984375,{"$f":"FOURIER!M1214","v":0},{"$f":"FOURIER!N1214","v":0}]
[null,null,null,null,null,null,1213,29.6142578125,{"$f":"FOURIER!M1215","v":0},{"$f":"FOURIER!N1215","v":0}]
[null,null,null,null,null,null,1214,29.638671875,{"$f":"FOURIER!M1216","v":0},{"$f":"FOURIER!N1216","v":0}]
[null,null,null,null,null,null,1215,29.6630859375,{"$f":"FOURIER!M1217","v":0},{"$f":"FOURIER!N1217","v":0}]
[null,null,null,null,null,null,1216,{"$f":"(G1218)/B$9/B$6","v":29.6875},{"$f":"FOURIER!M1218","v":0},{"$f":"FOURIER!N1218","v":0}]
[null,null,null,null,null,null,1217,29.7119140625,{"$f":"FOURIER!M1219","v":0},{"$f":"FOURIER!N1219","v":0}]
[null,null,null,null,null,null,1218,29.736328125,{"$f":"FOURIER!M1220","v":0},{"$f":"FOURIER!N1220","v":0}]
[null,null,null,null,null,null,1219,29.7607421875,{"$f":"FOURIER!M1221","v":0},{"$f":"FOURIER!N1221","v":0}]
[null,null,null,null,null,null,1220,29.78515625,{"$f":"FOURIER!M1222","v":0},{"$f":"FOURIER!N1222","v":0}]
[null,null,null,null,null,null,1221,29.8095703125,{"$f":"FOURIER!M1223","v":0},{"$f":"FOURIER!N1223","v":0}]
[null,null,null,null,null,null,1222,29.833984375,{"$f":"FOURIER!M1224","v":0},{"$f":"FOURIER!N1224","v":0}]
[null,null,null,null,null,null,1223,29.8583984375,{"$f":"FOURIER!M1225","v":0},{"$f":"FOURIER!N1225","v":0}]
[null,null,null,null,null,null,1224,29.8828125,{"$f":"FOURIER!M1226","v":0},{"$f":"FOURIER!N1226","v":0}]
[null,null,null,null,null,null,1225,29.9072265625,{"$f":"FOURIER!M1227","v":0},{"$f":"FOURIER!N1227","v":0}]
[null,null,null,null,null,null,1226,29.931640625,{"$f":"FOURIER!M1228","v":0},{"$f":"FOURIER!N1228","v":0}]
[null,null,null,null,null,null,1227,29.9560546875,{"$f":"FOURIER!M1229","v":0},{"$f":"FOURIER!N1229","v":0}]
[null,null,null,null,null,null,1228,29.98046875,{"$f":"FOURIER!M1230","v":0},{"$f":"FOURIER!N1230","v":0}]
[null,null,null,null,null,null,1229,30.0048828125,{"$f":"FOURIER!M1231","v":0},{"$f":"FOURIER!N1231","v":0}]
[null,null,null,null,null,null,1230,30.029296875,{"$f":"FOURIER!M1232","v":0},{"$f":"FOURIER!N1232","v":0}]
[null,null,null,null,null,null,1231,30.0537109375,{"$f":"FOURIER!M1233","v":0},{"$f":"FOURIER!N1233","v":0}]
[null,null,null,null,null,null,1232,30.078125,{"$f":"FOURIER!M1234","v":0},{"$f":"FOURIER!N1234","v":0}]
[null,null,null,null,null,null,1233,30.1025390625,{"$f":"FOURIER!M1235","v":0},{"$f":"FOURIER!N1235","v":0}]
[null,null,null,null,null,null,1234,30.126953125,{"$f":"FOURIER!M1236","v":0},{"$f":"FOURIER!N1236","v":0}]
[null,null,null,null,null,null,1235,30.1513671875,{"$f":"FOURIER!M1237","v":0},{"$f":"FOURIER!N1237","v":0}]
[null,null,null,null,null,null,1236,30.17578125,{"$f":"FOURIER!M1238","v":0},{"$f":"FOURIER!N1238","v":0}]
[null,null,null,null,null,null,1237,30.2001953125,{"$f":"FOURIER!M1239","v":0},{"$f":"FOURIER!N1239","v":0}]
[null,null,null,null,null,null,1238,30.224609375,{"$f":"FOURIER!M1240","v":0},{"$f":"FOURIER!N1240","v":0}]
[null,null,null,null,null,null,1239,30.2490234375,{"$f":"FOURIER!M1241","v":0},{"$f":"FOURIER!N1241","v":0}]
[null,null,null,null,null,null,1240,30.2734375,{"$f":"FOURIER!M1242","v":0},{"$f":"FOURIER!N1242","v":0}]
[null,null,null,null,null,null,1241,30.2978515625,{"$f":"FOURIER!M1243","v":0},{"$f":"FOURIER!N1243","v":0}]
[null,null,null,null,null,null,1242,30.322265625,{"$f":"FOURIER!M1244","v":0},{"$f":"FOURIER!N1244","v":0}]
[null,null,null,null,null,null,1243,30.3466796875,{"$f":"FOURIER!M1245","v":0},{"$f":"FOURIER!N1245","v":0}]
[null,null,null,null,null,null,1244,30.37109375,{"$f":"FOURIER!M1246","v":0},{"$f":"FOURIER!N1246","v":0}]
[null,null,null,null,null,null,1245,30.3955078125,{"$f":"FOURIER!M1247","v":0},{"$f":"FOURIER!N1247","v":0}]
[null,null,null,null,null,null,1246,30.419921875,{"$f":"FOURIER!M1248","v":0},{"$f":"FOURIER!N1248","v":0}]
[null,null,null,null,null,null,1247,30.4443359375,{"$f":"FOURIER!M1249","v":0},{"$f":"FOURIER!N1249","v":0}]
[null,null,null,null,null,null,1248,30.46875,{"$f":"FOURIER!M1250","v":0},{"$f":"FOURIER!N1250","v":0}]
[null,null,null,null,null,null,1249,30.4931640625,{"$f":"FOURIER!M1251","v":0},{"$f":"FOURIER!N1251","v":0}]
[null,null,null,null,null,null,1250,30.517578125,{"$f":"FOURIER!M1252","v":0},{"$f":"FOURIER!N1252","v":0}]
[null,null,null,null,null,null,1251,30.5419921875,{"$f":"FOURIER!M1253","v":0},{"$f":"FOURIER!N1253","v":0}]
[null,null,null,null,null,null,1252,30.56640625,{"$f":"FOURIER!M1254","v":0},{"$f":"FOURIER!N1254","v":0}]
[null,null,null,null,null,null,1253,30.5908203125,{"$f":"FOURIER!M1255","v":0},{"$f":"FOURIER!N1255","v":0}]
[null,null,null,null,null,null,1254,30.615234375,{"$f":"FOURIER!M1256","v":0},{"$f":"FOURIER!N1256","v":0}]
[null,null,null,null,null,null,1255,30.6396484375,{"$f":"FOURIER!M1257","v":0},{"$f":"FOURIER!N1257","v":0}]
[null,null,null,null,null,null,1256,30.6640625,{"$f":"FOURIER!M1258","v":0},{"$f":"FOURIER!N1258","v":0}]
[null,null,null,null,null,null,1257,30.6884765625,{"$f":"FOURIER!M1259","v":0},{"$f":"FOURIER!N1259","v":0}]
[null,null,null,null,null,null,1258,30.712890625,{"$f":"FOURIER!M1260","v":0},{"$f":"FOURIER!N1260","v":0}]
[null,null,null,null,null,null,1259,30.7373046875,{"$f":"FOURIER!M1261","v":0},{"$f":"FOURIER!N1261","v":0}]
[null,null,null,null,null,null,1260,30.76171875,{"$f":"FOURIER!M1262","v":0},{"$f":"FOURIER!N1262","v":0}]
[null,null,null,null,null,null,1261,30.7861328125,{"$f":"FOURIER!M1263","v":0},{"$f":"FOURIER!N1263","v":0}]
[null,null,null,null,null,null,1262,30.810546875,{"$f":"FOURIER!M1264","v":0},{"$f":"FOURIER!N1264","v":0}]
[null,null,null,null,null,null,1263,30.8349609375,{"$f":"FOURIER!M1265","v":0},{"$f":"FOURIER!N1265","v":0}]
[null,null,null,null,null,null,1264,30.859375,{"$f":"FOURIER!M1266","v":0},{"$f":"FOURIER!N1266","v":0}]
[null,null,null,null,null,null,1265,30.8837890625,{"$f":"FOURIER!M1267","v":0},{"$f":"FOURIER!N1267","v":0}]
[null,null,null,null,null,null,1266,30.908203125,{"$f":"FOURIER!M1268","v":0},{"$f":"FOURIER!N1268","v":0}]
[null,null,null,null,null,null,1267,30.9326171875,{"$f":"FOURIER!M1269","v":0},{"$f":"FOURIER!N1269","v":0}]
[null,null,null,null,null,null,1268,30.95703125,{"$f":"FOURIER!M1270","v":0},{"$f":"FOURIER!N1270","v":0}]
[null,null,null,null,null,null,1269,30.9814453125,{"$f":"FOURIER!M1271","v":0},{"$f":"FOURIER!N1271","v":0}]
[null,null,null,null,null,null,1270,31.005859375,{"$f":"FOURIER!M1272","v":0},{"$f":"FOURIER!N1272","v":0}]
[null,null,null,null,null,null,1271,31.0302734375,{"$f":"FOURIER!M1273","v":0},{"$f":"FOURIER!N1273","v":0}]
[null,null,null,null,null,null,1272,31.0546875,{"$f":"FOURIER!M1274","v":0},{"$f":"FOURIER!N1274","v":0}]
[null,null,null,null,null,null,1273,31.0791015625,{"$f":"FOURIER!M1275","v":0},{"$f":"FOURIER!N1275","v":0}]
[null,null,null,null,null,null,1274,31.103515625,{"$f":"FOURIER!M1276","v":0},{"$f":"FOURIER!N1276","v":0}]
[null,null,null,null,null,null,1275,31.1279296875,{"$f":"FOURIER!M1277","v":0},{"$f":"FOURIER!N1277","v":0}]
[null,null,null,null,null,null,1276,31.15234375,{"$f":"FOURIER!M1278","v":0},{"$f":"FOURIER!N1278","v":0}]
[null,null,null,null,null,null,1277,31.1767578125,{"$f":"FOURIER!M1279","v":0},{"$f":"FOURIER!N1279","v":0}]
[null,null,null,null,null,null,1278,31.201171875,{"$f":"FOURIER!M1280","v":0},{"$f":"FOURIER!N1280","v":0}]
[null,null,null,null,null,null,1279,31.2255859375,{"$f":"FOURIER!M1281","v":0},{"$f":"FOURIER!N1281","v":0}]
[null,null,null,null,null,null,1280,{"$f":"(G1282)/B$9/B$6","v":31.25},{"$f":"FOURIER!M1282","v":0},{"$f":"FOURIER!N1282","v":0}]
[null,null,null,null,null,null,1281,31.2744140625,{"$f":"FOURIER!M1283","v":0},{"$f":"FOURIER!N1283","v":0}]
[null,null,null,null,null,null,1282,31.298828125,{"$f":"FOURIER!M1284","v":0},{"$f":"FOURIER!N1284","v":0}]
[null,null,null,null,null,null,1283,31.3232421875,{"$f":"FOURIER!M1285","v":0},{"$f":"FOURIER!N1285","v":0}]
[null,null,null,null,null,null,1284,31.34765625,{"$f":"FOURIER!M1286","v":0},{"$f":"FOURIER!N1286","v":0}]
[null,null,null,null,null,null,1285,31.3720703125,{"$f":"FOURIER!M1287","v":0},{"$f":"FOURIER!N1287","v":0}]
[null,null,null,null,null,null,1286,31.396484375,{"$f":"FOURIER!M1288","v":0},{"$f":"FOURIER!N1288","v":0}]
[null,null,null,null,null,null,1287,31.4208984375,{"$f":"FOURIER!M1289","v":0},{"$f":"FOURIER!N1289","v":0}]
[null,null,null,null,null,null,1288,31.4453125,{"$f":"FOURIER!M1290","v":0},{"$f":"FOURIER!N1290","v":0}]
[null,null,null,null,null,null,1289,31.4697265625,{"$f":"FOURIER!M1291","v":0},{"$f":"FOURIER!N1291","v":0}]
[null,null,null,null,null,null,1290,31.494140625,{"$f":"FOURIER!M1292","v":0},{"$f":"FOURIER!N1292","v":0}]
[null,null,null,null,null,null,1291,31.5185546875,{"$f":"FOURIER!M1293","v":0},{"$f":"FOURIER!N1293","v":0}]
[null,null,null,null,null,null,1292,31.54296875,{"$f":"FOURIER!M1294","v":0},{"$f":"FOURIER!N1294","v":0}]
[null,null,null,null,null,null,1293,31.5673828125,{"$f":"FOURIER!M1295","v":0},{"$f":"FOURIER!N1295","v":0}]
[null,null,null,null,null,null,1294,31.591796875,{"$f":"FOURIER!M1296","v":0},{"$f":"FOURIER!N1296","v":0}]
[null,null,null,null,null,null,1295,31.6162109375,{"$f":"FOURIER!M1297","v":0},{"$f":"FOURIER!N1297","v":0}]
[null,null,null,null,null,null,1296,31.640625,{"$f":"FOURIER!M1298","v":0},{"$f":"FOURIER!N1298","v":0}]
[null,null,null,null,null,null,1297,31.6650390625,{"$f":"FOURIER!M1299","v":0},{"$f":"FOURIER!N1299","v":0}]
[null,null,null,null,null,null,1298,31.689453125,{"$f":"FOURIER!M1300","v":0},{"$f":"FOURIER!N1300","v":0}]
[null,null,null,null,null,null,1299,31.7138671875,{"$f":"FOURIER!M1301","v":0},{"$f":"FOURIER!N1301","v":0}]
[null,null,null,null,null,null,1300,31.73828125,{"$f":"FOURIER!M1302","v":0},{"$f":"FOURIER!N1302","v":0}]
[null,null,null,null,null,null,1301,31.7626953125,{"$f":"FOURIER!M1303","v":0},{"$f":"FOURIER!N1303","v":0}]
[null,null,null,null,null,null,1302,31.787109375,{"$f":"FOURIER!M1304","v":0},{"$f":"FOURIER!N1304","v":0}]
[null,null,null,null,null,null,1303,31.8115234375,{"$f":"FOURIER!M1305","v":0},{"$f":"FOURIER!N1305","v":0}]
[null,null,null,null,null,null,1304,31.8359375,{"$f":"FOURIER!M1306","v":0},{"$f":"FOURIER!N1306","v":0}]
[null,null,null,null,null,null,1305,31.8603515625,{"$f":"FOURIER!M1307","v":0},{"$f":"FOURIER!N1307","v":0}]
[null,null,null,null,null,null,1306,31.884765625,{"$f":"FOURIER!M1308","v":0},{"$f":"FOURIER!N1308","v":0}]
[null,null,null,null,null,null,1307,31.9091796875,{"$f":"FOURIER!M1309","v":0},{"$f":"FOURIER!N1309","v":0}]
[null,null,null,null,null,null,1308,31.93359375,{"$f":"FOURIER!M1310","v":0},{"$f":"FOURIER!N1310","v":0}]
[null,null,null,null,null,null,1309,31.9580078125,{"$f":"FOURIER!M1311","v":0},{"$f":"FOURIER!N1311","v":0}]
[null,null,null,null,null,null,1310,31.982421875,{"$f":"FOURIER!M1312","v":0},{"$f":"FOURIER!N1312","v":0}]
[null,null,null,null,null,null,1311,32.0068359375,{"$f":"FOURIER!M1313","v":0},{"$f":"FOURIER!N1313","v":0}]
[null,null,null,null,null,null,1312,32.03125,{"$f":"FOURIER!M1314","v":0},{"$f":"FOURIER!N1314","v":0}]
[null,null,null,null,null,null,1313,32.0556640625,{"$f":"FOURIER!M1315","v":0},{"$f":"FOURIER!N1315","v":0}]
[null,null,null,null,null,null,1314,32.080078125,{"$f":"FOURIER!M1316","v":0},{"$f":"FOURIER!N1316","v":0}]
[null,null,null,null,null,null,1315,32.1044921875,{"$f":"FOURIER!M1317","v":0},{"$f":"FOURIER!N1317","v":0}]
[null,null,null,null,null,null,1316,32.12890625,{"$f":"FOURIER!M1318","v":0},{"$f":"FOURIER!N1318","v":0}]
[null,null,null,null,null,null,1317,32.1533203125,{"$f":"FOURIER!M1319","v":0},{"$f":"FOURIER!N1319","v":0}]
[null,null,null,null,null,null,1318,32.177734375,{"$f":"FOURIER!M1320","v":0},{"$f":"FOURIER!N1320","v":0}]
[null,null,null,null,null,null,1319,32.2021484375,{"$f":"FOURIER!M1321","v":0},{"$f":"FOURIER!N1321","v":0}]
[null,null,null,null,null,null,1320,32.2265625,{"$f":"FOURIER!M1322","v":0},{"$f":"FOURIER!N1322","v":0}]
[null,null,null,null,null,null,1321,32.2509765625,{"$f":"FOURIER!M1323","v":0},{"$f":"FOURIER!N1323","v":0}]
[null,null,null,null,null,null,1322,32.275390625,{"$f":"FOURIER!M1324","v":0},{"$f":"FOURIER!N1324","v":0}]
[null,null,null,null,null,null,1323,32.2998046875,{"$f":"FOURIER!M1325","v":0},{"$f":"FOURIER!N1325","v":0}]
[null,null,null,null,null,null,1324,32.32421875,{"$f":"FOURIER!M1326","v":0},{"$f":"FOURIER!N1326","v":0}]
[null,null,null,null,null,null,1325,32.3486328125,{"$f":"FOURIER!M1327","v":0},{"$f":"FOURIER!N1327","v":0}]
[null,null,null,null,null,null,1326,32.373046875,{"$f":"FOURIER!M1328","v":0},{"$f":"FOURIER!N1328","v":0}]
[null,null,null,null,null,null,1327,32.3974609375,{"$f":"FOURIER!M1329","v":0},{"$f":"FOURIER!N1329","v":0}]
[null,null,null,null,null,null,1328,32.421875,{"$f":"FOURIER!M1330","v":0},{"$f":"FOURIER!N1330","v":0}]
[null,null,null,null,null,null,1329,32.4462890625,{"$f":"FOURIER!M1331","v":0},{"$f":"FOURIER!N1331","v":0}]
[null,null,null,null,null,null,1330,32.470703125,{"$f":"FOURIER!M1332","v":0},{"$f":"FOURIER!N1332","v":0}]
[null,null,null,null,null,null,1331,32.4951171875,{"$f":"FOURIER!M1333","v":0},{"$f":"FOURIER!N1333","v":0}]
[null,null,null,null,null,null,1332,32.51953125,{"$f":"FOURIER!M1334","v":0},{"$f":"FOURIER!N1334","v":0}]
[null,null,null,null,null,null,1333,32.5439453125,{"$f":"FOURIER!M1335","v":0},{"$f":"FOURIER!N1335","v":0}]
[null,null,null,null,null,null,1334,32.568359375,{"$f":"FOURIER!M1336","v":0},{"$f":"FOURIER!N1336","v":0}]
[null,null,null,null,null,null,1335,32.5927734375,{"$f":"FOURIER!M1337","v":0},{"$f":"FOURIER!N1337","v":0}]
[null,null,null,null,null,null,1336,32.6171875,{"$f":"FOURIER!M1338","v":0},{"$f":"FOURIER!N1338","v":0}]
[null,null,null,null,null,null,1337,32.6416015625,{"$f":"FOURIER!M1339","v":0},{"$f":"FOURIER!N1339","v":0}]
[null,null,null,null,null,null,1338,32.666015625,{"$f":"FOURIER!M1340","v":0},{"$f":"FOURIER!N1340","v":0}]
[null,null,null,null,null,null,1339,32.6904296875,{"$f":"FOURIER!M1341","v":0},{"$f":"FOURIER!N1341","v":0}]
[null,null,null,null,null,null,1340,32.71484375,{"$f":"FOURIER!M1342","v":0},{"$f":"FOURIER!N1342","v":0}]
[null,null,null,null,null,null,1341,32.7392578125,{"$f":"FOURIER!M1343","v":0},{"$f":"FOURIER!N1343","v":0}]
[null,null,null,null,null,null,1342,32.763671875,{"$f":"FOURIER!M1344","v":0},{"$f":"FOURIER!N1344","v":0}]
[null,null,null,null,null,null,1343,32.7880859375,{"$f":"FOURIER!M1345","v":0},{"$f":"FOURIER!N1345","v":0}]
[null,null,null,null,null,null,1344,{"$f":"(G1346)/B$9/B$6","v":32.8125},{"$f":"FOURIER!M1346","v":0},{"$f":"FOURIER!N1346","v":0}]
[null,null,null,null,null,null,1345,32.8369140625,{"$f":"FOURIER!M1347","v":0},{"$f":"FOURIER!N1347","v":0}]
[null,null,null,null,null,null,1346,32.861328125,{"$f":"FOURIER!M1348","v":0},{"$f":"FOURIER!N1348","v":0}]
[null,null,null,null,null,null,1347,32.8857421875,{"$f":"FOURIER!M1349","v":0},{"$f":"FOURIER!N1349","v":0}]
[null,null,null,null,null,null,1348,32.91015625,{"$f":"FOURIER!M1350","v":0},{"$f":"FOURIER!N1350","v":0}]
[null,null,null,null,null,null,1349,32.9345703125,{"$f":"FOURIER!M1351","v":0},{"$f":"FOURIER!N1351","v":0}]
[null,null,null,null,null,null,1350,32.958984375,{"$f":"FOURIER!M1352","v":0},{"$f":"FOURIER!N1352","v":0}]
[null,null,null,null,null,null,1351,32.9833984375,{"$f":"FOURIER!M1353","v":0},{"$f":"FOURIER!N1353","v":0}]
[null,null,null,null,null,null,1352,33.0078125,{"$f":"FOURIER!M1354","v":0},{"$f":"FOURIER!N1354","v":0}]
[null,null,null,null,null,null,1353,33.0322265625,{"$f":"FOURIER!M1355","v":0},{"$f":"FOURIER!N1355","v":0}]
[null,null,null,null,null,null,1354,33.056640625,{"$f":"FOURIER!M1356","v":0},{"$f":"FOURIER!N1356","v":0}]
[null,null,null,null,null,null,1355,33.0810546875,{"$f":"FOURIER!M1357","v":0},{"$f":"FOURIER!N1357","v":0}]
[null,null,null,null,null,null,1356,33.10546875,{"$f":"FOURIER!M1358","v":0},{"$f":"FOURIER!N1358","v":0}]
[null,null,null,null,null,null,1357,33.1298828125,{"$f":"FOURIER!M1359","v":0},{"$f":"FOURIER!N1359","v":0}]
[null,null,null,null,null,null,1358,33.154296875,{"$f":"FOURIER!M1360","v":0},{"$f":"FOURIER!N1360","v":0}]
[null,null,null,null,null,null,1359,33.1787109375,{"$f":"FOURIER!M1361","v":0},{"$f":"FOURIER!N1361","v":0}]
[null,null,null,null,null,null,1360,33.203125,{"$f":"FOURIER!M1362","v":0},{"$f":"FOURIER!N1362","v":0}]
[null,null,null,null,null,null,1361,33.2275390625,{"$f":"FOURIER!M1363","v":0},{"$f":"FOURIER!N1363","v":0}]
[null,null,null,null,null,null,1362,33.251953125,{"$f":"FOURIER!M1364","v":0},{"$f":"FOURIER!N1364","v":0}]
[null,null,null,null,null,null,1363,33.2763671875,{"$f":"FOURIER!M1365","v":0},{"$f":"FOURIER!N1365","v":0}]
[null,null,null,null,null,null,1364,33.30078125,{"$f":"FOURIER!M1366","v":0},{"$f":"FOURIER!N1366","v":0}]
[null,null,null,null,null,null,1365,33.3251953125,{"$f":"FOURIER!M1367","v":0},{"$f":"FOURIER!N1367","v":0}]
[null,null,null,null,null,null,1366,33.349609375,{"$f":"FOURIER!M1368","v":0},{"$f":"FOURIER!N1368","v":0}]
[null,null,null,null,null,null,1367,33.3740234375,{"$f":"FOURIER!M1369","v":0},{"$f":"FOURIER!N1369","v":0}]
[null,null,null,null,null,null,1368,33.3984375,{"$f":"FOURIER!M1370","v":0},{"$f":"FOURIER!N1370","v":0}]
[null,null,null,null,null,null,1369,33.4228515625,{"$f":"FOURIER!M1371","v":0},{"$f":"FOURIER!N1371","v":0}]
[null,null,null,null,null,null,1370,33.447265625,{"$f":"FOURIER!M1372","v":0},{"$f":"FOURIER!N1372","v":0}]
[null,null,null,null,null,null,1371,33.4716796875,{"$f":"FOURIER!M1373","v":0},{"$f":"FOURIER!N1373","v":0}]
[null,null,null,null,null,null,1372,33.49609375,{"$f":"FOURIER!M1374","v":0},{"$f":"FOURIER!N1374","v":0}]
[null,null,null,null,null,null,1373,33.5205078125,{"$f":"FOURIER!M1375","v":0},{"$f":"FOURIER!N1375","v":0}]
[null,null,null,null,null,null,1374,33.544921875,{"$f":"FOURIER!M1376","v":0},{"$f":"FOURIER!N1376","v":0}]
[null,null,null,null,null,null,1375,33.5693359375,{"$f":"FOURIER!M1377","v":0},{"$f":"FOURIER!N1377","v":0}]
[null,null,null,null,null,null,1376,33.59375,{"$f":"FOURIER!M1378","v":0},{"$f":"FOURIER!N1378","v":0}]
[null,null,null,null,null,null,1377,33.6181640625,{"$f":"FOURIER!M1379","v":0},{"$f":"FOURIER!N1379","v":0}]
[null,null,null,null,null,null,1378,33.642578125,{"$f":"FOURIER!M1380","v":0},{"$f":"FOURIER!N1380","v":0}]
[null,null,null,null,null,null,1379,33.6669921875,{"$f":"FOURIER!M1381","v":0},{"$f":"FOURIER!N1381","v":0}]
[null,null,null,null,null,null,1380,33.69140625,{"$f":"FOURIER!M1382","v":0},{"$f":"FOURIER!N1382","v":0}]
[null,null,null,null,null,null,1381,33.7158203125,{"$f":"FOURIER!M1383","v":0},{"$f":"FOURIER!N1383","v":0}]
[null,null,null,null,null,null,1382,33.740234375,{"$f":"FOURIER!M1384","v":0},{"$f":"FOURIER!N1384","v":0}]
[null,null,null,null,null,null,1383,33.7646484375,{"$f":"FOURIER!M1385","v":0},{"$f":"FOURIER!N1385","v":0}]
[null,null,null,null,null,null,1384,33.7890625,{"$f":"FOURIER!M1386","v":0},{"$f":"FOURIER!N1386","v":0}]
[null,null,null,null,null,null,1385,33.8134765625,{"$f":"FOURIER!M1387","v":0},{"$f":"FOURIER!N1387","v":0}]
[null,null,null,null,null,null,1386,33.837890625,{"$f":"FOURIER!M1388","v":0},{"$f":"FOURIER!N1388","v":0}]
[null,null,null,null,null,null,1387,33.8623046875,{"$f":"FOURIER!M1389","v":0},{"$f":"FOURIER!N1389","v":0}]
[null,null,null,null,null,null,1388,33.88671875,{"$f":"FOURIER!M1390","v":0},{"$f":"FOURIER!N1390","v":0}]
[null,null,null,null,null,null,1389,33.9111328125,{"$f":"FOURIER!M1391","v":0},{"$f":"FOURIER!N1391","v":0}]
[null,null,null,null,null,null,1390,33.935546875,{"$f":"FOURIER!M1392","v":0},{"$f":"FOURIER!N1392","v":0}]
[null,null,null,null,null,null,1391,33.9599609375,{"$f":"FOURIER!M1393","v":0},{"$f":"FOURIER!N1393","v":0}]
[null,null,null,null,null,null,1392,33.984375,{"$f":"FOURIER!M1394","v":0},{"$f":"FOURIER!N1394","v":0}]
[null,null,null,null,null,null,1393,34.0087890625,{"$f":"FOURIER!M1395","v":0},{"$f":"FOURIER!N1395","v":0}]
[null,null,null,null,null,null,1394,34.033203125,{"$f":"FOURIER!M1396","v":0},{"$f":"FOURIER!N1396","v":0}]
[null,null,null,null,null,null,1395,34.0576171875,{"$f":"FOURIER!M1397","v":0},{"$f":"FOURIER!N1397","v":0}]
[null,null,null,null,null,null,1396,34.08203125,{"$f":"FOURIER!M1398","v":0},{"$f":"FOURIER!N1398","v":0}]
[null,null,null,null,null,null,1397,34.1064453125,{"$f":"FOURIER!M1399","v":0},{"$f":"FOURIER!N1399","v":0}]
[null,null,null,null,null,null,1398,34.130859375,{"$f":"FOURIER!M1400","v":0},{"$f":"FOURIER!N1400","v":0}]
[null,null,null,null,null,null,1399,34.1552734375,{"$f":"FOURIER!M1401","v":0},{"$f":"FOURIER!N1401","v":0}]
[null,null,null,null,null,null,1400,34.1796875,{"$f":"FOURIER!M1402","v":0},{"$f":"FOURIER!N1402","v":0}]
[null,null,null,null,null,null,1401,34.2041015625,{"$f":"FOURIER!M1403","v":0},{"$f":"FOURIER!N1403","v":0}]
[null,null,null,null,null,null,1402,34.228515625,{"$f":"FOURIER!M1404","v":0},{"$f":"FOURIER!N1404","v":0}]
[null,null,null,null,null,null,1403,34.2529296875,{"$f":"FOURIER!M1405","v":0},{"$f":"FOURIER!N1405","v":0}]
[null,null,null,null,null,null,1404,34.27734375,{"$f":"FOURIER!M1406","v":0},{"$f":"FOURIER!N1406","v":0}]
[null,null,null,null,null,null,1405,34.3017578125,{"$f":"FOURIER!M1407","v":0},{"$f":"FOURIER!N1407","v":0}]
[null,null,null,null,null,null,1406,34.326171875,{"$f":"FOURIER!M1408","v":0},{"$f":"FOURIER!N1408","v":0}]
[null,null,null,null,null,null,1407,34.3505859375,{"$f":"FOURIER!M1409","v":0},{"$f":"FOURIER!N1409","v":0}]
[null,null,null,null,null,null,1408,{"$f":"(G1410)/B$9/B$6","v":34.375},{"$f":"FOURIER!M1410","v":0},{"$f":"FOURIER!N1410","v":0}]
[null,null,null,null,null,null,1409,34.3994140625,{"$f":"FOURIER!M1411","v":0},{"$f":"FOURIER!N1411","v":0}]
[null,null,null,null,null,null,1410,34.423828125,{"$f":"FOURIER!M1412","v":0},{"$f":"FOURIER!N1412","v":0}]
[null,null,null,null,null,null,1411,34.4482421875,{"$f":"FOURIER!M1413","v":0},{"$f":"FOURIER!N1413","v":0}]
[null,null,null,null,null,null,1412,34.47265625,{"$f":"FOURIER!M1414","v":0},{"$f":"FOURIER!N1414","v":0}]
[null,null,null,null,null,null,1413,34.4970703125,{"$f":"FOURIER!M1415","v":0},{"$f":"FOURIER!N1415","v":0}]
[null,null,null,null,null,null,1414,34.521484375,{"$f":"FOURIER!M1416","v":0},{"$f":"FOURIER!N1416","v":0}]
[null,null,null,null,null,null,1415,34.5458984375,{"$f":"FOURIER!M1417","v":0},{"$f":"FOURIER!N1417","v":0}]
[null,null,null,null,null,null,1416,34.5703125,{"$f":"FOURIER!M1418","v":0},{"$f":"FOURIER!N1418","v":0}]
[null,null,null,null,null,null,1417,34.5947265625,{"$f":"FOURIER!M1419","v":0},{"$f":"FOURIER!N1419","v":0}]
[null,null,null,null,null,null,1418,34.619140625,{"$f":"FOURIER!M1420","v":0},{"$f":"FOURIER!N1420","v":0}]
[null,null,null,null,null,null,1419,34.6435546875,{"$f":"FOURIER!M1421","v":0},{"$f":"FOURIER!N1421","v":0}]
[null,null,null,null,null,null,1420,34.66796875,{"$f":"FOURIER!M1422","v":0},{"$f":"FOURIER!N1422","v":0}]
[null,null,null,null,null,null,1421,34.6923828125,{"$f":"FOURIER!M1423","v":0},{"$f":"FOURIER!N1423","v":0}]
[null,null,null,null,null,null,1422,34.716796875,{"$f":"FOURIER!M1424","v":0},{"$f":"FOURIER!N1424","v":0}]
[null,null,null,null,null,null,1423,34.7412109375,{"$f":"FOURIER!M1425","v":0},{"$f":"FOURIER!N1425","v":0}]
[null,null,null,null,null,null,1424,34.765625,{"$f":"FOURIER!M1426","v":0},{"$f":"FOURIER!N1426","v":0}]
[null,null,null,null,null,null,1425,34.7900390625,{"$f":"FOURIER!M1427","v":0},{"$f":"FOURIER!N1427","v":0}]
[null,null,null,null,null,null,1426,34.814453125,{"$f":"FOURIER!M1428","v":0},{"$f":"FOURIER!N1428","v":0}]
[null,null,null,null,null,null,1427,34.8388671875,{"$f":"FOURIER!M1429","v":0},{"$f":"FOURIER!N1429","v":0}]
[null,null,null,null,null,null,1428,34.86328125,{"$f":"FOURIER!M1430","v":0},{"$f":"FOURIER!N1430","v":0}]
[null,null,null,null,null,null,1429,34.8876953125,{"$f":"FOURIER!M1431","v":0},{"$f":"FOURIER!N1431","v":0}]
[null,null,null,null,null,null,1430,34.912109375,{"$f":"FOURIER!M1432","v":0},{"$f":"FOURIER!N1432","v":0}]
[null,null,null,null,null,null,1431,34.9365234375,{"$f":"FOURIER!M1433","v":0},{"$f":"FOURIER!N1433","v":0}]
[null,null,null,null,null,null,1432,34.9609375,{"$f":"FOURIER!M1434","v":0},{"$f":"FOURIER!N1434","v":0}]
[null,null,null,null,null,null,1433,34.9853515625,{"$f":"FOURIER!M1435","v":0},{"$f":"FOURIER!N1435","v":0}]
[null,null,null,null,null,null,1434,35.009765625,{"$f":"FOURIER!M1436","v":0},{"$f":"FOURIER!N1436","v":0}]
[null,null,null,null,null,null,1435,35.0341796875,{"$f":"FOURIER!M1437","v":0},{"$f":"FOURIER!N1437","v":0}]
[null,null,null,null,null,null,1436,35.05859375,{"$f":"FOURIER!M1438","v":0},{"$f":"FOURIER!N1438","v":0}]
[null,null,null,null,null,null,1437,35.0830078125,{"$f":"FOURIER!M1439","v":0},{"$f":"FOURIER!N1439","v":0}]
[null,null,null,null,null,null,1438,35.107421875,{"$f":"FOURIER!M1440","v":0},{"$f":"FOURIER!N1440","v":0}]
[null,null,null,null,null,null,1439,35.1318359375,{"$f":"FOURIER!M1441","v":0},{"$f":"FOURIER!N1441","v":0}]
[null,null,null,null,null,null,1440,35.15625,{"$f":"FOURIER!M1442","v":0},{"$f":"FOURIER!N1442","v":0}]
[null,null,null,null,null,null,1441,35.1806640625,{"$f":"FOURIER!M1443","v":0},{"$f":"FOURIER!N1443","v":0}]
[null,null,null,null,null,null,1442,35.205078125,{"$f":"FOURIER!M1444","v":0},{"$f":"FOURIER!N1444","v":0}]
[null,null,null,null,null,null,1443,35.2294921875,{"$f":"FOURIER!M1445","v":0},{"$f":"FOURIER!N1445","v":0}]
[null,null,null,null,null,null,1444,35.25390625,{"$f":"FOURIER!M1446","v":0},{"$f":"FOURIER!N1446","v":0}]
[null,null,null,null,null,null,1445,35.2783203125,{"$f":"FOURIER!M1447","v":0},{"$f":"FOURIER!N1447","v":0}]
[null,null,null,null,null,null,1446,35.302734375,{"$f":"FOURIER!M1448","v":0},{"$f":"FOURIER!N1448","v":0}]
[null,null,null,null,null,null,1447,35.3271484375,{"$f":"FOURIER!M1449","v":0},{"$f":"FOURIER!N1449","v":0}]
[null,null,null,null,null,null,1448,35.3515625,{"$f":"FOURIER!M1450","v":0},{"$f":"FOURIER!N1450","v":0}]
[null,null,null,null,null,null,1449,35.3759765625,{"$f":"FOURIER!M1451","v":0},{"$f":"FOURIER!N1451","v":0}]
[null,null,null,null,null,null,1450,35.400390625,{"$f":"FOURIER!M1452","v":0},{"$f":"FOURIER!N1452","v":0}]
[null,null,null,null,null,null,1451,35.4248046875,{"$f":"FOURIER!M1453","v":0},{"$f":"FOURIER!N1453","v":0}]
[null,null,null,null,null,null,1452,35.44921875,{"$f":"FOURIER!M1454","v":0},{"$f":"FOURIER!N1454","v":0}]
[null,null,null,null,null,null,1453,35.4736328125,{"$f":"FOURIER!M1455","v":0},{"$f":"FOURIER!N1455","v":0}]
[null,null,null,null,null,null,1454,35.498046875,{"$f":"FOURIER!M1456","v":0},{"$f":"FOURIER!N1456","v":0}]
[null,null,null,null,null,null,1455,35.5224609375,{"$f":"FOURIER!M1457","v":0},{"$f":"FOURIER!N1457","v":0}]
[null,null,null,null,null,null,1456,35.546875,{"$f":"FOURIER!M1458","v":0},{"$f":"FOURIER!N1458","v":0}]
[null,null,null,null,null,null,1457,35.5712890625,{"$f":"FOURIER!M1459","v":0},{"$f":"FOURIER!N1459","v":0}]
[null,null,null,null,null,null,1458,35.595703125,{"$f":"FOURIER!M1460","v":0},{"$f":"FOURIER!N1460","v":0}]
[null,null,null,null,null,null,1459,35.6201171875,{"$f":"FOURIER!M1461","v":0},{"$f":"FOURIER!N1461","v":0}]
[null,null,null,null,null,null,1460,35.64453125,{"$f":"FOURIER!M1462","v":0},{"$f":"FOURIER!N1462","v":0}]
[null,null,null,null,null,null,1461,35.6689453125,{"$f":"FOURIER!M1463","v":0},{"$f":"FOURIER!N1463","v":0}]
[null,null,null,null,null,null,1462,35.693359375,{"$f":"FOURIER!M1464","v":0},{"$f":"FOURIER!N1464","v":0}]
[null,null,null,null,null,null,1463,35.7177734375,{"$f":"FOURIER!M1465","v":0},{"$f":"FOURIER!N1465","v":0}]
[null,null,null,null,null,null,1464,35.7421875,{"$f":"FOURIER!M1466","v":0},{"$f":"FOURIER!N1466","v":0}]
[null,null,null,null,null,null,1465,35.7666015625,{"$f":"FOURIER!M1467","v":0},{"$f":"FOURIER!N1467","v":0}]
[null,null,null,null,null,null,1466,35.791015625,{"$f":"FOURIER!M1468","v":0},{"$f":"FOURIER!N1468","v":0}]
[null,null,null,null,null,null,1467,35.8154296875,{"$f":"FOURIER!M1469","v":0},{"$f":"FOURIER!N1469","v":0}]
[null,null,null,null,null,null,1468,35.83984375,{"$f":"FOURIER!M1470","v":0},{"$f":"FOURIER!N1470","v":0}]
[null,null,null,null,null,null,1469,35.8642578125,{"$f":"FOURIER!M1471","v":0},{"$f":"FOURIER!N1471","v":0}]
[null,null,null,null,null,null,1470,35.888671875,{"$f":"FOURIER!M1472","v":0},{"$f":"FOURIER!N1472","v":0}]
[null,null,null,null,null,null,1471,35.9130859375,{"$f":"FOURIER!M1473","v":0},{"$f":"FOURIER!N1473","v":0}]
[null,null,null,null,null,null,1472,{"$f":"(G1474)/B$9/B$6","v":35.9375},{"$f":"FOURIER!M1474","v":0},{"$f":"FOURIER!N1474","v":0}]
[null,null,null,null,null,null,1473,35.9619140625,{"$f":"FOURIER!M1475","v":0},{"$f":"FOURIER!N1475","v":0}]
[null,null,null,null,null,null,1474,35.986328125,{"$f":"FOURIER!M1476","v":0},{"$f":"FOURIER!N1476","v":0}]
[null,null,null,null,null,null,1475,36.0107421875,{"$f":"FOURIER!M1477","v":0},{"$f":"FOURIER!N1477","v":0}]
[null,null,null,null,null,null,1476,36.03515625,{"$f":"FOURIER!M1478","v":0},{"$f":"FOURIER!N1478","v":0}]
[null,null,null,null,null,null,1477,36.0595703125,{"$f":"FOURIER!M1479","v":0},{"$f":"FOURIER!N1479","v":0}]
[null,null,null,null,null,null,1478,36.083984375,{"$f":"FOURIER!M1480","v":0},{"$f":"FOURIER!N1480","v":0}]
[null,null,null,null,null,null,1479,36.1083984375,{"$f":"FOURIER!M1481","v":0},{"$f":"FOURIER!N1481","v":0}]
[null,null,null,null,null,null,1480,36.1328125,{"$f":"FOURIER!M1482","v":0},{"$f":"FOURIER!N1482","v":0}]
[null,null,null,null,null,null,1481,36.1572265625,{"$f":"FOURIER!M1483","v":0},{"$f":"FOURIER!N1483","v":0}]
[null,null,null,null,null,null,1482,36.181640625,{"$f":"FOURIER!M1484","v":0},{"$f":"FOURIER!N1484","v":0}]
[null,null,null,null,null,null,1483,36.2060546875,{"$f":"FOURIER!M1485","v":0},{"$f":"FOURIER!N1485","v":0}]
[null,null,null,null,null,null,1484,36.23046875,{"$f":"FOURIER!M1486","v":0},{"$f":"FOURIER!N1486","v":0}]
[null,null,null,null,null,null,1485,36.2548828125,{"$f":"FOURIER!M1487","v":0},{"$f":"FOURIER!N1487","v":0}]
[null,null,null,null,null,null,1486,36.279296875,{"$f":"FOURIER!M1488","v":0},{"$f":"FOURIER!N1488","v":0}]
[null,null,null,null,null,null,1487,36.3037109375,{"$f":"FOURIER!M1489","v":0},{"$f":"FOURIER!N1489","v":0}]
[null,null,null,null,null,null,1488,36.328125,{"$f":"FOURIER!M1490","v":0},{"$f":"FOURIER!N1490","v":0}]
[null,null,null,null,null,null,1489,36.3525390625,{"$f":"FOURIER!M1491","v":0},{"$f":"FOURIER!N1491","v":0}]
[null,null,null,null,null,null,1490,36.376953125,{"$f":"FOURIER!M1492","v":0},{"$f":"FOURIER!N1492","v":0}]
[null,null,null,null,null,null,1491,36.4013671875,{"$f":"FOURIER!M1493","v":0},{"$f":"FOURIER!N1493","v":0}]
[null,null,null,null,null,null,1492,36.42578125,{"$f":"FOURIER!M1494","v":0},{"$f":"FOURIER!N1494","v":0}]
[null,null,null,null,null,null,1493,36.4501953125,{"$f":"FOURIER!M1495","v":0},{"$f":"FOURIER!N1495","v":0}]
[null,null,null,null,null,null,1494,36.474609375,{"$f":"FOURIER!M1496","v":0},{"$f":"FOURIER!N1496","v":0}]
[null,null,null,null,null,null,1495,36.4990234375,{"$f":"FOURIER!M1497","v":0},{"$f":"FOURIER!N1497","v":0}]
[null,null,null,null,null,null,1496,36.5234375,{"$f":"FOURIER!M1498","v":0},{"$f":"FOURIER!N1498","v":0}]
[null,null,null,null,null,null,1497,36.5478515625,{"$f":"FOURIER!M1499","v":0},{"$f":"FOURIER!N1499","v":0}]
[null,null,null,null,null,null,1498,36.572265625,{"$f":"FOURIER!M1500","v":0},{"$f":"FOURIER!N1500","v":0}]
[null,null,null,null,null,null,1499,36.5966796875,{"$f":"FOURIER!M1501","v":0},{"$f":"FOURIER!N1501","v":0}]
[null,null,null,null,null,null,1500,36.62109375,{"$f":"FOURIER!M1502","v":0},{"$f":"FOURIER!N1502","v":0}]
[null,null,null,null,null,null,1501,36.6455078125,{"$f":"FOURIER!M1503","v":0},{"$f":"FOURIER!N1503","v":0}]
[null,null,null,null,null,null,1502,36.669921875,{"$f":"FOURIER!M1504","v":0},{"$f":"FOURIER!N1504","v":0}]
[null,null,null,null,null,null,1503,36.6943359375,{"$f":"FOURIER!M1505","v":0},{"$f":"FOURIER!N1505","v":0}]
[null,null,null,null,null,null,1504,36.71875,{"$f":"FOURIER!M1506","v":0},{"$f":"FOURIER!N1506","v":0}]
[null,null,null,null,null,null,1505,36.7431640625,{"$f":"FOURIER!M1507","v":0},{"$f":"FOURIER!N1507","v":0}]
[null,null,null,null,null,null,1506,36.767578125,{"$f":"FOURIER!M1508","v":0},{"$f":"FOURIER!N1508","v":0}]
[null,null,null,null,null,null,1507,36.7919921875,{"$f":"FOURIER!M1509","v":0},{"$f":"FOURIER!N1509","v":0}]
[null,null,null,null,null,null,1508,36.81640625,{"$f":"FOURIER!M1510","v":0},{"$f":"FOURIER!N1510","v":0}]
[null,null,null,null,null,null,1509,36.8408203125,{"$f":"FOURIER!M1511","v":0},{"$f":"FOURIER!N1511","v":0}]
[null,null,null,null,null,null,1510,36.865234375,{"$f":"FOURIER!M1512","v":0},{"$f":"FOURIER!N1512","v":0}]
[null,null,null,null,null,null,1511,36.8896484375,{"$f":"FOURIER!M1513","v":0},{"$f":"FOURIER!N1513","v":0}]
[null,null,null,null,null,null,1512,36.9140625,{"$f":"FOURIER!M1514","v":0},{"$f":"FOURIER!N1514","v":0}]
[null,null,null,null,null,null,1513,36.9384765625,{"$f":"FOURIER!M1515","v":0},{"$f":"FOURIER!N1515","v":0}]
[null,null,null,null,null,null,1514,36.962890625,{"$f":"FOURIER!M1516","v":0},{"$f":"FOURIER!N1516","v":0}]
[null,null,null,null,null,null,1515,36.9873046875,{"$f":"FOURIER!M1517","v":0},{"$f":"FOURIER!N1517","v":0}]
[null,null,null,null,null,null,1516,37.01171875,{"$f":"FOURIER!M1518","v":0},{"$f":"FOURIER!N1518","v":0}]
[null,null,null,null,null,null,1517,37.0361328125,{"$f":"FOURIER!M1519","v":0},{"$f":"FOURIER!N1519","v":0}]
[null,null,null,null,null,null,1518,37.060546875,{"$f":"FOURIER!M1520","v":0},{"$f":"FOURIER!N1520","v":0}]
[null,null,null,null,null,null,1519,37.0849609375,{"$f":"FOURIER!M1521","v":0},{"$f":"FOURIER!N1521","v":0}]
[null,null,null,null,null,null,1520,37.109375,{"$f":"FOURIER!M1522","v":0},{"$f":"FOURIER!N1522","v":0}]
[null,null,null,null,null,null,1521,37.1337890625,{"$f":"FOURIER!M1523","v":0},{"$f":"FOURIER!N1523","v":0}]
[null,null,null,null,null,null,1522,37.158203125,{"$f":"FOURIER!M1524","v":0},{"$f":"FOURIER!N1524","v":0}]
[null,null,null,null,null,null,1523,37.1826171875,{"$f":"FOURIER!M1525","v":0},{"$f":"FOURIER!N1525","v":0}]
[null,null,null,null,null,null,1524,37.20703125,{"$f":"FOURIER!M1526","v":0},{"$f":"FOURIER!N1526","v":0}]
[null,null,null,null,null,null,1525,37.2314453125,{"$f":"FOURIER!M1527","v":0},{"$f":"FOURIER!N1527","v":0}]
[null,null,null,null,null,null,1526,37.255859375,{"$f":"FOURIER!M1528","v":0},{"$f":"FOURIER!N1528","v":0}]
[null,null,null,null,null,null,1527,37.2802734375,{"$f":"FOURIER!M1529","v":0},{"$f":"FOURIER!N1529","v":0}]
[null,null,null,null,null,null,1528,37.3046875,{"$f":"FOURIER!M1530","v":0},{"$f":"FOURIER!N1530","v":0}]
[null,null,null,null,null,null,1529,37.3291015625,{"$f":"FOURIER!M1531","v":0},{"$f":"FOURIER!N1531","v":0}]
[null,null,null,null,null,null,1530,37.353515625,{"$f":"FOURIER!M1532","v":0},{"$f":"FOURIER!N1532","v":0}]
[null,null,null,null,null,null,1531,37.3779296875,{"$f":"FOURIER!M1533","v":0},{"$f":"FOURIER!N1533","v":0}]
[null,null,null,null,null,null,1532,37.40234375,{"$f":"FOURIER!M1534","v":0},{"$f":"FOURIER!N1534","v":0}]
[null,null,null,null,null,null,1533,37.4267578125,{"$f":"FOURIER!M1535","v":0},{"$f":"FOURIER!N1535","v":0}]
[null,null,null,null,null,null,1534,37.451171875,{"$f":"FOURIER!M1536","v":0},{"$f":"FOURIER!N1536","v":0}]
[null,null,null,null,null,null,1535,37.4755859375,{"$f":"FOURIER!M1537","v":0},{"$f":"FOURIER!N1537","v":0}]
[null,null,null,null,null,null,1536,{"$f":"(G1538)/B$9/B$6","v":37.5},{"$f":"FOURIER!M1538","v":0},{"$f":"FOURIER!N1538","v":0}]
[null,null,null,null,null,null,1537,37.5244140625,{"$f":"FOURIER!M1539","v":0},{"$f":"FOURIER!N1539","v":0}]
[null,null,null,null,null,null,1538,37.548828125,{"$f":"FOURIER!M1540","v":0},{"$f":"FOURIER!N1540","v":0}]
[null,null,null,null,null,null,1539,37.5732421875,{"$f":"FOURIER!M1541","v":0},{"$f":"FOURIER!N1541","v":0}]
[null,null,null,null,null,null,1540,37.59765625,{"$f":"FOURIER!M1542","v":0},{"$f":"FOURIER!N1542","v":0}]
[null,null,null,null,null,null,1541,37.6220703125,{"$f":"FOURIER!M1543","v":0},{"$f":"FOURIER!N1543","v":0}]
[null,null,null,null,null,null,1542,37.646484375,{"$f":"FOURIER!M1544","v":0},{"$f":"FOURIER!N1544","v":0}]
[null,null,null,null,null,null,1543,37.6708984375,{"$f":"FOURIER!M1545","v":0},{"$f":"FOURIER!N1545","v":0}]
[null,null,null,null,null,null,1544,37.6953125,{"$f":"FOURIER!M1546","v":0},{"$f":"FOURIER!N1546","v":0}]
[null,null,null,null,null,null,1545,37.7197265625,{"$f":"FOURIER!M1547","v":0},{"$f":"FOURIER!N1547","v":0}]
[null,null,null,null,null,null,1546,37.744140625,{"$f":"FOURIER!M1548","v":0},{"$f":"FOURIER!N1548","v":0}]
[null,null,null,null,null,null,1547,37.7685546875,{"$f":"FOURIER!M1549","v":0},{"$f":"FOURIER!N1549","v":0}]
[null,null,null,null,null,null,1548,37.79296875,{"$f":"FOURIER!M1550","v":0},{"$f":"FOURIER!N1550","v":0}]
[null,null,null,null,null,null,1549,37.8173828125,{"$f":"FOURIER!M1551","v":0},{"$f":"FOURIER!N1551","v":0}]
[null,null,null,null,null,null,1550,37.841796875,{"$f":"FOURIER!M1552","v":0},{"$f":"FOURIER!N1552","v":0}]
[null,null,null,null,null,null,1551,37.8662109375,{"$f":"FOURIER!M1553","v":0},{"$f":"FOURIER!N1553","v":0}]
[null,null,null,null,null,null,1552,37.890625,{"$f":"FOURIER!M1554","v":0},{"$f":"FOURIER!N1554","v":0}]
[null,null,null,null,null,null,1553,37.9150390625,{"$f":"FOURIER!M1555","v":0},{"$f":"FOURIER!N1555","v":0}]
[null,null,null,null,null,null,1554,37.939453125,{"$f":"FOURIER!M1556","v":0},{"$f":"FOURIER!N1556","v":0}]
[null,null,null,null,null,null,1555,37.9638671875,{"$f":"FOURIER!M1557","v":0},{"$f":"FOURIER!N1557","v":0}]
[null,null,null,null,null,null,1556,37.98828125,{"$f":"FOURIER!M1558","v":0},{"$f":"FOURIER!N1558","v":0}]
[null,null,null,null,null,null,1557,38.0126953125,{"$f":"FOURIER!M1559","v":0},{"$f":"FOURIER!N1559","v":0}]
[null,null,null,null,null,null,1558,38.037109375,{"$f":"FOURIER!M1560","v":0},{"$f":"FOURIER!N1560","v":0}]
[null,null,null,null,null,null,1559,38.0615234375,{"$f":"FOURIER!M1561","v":0},{"$f":"FOURIER!N1561","v":0}]
[null,null,null,null,null,null,1560,38.0859375,{"$f":"FOURIER!M1562","v":0},{"$f":"FOURIER!N1562","v":0}]
[null,null,null,null,null,null,1561,38.1103515625,{"$f":"FOURIER!M1563","v":0},{"$f":"FOURIER!N1563","v":0}]
[null,null,null,null,null,null,1562,38.134765625,{"$f":"FOURIER!M1564","v":0},{"$f":"FOURIER!N1564","v":0}]
[null,null,null,null,null,null,1563,38.1591796875,{"$f":"FOURIER!M1565","v":0},{"$f":"FOURIER!N1565","v":0}]
[null,null,null,null,null,null,1564,38.18359375,{"$f":"FOURIER!M1566","v":0},{"$f":"FOURIER!N1566","v":0}]
[null,null,null,null,null,null,1565,38.2080078125,{"$f":"FOURIER!M1567","v":0},{"$f":"FOURIER!N1567","v":0}]
[null,null,null,null,null,null,1566,38.232421875,{"$f":"FOURIER!M1568","v":0},{"$f":"FOURIER!N1568","v":0}]
[null,null,null,null,null,null,1567,38.2568359375,{"$f":"FOURIER!M1569","v":0},{"$f":"FOURIER!N1569","v":0}]
[null,null,null,null,null,null,1568,38.28125,{"$f":"FOURIER!M1570","v":0},{"$f":"FOURIER!N1570","v":0}]
[null,null,null,null,null,null,1569,38.3056640625,{"$f":"FOURIER!M1571","v":0},{"$f":"FOURIER!N1571","v":0}]
[null,null,null,null,null,null,1570,38.330078125,{"$f":"FOURIER!M1572","v":0},{"$f":"FOURIER!N1572","v":0}]
[null,null,null,null,null,null,1571,38.3544921875,{"$f":"FOURIER!M1573","v":0},{"$f":"FOURIER!N1573","v":0}]
[null,null,null,null,null,null,1572,38.37890625,{"$f":"FOURIER!M1574","v":0},{"$f":"FOURIER!N1574","v":0}]
[null,null,null,null,null,null,1573,38.4033203125,{"$f":"FOURIER!M1575","v":0},{"$f":"FOURIER!N1575","v":0}]
[null,null,null,null,null,null,1574,38.427734375,{"$f":"FOURIER!M1576","v":0},{"$f":"FOURIER!N1576","v":0}]
[null,null,null,null,null,null,1575,38.4521484375,{"$f":"FOURIER!M1577","v":0},{"$f":"FOURIER!N1577","v":0}]
[null,null,null,null,null,null,1576,38.4765625,{"$f":"FOURIER!M1578","v":0},{"$f":"FOURIER!N1578","v":0}]
[null,null,null,null,null,null,1577,38.5009765625,{"$f":"FOURIER!M1579","v":0},{"$f":"FOURIER!N1579","v":0}]
[null,null,null,null,null,null,1578,38.525390625,{"$f":"FOURIER!M1580","v":0},{"$f":"FOURIER!N1580","v":0}]
[null,null,null,null,null,null,1579,38.5498046875,{"$f":"FOURIER!M1581","v":0},{"$f":"FOURIER!N1581","v":0}]
[null,null,null,null,null,null,1580,38.57421875,{"$f":"FOURIER!M1582","v":0},{"$f":"FOURIER!N1582","v":0}]
[null,null,null,null,null,null,1581,38.5986328125,{"$f":"FOURIER!M1583","v":0},{"$f":"FOURIER!N1583","v":0}]
[null,null,null,null,null,null,1582,38.623046875,{"$f":"FOURIER!M1584","v":0},{"$f":"FOURIER!N1584","v":0}]
[null,null,null,null,null,null,1583,38.6474609375,{"$f":"FOURIER!M1585","v":0},{"$f":"FOURIER!N1585","v":0}]
[null,null,null,null,null,null,1584,38.671875,{"$f":"FOURIER!M1586","v":0},{"$f":"FOURIER!N1586","v":0}]
[null,null,null,null,null,null,1585,38.6962890625,{"$f":"FOURIER!M1587","v":0},{"$f":"FOURIER!N1587","v":0}]
[null,null,null,null,null,null,1586,38.720703125,{"$f":"FOURIER!M1588","v":0},{"$f":"FOURIER!N1588","v":0}]
[null,null,null,null,null,null,1587,38.7451171875,{"$f":"FOURIER!M1589","v":0},{"$f":"FOURIER!N1589","v":0}]
[null,null,null,null,null,null,1588,38.76953125,{"$f":"FOURIER!M1590","v":0},{"$f":"FOURIER!N1590","v":0}]
[null,null,null,null,null,null,1589,38.7939453125,{"$f":"FOURIER!M1591","v":0},{"$f":"FOURIER!N1591","v":0}]
[null,null,null,null,null,null,1590,38.818359375,{"$f":"FOURIER!M1592","v":0},{"$f":"FOURIER!N1592","v":0}]
[null,null,null,null,null,null,1591,38.8427734375,{"$f":"FOURIER!M1593","v":0},{"$f":"FOURIER!N1593","v":0}]
[null,null,null,null,null,null,1592,38.8671875,{"$f":"FOURIER!M1594","v":0},{"$f":"FOURIER!N1594","v":0}]
[null,null,null,null,null,null,1593,38.8916015625,{"$f":"FOURIER!M1595","v":0},{"$f":"FOURIER!N1595","v":0}]
[null,null,null,null,null,null,1594,38.916015625,{"$f":"FOURIER!M1596","v":0},{"$f":"FOURIER!N1596","v":0}]
[null,null,null,null,null,null,1595,38.9404296875,{"$f":"FOURIER!M1597","v":0},{"$f":"FOURIER!N1597","v":0}]
[null,null,null,null,null,null,1596,38.96484375,{"$f":"FOURIER!M1598","v":0},{"$f":"FOURIER!N1598","v":0}]
[null,null,null,null,null,null,1597,38.9892578125,{"$f":"FOURIER!M1599","v":0},{"$f":"FOURIER!N1599","v":0}]
[null,null,null,null,null,null,1598,39.013671875,{"$f":"FOURIER!M1600","v":0},{"$f":"FOURIER!N1600","v":0}]
[null,null,null,null,null,null,1599,39.0380859375,{"$f":"FOURIER!M1601","v":0},{"$f":"FOURIER!N1601","v":0}]
[null,null,null,null,null,null,1600,{"$f":"(G1602)/B$9/B$6","v":39.0625},{"$f":"FOURIER!M1602","v":0},{"$f":"FOURIER!N1602","v":0}]
[null,null,null,null,null,null,1601,39.0869140625,{"$f":"FOURIER!M1603","v":0},{"$f":"FOURIER!N1603","v":0}]
[null,null,null,null,null,null,1602,39.111328125,{"$f":"FOURIER!M1604","v":0},{"$f":"FOURIER!N1604","v":0}]
[null,null,null,null,null,null,1603,39.1357421875,{"$f":"FOURIER!M1605","v":0},{"$f":"FOURIER!N1605","v":0}]
[null,null,null,null,null,null,1604,39.16015625,{"$f":"FOURIER!M1606","v":0},{"$f":"FOURIER!N1606","v":0}]
[null,null,null,null,null,null,1605,39.1845703125,{"$f":"FOURIER!M1607","v":0},{"$f":"FOURIER!N1607","v":0}]
[null,null,null,null,null,null,1606,39.208984375,{"$f":"FOURIER!M1608","v":0},{"$f":"FOURIER!N1608","v":0}]
[null,null,null,null,null,null,1607,39.2333984375,{"$f":"FOURIER!M1609","v":0},{"$f":"FOURIER!N1609","v":0}]
[null,null,null,null,null,null,1608,39.2578125,{"$f":"FOURIER!M1610","v":0},{"$f":"FOURIER!N1610","v":0}]
[null,null,null,null,null,null,1609,39.2822265625,{"$f":"FOURIER!M1611","v":0},{"$f":"FOURIER!N1611","v":0}]
[null,null,null,null,null,null,1610,39.306640625,{"$f":"FOURIER!M1612","v":0},{"$f":"FOURIER!N1612","v":0}]
[null,null,null,null,null,null,1611,39.3310546875,{"$f":"FOURIER!M1613","v":0},{"$f":"FOURIER!N1613","v":0}]
[null,null,null,null,null,null,1612,39.35546875,{"$f":"FOURIER!M1614","v":0},{"$f":"FOURIER!N1614","v":0}]
[null,null,null,null,null,null,1613,39.3798828125,{"$f":"FOURIER!M1615","v":0},{"$f":"FOURIER!N1615","v":0}]
[null,null,null,null,null,null,1614,39.404296875,{"$f":"FOURIER!M1616","v":0},{"$f":"FOURIER!N1616","v":0}]
[null,null,null,null,null,null,1615,39.4287109375,{"$f":"FOURIER!M1617","v":0},{"$f":"FOURIER!N1617","v":0}]
[null,null,null,null,null,null,1616,39.453125,{"$f":"FOURIER!M1618","v":0},{"$f":"FOURIER!N1618","v":0}]
[null,null,null,null,null,null,1617,39.4775390625,{"$f":"FOURIER!M1619","v":0},{"$f":"FOURIER!N1619","v":0}]
[null,null,null,null,null,null,1618,39.501953125,{"$f":"FOURIER!M1620","v":0},{"$f":"FOURIER!N1620","v":0}]
[null,null,null,null,null,null,1619,39.5263671875,{"$f":"FOURIER!M1621","v":0},{"$f":"FOURIER!N1621","v":0}]
[null,null,null,null,null,null,1620,39.55078125,{"$f":"FOURIER!M1622","v":0},{"$f":"FOURIER!N1622","v":0}]
[null,null,null,null,null,null,1621,39.5751953125,{"$f":"FOURIER!M1623","v":0},{"$f":"FOURIER!N1623","v":0}]
[null,null,null,null,null,null,1622,39.599609375,{"$f":"FOURIER!M1624","v":0},{"$f":"FOURIER!N1624","v":0}]
[null,null,null,null,null,null,1623,39.6240234375,{"$f":"FOURIER!M1625","v":0},{"$f":"FOURIER!N1625","v":0}]
[null,null,null,null,null,null,1624,39.6484375,{"$f":"FOURIER!M1626","v":0},{"$f":"FOURIER!N1626","v":0}]
[null,null,null,null,null,null,1625,39.6728515625,{"$f":"FOURIER!M1627","v":0},{"$f":"FOURIER!N1627","v":0}]
[null,null,null,null,null,null,1626,39.697265625,{"$f":"FOURIER!M1628","v":0},{"$f":"FOURIER!N1628","v":0}]
[null,null,null,null,null,null,1627,39.7216796875,{"$f":"FOURIER!M1629","v":0},{"$f":"FOURIER!N1629","v":0}]
[null,null,null,null,null,null,1628,39.74609375,{"$f":"FOURIER!M1630","v":0},{"$f":"FOURIER!N1630","v":0}]
[null,null,null,null,null,null,1629,39.7705078125,{"$f":"FOURIER!M1631","v":0},{"$f":"FOURIER!N1631","v":0}]
[null,null,null,null,null,null,1630,39.794921875,{"$f":"FOURIER!M1632","v":0},{"$f":"FOURIER!N1632","v":0}]
[null,null,null,null,null,null,1631,39.8193359375,{"$f":"FOURIER!M1633","v":0},{"$f":"FOURIER!N1633","v":0}]
[null,null,null,null,null,null,1632,39.84375,{"$f":"FOURIER!M1634","v":0},{"$f":"FOURIER!N1634","v":0}]
[null,null,null,null,null,null,1633,39.8681640625,{"$f":"FOURIER!M1635","v":0},{"$f":"FOURIER!N1635","v":0}]
[null,null,null,null,null,null,1634,39.892578125,{"$f":"FOURIER!M1636","v":0},{"$f":"FOURIER!N1636","v":0}]
[null,null,null,null,null,null,1635,39.9169921875,{"$f":"FOURIER!M1637","v":0},{"$f":"FOURIER!N1637","v":0}]
[null,null,null,null,null,null,1636,39.94140625,{"$f":"FOURIER!M1638","v":0},{"$f":"FOURIER!N1638","v":0}]
[null,null,null,null,null,null,1637,39.9658203125,{"$f":"FOURIER!M1639","v":0},{"$f":"FOURIER!N1639","v":0}]
[null,null,null,null,null,null,1638,39.990234375,{"$f":"FOURIER!M1640","v":0},{"$f":"FOURIER!N1640","v":0}]
[null,null,null,null,null,null,1639,40.0146484375,{"$f":"FOURIER!M1641","v":0},{"$f":"FOURIER!N1641","v":0}]
[null,null,null,null,null,null,1640,40.0390625,{"$f":"FOURIER!M1642","v":0},{"$f":"FOURIER!N1642","v":0}]
[null,null,null,null,null,null,1641,40.0634765625,{"$f":"FOURIER!M1643","v":0},{"$f":"FOURIER!N1643","v":0}]
[null,null,null,null,null,null,1642,40.087890625,{"$f":"FOURIER!M1644","v":0},{"$f":"FOURIER!N1644","v":0}]
[null,null,null,null,null,null,1643,40.1123046875,{"$f":"FOURIER!M1645","v":0},{"$f":"FOURIER!N1645","v":0}]
[null,null,null,null,null,null,1644,40.13671875,{"$f":"FOURIER!M1646","v":0},{"$f":"FOURIER!N1646","v":0}]
[null,null,null,null,null,null,1645,40.1611328125,{"$f":"FOURIER!M1647","v":0},{"$f":"FOURIER!N1647","v":0}]
[null,null,null,null,null,null,1646,40.185546875,{"$f":"FOURIER!M1648","v":0},{"$f":"FOURIER!N1648","v":0}]
[null,null,null,null,null,null,1647,40.2099609375,{"$f":"FOURIER!M1649","v":0},{"$f":"FOURIER!N1649","v":0}]
[null,null,null,null,null,null,1648,40.234375,{"$f":"FOURIER!M1650","v":0},{"$f":"FOURIER!N1650","v":0}]
[null,null,null,null,null,null,1649,40.2587890625,{"$f":"FOURIER!M1651","v":0},{"$f":"FOURIER!N1651","v":0}]
[null,null,null,null,null,null,1650,40.283203125,{"$f":"FOURIER!M1652","v":0},{"$f":"FOURIER!N1652","v":0}]
[null,null,null,null,null,null,1651,40.3076171875,{"$f":"FOURIER!M1653","v":0},{"$f":"FOURIER!N1653","v":0}]
[null,null,null,null,null,null,1652,40.33203125,{"$f":"FOURIER!M1654","v":0},{"$f":"FOURIER!N1654","v":0}]
[null,null,null,null,null,null,1653,40.3564453125,{"$f":"FOURIER!M1655","v":0},{"$f":"FOURIER!N1655","v":0}]
[null,null,null,null,null,null,1654,40.380859375,{"$f":"FOURIER!M1656","v":0},{"$f":"FOURIER!N1656","v":0}]
[null,null,null,null,null,null,1655,40.4052734375,{"$f":"FOURIER!M1657","v":0},{"$f":"FOURIER!N1657","v":0}]
[null,null,null,null,null,null,1656,40.4296875,{"$f":"FOURIER!M1658","v":0},{"$f":"FOURIER!N1658","v":0}]
[null,null,null,null,null,null,1657,40.4541015625,{"$f":"FOURIER!M1659","v":0},{"$f":"FOURIER!N1659","v":0}]
[null,null,null,null,null,null,1658,40.478515625,{"$f":"FOURIER!M1660","v":0},{"$f":"FOURIER!N1660","v":0}]
[null,null,null,null,null,null,1659,40.5029296875,{"$f":"FOURIER!M1661","v":0},{"$f":"FOURIER!N1661","v":0}]
[null,null,null,null,null,null,1660,40.52734375,{"$f":"FOURIER!M1662","v":0},{"$f":"FOURIER!N1662","v":0}]
[null,null,null,null,null,null,1661,40.5517578125,{"$f":"FOURIER!M1663","v":0},{"$f":"FOURIER!N1663","v":0}]
[null,null,null,null,null,null,1662,40.576171875,{"$f":"FOURIER!M1664","v":0},{"$f":"FOURIER!N1664","v":0}]
[null,null,null,null,null,null,1663,40.6005859375,{"$f":"FOURIER!M1665","v":0},{"$f":"FOURIER!N1665","v":0}]
[null,null,null,null,null,null,1664,{"$f":"(G1666)/B$9/B$6","v":40.625},{"$f":"FOURIER!M1666","v":0},{"$f":"FOURIER!N1666","v":0}]
[null,null,null,null,null,null,1665,40.6494140625,{"$f":"FOURIER!M1667","v":0},{"$f":"FOURIER!N1667","v":0}]
[null,null,null,null,null,null,1666,40.673828125,{"$f":"FOURIER!M1668","v":0},{"$f":"FOURIER!N1668","v":0}]
[null,null,null,null,null,null,1667,40.6982421875,{"$f":"FOURIER!M1669","v":0},{"$f":"FOURIER!N1669","v":0}]
[null,null,null,null,null,null,1668,40.72265625,{"$f":"FOURIER!M1670","v":0},{"$f":"FOURIER!N1670","v":0}]
[null,null,null,null,null,null,1669,40.7470703125,{"$f":"FOURIER!M1671","v":0},{"$f":"FOURIER!N1671","v":0}]
[null,null,null,null,null,null,1670,40.771484375,{"$f":"FOURIER!M1672","v":0},{"$f":"FOURIER!N1672","v":0}]
[null,null,null,null,null,null,1671,40.7958984375,{"$f":"FOURIER!M1673","v":0},{"$f":"FOURIER!N1673","v":0}]
[null,null,null,null,null,null,1672,40.8203125,{"$f":"FOURIER!M1674","v":0},{"$f":"FOURIER!N1674","v":0}]
[null,null,null,null,null,null,1673,40.8447265625,{"$f":"FOURIER!M1675","v":0},{"$f":"FOURIER!N1675","v":0}]
[null,null,null,null,null,null,1674,40.869140625,{"$f":"FOURIER!M1676","v":0},{"$f":"FOURIER!N1676","v":0}]
[null,null,null,null,null,null,1675,40.8935546875,{"$f":"FOURIER!M1677","v":0},{"$f":"FOURIER!N1677","v":0}]
[null,null,null,null,null,null,1676,40.91796875,{"$f":"FOURIER!M1678","v":0},{"$f":"FOURIER!N1678","v":0}]
[null,null,null,null,null,null,1677,40.9423828125,{"$f":"FOURIER!M1679","v":0},{"$f":"FOURIER!N1679","v":0}]
[null,null,null,null,null,null,1678,40.966796875,{"$f":"FOURIER!M1680","v":0},{"$f":"FOURIER!N1680","v":0}]
[null,null,null,null,null,null,1679,40.9912109375,{"$f":"FOURIER!M1681","v":0},{"$f":"FOURIER!N1681","v":0}]
[null,null,null,null,null,null,1680,41.015625,{"$f":"FOURIER!M1682","v":0},{"$f":"FOURIER!N1682","v":0}]
[null,null,null,null,null,null,1681,41.0400390625,{"$f":"FOURIER!M1683","v":0},{"$f":"FOURIER!N1683","v":0}]
[null,null,null,null,null,null,1682,41.064453125,{"$f":"FOURIER!M1684","v":0},{"$f":"FOURIER!N1684","v":0}]
[null,null,null,null,null,null,1683,41.0888671875,{"$f":"FOURIER!M1685","v":0},{"$f":"FOURIER!N1685","v":0}]
[null,null,null,null,null,null,1684,41.11328125,{"$f":"FOURIER!M1686","v":0},{"$f":"FOURIER!N1686","v":0}]
[null,null,null,null,null,null,1685,41.1376953125,{"$f":"FOURIER!M1687","v":0},{"$f":"FOURIER!N1687","v":0}]
[null,null,null,null,null,null,1686,41.162109375,{"$f":"FOURIER!M1688","v":0},{"$f":"FOURIER!N1688","v":0}]
[null,null,null,null,null,null,1687,41.1865234375,{"$f":"FOURIER!M1689","v":0},{"$f":"FOURIER!N1689","v":0}]
[null,null,null,null,null,null,1688,41.2109375,{"$f":"FOURIER!M1690","v":0},{"$f":"FOURIER!N1690","v":0}]
[null,null,null,null,null,null,1689,41.2353515625,{"$f":"FOURIER!M1691","v":0},{"$f":"FOURIER!N1691","v":0}]
[null,null,null,null,null,null,1690,41.259765625,{"$f":"FOURIER!M1692","v":0},{"$f":"FOURIER!N1692","v":0}]
[null,null,null,null,null,null,1691,41.2841796875,{"$f":"FOURIER!M1693","v":0},{"$f":"FOURIER!N1693","v":0}]
[null,null,null,null,null,null,1692,41.30859375,{"$f":"FOURIER!M1694","v":0},{"$f":"FOURIER!N1694","v":0}]
[null,null,null,null,null,null,1693,41.3330078125,{"$f":"FOURIER!M1695","v":0},{"$f":"FOURIER!N1695","v":0}]
[null,null,null,null,null,null,1694,41.357421875,{"$f":"FOURIER!M1696","v":0},{"$f":"FOURIER!N1696","v":0}]
[null,null,null,null,null,null,1695,41.3818359375,{"$f":"FOURIER!M1697","v":0},{"$f":"FOURIER!N1697","v":0}]
[null,null,null,null,null,null,1696,41.40625,{"$f":"FOURIER!M1698","v":0},{"$f":"FOURIER!N1698","v":0}]
[null,null,null,null,null,null,1697,41.4306640625,{"$f":"FOURIER!M1699","v":0},{"$f":"FOURIER!N1699","v":0}]
[null,null,null,null,null,null,1698,41.455078125,{"$f":"FOURIER!M1700","v":0},{"$f":"FOURIER!N1700","v":0}]
[null,null,null,null,null,null,1699,41.4794921875,{"$f":"FOURIER!M1701","v":0},{"$f":"FOURIER!N1701","v":0}]
[null,null,null,null,null,null,1700,41.50390625,{"$f":"FOURIER!M1702","v":0},{"$f":"FOURIER!N1702","v":0}]
[null,null,null,null,null,null,1701,41.5283203125,{"$f":"FOURIER!M1703","v":0},{"$f":"FOURIER!N1703","v":0}]
[null,null,null,null,null,null,1702,41.552734375,{"$f":"FOURIER!M1704","v":0},{"$f":"FOURIER!N1704","v":0}]
[null,null,null,null,null,null,1703,41.5771484375,{"$f":"FOURIER!M1705","v":0},{"$f":"FOURIER!N1705","v":0}]
[null,null,null,null,null,null,1704,41.6015625,{"$f":"FOURIER!M1706","v":0},{"$f":"FOURIER!N1706","v":0}]
[null,null,null,null,null,null,1705,41.6259765625,{"$f":"FOURIER!M1707","v":0},{"$f":"FOURIER!N1707","v":0}]
[null,null,null,null,null,null,1706,41.650390625,{"$f":"FOURIER!M1708","v":0},{"$f":"FOURIER!N1708","v":0}]
[null,null,null,null,null,null,1707,41.6748046875,{"$f":"FOURIER!M1709","v":0},{"$f":"FOURIER!N1709","v":0}]
[null,null,null,null,null,null,1708,41.69921875,{"$f":"FOURIER!M1710","v":0},{"$f":"FOURIER!N1710","v":0}]
[null,null,null,null,null,null,1709,41.7236328125,{"$f":"FOURIER!M1711","v":0},{"$f":"FOURIER!N1711","v":0}]
[null,null,null,null,null,null,1710,41.748046875,{"$f":"FOURIER!M1712","v":0},{"$f":"FOURIER!N1712","v":0}]
[null,null,null,null,null,null,1711,41.7724609375,{"$f":"FOURIER!M1713","v":0},{"$f":"FOURIER!N1713","v":0}]
[null,null,null,null,null,null,1712,41.796875,{"$f":"FOURIER!M1714","v":0},{"$f":"FOURIER!N1714","v":0}]
[null,null,null,null,null,null,1713,41.8212890625,{"$f":"FOURIER!M1715","v":0},{"$f":"FOURIER!N1715","v":0}]
[null,null,null,null,null,null,1714,41.845703125,{"$f":"FOURIER!M1716","v":0},{"$f":"FOURIER!N1716","v":0}]
[null,null,null,null,null,null,1715,41.8701171875,{"$f":"FOURIER!M1717","v":0},{"$f":"FOURIER!N1717","v":0}]
[null,null,null,null,null,null,1716,41.89453125,{"$f":"FOURIER!M1718","v":0},{"$f":"FOURIER!N1718","v":0}]
[null,null,null,null,null,null,1717,41.9189453125,{"$f":"FOURIER!M1719","v":0},{"$f":"FOURIER!N1719","v":0}]
[null,null,null,null,null,null,1718,41.943359375,{"$f":"FOURIER!M1720","v":0},{"$f":"FOURIER!N1720","v":0}]
[null,null,null,null,null,null,1719,41.9677734375,{"$f":"FOURIER!M1721","v":0},{"$f":"FOURIER!N1721","v":0}]
[null,null,null,null,null,null,1720,41.9921875,{"$f":"FOURIER!M1722","v":0},{"$f":"FOURIER!N1722","v":0}]
[null,null,null,null,null,null,1721,42.0166015625,{"$f":"FOURIER!M1723","v":0},{"$f":"FOURIER!N1723","v":0}]
[null,null,null,null,null,null,1722,42.041015625,{"$f":"FOURIER!M1724","v":0},{"$f":"FOURIER!N1724","v":0}]
[null,null,null,null,null,null,1723,42.0654296875,{"$f":"FOURIER!M1725","v":0},{"$f":"FOURIER!N1725","v":0}]
[null,null,null,null,null,null,1724,42.08984375,{"$f":"FOURIER!M1726","v":0},{"$f":"FOURIER!N1726","v":0}]
[null,null,null,null,null,null,1725,42.1142578125,{"$f":"FOURIER!M1727","v":0},{"$f":"FOURIER!N1727","v":0}]
[null,null,null,null,null,null,1726,42.138671875,{"$f":"FOURIER!M1728","v":0},{"$f":"FOURIER!N1728","v":0}]
[null,null,null,null,null,null,1727,42.1630859375,{"$f":"FOURIER!M1729","v":0},{"$f":"FOURIER!N1729","v":0}]
[null,null,null,null,null,null,1728,{"$f":"(G1730)/B$9/B$6","v":42.1875},{"$f":"FOURIER!M1730","v":0},{"$f":"FOURIER!N1730","v":0}]
[null,null,null,null,null,null,1729,42.2119140625,{"$f":"FOURIER!M1731","v":0},{"$f":"FOURIER!N1731","v":0}]
[null,null,null,null,null,null,1730,42.236328125,{"$f":"FOURIER!M1732","v":0},{"$f":"FOURIER!N1732","v":0}]
[null,null,null,null,null,null,1731,42.2607421875,{"$f":"FOURIER!M1733","v":0},{"$f":"FOURIER!N1733","v":0}]
[null,null,null,null,null,null,1732,42.28515625,{"$f":"FOURIER!M1734","v":0},{"$f":"FOURIER!N1734","v":0}]
[null,null,null,null,null,null,1733,42.3095703125,{"$f":"FOURIER!M1735","v":0},{"$f":"FOURIER!N1735","v":0}]
[null,null,null,null,null,null,1734,42.333984375,{"$f":"FOURIER!M1736","v":0},{"$f":"FOURIER!N1736","v":0}]
[null,null,null,null,null,null,1735,42.3583984375,{"$f":"FOURIER!M1737","v":0},{"$f":"FOURIER!N1737","v":0}]
[null,null,null,null,null,null,1736,42.3828125,{"$f":"FOURIER!M1738","v":0},{"$f":"FOURIER!N1738","v":0}]
[null,null,null,null,null,null,1737,42.4072265625,{"$f":"FOURIER!M1739","v":0},{"$f":"FOURIER!N1739","v":0}]
[null,null,null,null,null,null,1738,42.431640625,{"$f":"FOURIER!M1740","v":0},{"$f":"FOURIER!N1740","v":0}]
[null,null,null,null,null,null,1739,42.4560546875,{"$f":"FOURIER!M1741","v":0},{"$f":"FOURIER!N1741","v":0}]
[null,null,null,null,null,null,1740,42.48046875,{"$f":"FOURIER!M1742","v":0},{"$f":"FOURIER!N1742","v":0}]
[null,null,null,null,null,null,1741,42.5048828125,{"$f":"FOURIER!M1743","v":0},{"$f":"FOURIER!N1743","v":0}]
[null,null,null,null,null,null,1742,42.529296875,{"$f":"FOURIER!M1744","v":0},{"$f":"FOURIER!N1744","v":0}]
[null,null,null,null,null,null,1743,42.5537109375,{"$f":"FOURIER!M1745","v":0},{"$f":"FOURIER!N1745","v":0}]
[null,null,null,null,null,null,1744,42.578125,{"$f":"FOURIER!M1746","v":0},{"$f":"FOURIER!N1746","v":0}]
[null,null,null,null,null,null,1745,42.6025390625,{"$f":"FOURIER!M1747","v":0},{"$f":"FOURIER!N1747","v":0}]
[null,null,null,null,null,null,1746,42.626953125,{"$f":"FOURIER!M1748","v":0},{"$f":"FOURIER!N1748","v":0}]
[null,null,null,null,null,null,1747,42.6513671875,{"$f":"FOURIER!M1749","v":0},{"$f":"FOURIER!N1749","v":0}]
[null,null,null,null,null,null,1748,42.67578125,{"$f":"FOURIER!M1750","v":0},{"$f":"FOURIER!N1750","v":0}]
[null,null,null,null,null,null,1749,42.7001953125,{"$f":"FOURIER!M1751","v":0},{"$f":"FOURIER!N1751","v":0}]
[null,null,null,null,null,null,1750,42.724609375,{"$f":"FOURIER!M1752","v":0},{"$f":"FOURIER!N1752","v":0}]
[null,null,null,null,null,null,1751,42.7490234375,{"$f":"FOURIER!M1753","v":0},{"$f":"FOURIER!N1753","v":0}]
[null,null,null,null,null,null,1752,42.7734375,{"$f":"FOURIER!M1754","v":0},{"$f":"FOURIER!N1754","v":0}]
[null,null,null,null,null,null,1753,42.7978515625,{"$f":"FOURIER!M1755","v":0},{"$f":"FOURIER!N1755","v":0}]
[null,null,null,null,null,null,1754,42.822265625,{"$f":"FOURIER!M1756","v":0},{"$f":"FOURIER!N1756","v":0}]
[null,null,null,null,null,null,1755,42.8466796875,{"$f":"FOURIER!M1757","v":0},{"$f":"FOURIER!N1757","v":0}]
[null,null,null,null,null,null,1756,42.87109375,{"$f":"FOURIER!M1758","v":0},{"$f":"FOURIER!N1758","v":0}]
[null,null,null,null,null,null,1757,42.8955078125,{"$f":"FOURIER!M1759","v":0},{"$f":"FOURIER!N1759","v":0}]
[null,null,null,null,null,null,1758,42.919921875,{"$f":"FOURIER!M1760","v":0},{"$f":"FOURIER!N1760","v":0}]
[null,null,null,null,null,null,1759,42.9443359375,{"$f":"FOURIER!M1761","v":0},{"$f":"FOURIER!N1761","v":0}]
[null,null,null,null,null,null,1760,42.96875,{"$f":"FOURIER!M1762","v":0},{"$f":"FOURIER!N1762","v":0}]
[null,null,null,null,null,null,1761,42.9931640625,{"$f":"FOURIER!M1763","v":0},{"$f":"FOURIER!N1763","v":0}]
[null,null,null,null,null,null,1762,43.017578125,{"$f":"FOURIER!M1764","v":0},{"$f":"FOURIER!N1764","v":0}]
[null,null,null,null,null,null,1763,43.0419921875,{"$f":"FOURIER!M1765","v":0},{"$f":"FOURIER!N1765","v":0}]
[null,null,null,null,null,null,1764,43.06640625,{"$f":"FOURIER!M1766","v":0},{"$f":"FOURIER!N1766","v":0}]
[null,null,null,null,null,null,1765,43.0908203125,{"$f":"FOURIER!M1767","v":0},{"$f":"FOURIER!N1767","v":0}]
[null,null,null,null,null,null,1766,43.115234375,{"$f":"FOURIER!M1768","v":0},{"$f":"FOURIER!N1768","v":0}]
[null,null,null,null,null,null,1767,43.1396484375,{"$f":"FOURIER!M1769","v":0},{"$f":"FOURIER!N1769","v":0}]
[null,null,null,null,null,null,1768,43.1640625,{"$f":"FOURIER!M1770","v":0},{"$f":"FOURIER!N1770","v":0}]
[null,null,null,null,null,null,1769,43.1884765625,{"$f":"FOURIER!M1771","v":0},{"$f":"FOURIER!N1771","v":0}]
[null,null,null,null,null,null,1770,43.212890625,{"$f":"FOURIER!M1772","v":0},{"$f":"FOURIER!N1772","v":0}]
[null,null,null,null,null,null,1771,43.2373046875,{"$f":"FOURIER!M1773","v":0},{"$f":"FOURIER!N1773","v":0}]
[null,null,null,null,null,null,1772,43.26171875,{"$f":"FOURIER!M1774","v":0},{"$f":"FOURIER!N1774","v":0}]
[null,null,null,null,null,null,1773,43.2861328125,{"$f":"FOURIER!M1775","v":0},{"$f":"FOURIER!N1775","v":0}]
[null,null,null,null,null,null,1774,43.310546875,{"$f":"FOURIER!M1776","v":0},{"$f":"FOURIER!N1776","v":0}]
[null,null,null,null,null,null,1775,43.3349609375,{"$f":"FOURIER!M1777","v":0},{"$f":"FOURIER!N1777","v":0}]
[null,null,null,null,null,null,1776,43.359375,{"$f":"FOURIER!M1778","v":0},{"$f":"FOURIER!N1778","v":0}]
[null,null,null,null,null,null,1777,43.3837890625,{"$f":"FOURIER!M1779","v":0},{"$f":"FOURIER!N1779","v":0}]
[null,null,null,null,null,null,1778,43.408203125,{"$f":"FOURIER!M1780","v":0},{"$f":"FOURIER!N1780","v":0}]
[null,null,null,null,null,null,1779,43.4326171875,{"$f":"FOURIER!M1781","v":0},{"$f":"FOURIER!N1781","v":0}]
[null,null,null,null,null,null,1780,43.45703125,{"$f":"FOURIER!M1782","v":0},{"$f":"FOURIER!N1782","v":0}]
[null,null,null,null,null,null,1781,43.4814453125,{"$f":"FOURIER!M1783","v":0},{"$f":"FOURIER!N1783","v":0}]
[null,null,null,null,null,null,1782,43.505859375,{"$f":"FOURIER!M1784","v":0},{"$f":"FOURIER!N1784","v":0}]
[null,null,null,null,null,null,1783,43.5302734375,{"$f":"FOURIER!M1785","v":0},{"$f":"FOURIER!N1785","v":0}]
[null,null,null,null,null,null,1784,43.5546875,{"$f":"FOURIER!M1786","v":0},{"$f":"FOURIER!N1786","v":0}]
[null,null,null,null,null,null,1785,43.5791015625,{"$f":"FOURIER!M1787","v":0},{"$f":"FOURIER!N1787","v":0}]
[null,null,null,null,null,null,1786,43.603515625,{"$f":"FOURIER!M1788","v":0},{"$f":"FOURIER!N1788","v":0}]
[null,null,null,null,null,null,1787,43.6279296875,{"$f":"FOURIER!M1789","v":0},{"$f":"FOURIER!N1789","v":0}]
[null,null,null,null,null,null,1788,43.65234375,{"$f":"FOURIER!M1790","v":0},{"$f":"FOURIER!N1790","v":0}]
[null,null,null,null,null,null,1789,43.6767578125,{"$f":"FOURIER!M1791","v":0},{"$f":"FOURIER!N1791","v":0}]
[null,null,null,null,null,null,1790,43.701171875,{"$f":"FOURIER!M1792","v":0},{"$f":"FOURIER!N1792","v":0}]
[null,null,null,null,null,null,1791,43.7255859375,{"$f":"FOURIER!M1793","v":0},{"$f":"FOURIER!N1793","v":0}]
[null,null,null,null,null,null,1792,{"$f":"(G1794)/B$9/B$6","v":43.75},{"$f":"FOURIER!M1794","v":0},{"$f":"FOURIER!N1794","v":0}]
[null,null,null,null,null,null,1793,43.7744140625,{"$f":"FOURIER!M1795","v":0},{"$f":"FOURIER!N1795","v":0}]
[null,null,null,null,null,null,1794,43.798828125,{"$f":"FOURIER!M1796","v":0},{"$f":"FOURIER!N1796","v":0}]
[null,null,null,null,null,null,1795,43.8232421875,{"$f":"FOURIER!M1797","v":0},{"$f":"FOURIER!N1797","v":0}]
[null,null,null,null,null,null,1796,43.84765625,{"$f":"FOURIER!M1798","v":0},{"$f":"FOURIER!N1798","v":0}]
[null,null,null,null,null,null,1797,43.8720703125,{"$f":"FOURIER!M1799","v":0},{"$f":"FOURIER!N1799","v":0}]
[null,null,null,null,null,null,1798,43.896484375,{"$f":"FOURIER!M1800","v":0},{"$f":"FOURIER!N1800","v":0}]
[null,null,null,null,null,null,1799,43.9208984375,{"$f":"FOURIER!M1801","v":0},{"$f":"FOURIER!N1801","v":0}]
[null,null,null,null,null,null,1800,43.9453125,{"$f":"FOURIER!M1802","v":0},{"$f":"FOURIER!N1802","v":0}]
[null,null,null,null,null,null,1801,43.9697265625,{"$f":"FOURIER!M1803","v":0},{"$f":"FOURIER!N1803","v":0}]
[null,null,null,null,null,null,1802,43.994140625,{"$f":"FOURIER!M1804","v":0},{"$f":"FOURIER!N1804","v":0}]
[null,null,null,null,null,null,1803,44.0185546875,{"$f":"FOURIER!M1805","v":0},{"$f":"FOURIER!N1805","v":0}]
[null,null,null,null,null,null,1804,44.04296875,{"$f":"FOURIER!M1806","v":0},{"$f":"FOURIER!N1806","v":0}]
[null,null,null,null,null,null,1805,44.0673828125,{"$f":"FOURIER!M1807","v":0},{"$f":"FOURIER!N1807","v":0}]
[null,null,null,null,null,null,1806,44.091796875,{"$f":"FOURIER!M1808","v":0},{"$f":"FOURIER!N1808","v":0}]
[null,null,null,null,null,null,1807,44.1162109375,{"$f":"FOURIER!M1809","v":0},{"$f":"FOURIER!N1809","v":0}]
[null,null,null,null,null,null,1808,44.140625,{"$f":"FOURIER!M1810","v":0},{"$f":"FOURIER!N1810","v":0}]
[null,null,null,null,null,null,1809,44.1650390625,{"$f":"FOURIER!M1811","v":0},{"$f":"FOURIER!N1811","v":0}]
[null,null,null,null,null,null,1810,44.189453125,{"$f":"FOURIER!M1812","v":0},{"$f":"FOURIER!N1812","v":0}]
[null,null,null,null,null,null,1811,44.2138671875,{"$f":"FOURIER!M1813","v":0},{"$f":"FOURIER!N1813","v":0}]
[null,null,null,null,null,null,1812,44.23828125,{"$f":"FOURIER!M1814","v":0},{"$f":"FOURIER!N1814","v":0}]
[null,null,null,null,null,null,1813,44.2626953125,{"$f":"FOURIER!M1815","v":0},{"$f":"FOURIER!N1815","v":0}]
[null,null,null,null,null,null,1814,44.287109375,{"$f":"FOURIER!M1816","v":0},{"$f":"FOURIER!N1816","v":0}]
[null,null,null,null,null,null,1815,44.3115234375,{"$f":"FOURIER!M1817","v":0},{"$f":"FOURIER!N1817","v":0}]
[null,null,null,null,null,null,1816,44.3359375,{"$f":"FOURIER!M1818","v":0},{"$f":"FOURIER!N1818","v":0}]
[null,null,null,null,null,null,1817,44.3603515625,{"$f":"FOURIER!M1819","v":0},{"$f":"FOURIER!N1819","v":0}]
[null,null,null,null,null,null,1818,44.384765625,{"$f":"FOURIER!M1820","v":0},{"$f":"FOURIER!N1820","v":0}]
[null,null,null,null,null,null,1819,44.4091796875,{"$f":"FOURIER!M1821","v":0},{"$f":"FOURIER!N1821","v":0}]
[null,null,null,null,null,null,1820,44.43359375,{"$f":"FOURIER!M1822","v":0},{"$f":"FOURIER!N1822","v":0}]
[null,null,null,null,null,null,1821,44.4580078125,{"$f":"FOURIER!M1823","v":0},{"$f":"FOURIER!N1823","v":0}]
[null,null,null,null,null,null,1822,44.482421875,{"$f":"FOURIER!M1824","v":0},{"$f":"FOURIER!N1824","v":0}]
[null,null,null,null,null,null,1823,44.5068359375,{"$f":"FOURIER!M1825","v":0},{"$f":"FOURIER!N1825","v":0}]
[null,null,null,null,null,null,1824,44.53125,{"$f":"FOURIER!M1826","v":0},{"$f":"FOURIER!N1826","v":0}]
[null,null,null,null,null,null,1825,44.5556640625,{"$f":"FOURIER!M1827","v":0},{"$f":"FOURIER!N1827","v":0}]
[null,null,null,null,null,null,1826,44.580078125,{"$f":"FOURIER!M1828","v":0},{"$f":"FOURIER!N1828","v":0}]
[null,null,null,null,null,null,1827,44.6044921875,{"$f":"FOURIER!M1829","v":0},{"$f":"FOURIER!N1829","v":0}]
[null,null,null,null,null,null,1828,44.62890625,{"$f":"FOURIER!M1830","v":0},{"$f":"FOURIER!N1830","v":0}]
[null,null,null,null,null,null,1829,44.6533203125,{"$f":"FOURIER!M1831","v":0},{"$f":"FOURIER!N1831","v":0}]
[null,null,null,null,null,null,1830,44.677734375,{"$f":"FOURIER!M1832","v":0},{"$f":"FOURIER!N1832","v":0}]
[null,null,null,null,null,null,1831,44.7021484375,{"$f":"FOURIER!M1833","v":0},{"$f":"FOURIER!N1833","v":0}]
[null,null,null,null,null,null,1832,44.7265625,{"$f":"FOURIER!M1834","v":0},{"$f":"FOURIER!N1834","v":0}]
[null,null,null,null,null,null,1833,44.7509765625,{"$f":"FOURIER!M1835","v":0},{"$f":"FOURIER!N1835","v":0}]
[null,null,null,null,null,null,1834,44.775390625,{"$f":"FOURIER!M1836","v":0},{"$f":"FOURIER!N1836","v":0}]
[null,null,null,null,null,null,1835,44.7998046875,{"$f":"FOURIER!M1837","v":0},{"$f":"FOURIER!N1837","v":0}]
[null,null,null,null,null,null,1836,44.82421875,{"$f":"FOURIER!M1838","v":0},{"$f":"FOURIER!N1838","v":0}]
[null,null,null,null,null,null,1837,44.8486328125,{"$f":"FOURIER!M1839","v":0},{"$f":"FOURIER!N1839","v":0}]
[null,null,null,null,null,null,1838,44.873046875,{"$f":"FOURIER!M1840","v":0},{"$f":"FOURIER!N1840","v":0}]
[null,null,null,null,null,null,1839,44.8974609375,{"$f":"FOURIER!M1841","v":0},{"$f":"FOURIER!N1841","v":0}]
[null,null,null,null,null,null,1840,44.921875,{"$f":"FOURIER!M1842","v":0},{"$f":"FOURIER!N1842","v":0}]
[null,null,null,null,null,null,1841,44.9462890625,{"$f":"FOURIER!M1843","v":0},{"$f":"FOURIER!N1843","v":0}]
[null,null,null,null,null,null,1842,44.970703125,{"$f":"FOURIER!M1844","v":0},{"$f":"FOURIER!N1844","v":0}]
[null,null,null,null,null,null,1843,44.9951171875,{"$f":"FOURIER!M1845","v":0},{"$f":"FOURIER!N1845","v":0}]
[null,null,null,null,null,null,1844,45.01953125,{"$f":"FOURIER!M1846","v":0},{"$f":"FOURIER!N1846","v":0}]
[null,null,null,null,null,null,1845,45.0439453125,{"$f":"FOURIER!M1847","v":0},{"$f":"FOURIER!N1847","v":0}]
[null,null,null,null,null,null,1846,45.068359375,{"$f":"FOURIER!M1848","v":0},{"$f":"FOURIER!N1848","v":0}]
[null,null,null,null,null,null,1847,45.0927734375,{"$f":"FOURIER!M1849","v":0},{"$f":"FOURIER!N1849","v":0}]
[null,null,null,null,null,null,1848,45.1171875,{"$f":"FOURIER!M1850","v":0},{"$f":"FOURIER!N1850","v":0}]
[null,null,null,null,null,null,1849,45.1416015625,{"$f":"FOURIER!M1851","v":0},{"$f":"FOURIER!N1851","v":0}]
[null,null,null,null,null,null,1850,45.166015625,{"$f":"FOURIER!M1852","v":0},{"$f":"FOURIER!N1852","v":0}]
[null,null,null,null,null,null,1851,45.1904296875,{"$f":"FOURIER!M1853","v":0},{"$f":"FOURIER!N1853","v":0}]
[null,null,null,null,null,null,1852,45.21484375,{"$f":"FOURIER!M1854","v":0},{"$f":"FOURIER!N1854","v":0}]
[null,null,null,null,null,null,1853,45.2392578125,{"$f":"FOURIER!M1855","v":0},{"$f":"FOURIER!N1855","v":0}]
[null,null,null,null,null,null,1854,45.263671875,{"$f":"FOURIER!M1856","v":0},{"$f":"FOURIER!N1856","v":0}]
[null,null,null,null,null,null,1855,45.2880859375,{"$f":"FOURIER!M1857","v":0},{"$f":"FOURIER!N1857","v":0}]
[null,null,null,null,null,null,1856,{"$f":"(G1858)/B$9/B$6","v":45.3125},{"$f":"FOURIER!M1858","v":0},{"$f":"FOURIER!N1858","v":0}]
[null,null,null,null,null,null,1857,45.3369140625,{"$f":"FOURIER!M1859","v":0},{"$f":"FOURIER!N1859","v":0}]
[null,null,null,null,null,null,1858,45.361328125,{"$f":"FOURIER!M1860","v":0},{"$f":"FOURIER!N1860","v":0}]
[null,null,null,null,null,null,1859,45.3857421875,{"$f":"FOURIER!M1861","v":0},{"$f":"FOURIER!N1861","v":0}]
[null,null,null,null,null,null,1860,45.41015625,{"$f":"FOURIER!M1862","v":0},{"$f":"FOURIER!N1862","v":0}]
[null,null,null,null,null,null,1861,45.4345703125,{"$f":"FOURIER!M1863","v":0},{"$f":"FOURIER!N1863","v":0}]
[null,null,null,null,null,null,1862,45.458984375,{"$f":"FOURIER!M1864","v":0},{"$f":"FOURIER!N1864","v":0}]
[null,null,null,null,null,null,1863,45.4833984375,{"$f":"FOURIER!M1865","v":0},{"$f":"FOURIER!N1865","v":0}]
[null,null,null,null,null,null,1864,45.5078125,{"$f":"FOURIER!M1866","v":0},{"$f":"FOURIER!N1866","v":0}]
[null,null,null,null,null,null,1865,45.5322265625,{"$f":"FOURIER!M1867","v":0},{"$f":"FOURIER!N1867","v":0}]
[null,null,null,null,null,null,1866,45.556640625,{"$f":"FOURIER!M1868","v":0},{"$f":"FOURIER!N1868","v":0}]
[null,null,null,null,null,null,1867,45.5810546875,{"$f":"FOURIER!M1869","v":0},{"$f":"FOURIER!N1869","v":0}]
[null,null,null,null,null,null,1868,45.60546875,{"$f":"FOURIER!M1870","v":0},{"$f":"FOURIER!N1870","v":0}]
[null,null,null,null,null,null,1869,45.6298828125,{"$f":"FOURIER!M1871","v":0},{"$f":"FOURIER!N1871","v":0}]
[null,null,null,null,null,null,1870,45.654296875,{"$f":"FOURIER!M1872","v":0},{"$f":"FOURIER!N1872","v":0}]
[null,null,null,null,null,null,1871,45.6787109375,{"$f":"FOURIER!M1873","v":0},{"$f":"FOURIER!N1873","v":0}]
[null,null,null,null,null,null,1872,45.703125,{"$f":"FOURIER!M1874","v":0},{"$f":"FOURIER!N1874","v":0}]
[null,null,null,null,null,null,1873,45.7275390625,{"$f":"FOURIER!M1875","v":0},{"$f":"FOURIER!N1875","v":0}]
[null,null,null,null,null,null,1874,45.751953125,{"$f":"FOURIER!M1876","v":0},{"$f":"FOURIER!N1876","v":0}]
[null,null,null,null,null,null,1875,45.7763671875,{"$f":"FOURIER!M1877","v":0},{"$f":"FOURIER!N1877","v":0}]
[null,null,null,null,null,null,1876,45.80078125,{"$f":"FOURIER!M1878","v":0},{"$f":"FOURIER!N1878","v":0}]
[null,null,null,null,null,null,1877,45.8251953125,{"$f":"FOURIER!M1879","v":0},{"$f":"FOURIER!N1879","v":0}]
[null,null,null,null,null,null,1878,45.849609375,{"$f":"FOURIER!M1880","v":0},{"$f":"FOURIER!N1880","v":0}]
[null,null,null,null,null,null,1879,45.8740234375,{"$f":"FOURIER!M1881","v":0},{"$f":"FOURIER!N1881","v":0}]
[null,null,null,null,null,null,1880,45.8984375,{"$f":"FOURIER!M1882","v":0},{"$f":"FOURIER!N1882","v":0}]
[null,null,null,null,null,null,1881,45.9228515625,{"$f":"FOURIER!M1883","v":0},{"$f":"FOURIER!N1883","v":0}]
[null,null,null,null,null,null,1882,45.947265625,{"$f":"FOURIER!M1884","v":0},{"$f":"FOURIER!N1884","v":0}]
[null,null,null,null,null,null,1883,45.9716796875,{"$f":"FOURIER!M1885","v":0},{"$f":"FOURIER!N1885","v":0}]
[null,null,null,null,null,null,1884,45.99609375,{"$f":"FOURIER!M1886","v":0},{"$f":"FOURIER!N1886","v":0}]
[null,null,null,null,null,null,1885,46.0205078125,{"$f":"FOURIER!M1887","v":0},{"$f":"FOURIER!N1887","v":0}]
[null,null,null,null,null,null,1886,46.044921875,{"$f":"FOURIER!M1888","v":0},{"$f":"FOURIER!N1888","v":0}]
[null,null,null,null,null,null,1887,46.0693359375,{"$f":"FOURIER!M1889","v":0},{"$f":"FOURIER!N1889","v":0}]
[null,null,null,null,null,null,1888,46.09375,{"$f":"FOURIER!M1890","v":0},{"$f":"FOURIER!N1890","v":0}]
[null,null,null,null,null,null,1889,46.1181640625,{"$f":"FOURIER!M1891","v":0},{"$f":"FOURIER!N1891","v":0}]
[null,null,null,null,null,null,1890,46.142578125,{"$f":"FOURIER!M1892","v":0},{"$f":"FOURIER!N1892","v":0}]
[null,null,null,null,null,null,1891,46.1669921875,{"$f":"FOURIER!M1893","v":0},{"$f":"FOURIER!N1893","v":0}]
[null,null,null,null,null,null,1892,46.19140625,{"$f":"FOURIER!M1894","v":0},{"$f":"FOURIER!N1894","v":0}]
[null,null,null,null,null,null,1893,46.2158203125,{"$f":"FOURIER!M1895","v":0},{"$f":"FOURIER!N1895","v":0}]
[null,null,null,null,null,null,1894,46.240234375,{"$f":"FOURIER!M1896","v":0},{"$f":"FOURIER!N1896","v":0}]
[null,null,null,null,null,null,1895,46.2646484375,{"$f":"FOURIER!M1897","v":0},{"$f":"FOURIER!N1897","v":0}]
[null,null,null,null,null,null,1896,46.2890625,{"$f":"FOURIER!M1898","v":0},{"$f":"FOURIER!N1898","v":0}]
[null,null,null,null,null,null,1897,46.3134765625,{"$f":"FOURIER!M1899","v":0},{"$f":"FOURIER!N1899","v":0}]
[null,null,null,null,null,null,1898,46.337890625,{"$f":"FOURIER!M1900","v":0},{"$f":"FOURIER!N1900","v":0}]
[null,null,null,null,null,null,1899,46.3623046875,{"$f":"FOURIER!M1901","v":0},{"$f":"FOURIER!N1901","v":0}]
[null,null,null,null,null,null,1900,46.38671875,{"$f":"FOURIER!M1902","v":0},{"$f":"FOURIER!N1902","v":0}]
[null,null,null,null,null,null,1901,46.4111328125,{"$f":"FOURIER!M1903","v":0},{"$f":"FOURIER!N1903","v":0}]
[null,null,null,null,null,null,1902,46.435546875,{"$f":"FOURIER!M1904","v":0},{"$f":"FOURIER!N1904","v":0}]
[null,null,null,null,null,null,1903,46.4599609375,{"$f":"FOURIER!M1905","v":0},{"$f":"FOURIER!N1905","v":0}]
[null,null,null,null,null,null,1904,46.484375,{"$f":"FOURIER!M1906","v":0},{"$f":"FOURIER!N1906","v":0}]
[null,null,null,null,null,null,1905,46.5087890625,{"$f":"FOURIER!M1907","v":0},{"$f":"FOURIER!N1907","v":0}]
[null,null,null,null,null,null,1906,46.533203125,{"$f":"FOURIER!M1908","v":0},{"$f":"FOURIER!N1908","v":0}]
[null,null,null,null,null,null,1907,46.5576171875,{"$f":"FOURIER!M1909","v":0},{"$f":"FOURIER!N1909","v":0}]
[null,null,null,null,null,null,1908,46.58203125,{"$f":"FOURIER!M1910","v":0},{"$f":"FOURIER!N1910","v":0}]
[null,null,null,null,null,null,1909,46.6064453125,{"$f":"FOURIER!M1911","v":0},{"$f":"FOURIER!N1911","v":0}]
[null,null,null,null,null,null,1910,46.630859375,{"$f":"FOURIER!M1912","v":0},{"$f":"FOURIER!N1912","v":0}]
[null,null,null,null,null,null,1911,46.6552734375,{"$f":"FOURIER!M1913","v":0},{"$f":"FOURIER!N1913","v":0}]
[null,null,null,null,null,null,1912,46.6796875,{"$f":"FOURIER!M1914","v":0},{"$f":"FOURIER!N1914","v":0}]
[null,null,null,null,null,null,1913,46.7041015625,{"$f":"FOURIER!M1915","v":0},{"$f":"FOURIER!N1915","v":0}]
[null,null,null,null,null,null,1914,46.728515625,{"$f":"FOURIER!M1916","v":0},{"$f":"FOURIER!N1916","v":0}]
[null,null,null,null,null,null,1915,46.7529296875,{"$f":"FOURIER!M1917","v":0},{"$f":"FOURIER!N1917","v":0}]
[null,null,null,null,null,null,1916,46.77734375,{"$f":"FOURIER!M1918","v":0},{"$f":"FOURIER!N1918","v":0}]
[null,null,null,null,null,null,1917,46.8017578125,{"$f":"FOURIER!M1919","v":0},{"$f":"FOURIER!N1919","v":0}]
[null,null,null,null,null,null,1918,46.826171875,{"$f":"FOURIER!M1920","v":0},{"$f":"FOURIER!N1920","v":0}]
[null,null,null,null,null,null,1919,46.8505859375,{"$f":"FOURIER!M1921","v":0},{"$f":"FOURIER!N1921","v":0}]
[null,null,null,null,null,null,1920,{"$f":"(G1922)/B$9/B$6","v":46.875},{"$f":"FOURIER!M1922","v":0},{"$f":"FOURIER!N1922","v":0}]
[null,null,null,null,null,null,1921,46.8994140625,{"$f":"FOURIER!M1923","v":0},{"$f":"FOURIER!N1923","v":0}]
[null,null,null,null,null,null,1922,46.923828125,{"$f":"FOURIER!M1924","v":0},{"$f":"FOURIER!N1924","v":0}]
[null,null,null,null,null,null,1923,46.9482421875,{"$f":"FOURIER!M1925","v":0},{"$f":"FOURIER!N1925","v":0}]
[null,null,null,null,null,null,1924,46.97265625,{"$f":"FOURIER!M1926","v":0},{"$f":"FOURIER!N1926","v":0}]
[null,null,null,null,null,null,1925,46.9970703125,{"$f":"FOURIER!M1927","v":0},{"$f":"FOURIER!N1927","v":0}]
[null,null,null,null,null,null,1926,47.021484375,{"$f":"FOURIER!M1928","v":0},{"$f":"FOURIER!N1928","v":0}]
[null,null,null,null,null,null,1927,47.0458984375,{"$f":"FOURIER!M1929","v":0},{"$f":"FOURIER!N1929","v":0}]
[null,null,null,null,null,null,1928,47.0703125,{"$f":"FOURIER!M1930","v":0},{"$f":"FOURIER!N1930","v":0}]
[null,null,null,null,null,null,1929,47.0947265625,{"$f":"FOURIER!M1931","v":0},{"$f":"FOURIER!N1931","v":0}]
[null,null,null,null,null,null,1930,47.119140625,{"$f":"FOURIER!M1932","v":0},{"$f":"FOURIER!N1932","v":0}]
[null,null,null,null,null,null,1931,47.1435546875,{"$f":"FOURIER!M1933","v":0},{"$f":"FOURIER!N1933","v":0}]
[null,null,null,null,null,null,1932,47.16796875,{"$f":"FOURIER!M1934","v":0},{"$f":"FOURIER!N1934","v":0}]
[null,null,null,null,null,null,1933,47.1923828125,{"$f":"FOURIER!M1935","v":0},{"$f":"FOURIER!N1935","v":0}]
[null,null,null,null,null,null,1934,47.216796875,{"$f":"FOURIER!M1936","v":0},{"$f":"FOURIER!N1936","v":0}]
[null,null,null,null,null,null,1935,47.2412109375,{"$f":"FOURIER!M1937","v":0},{"$f":"FOURIER!N1937","v":0}]
[null,null,null,null,null,null,1936,47.265625,{"$f":"FOURIER!M1938","v":0},{"$f":"FOURIER!N1938","v":0}]
[null,null,null,null,null,null,1937,47.2900390625,{"$f":"FOURIER!M1939","v":0},{"$f":"FOURIER!N1939","v":0}]
[null,null,null,null,null,null,1938,47.314453125,{"$f":"FOURIER!M1940","v":0},{"$f":"FOURIER!N1940","v":0}]
[null,null,null,null,null,null,1939,47.3388671875,{"$f":"FOURIER!M1941","v":0},{"$f":"FOURIER!N1941","v":0}]
[null,null,null,null,null,null,1940,47.36328125,{"$f":"FOURIER!M1942","v":0},{"$f":"FOURIER!N1942","v":0}]
[null,null,null,null,null,null,1941,47.3876953125,{"$f":"FOURIER!M1943","v":0},{"$f":"FOURIER!N1943","v":0}]
[null,null,null,null,null,null,1942,47.412109375,{"$f":"FOURIER!M1944","v":0},{"$f":"FOURIER!N1944","v":0}]
[null,null,null,null,null,null,1943,47.4365234375,{"$f":"FOURIER!M1945","v":0},{"$f":"FOURIER!N1945","v":0}]
[null,null,null,null,null,null,1944,47.4609375,{"$f":"FOURIER!M1946","v":0},{"$f":"FOURIER!N1946","v":0}]
[null,null,null,null,null,null,1945,47.4853515625,{"$f":"FOURIER!M1947","v":0},{"$f":"FOURIER!N1947","v":0}]
[null,null,null,null,null,null,1946,47.509765625,{"$f":"FOURIER!M1948","v":0},{"$f":"FOURIER!N1948","v":0}]
[null,null,null,null,null,null,1947,47.5341796875,{"$f":"FOURIER!M1949","v":0},{"$f":"FOURIER!N1949","v":0}]
[null,null,null,null,null,null,1948,47.55859375,{"$f":"FOURIER!M1950","v":0},{"$f":"FOURIER!N1950","v":0}]
[null,null,null,null,null,null,1949,47.5830078125,{"$f":"FOURIER!M1951","v":0},{"$f":"FOURIER!N1951","v":0}]
[null,null,null,null,null,null,1950,47.607421875,{"$f":"FOURIER!M1952","v":0},{"$f":"FOURIER!N1952","v":0}]
[null,null,null,null,null,null,1951,47.6318359375,{"$f":"FOURIER!M1953","v":0},{"$f":"FOURIER!N1953","v":0}]
[null,null,null,null,null,null,1952,47.65625,{"$f":"FOURIER!M1954","v":0},{"$f":"FOURIER!N1954","v":0}]
[null,null,null,null,null,null,1953,47.6806640625,{"$f":"FOURIER!M1955","v":0},{"$f":"FOURIER!N1955","v":0}]
[null,null,null,null,null,null,1954,47.705078125,{"$f":"FOURIER!M1956","v":0},{"$f":"FOURIER!N1956","v":0}]
[null,null,null,null,null,null,1955,47.7294921875,{"$f":"FOURIER!M1957","v":0},{"$f":"FOURIER!N1957","v":0}]
[null,null,null,null,null,null,1956,47.75390625,{"$f":"FOURIER!M1958","v":0},{"$f":"FOURIER!N1958","v":0}]
[null,null,null,null,null,null,1957,47.7783203125,{"$f":"FOURIER!M1959","v":0},{"$f":"FOURIER!N1959","v":0}]
[null,null,null,null,null,null,1958,47.802734375,{"$f":"FOURIER!M1960","v":0},{"$f":"FOURIER!N1960","v":0}]
[null,null,null,null,null,null,1959,47.8271484375,{"$f":"FOURIER!M1961","v":0},{"$f":"FOURIER!N1961","v":0}]
[null,null,null,null,null,null,1960,47.8515625,{"$f":"FOURIER!M1962","v":0},{"$f":"FOURIER!N1962","v":0}]
[null,null,null,null,null,null,1961,47.8759765625,{"$f":"FOURIER!M1963","v":0},{"$f":"FOURIER!N1963","v":0}]
[null,null,null,null,null,null,1962,47.900390625,{"$f":"FOURIER!M1964","v":0},{"$f":"FOURIER!N1964","v":0}]
[null,null,null,null,null,null,1963,47.9248046875,{"$f":"FOURIER!M1965","v":0},{"$f":"FOURIER!N1965","v":0}]
[null,null,null,null,null,null,1964,47.94921875,{"$f":"FOURIER!M1966","v":0},{"$f":"FOURIER!N1966","v":0}]
[null,null,null,null,null,null,1965,47.9736328125,{"$f":"FOURIER!M1967","v":0},{"$f":"FOURIER!N1967","v":0}]
[null,null,null,null,null,null,1966,47.998046875,{"$f":"FOURIER!M1968","v":0},{"$f":"FOURIER!N1968","v":0}]
[null,null,null,null,null,null,1967,48.0224609375,{"$f":"FOURIER!M1969","v":0},{"$f":"FOURIER!N1969","v":0}]
[null,null,null,null,null,null,1968,48.046875,{"$f":"FOURIER!M1970","v":0},{"$f":"FOURIER!N1970","v":0}]
[null,null,null,null,null,null,1969,48.0712890625,{"$f":"FOURIER!M1971","v":0},{"$f":"FOURIER!N1971","v":0}]
[null,null,null,null,null,null,1970,48.095703125,{"$f":"FOURIER!M1972","v":0},{"$f":"FOURIER!N1972","v":0}]
[null,null,null,null,null,null,1971,48.1201171875,{"$f":"FOURIER!M1973","v":0},{"$f":"FOURIER!N1973","v":0}]
[null,null,null,null,null,null,1972,48.14453125,{"$f":"FOURIER!M1974","v":0},{"$f":"FOURIER!N1974","v":0}]
[null,null,null,null,null,null,1973,48.1689453125,{"$f":"FOURIER!M1975","v":0},{"$f":"FOURIER!N1975","v":0}]
[null,null,null,null,null,null,1974,48.193359375,{"$f":"FOURIER!M1976","v":0},{"$f":"FOURIER!N1976","v":0}]
[null,null,null,null,null,null,1975,48.2177734375,{"$f":"FOURIER!M1977","v":0},{"$f":"FOURIER!N1977","v":0}]
[null,null,null,null,null,null,1976,48.2421875,{"$f":"FOURIER!M1978","v":0},{"$f":"FOURIER!N1978","v":0}]
[null,null,null,null,null,null,1977,48.2666015625,{"$f":"FOURIER!M1979","v":0},{"$f":"FOURIER!N1979","v":0}]
[null,null,null,null,null,null,1978,48.291015625,{"$f":"FOURIER!M1980","v":0},{"$f":"FOURIER!N1980","v":0}]
[null,null,null,null,null,null,1979,48.3154296875,{"$f":"FOURIER!M1981","v":0},{"$f":"FOURIER!N1981","v":0}]
[null,null,null,null,null,null,1980,48.33984375,{"$f":"FOURIER!M1982","v":0},{"$f":"FOURIER!N1982","v":0}]
[null,null,null,null,null,null,1981,48.3642578125,{"$f":"FOURIER!M1983","v":0},{"$f":"FOURIER!N1983","v":0}]
[null,null,null,null,null,null,1982,48.388671875,{"$f":"FOURIER!M1984","v":0},{"$f":"FOURIER!N1984","v":0}]
[null,null,null,null,null,null,1983,48.4130859375,{"$f":"FOURIER!M1985","v":0},{"$f":"FOURIER!N1985","v":0}]
[null,null,null,null,null,null,1984,{"$f":"(G1986)/B$9/B$6","v":48.4375},{"$f":"FOURIER!M1986","v":0},{"$f":"FOURIER!N1986","v":0}]
[null,null,null,null,null,null,1985,48.4619140625,{"$f":"FOURIER!M1987","v":0},{"$f":"FOURIER!N1987","v":0}]
[null,null,null,null,null,null,1986,48.486328125,{"$f":"FOURIER!M1988","v":0},{"$f":"FOURIER!N1988","v":0}]
[null,null,null,null,null,null,1987,48.5107421875,{"$f":"FOURIER!M1989","v":0},{"$f":"FOURIER!N1989","v":0}]
[null,null,null,null,null,null,1988,48.53515625,{"$f":"FOURIER!M1990","v":0},{"$f":"FOURIER!N1990","v":0}]
[null,null,null,null,null,null,1989,48.5595703125,{"$f":"FOURIER!M1991","v":0},{"$f":"FOURIER!N1991","v":0}]
[null,null,null,null,null,null,1990,48.583984375,{"$f":"FOURIER!M1992","v":0},{"$f":"FOURIER!N1992","v":0}]
[null,null,null,null,null,null,1991,48.6083984375,{"$f":"FOURIER!M1993","v":0},{"$f":"FOURIER!N1993","v":0}]
[null,null,null,null,null,null,1992,48.6328125,{"$f":"FOURIER!M1994","v":0},{"$f":"FOURIER!N1994","v":0}]
[null,null,null,null,null,null,1993,48.6572265625,{"$f":"FOURIER!M1995","v":0},{"$f":"FOURIER!N1995","v":0}]
[null,null,null,null,null,null,1994,48.681640625,{"$f":"FOURIER!M1996","v":0},{"$f":"FOURIER!N1996","v":0}]
[null,null,null,null,null,null,1995,48.7060546875,{"$f":"FOURIER!M1997","v":0},{"$f":"FOURIER!N1997","v":0}]
[null,null,null,null,null,null,1996,48.73046875,{"$f":"FOURIER!M1998","v":0},{"$f":"FOURIER!N1998","v":0}]
[null,null,null,null,null,null,1997,48.7548828125,{"$f":"FOURIER!M1999","v":0},{"$f":"FOURIER!N1999","v":0}]
[null,null,null,null,null,null,1998,48.779296875,{"$f":"FOURIER!M2000","v":0},{"$f":"FOURIER!N2000","v":0}]
[null,null,null,null,null,null,1999,48.8037109375,{"$f":"FOURIER!M2001","v":0},{"$f":"FOURIER!N2001","v":0}]
[null,null,null,null,null,null,2000,48.828125,{"$f":"FOURIER!M2002","v":0},{"$f":"FOURIER!N2002","v":0}]
[null,null,null,null,null,null,2001,48.8525390625,{"$f":"FOURIER!M2003","v":0},{"$f":"FOURIER!N2003","v":0}]
[null,null,null,null,null,null,2002,48.876953125,{"$f":"FOURIER!M2004","v":0},{"$f":"FOURIER!N2004","v":0}]
[null,null,null,null,null,null,2003,48.9013671875,{"$f":"FOURIER!M2005","v":0},{"$f":"FOURIER!N2005","v":0}]
[null,null,null,null,null,null,2004,48.92578125,{"$f":"FOURIER!M2006","v":0},{"$f":"FOURIER!N2006","v":0}]
[null,null,null,null,null,null,2005,48.9501953125,{"$f":"FOURIER!M2007","v":0},{"$f":"FOURIER!N2007","v":0}]
[null,null,null,null,null,null,2006,48.974609375,{"$f":"FOURIER!M2008","v":0},{"$f":"FOURIER!N2008","v":0}]
[null,null,null,null,null,null,2007,48.9990234375,{"$f":"FOURIER!M2009","v":0},{"$f":"FOURIER!N2009","v":0}]
[null,null,null,null,null,null,2008,49.0234375,{"$f":"FOURIER!M2010","v":0},{"$f":"FOURIER!N2010","v":0}]
[null,null,null,null,null,null,2009,49.0478515625,{"$f":"FOURIER!M2011","v":0},{"$f":"FOURIER!N2011","v":0}]
[null,null,null,null,null,null,2010,49.072265625,{"$f":"FOURIER!M2012","v":0},{"$f":"FOURIER!N2012","v":0}]
[null,null,null,null,null,null,2011,49.0966796875,{"$f":"FOURIER!M2013","v":0},{"$f":"FOURIER!N2013","v":0}]
[null,null,null,null,null,null,2012,49.12109375,{"$f":"FOURIER!M2014","v":0},{"$f":"FOURIER!N2014","v":0}]
[null,null,null,null,null,null,2013,49.1455078125,{"$f":"FOURIER!M2015","v":0},{"$f":"FOURIER!N2015","v":0}]
[null,null,null,null,null,null,2014,49.169921875,{"$f":"FOURIER!M2016","v":0},{"$f":"FOURIER!N2016","v":0}]
[null,null,null,null,null,null,2015,49.1943359375,{"$f":"FOURIER!M2017","v":0},{"$f":"FOURIER!N2017","v":0}]
[null,null,null,null,null,null,2016,49.21875,{"$f":"FOURIER!M2018","v":0},{"$f":"FOURIER!N2018","v":0}]
[null,null,null,null,null,null,2017,49.2431640625,{"$f":"FOURIER!M2019","v":0},{"$f":"FOURIER!N2019","v":0}]
[null,null,null,null,null,null,2018,49.267578125,{"$f":"FOURIER!M2020","v":0},{"$f":"FOURIER!N2020","v":0}]
[null,null,null,null,null,null,2019,49.2919921875,{"$f":"FOURIER!M2021","v":0},{"$f":"FOURIER!N2021","v":0}]
[null,null,null,null,null,null,2020,49.31640625,{"$f":"FOURIER!M2022","v":0},{"$f":"FOURIER!N2022","v":0}]
[null,null,null,null,null,null,2021,49.3408203125,{"$f":"FOURIER!M2023","v":0},{"$f":"FOURIER!N2023","v":0}]
[null,null,null,null,null,null,2022,49.365234375,{"$f":"FOURIER!M2024","v":0},{"$f":"FOURIER!N2024","v":0}]
[null,null,null,null,null,null,2023,49.3896484375,{"$f":"FOURIER!M2025","v":0},{"$f":"FOURIER!N2025","v":0}]
[null,null,null,null,null,null,2024,49.4140625,{"$f":"FOURIER!M2026","v":0},{"$f":"FOURIER!N2026","v":0}]
[null,null,null,null,null,null,2025,49.4384765625,{"$f":"FOURIER!M2027","v":0},{"$f":"FOURIER!N2027","v":0}]
[null,null,null,null,null,null,2026,49.462890625,{"$f":"FOURIER!M2028","v":0},{"$f":"FOURIER!N2028","v":0}]
[null,null,null,null,null,null,2027,49.4873046875,{"$f":"FOURIER!M2029","v":0},{"$f":"FOURIER!N2029","v":0}]
[null,null,null,null,null,null,2028,49.51171875,{"$f":"FOURIER!M2030","v":0},{"$f":"FOURIER!N2030","v":0}]
[null,null,null,null,null,null,2029,49.5361328125,{"$f":"FOURIER!M2031","v":0},{"$f":"FOURIER!N2031","v":0}]
[null,null,null,null,null,null,2030,49.560546875,{"$f":"FOURIER!M2032","v":0},{"$f":"FOURIER!N2032","v":0}]
[null,null,null,null,null,null,2031,49.5849609375,{"$f":"FOURIER!M2033","v":0},{"$f":"FOURIER!N2033","v":0}]
[null,null,null,null,null,null,2032,49.609375,{"$f":"FOURIER!M2034","v":0},{"$f":"FOURIER!N2034","v":0}]
[null,null,null,null,null,null,2033,49.6337890625,{"$f":"FOURIER!M2035","v":0},{"$f":"FOURIER!N2035","v":0}]
[null,null,null,null,null,null,2034,49.658203125,{"$f":"FOURIER!M2036","v":0},{"$f":"FOURIER!N2036","v":0}]
[null,null,null,null,null,null,2035,49.6826171875,{"$f":"FOURIER!M2037","v":0},{"$f":"FOURIER!N2037","v":0}]
[null,null,null,null,null,null,2036,49.70703125,{"$f":"FOURIER!M2038","v":0},{"$f":"FOURIER!N2038","v":0}]
[null,null,null,null,null,null,2037,49.7314453125,{"$f":"FOURIER!M2039","v":0},{"$f":"FOURIER!N2039","v":0}]
[null,null,null,null,null,null,2038,49.755859375,{"$f":"FOURIER!M2040","v":0},{"$f":"FOURIER!N2040","v":0}]
[null,null,null,null,null,null,2039,49.7802734375,{"$f":"FOURIER!M2041","v":0},{"$f":"FOURIER!N2041","v":0}]
[null,null,null,null,null,null,2040,49.8046875,{"$f":"FOURIER!M2042","v":0},{"$f":"FOURIER!N2042","v":0}]
[null,null,null,null,null,null,2041,49.8291015625,{"$f":"FOURIER!M2043","v":0},{"$f":"FOURIER!N2043","v":0}]
[null,null,null,null,null,null,2042,49.853515625,{"$f":"FOURIER!M2044","v":0},{"$f":"FOURIER!N2044","v":0}]
[null,null,null,null,null,null,2043,49.8779296875,{"$f":"FOURIER!M2045","v":0},{"$f":"FOURIER!N2045","v":0}]
[null,null,null,null,null,null,2044,49.90234375,{"$f":"FOURIER!M2046","v":0},{"$f":"FOURIER!N2046","v":0}]
[null,null,null,null,null,null,2045,49.9267578125,{"$f":"FOURIER!M2047","v":0},{"$f":"FOURIER!N2047","v":0}]
[null,null,null,null,null,null,2046,49.951171875,{"$f":"FOURIER!M2048","v":0},{"$f":"FOURIER!N2048","v":0}]
[null,null,null,null,null,null,2047,49.9755859375,{"$f":"FOURIER!M2049","v":0},{"$f":"FOURIER!N2049","v":0}]

{"sheet":"RESPONSE","index":2,"n_rows":2049,"n_cols":46,"rows_kept":2049,"cut":false,"hidden":false,"merged":[]}
["MASS M",{"$f":"FOURIER!B1","v":1},"t",null,"FOURIER","k","TIME (Sec)","DDY,Real","FREQ. (Hz)","C(Rk)","C(Ik)",null,"FREQUENCY","ωk (Hz)","Hω(Rk)","Hω(Ik)","MAGNITUDE(H)","PHASE(H)","C・H(Rk)","C・H(Ik)","C・H-MRR(Rk)","C・H-MRR(Ik)",null,"RESPONSE","DISP (cm, Rk)","DISP (cm, Ik)","VEL (cm/sec)","ABS. ACC (cm/sec2)",null,null,null,null,null,null,null,null,null,null,null,null,"FORTRAN","TIME (Sec)","DISP (cm, Rk)","RESP (cm, Ik)","VEL (cm/sec)","ABS. ACC (cm/sec2)"]
["STIFFNESS K",{"$f":"FOURIER!B2","v":5},"kN/m",null,"TRANSFORM",0,{"$f":"B$6*F2","v":0},0,{"$f":"F2/B$9/B$6","v":0},{"$f":"FOURIER!M2","v":0},{"$f":"FOURIER!N2","v":0},null,"FUNCTION",{"$f":"2*PI()/B$9/B$6*F2","v":0},null,null,null,null,{"$f":"J2*O2-K2*P2","v":0},{"$f":"J2*P2+K2*O2","v":0},null,null,null,null,null,null,{"$f":"0","v":0},{"$f":"H2","v":0},null,null,null,null,null,null,null,null,null,null,null,null,"RESPONSE",{"$f":"G2","v":0},-0.36299999999999999,0,{"$f":"0","v":0},{"$f":"S2","v":0}]
["DAMPING C",{"$f":"FOURIER!B3","v":0.2},"kNsec/m",null,null,1,{"$f":"B$6*F3","v":0.02},0.72370000000000001,{"$f":"F3/B$9/B$6","v":2.44140625E-2},{"$f":"FOURIER!M3","v":0},{"$f":"FOURIER!N3","v":0},null,null,0.15339807878856412,null,null,null,null,0,0,null,null,null,null,null,null,{"$f":"(Y3-Y2)/B$6","v":0},{"$f":"(AA3-AA2)/B$6+H3","v":0.72370000000000001},null,null,null,null,null,null,null,null,null,null,null,null,"*APPENDIX",0.02,-0.42699999999999999,0,{"$f":"(AQ3-AQ2)/O$6","v":{"$error":"#DIV/0!"}},{"$f":"(AS3-AS2)/O$6+S3","v":{"$error":"#DIV/0!"}}]
["ANGULAR FREQUENCY ω0",{"$f":"SQRT(B2/B1)","v":2.2360679774997898},"1/sec",null,null,2,0.04,0.69369999999999998,4.8828125E-2,{"$f":"FOURIER!M4","v":0},{"$f":"FOURIER!N4","v":0},null,null,0.30679615757712825,null,null,null,null,0,0,null,null,null,null,null,null,0,0.69369999999999998,null,null,null,null,null,null,null,null,null,null,null,null,null,0.04,-0.49,0,{"$error":"#DIV/0!"},{"$error":"#DIV/0!"}]
["FREQUENCY f0",{"$f":"B4/2/PI()","v":0.35588127170858858},"1/sec",null,null,3,0.06,-0.35620000000000002,7.32421875E-2,{"$f":"FOURIER!M5","v":0},{"$f":"FOURIER!N5","v":0},null,null,0.46019423636569234,null,null,null,null,0,0,null,null,null,null,null,null,0,-0.35620000000000002,null,null,null,null,null,null,null,null,null,null,null,null,null,0.06,-0.55100000000000005,0,{"$error":"#DIV/0!"},{"$error":"#DIV/0!"}]
["TIME INTERVAL Δt",0.02,"sec",null,null,4,0.08,-2.0062000000000002,9.765625E-2,{"$f":"FOURIER!M6","v":0},{"$f":"FOURIER!N6","v":0},null,null,0.6135923151542565,null,null,null,null,0,0,null,null,null,null,null,null,0,-2.0062000000000002,null,null,null,null,null,null,null,null,null,null,null,null,null,0.08,-0.61099999999999999,0,{"$error":"#DIV/0!"},{"$error":"#DIV/0!"}]
["DURATION T",{"$f":"B6*2048","v":40.96},"sec",null,null,5,0.1,-2.9062000000000001,0.1220703125,{"$f":"FOURIER!M7","v":0},{"$f":"FOURIER!N7","v":0},null,null,0.76699039394282065,null,null,null,null,0,0,null,null,null,null,null,null,0,-2.9062000000000001,null,null,null,null,null,null,null,null,null,null,null,null,null,0.1,-0.67100000000000004,0,{"$error":"#DIV/0!"},{"$error":"#DIV/0!"}]
["DAMPING COEFFICIENT h",{"$f":"B3/2/SQRT(B1*B2)","v":4.4721359549995794E-2},null,null,null,6,0.12,-1.7662,0.146484375,{"$f":"FOURIER!M8","v":0},{"$f":"FOURIER!N8","v":0},null,null,0.92038847273138469,null,null,null,null,0,0,null,null,null,null,null,null,0,-1.7662,null,null,null,null,null,null,null,null,null,null,null,null,null,0.12,-0.72899999999999998,0,{"$error":"#DIV/0!"},{"$error":"#DIV/0!"}]
["NUMBER OF DATA N",2048,null,null,null,7,0.14000000000000001,-0.35620000000000002,0.1708984375,{"$f":"FOURIER!M9","v":0},{"$f":"FOURIER!N9","v":0},null,null,1.073786551519949,null,null,null,null,0,0,null,null,null,null,null,null,0,-0.35620000000000002,null,null,null,null,null,null,null,null,null,null,null,null,null,0.14000000000000001,-0.78700000000000003,0,{"$error":"#DIV/0!"},{"$error":"#DIV/0!"}]
["NATURALPERIOD　T0　",{"$f":"FOURIER!B10","v":2.80992589241629},null,null,null,8,0.16,-0.92620000000000002,0.1953125,{"$f":"FOURIER!M10","v":0},{"$f":"FOURIER!N10","v":0},null,null,1.227184630308513,null,null,null,null,0,0,null,null,null,null,null,null,0,-0.92620000000000002,null,null,null,null,null,null,null,null,null,null,null,null,null,0.16,-0.84399999999999997,0,{"$error":"#DIV/0!"},{"$error":"#DIV/0!"}]
[null,null,null,null,null,9,0.18,-0.44619999999999999,0.2197265625,{"$f":"FOURIER!M11","v":0},{"$f":"FOURIER!N11","v":0},null,null,1.380582709097077,null,null,null,null,0,0,null,null,null,null,null,null,0,-0.44619999999999999,null,null,null,null,null,null,null,null,null,null,null,null,null,0.18,-0.89800000000000002,0,{"$error":"#DIV/0!"},{"$error":"#DIV/0!"}]
["INPUT CONVOLUTION REAL","U",null,null,null,10,0.2,3.2437,0.244140625,{"$f":"FOURIER!M12","v":0},{"$f":"FOURIER!N12","v":0},null,null,1.5339807878856413,null,null,null,null,0,0,null,null,null,null,null,null,0,3.2437,null,null,null,null,null,null,null,null,null,null,null,null,null,0.2,-0.95099999999999996,0,{"$error":"#DIV/0!"},{"$error":"#DIV/0!"}]
["INPUT CONVOLUTION IMAG","V",null,null,null,11,0.22,3.5137,0.2685546875,{"$f":"FOURIER!M13","v":0},{"$f":"FOURIER!N13","v":0},null,null,1.6873788666742053,null,null,null,null,0,0,null,null,null,null,null,null,0,3.5137,null,null,null,null,null,null,null,null,null,null,null,null,null,0.22,-1.0009999999999999,0,{"$error":"#DIV/0!"},{"$error":"#DIV/0!"}]
["OUTPUT RESPONSE REAL","Y",null,null,null,12,0.24,-2.0362,0.29296875,{"$f":"FOURIER!M14","v":0},{"$f":"FOURIER!N14","v":0},null,null,1.8407769454627694,null,null,null,null,0,0,null,null,null,null,null,null,0,-2.0362,null,null,null,null,null,null,null,null,null,null,null,null,null,0.24,-1.0469999999999999,0,{"$error":"#DIV/0!"},{"$error":"#DIV/0!"}]
["OUTPUT RESPONSE IMAG","Z",null,null,null,13,0.26,-6.3860000000000001,0.3173828125,{"$f":"FOURIER!M15","v":0},{"$f":"FOURIER!N15","v":0},null,null,1.9941750242513336,null,null,null,null,0,0,null,null,null,null,null,null,0,-6.3860000000000001,null,null,null,null,null,null,null,null,null,null,null,null,null,0.26,-1.091,0,{"$error":"#DIV/0!"},{"$error":"#DIV/0!"}]
[null,null,null,null,null,14,0.28000000000000003,-5.6959999999999997,0.341796875,{"$f":"FOURIER!M16","v":0},{"$f":"FOURIER!N16","v":0},null,null,2.1475731030398979,null,null,null,null,0,0,null,null,null,null,null,null,0,-5.6959999999999997,null,null,null,null,null,null,null,null,null,null,null,null,null,0.28000000000000003,-1.1359999999999999,0,{"$error":"#DIV/0!"},{"$error":"#DIV/0!"}]
["MIRROR",null,null,null,null,15,0.3,-3.6261000000000001,0.3662109375,{"$f":"FOURIER!M17","v":0},{"$f":"FOURIER!N17","v":0},null,null,2.3009711818284617,null,null,null,null,0,0,null,null,null,null,null,null,0,-3.6261000000000001,null,null,null,null,null,null,null,null,null,null,null,null,null,0.3,-1.18,0,{"$error":"#DIV/0!"},{"$error":"#DIV/0!"}]
["INPUT C・H REAL","S",null,null,null,16,0.32,-4.1060999999999996,0.390625,{"$f":"FOURIER!M18","v":0},{"$f":"FOURIER!N18","v":0},null,null,2.454369260617026,null,null,null,null,0,0,null,null,null,null,null,null,0,-4.1060999999999996,null,null,null,null,null,null,null,null,null,null,null,null,null,0.32,-1.2230000000000001,0,{"$error":"#DIV/0!"},{"$error":"#DIV/0!"}]
["INPUT C・H IMAG","T",null,null,null,17,0.34,-2.5461,0.4150390625,{"$f":"FOURIER!M19","v":0},{"$f":"FOURIER!N19","v":0},null,null,2.6077673394055902,null,null,null,null,0,0,null,null,null,null,null,null,0,-2.5461,null,null,null,null,null,null,null,null,null,null,null,null,null,0.34,-1.266,0,{"$error":"#DIV/0!"},{"$error":"#DIV/0!"}]
["OUTPUT C・H REAL","U",null,null,null,18,0.36,0.18379999999999999,0.439453125,{"$f":"FOURIER!M20","v":0},{"$f":"FOURIER!N20","v":0},null,null,2.7611654181941541,null,null,null,null,0,0,null,null,null,null,null,null,0,0.18379999999999999,null,null,null,null,null,null,null,null,null,null,null,null,null,0.36,-1.306,0,{"$error":"#DIV/0!"},{"$error":"#DIV/0!"}]
["OUTPUT C・H IMAG","V",null,null,null,19,0.38,-0.50619999999999998,0.4638671875,{"$f":"FOURIER!M21","v":0},{"$f":"FOURIER!N21","v":0},null,null,2.9145634969827183,null,null,null,null,0,0,null,null,null,null,null,null,0,-0.50619999999999998,null,null,null,null,null,null,null,null,null,null,null,null,null,0.38,-1.3440000000000001,0,{"$error":"#DIV/0!"},{"$error":"#DIV/0!"}]
[null,null,null,null,null,20,0.4,-4.556,0.48828125,{"$f":"FOURIER!M22","v":0},{"$f":"FOURIER!N22","v":0},null,null,3.0679615757712826,null,null,null,null,0,0,null,null,null,null,null,null,0,-4.556,null,null,null,null,null,null,null,null,null,null,null,null,null,0.4,-1.38,0,{"$error":"#DIV/0!"},{"$error":"#DIV/0!"}]
["※無断複製、転載を禁ず",null,null,null,null,21,0.42,-9.3259000000000007,0.5126953125,{"$f":"FOURIER!M23","v":0},{"$f":"FOURIER!N23","v":0},null,null,3.2213596545598464,null,null,null,null,0,0,null,null,null,null,null,null,0,-9.3259000000000007,null,null,null,null,null,null,null,null,null,null,null,null,null,0.42,-1.4139999999999999,0,{"$error":"#DIV/0!"},{"$error":"#DIV/0!"}]
["©Tokyo Tech Takeuchi Lab.",null,null,null,null,22,0.44,-5.6959999999999997,0.537109375,{"$f":"FOURIER!M24","v":0},{"$f":"FOURIER!N24","v":0},null,null,3.3747577333484107,null,null,null,null,0,0,null,null,null,null,null,null,0,-5.6959999999999997,null,null,null,null,null,null,null,null,null,null,null,null,null,0.44,-1.4490000000000001,0,{"$error":"#DIV/0!"},{"$error":"#DIV/0!"}]
["All rights reserved",null,null,null,null,23,0.46,2.5238,0.5615234375,{"$f":"FOURIER!M25","v":0},{"$f":"FOURIER!N25","v":0},null,null,3.5281558121369749,null,null,null,null,0,0,null,null,null,null,null,null,0,2.5238,null,null,null,null,null,null,null,null,null,null,null,null,null,0.46,-1.4830000000000001,0,{"$error":"#DIV/0!"},{"$error":"#DIV/0!"}]
[null,null,null,null,null,24,0.48,4.6837,0.5859375,{"$f":"FOURIER!M26","v":0},{"$f":"FOURIER!N26","v":0},null,null,3.6815538909255388,null,null,null,null,0,0,null,null,null,null,null,null,0,4.6837,null,null,null,null,null,null,null,null,null,null,null,null,null,0.48,-1.5129999999999999,0,{"$error":"#DIV/0!"},{"$error":"#DIV/0!"}]
[null,null,null,null,null,25,0.5,4.4436999999999998,0.6103515625,{"$f":"FOURIER!M27","v":0},{"$f":"FOURIER!N27","v":0},null,null,3.834951969714103,null,null,null,null,0,0,null,null,null,null,null,null,0,4.4436999999999998,null,null,null,null,null,null,null,null,null,null,null,null,null,0.5,-1.538,0,{"$error":"#DIV/0!"},{"$error":"#DIV/0!"}]
[null,null,null,null,null,26,0.52,9.2436000000000007,0.634765625,{"$f":"FOURIER!M28","v":0},{"$f":"FOURIER!N28","v":0},null,null,3.9883500485026673,null,null,null,null,0,0,null,null,null,null,null,null,0,9.2436000000000007,null,null,null,null,null,null,null,null,null,null,null,null,null,0.52,-1.5580000000000001,0,{"$error":"#DIV/0!"},{"$error":"#DIV/0!"}]
[null,null,null,null,null,27,0.54,13.683400000000001,0.6591796875,{"$f":"FOURIER!M29","v":0},{"$f":"FOURIER!N29","v":0},null,null,4.1417481272912315,null,null,null,null,0,0,null,null,null,null,null,null,0,13.683400000000001,null,null,null,null,null,null,null,null,null,null,null,null,null,0.54,-1.571,0,{"$error":"#DIV/0!"},{"$error":"#DIV/0!"}]
[null,null,null,null,null,28,0.56000000000000005,8.2235999999999994,0.68359375,{"$f":"FOURIER!M30","v":0},{"$f":"FOURIER!N30","v":0},null,null,4.2951462060797958,null,null,null,null,0,0,null,null,null,null,null,null,0,8.2235999999999994,null,null,null,null,null,null,null,null,null,null,null,null,null,0.56000000000000005,-1.575,0,{"$error":"#DIV/0!"},{"$error":"#DIV/0!"}]
[null,null,null,null,null,29,0.57999999999999996,6.6337000000000002,0.7080078125,{"$f":"FOURIER!M31","v":0},{"$f":"FOURIER!N31","v":0},null,null,4.4485442848683592,null,null,null,null,0,0,null,null,null,null,null,null,0,6.6337000000000002,null,null,null,null,null,null,null,null,null,null,null,null,null,0.57999999999999996,-1.573,0,{"$error":"#DIV/0!"},{"$error":"#DIV/0!"}]
[null,null,null,null,null,30,0.6,3.9937,0.732421875,{"$f":"FOURIER!M32","v":0},{"$f":"FOURIER!N32","v":0},null,null,4.6019423636569234,null,null,null,null,0,0,null,null,null,null,null,null,0,3.9937,null,null,null,null,null,null,null,null,null,null,null,null,null,0.6,-1.5660000000000001,0,{"$error":"#DIV/0!"},{"$error":"#DIV/0!"}]
[null,null,null,null,null,31,0.62,-6.5358999999999998,0.7568359375,{"$f":"FOURIER!M33","v":0},{"$f":"FOURIER!N33","v":0},null,null,4.7553404424454877,null,null,null,null,0,0,null,null,null,null,null,null,0,-6.5358999999999998,null,null,null,null,null,null,null,null,null,null,null,null,null,0.62,-1.554,0,{"$error":"#DIV/0!"},{"$error":"#DIV/0!"}]
[null,null,null,null,null,32,0.64,-11.095800000000001,0.78125,{"$f":"FOURIER!M34","v":0},{"$f":"FOURIER!N34","v":0},null,null,4.908738521234052,null,null,null,null,0,0,null,null,null,null,null,null,0,-11.095800000000001,null,null,null,null,null,null,null,null,null,null,null,null,null,0.64,-1.5409999999999999,0,{"$error":"#DIV/0!"},{"$error":"#DIV/0!"}]
[null,null,null,null,null,33,0.66,0.4239,0.8056640625,{"$f":"FOURIER!M35","v":0},{"$f":"FOURIER!N35","v":0},null,null,5.0621366000226162,null,null,null,null,0,0,null,null,null,null,null,null,0,0.4239,null,null,null,null,null,null,null,null,null,null,null,null,null,0.66,-1.5289999999999999,0,{"$error":"#DIV/0!"},{"$error":"#DIV/0!"}]
[null,null,null,null,null,34,0.68,14.913399999999999,0.830078125,{"$f":"FOURIER!M36","v":0},{"$f":"FOURIER!N36","v":0},null,null,5.2155346788111805,null,null,null,null,0,0,null,null,null,null,null,null,0,14.913399999999999,null,null,null,null,null,null,null,null,null,null,null,null,null,0.68,-1.514,0,{"$error":"#DIV/0!"},{"$error":"#DIV/0!"}]
[null,null,null,null,null,35,0.70000000000000007,2.1938,0.8544921875,{"$f":"FOURIER!M37","v":0},{"$f":"FOURIER!N37","v":0},null,null,5.3689327575997448,null,null,null,null,0,0,null,null,null,null,null,null,0,2.1938,null,null,null,null,null,null,null,null,null,null,null,null,null,0.70000000000000007,-1.4910000000000001,0,{"$error":"#DIV/0!"},{"$error":"#DIV/0!"}]
[null,null,null,null,null,36,0.72,-8.0658999999999992,0.87890625,{"$f":"FOURIER!M38","v":0},{"$f":"FOURIER!N38","v":0},null,null,5.5223308363883081,null,null,null,null,0,0,null,null,null,null,null,null,0,-8.0658999999999992,null,null,null,null,null,null,null,null,null,null,null,null,null,0.72,-1.464,0,{"$error":"#DIV/0!"},{"$error":"#DIV/0!"}]
[null,null,null,null,null,37,0.74,4.4138000000000002,0.9033203125,{"$f":"FOURIER!M39","v":0},{"$f":"FOURIER!N39","v":0},null,null,5.6757289151768724,null,null,null,null,0,0,null,null,null,null,null,null,0,4.4138000000000002,null,null,null,null,null,null,null,null,null,null,null,null,null,0.74,-1.4370000000000001,0,{"$error":"#DIV/0!"},{"$error":"#DIV/0!"}]
[null,null,null,null,null,38,0.76,15.9034,0.927734375,{"$f":"FOURIER!M40","v":0},{"$f":"FOURIER!N40","v":0},null,null,5.8291269939654367,null,null,null,null,0,0,null,null,null,null,null,null,0,15.9034,null,null,null,null,null,null,null,null,null,null,null,null,null,0.76,-1.405,0,{"$error":"#DIV/0!"},{"$error":"#DIV/0!"}]
[null,null,null,null,null,39,0.78,24.453199999999999,0.9521484375,{"$f":"FOURIER!M41","v":0},{"$f":"FOURIER!N41","v":0},null,null,5.9825250727540009,null,null,null,null,0,0,null,null,null,null,null,null,0,24.453199999999999,null,null,null,null,null,null,null,null,null,null,null,null,null,0.78,-1.3640000000000001,0,{"$error":"#DIV/0!"},{"$error":"#DIV/0!"}]
[null,null,null,null,null,40,0.8,36.692799999999998,0.9765625,{"$f":"FOURIER!M42","v":0},{"$f":"FOURIER!N42","v":0},null,null,6.1359231515425652,null,null,null,null,0,0,null,null,null,null,null,null,0,36.692799999999998,null,null,null,null,null,null,null,null,null,null,null,null,null,0.8,-1.3109999999999999,0,{"$error":"#DIV/0!"},{"$error":"#DIV/0!"}]
[null,null,null,null,null,41,0.82000000000000006,38.372700000000002,1.0009765625,{"$f":"FOURIER!M43","v":0},{"$f":"FOURIER!N43","v":0},null,null,6.2893212303311294,null,null,null,null,0,0,null,null,null,null,null,null,0,38.372700000000002,null,null,null,null,null,null,null,null,null,null,null,null,null,0.82000000000000006,-1.2410000000000001,0,{"$error":"#DIV/0!"},{"$error":"#DIV/0!"}]
[null,null,null,null,null,42,0.84,20.1633,1.025390625,{"$f":"FOURIER!M44","v":0},{"$f":"FOURIER!N44","v":0},null,null,6.4427193091196928,null,null,null,null,0,0,null,null,null,null,null,null,0,20.1633,null,null,null,null,null,null,null,null,null,null,null,null,null,0.84,-1.1539999999999999,0,{"$error":"#DIV/0!"},{"$error":"#DIV/0!"}]
[null,null,null,null,null,43,0.86,3.5737999999999999,1.0498046875,{"$f":"FOURIER!M45","v":0},{"$f":"FOURIER!N45","v":0},null,null,6.5961173879082571,null,null,null,null,0,0,null,null,null,null,null,null,0,3.5737999999999999,null,null,null,null,null,null,null,null,null,null,null,null,null,0.86,-1.0580000000000001,0,{"$error":"#DIV/0!"},{"$error":"#DIV/0!"}]
[null,null,null,null,null,44,0.88,-1.8260000000000001,1.07421875,{"$f":"FOURIER!M46","v":0},{"$f":"FOURIER!N46","v":0},null,null,6.7495154666968213,null,null,null,null,0,0,null,null,null,null,null,null,0,-1.8260000000000001,null,null,null,null,null,null,null,null,null,null,null,null,null,0.88,-0.95699999999999996,0,{"$error":"#DIV/0!"},{"$error":"#DIV/0!"}]
[null,null,null,null,null,45,0.9,3.8999999999999998E-3,1.0986328125,{"$f":"FOURIER!M47","v":0},{"$f":"FOURIER!N47","v":0},null,null,6.9029135454853856,null,null,null,null,0,0,null,null,null,null,null,null,0,3.8999999999999998E-3,null,null,null,null,null,null,null,null,null,null,null,null,null,0.9,-0.85599999999999998,0,{"$error":"#DIV/0!"},{"$error":"#DIV/0!"}]
[null,null,null,null,null,46,0.92,14.7935,1.123046875,{"$f":"FOURIER!M48","v":0},{"$f":"FOURIER!N48","v":0},null,null,7.0563116242739499,null,null,null,null,0,0,null,null,null,null,null,null,0,14.7935,null,null,null,null,null,null,null,null,null,null,null,null,null,0.92,-0.753,0,{"$error":"#DIV/0!"},{"$error":"#DIV/0!"}]
[null,null,null,null,null,47,0.94000000000000006,3.3938000000000001,1.1474609375,{"$f":"FOURIER!M49","v":0},{"$f":"FOURIER!N49","v":0},null,null,7.2097097030625141,null,null,null,null,0,0,null,null,null,null,null,null,0,3.3938000000000001,null,null,null,null,null,null,null,null,null,null,null,null,null,0.94000000000000006,-0.64300000000000002,0,{"$error":"#DIV/0!"},{"$error":"#DIV/0!"}]
[null,null,null,null,null,48,0.96,-40.194800000000001,1.171875,{"$f":"FOURIER!M50","v":0},{"$f":"FOURIER!N50","v":0},null,null,7.3631077818510775,null,null,null,null,0,0,null,null,null,null,null,null,0,-40.194800000000001,null,null,null,null,null,null,null,null,null,null,null,null,null,0.96,-0.53300000000000003,0,{"$error":"#DIV/0!"},{"$error":"#DIV/0!"}]
[null,null,null,null,null,49,0.98,-49.794499999999999,1.1962890625,{"$f":"FOURIER!M51","v":0},{"$f":"FOURIER!N51","v":0},null,null,7.5165058606396418,null,null,null,null,0,0,null,null,null,null,null,null,0,-49.794499999999999,null,null,null,null,null,null,null,null,null,null,null,null,null,0.98,-0.437,0,{"$error":"#DIV/0!"},{"$error":"#DIV/0!"}]
[null,null,null,null,null,50,1,-36.1449,1.220703125,{"$f":"FOURIER!M52","v":0},{"$f":"FOURIER!N52","v":0},null,null,7.669903939428206,null,null,null,null,0,0,null,null,null,null,null,null,0,-36.1449,null,null,null,null,null,null,null,null,null,null,null,null,null,1,-0.36,0,{"$error":"#DIV/0!"},{"$error":"#DIV/0!"}]
[null,null,null,null,null,51,1.02,-22.045400000000001,1.2451171875,{"$f":"FOURIER!M53","v":0},{"$f":"FOURIER!N53","v":0},null,null,7.8233020182167703,null,null,null,null,0,0,null,null,null,null,null,null,0,-22.045400000000001,null,null,null,null,null,null,null,null,null,null,null,null,null,1.02,-0.29599999999999999,0,{"$error":"#DIV/0!"},{"$error":"#DIV/0!"}]
[null,null,null,null,null,52,1.04,-9.6556999999999995,1.26953125,{"$f":"FOURIER!M54","v":0},{"$f":"FOURIER!N54","v":0},null,null,7.9767000970053346,null,null,null,null,0,0,null,null,null,null,null,null,0,-9.6556999999999995,null,null,null,null,null,null,null,null,null,null,null,null,null,1.04,-0.24099999999999999,0,{"$error":"#DIV/0!"},{"$error":"#DIV/0!"}]
[null,null,null,null,null,53,1.06,-0.89600000000000002,1.2939453125,{"$f":"FOURIER!M55","v":0},{"$f":"FOURIER!N55","v":0},null,null,8.1300981757938988,null,null,null,null,0,0,null,null,null,null,null,null,0,-0.89600000000000002,null,null,null,null,null,null,null,null,null,null,null,null,null,1.06,-0.19,0,{"$error":"#DIV/0!"},{"$error":"#DIV/0!"}]
[null,null,null,null,null,54,1.08,0.36399999999999999,1.318359375,{"$f":"FOURIER!M56","v":0},{"$f":"FOURIER!N56","v":0},null,null,8.2834962545824631,null,null,null,null,0,0,null,null,null,null,null,null,0,0.36399999999999999,null,null,null,null,null,null,null,null,null,null,null,null,null,1.08,-0.13900000000000001,0,{"$error":"#DIV/0!"},{"$error":"#DIV/0!"}]
[null,null,null,null,null,55,1.1000000000000001,-20.695399999999999,1.3427734375,{"$f":"FOURIER!M57","v":0},{"$f":"FOURIER!N57","v":0},null,null,8.4368943333710273,null,null,null,null,0,0,null,null,null,null,null,null,0,-20.695399999999999,null,null,null,null,null,null,null,null,null,null,null,null,null,1.1000000000000001,-8.8999999999999996E-2,0,{"$error":"#DIV/0!"},{"$error":"#DIV/0!"}]
[null,null,null,null,null,56,1.1200000000000001,-31.405000000000001,1.3671875,{"$f":"FOURIER!M58","v":0},{"$f":"FOURIER!N58","v":0},null,null,8.5902924121595916,null,null,null,null,0,0,null,null,null,null,null,null,0,-31.405000000000001,null,null,null,null,null,null,null,null,null,null,null,null,null,1.1200000000000001,-4.7E-2,0,{"$error":"#DIV/0!"},{"$error":"#DIV/0!"}]
[null,null,null,null,null,57,1.1400000000000001,-24.955200000000001,1.3916015625,{"$f":"FOURIER!M59","v":0},{"$f":"FOURIER!N59","v":0},null,null,8.7436904909481559,null,null,null,null,0,0,null,null,null,null,null,null,0,-24.955200000000001,null,null,null,null,null,null,null,null,null,null,null,null,null,1.1400000000000001,-1.6E-2,0,{"$error":"#DIV/0!"},{"$error":"#DIV/0!"}]
[null,null,null,null,null,58,1.1599999999999999,-14.0656,1.416015625,{"$f":"FOURIER!M60","v":0},{"$f":"FOURIER!N60","v":0},null,null,8.8970885697367184,null,null,null,null,0,0,null,null,null,null,null,null,0,-14.0656,null,null,null,null,null,null,null,null,null,null,null,null,null,1.1599999999999999,4.0000000000000001E-3,0,{"$error":"#DIV/0!"},{"$error":"#DIV/0!"}]
[null,null,null,null,null,59,1.18,3.6638999999999999,1.4404296875,{"$f":"FOURIER!M61","v":0},{"$f":"FOURIER!N61","v":0},null,null,9.0504866485252826,null,null,null,null,0,0,null,null,null,null,null,null,0,3.6638999999999999,null,null,null,null,null,null,null,null,null,null,null,null,null,1.18,1.9E-2,0,{"$error":"#DIV/0!"},{"$error":"#DIV/0!"}]
[null,null,null,null,null,60,1.2,10.983700000000001,1.46484375,{"$f":"FOURIER!M62","v":0},{"$f":"FOURIER!N62","v":0},null,null,9.2038847273138469,null,null,null,null,0,0,null,null,null,null,null,null,0,10.983700000000001,null,null,null,null,null,null,null,null,null,null,null,null,null,1.2,3.5000000000000003E-2,0,{"$error":"#DIV/0!"},{"$error":"#DIV/0!"}]
[null,null,null,null,null,61,1.22,-2.1259000000000001,1.4892578125,{"$f":"FOURIER!M63","v":0},{"$f":"FOURIER!N63","v":0},null,null,9.3572828061024111,null,null,null,null,0,0,null,null,null,null,null,null,0,-2.1259000000000001,null,null,null,null,null,null,null,null,null,null,null,null,null,1.22,5.3999999999999999E-2,0,{"$error":"#DIV/0!"},{"$error":"#DIV/0!"}]
[null,null,null,null,null,62,1.24,-16.795500000000001,1.513671875,{"$f":"FOURIER!M64","v":0},{"$f":"FOURIER!N64","v":0},null,null,9.5106808848909754,null,null,null,null,0,0,null,null,null,null,null,null,0,-16.795500000000001,null,null,null,null,null,null,null,null,null,null,null,null,null,1.24,7.1999999999999995E-2,0,{"$error":"#DIV/0!"},{"$error":"#DIV/0!"}]
[null,null,null,null,null,63,1.26,-16.4055,1.5380859375,{"$f":"FOURIER!M65","v":0},{"$f":"FOURIER!N65","v":0},null,null,9.6640789636795397,null,null,null,null,0,0,null,null,null,null,null,null,0,-16.4055,null,null,null,null,null,null,null,null,null,null,null,null,null,1.26,8.4000000000000005E-2,0,{"$error":"#DIV/0!"},{"$error":"#DIV/0!"}]
[null,null,null,null,null,64,1.28,-12.775600000000001,1.5625,{"$f":"FOURIER!M66","v":0},{"$f":"FOURIER!N66","v":0},null,null,{"$f":"2*PI()/B$9/B$6*F66","v":9.8174770424681039},null,null,null,null,{"$f":"J66*O66-K66*P66","v":0},{"$f":"J66*P66+K66*O66","v":0},null,null,null,null,null,null,0,-12.775600000000001,null,null,null,null,null,null,null,null,null,null,null,null,null,{"$f":"G66","v":1.28},0.09,0,{"$error":"#DIV/0!"},{"$error":"#DIV/0!"}]
[null,null,null,null,null,65,{"$f":"B$6*F67","v":1.3},-9.9557000000000002,{"$f":"F67/B$9/B$6","v":1.5869140625},{"$f":"FOURIER!M67","v":0},{"$f":"FOURIER!N67","v":0},null,null,9.9708751212566682,null,null,null,null,0,0,null,null,null,null,null,null,{"$f":"(Y67-Y66)/B$6","v":0},{"$f":"(AA67-AA66)/B$6+H67","v":-9.9557000000000002},null,null,null,null,null,null,null,null,null,null,null,null,null,1.3,0.09,0,{"$f":"(AQ67-AQ66)/O$6","v":{"$error":"#DIV/0!"}},{"$f":"(AS67-AS66)/O$6+S67","v":{"$error":"#DIV/0!"}}]
[null,null,null,null,null,66,1.32,-4.5557999999999996,1.611328125,{"$f":"FOURIER!M68","v":0},{"$f":"FOURIER!N68","v":0},null,null,10.124273200045232,null,null,null,null,0,0,null,null,null,null,null,null,0,-4.5557999999999996,null,null,null,null,null,null,null,null,null,null,null,null,null,1.32,8.5000000000000006E-2,0,{"$error":"#DIV/0!"},{"$error":"#DIV/0!"}]
[null,null,null,null,null,67,1.34,-4.0758000000000001,1.6357421875,{"$f":"FOURIER!M69","v":0},{"$f":"FOURIER!N69","v":0},null,null,10.277671278833797,null,null,null,null,0,0,null,null,null,null,null,null,0,-4.0758000000000001,null,null,null,null,null,null,null,null,null,null,null,null,null,1.34,7.9000000000000001E-2,0,{"$error":"#DIV/0!"},{"$error":"#DIV/0!"}]
[null,null,null,null,null,68,1.36,-5.8457999999999997,1.66015625,{"$f":"FOURIER!M70","v":0},{"$f":"FOURIER!N70","v":0},null,null,10.431069357622361,null,null,null,null,0,0,null,null,null,null,null,null,0,-5.8457999999999997,null,null,null,null,null,null,null,null,null,null,null,null,null,1.36,7.0999999999999994E-2,0,{"$error":"#DIV/0!"},{"$error":"#DIV/0!"}]
[null,null,null,null,null,69,1.3800000000000001,-13.5855,1.6845703125,{"$f":"FOURIER!M71","v":0},{"$f":"FOURIER!N71","v":0},null,null,10.584467436410925,null,null,null,null,0,0,null,null,null,null,null,null,0,-13.5855,null,null,null,null,null,null,null,null,null,null,null,null,null,1.3800000000000001,0.06,0,{"$error":"#DIV/0!"},{"$error":"#DIV/0!"}]
[null,null,null,null,null,70,1.4000000000000001,-26.755099999999999,1.708984375,{"$f":"FOURIER!M72","v":0},{"$f":"FOURIER!N72","v":0},null,null,10.73786551519949,null,null,null,null,0,0,null,null,null,null,null,null,0,-26.755099999999999,null,null,null,null,null,null,null,null,null,null,null,null,null,1.4000000000000001,4.3999999999999997E-2,0,{"$error":"#DIV/0!"},{"$error":"#DIV/0!"}]
[null,null,null,null,null,71,1.42,-20.6953,1.7333984375,{"$f":"FOURIER!M73","v":0},{"$f":"FOURIER!N73","v":0},null,null,10.891263593988052,null,null,null,null,0,0,null,null,null,null,null,null,0,-20.6953,null,null,null,null,null,null,null,null,null,null,null,null,null,1.42,1.7000000000000001E-2,0,{"$error":"#DIV/0!"},{"$error":"#DIV/0!"}]
[null,null,null,null,null,72,1.44,24.153300000000002,1.7578125,{"$f":"FOURIER!M74","v":0},{"$f":"FOURIER!N74","v":0},null,null,11.044661672776616,null,null,null,null,0,0,null,null,null,null,null,null,0,24.153300000000002,null,null,null,null,null,null,null,null,null,null,null,null,null,1.44,-1.6E-2,0,{"$error":"#DIV/0!"},{"$error":"#DIV/0!"}]
[null,null,null,null,null,73,1.46,65.462100000000007,1.7822265625,{"$f":"FOURIER!M75","v":0},{"$f":"FOURIER!N75","v":0},null,null,11.198059751565181,null,null,null,null,0,0,null,null,null,null,null,null,0,65.462100000000007,null,null,null,null,null,null,null,null,null,null,null,null,null,1.46,-0.04,0,{"$error":"#DIV/0!"},{"$error":"#DIV/0!"}]
[null,null,null,null,null,74,1.48,44.822699999999998,1.806640625,{"$f":"FOURIER!M76","v":0},{"$f":"FOURIER!N76","v":0},null,null,11.351457830353745,null,null,null,null,0,0,null,null,null,null,null,null,0,44.822699999999998,null,null,null,null,null,null,null,null,null,null,null,null,null,1.48,-3.9E-2,0,{"$error":"#DIV/0!"},{"$error":"#DIV/0!"}]
[null,null,null,null,null,75,1.5,0.84409999999999996,1.8310546875,{"$f":"FOURIER!M77","v":0},{"$f":"FOURIER!N77","v":0},null,null,11.504855909142309,null,null,null,null,0,0,null,null,null,null,null,null,0,0.84409999999999996,null,null,null,null,null,null,null,null,null,null,null,null,null,1.5,-2.1999999999999999E-2,0,{"$error":"#DIV/0!"},{"$error":"#DIV/0!"}]
[null,null,null,null,null,76,1.52,-14.9055,1.85546875,{"$f":"FOURIER!M78","v":0},{"$f":"FOURIER!N78","v":0},null,null,11.658253987930873,null,null,null,null,0,0,null,null,null,null,null,null,0,-14.9055,null,null,null,null,null,null,null,null,null,null,null,null,null,1.52,-3.0000000000000001E-3,0,{"$error":"#DIV/0!"},{"$error":"#DIV/0!"}]
[null,null,null,null,null,77,1.54,7.3239000000000001,1.8798828125,{"$f":"FOURIER!M79","v":0},{"$f":"FOURIER!N79","v":0},null,null,11.811652066719438,null,null,null,null,0,0,null,null,null,null,null,null,0,7.3239000000000001,null,null,null,null,null,null,null,null,null,null,null,null,null,1.54,1.2E-2,0,{"$error":"#DIV/0!"},{"$error":"#DIV/0!"}]
[null,null,null,null,null,78,1.56,30.4832,1.904296875,{"$f":"FOURIER!M80","v":0},{"$f":"FOURIER!N80","v":0},null,null,11.965050145508002,null,null,null,null,0,0,null,null,null,null,null,null,0,30.4832,null,null,null,null,null,null,null,null,null,null,null,null,null,1.56,2.9000000000000001E-2,0,{"$error":"#DIV/0!"},{"$error":"#DIV/0!"}]
[null,null,null,null,null,79,1.58,13.4137,1.9287109375,{"$f":"FOURIER!M81","v":0},{"$f":"FOURIER!N81","v":0},null,null,12.118448224296566,null,null,null,null,0,0,null,null,null,null,null,null,0,13.4137,null,null,null,null,null,null,null,null,null,null,null,null,null,1.58,5.7000000000000002E-2,0,{"$error":"#DIV/0!"},{"$error":"#DIV/0!"}]
[null,null,null,null,null,80,1.6,-12.025499999999999,1.953125,{"$f":"FOURIER!M82","v":0},{"$f":"FOURIER!N82","v":0},null,null,12.27184630308513,null,null,null,null,0,0,null,null,null,null,null,null,0,-12.025499999999999,null,null,null,null,null,null,null,null,null,null,null,null,null,1.6,8.8999999999999996E-2,0,{"$error":"#DIV/0!"},{"$error":"#DIV/0!"}]
[null,null,null,null,null,81,1.62,-24.115100000000002,1.9775390625,{"$f":"FOURIER!M83","v":0},{"$f":"FOURIER!N83","v":0},null,null,12.425244381873695,null,null,null,null,0,0,null,null,null,null,null,null,0,-24.115100000000002,null,null,null,null,null,null,null,null,null,null,null,null,null,1.62,0.11700000000000001,0,{"$error":"#DIV/0!"},{"$error":"#DIV/0!"}]
[null,null,null,null,null,82,1.6400000000000001,-28.495000000000001,2.001953125,{"$f":"FOURIER!M84","v":0},{"$f":"FOURIER!N84","v":0},null,null,12.578642460662259,null,null,null,null,0,0,null,null,null,null,null,null,0,-28.495000000000001,null,null,null,null,null,null,null,null,null,null,null,null,null,1.6400000000000001,0.13600000000000001,0,{"$error":"#DIV/0!"},{"$error":"#DIV/0!"}]
[null,null,null,null,null,83,1.6600000000000001,-14.0954,2.0263671875,{"$f":"FOURIER!M85","v":0},{"$f":"FOURIER!N85","v":0},null,null,12.732040539450823,null,null,null,null,0,0,null,null,null,null,null,null,0,-14.0954,null,null,null,null,null,null,null,null,null,null,null,null,null,1.6600000000000001,0.14299999999999999,0,{"$error":"#DIV/0!"},{"$error":"#DIV/0!"}]
[null,null,null,null,null,84,1.68,-10.6755,2.05078125,{"$f":"FOURIER!M86","v":0},{"$f":"FOURIER!N86","v":0},null,null,12.885438618239386,null,null,null,null,0,0,null,null,null,null,null,null,0,-10.6755,null,null,null,null,null,null,null,null,null,null,null,null,null,1.68,0.14399999999999999,0,{"$error":"#DIV/0!"},{"$error":"#DIV/0!"}]
[null,null,null,null,null,85,1.7,-5.3956999999999997,2.0751953125,{"$f":"FOURIER!M87","v":0},{"$f":"FOURIER!N87","v":0},null,null,13.03883669702795,null,null,null,null,0,0,null,null,null,null,null,null,0,-5.3956999999999997,null,null,null,null,null,null,null,null,null,null,null,null,null,1.7,0.14000000000000001,0,{"$error":"#DIV/0!"},{"$error":"#DIV/0!"}]
[null,null,null,null,null,86,1.72,13.473699999999999,2.099609375,{"$f":"FOURIER!M88","v":0},{"$f":"FOURIER!N88","v":0},null,null,13.192234775816514,null,null,null,null,0,0,null,null,null,null,null,null,0,13.473699999999999,null,null,null,null,null,null,null,null,null,null,null,null,null,1.72,0.13500000000000001,0,{"$error":"#DIV/0!"},{"$error":"#DIV/0!"}]
[null,null,null,null,null,87,1.74,18.333600000000001,2.1240234375,{"$f":"FOURIER!M89","v":0},{"$f":"FOURIER!N89","v":0},null,null,13.345632854605078,null,null,null,null,0,0,null,null,null,null,null,null,0,18.333600000000001,null,null,null,null,null,null,null,null,null,null,null,null,null,1.74,0.13400000000000001,0,{"$error":"#DIV/0!"},{"$error":"#DIV/0!"}]
[null,null,null,null,null,88,1.76,27.993300000000001,2.1484375,{"$f":"FOURIER!M90","v":0},{"$f":"FOURIER!N90","v":0},null,null,13.499030933393643,null,null,null,null,0,0,null,null,null,null,null,null,0,27.993300000000001,null,null,null,null,null,null,null,null,null,null,null,null,null,1.76,0.14000000000000001,0,{"$error":"#DIV/0!"},{"$error":"#DIV/0!"}]
[null,null,null,null,null,89,1.78,33.123100000000001,2.1728515625,{"$f":"FOURIER!M91","v":0},{"$f":"FOURIER!N91","v":0},null,null,13.652429012182207,null,null,null,null,0,0,null,null,null,null,null,null,0,33.123100000000001,null,null,null,null,null,null,null,null,null,null,null,null,null,1.78,0.157,0,{"$error":"#DIV/0!"},{"$error":"#DIV/0!"}]
[null,null,null,null,null,90,1.8,31.563199999999998,2.197265625,{"$f":"FOURIER!M92","v":0},{"$f":"FOURIER!N92","v":0},null,null,13.805827090970771,null,null,null,null,0,0,null,null,null,null,null,null,0,31.563199999999998,null,null,null,null,null,null,null,null,null,null,null,null,null,1.8,0.187,0,{"$error":"#DIV/0!"},{"$error":"#DIV/0!"}]
[null,null,null,null,null,91,1.82,40.082900000000002,2.2216796875,{"$f":"FOURIER!M93","v":0},{"$f":"FOURIER!N93","v":0},null,null,13.959225169759335,null,null,null,null,0,0,null,null,null,null,null,null,0,40.082900000000002,null,null,null,null,null,null,null,null,null,null,null,null,null,1.82,0.22900000000000001,0,{"$error":"#DIV/0!"},{"$error":"#DIV/0!"}]
[null,null,null,null,null,92,1.84,8.5838999999999999,2.24609375,{"$f":"FOURIER!M94","v":0},{"$f":"FOURIER!N94","v":0},null,null,14.1126232485479,null,null,null,null,0,0,null,null,null,null,null,null,0,8.5838999999999999,null,null,null,null,null,null,null,null,null,null,null,null,null,1.84,0.28499999999999998,0,{"$error":"#DIV/0!"},{"$error":"#DIV/0!"}]
[null,null,null,null,null,93,1.86,-23.5151,2.2705078125,{"$f":"FOURIER!M95","v":0},{"$f":"FOURIER!N95","v":0},null,null,14.266021327336464,null,null,null,null,0,0,null,null,null,null,null,null,0,-23.5151,null,null,null,null,null,null,null,null,null,null,null,null,null,1.86,0.34399999999999997,0,{"$error":"#DIV/0!"},{"$error":"#DIV/0!"}]
[null,null,null,null,null,94,1.8800000000000001,-38.994599999999998,2.294921875,{"$f":"FOURIER!M96","v":0},{"$f":"FOURIER!N96","v":0},null,null,14.419419406125028,null,null,null,null,0,0,null,null,null,null,null,null,0,-38.994599999999998,null,null,null,null,null,null,null,null,null,null,null,null,null,1.8800000000000001,0.39300000000000002,0,{"$error":"#DIV/0!"},{"$error":"#DIV/0!"}]
[null,null,null,null,null,95,1.9000000000000001,-26.215,2.3193359375,{"$f":"FOURIER!M97","v":0},{"$f":"FOURIER!N97","v":0},null,null,14.572817484913593,null,null,null,null,0,0,null,null,null,null,null,null,0,-26.215,null,null,null,null,null,null,null,null,null,null,null,null,null,1.9000000000000001,0.42599999999999999,0,{"$error":"#DIV/0!"},{"$error":"#DIV/0!"}]
[null,null,null,null,null,96,1.92,26.9434,2.34375,{"$f":"FOURIER!M98","v":0},{"$f":"FOURIER!N98","v":0},null,null,14.726215563702155,null,null,null,null,0,0,null,null,null,null,null,null,0,26.9434,null,null,null,null,null,null,null,null,null,null,null,null,null,1.92,0.45,0,{"$error":"#DIV/0!"},{"$error":"#DIV/0!"}]
[null,null,null,null,null,97,1.94,21.063500000000001,2.3681640625,{"$f":"FOURIER!M99","v":0},{"$f":"FOURIER!N99","v":0},null,null,14.879613642490719,null,null,null,null,0,0,null,null,null,null,null,null,0,21.063500000000001,null,null,null,null,null,null,null,null,null,null,null,null,null,1.94,0.48099999999999998,0,{"$error":"#DIV/0!"},{"$error":"#DIV/0!"}]
[null,null,null,null,null,98,1.96,9.3039000000000005,2.392578125,{"$f":"FOURIER!M100","v":0},{"$f":"FOURIER!N100","v":0},null,null,15.033011721279284,null,null,null,null,0,0,null,null,null,null,null,null,0,9.3039000000000005,null,null,null,null,null,null,null,null,null,null,null,null,null,1.96,0.51900000000000002,0,{"$error":"#DIV/0!"},{"$error":"#DIV/0!"}]
[null,null,null,null,null,99,1.98,15.4237,2.4169921875,{"$f":"FOURIER!M101","v":0},{"$f":"FOURIER!N101","v":0},null,null,15.186409800067848,null,null,null,null,0,0,null,null,null,null,null,null,0,15.4237,null,null,null,null,null,null,null,null,null,null,null,null,null,1.98,0.56000000000000005,0,{"$error":"#DIV/0!"},{"$error":"#DIV/0!"}]
[null,null,null,null,null,100,2,13.713800000000001,2.44140625,{"$f":"FOURIER!M102","v":0},{"$f":"FOURIER!N102","v":0},null,null,15.339807878856412,null,null,null,null,0,0,null,null,null,null,null,null,0,13.713800000000001,null,null,null,null,null,null,null,null,null,null,null,null,null,2,0.60599999999999998,0,{"$error":"#DIV/0!"},{"$error":"#DIV/0!"}]
[null,null,null,null,null,101,2.02,25.353400000000001,2.4658203125,{"$f":"FOURIER!M103","v":0},{"$f":"FOURIER!N103","v":0},null,null,15.493205957644976,null,null,null,null,0,0,null,null,null,null,null,null,0,25.353400000000001,null,null,null,null,null,null,null,null,null,null,null,null,null,2.02,0.65700000000000003,0,{"$error":"#DIV/0!"},{"$error":"#DIV/0!"}]
[null,null,null,null,null,102,2.04,7.3239999999999998,2.490234375,{"$f":"FOURIER!M104","v":0},{"$f":"FOURIER!N104","v":0},null,null,15.646604036433541,null,null,null,null,0,0,null,null,null,null,null,null,0,7.3239999999999998,null,null,null,null,null,null,null,null,null,null,null,null,null,2.04,0.71499999999999997,0,{"$error":"#DIV/0!"},{"$error":"#DIV/0!"}]
[null,null,null,null,null,103,2.06,-17.4252,2.5146484375,{"$f":"FOURIER!M105","v":0},{"$f":"FOURIER!N105","v":0},null,null,15.800002115222105,null,null,null,null,0,0,null,null,null,null,null,null,0,-17.4252,null,null,null,null,null,null,null,null,null,null,null,null,null,2.06,0.77400000000000002,0,{"$error":"#DIV/0!"},{"$error":"#DIV/0!"}]
[null,null,null,null,null,104,2.08,-23.725000000000001,2.5390625,{"$f":"FOURIER!M106","v":0},{"$f":"FOURIER!N106","v":0},null,null,15.953400194010669,null,null,null,null,0,0,null,null,null,null,null,null,0,-23.725000000000001,null,null,null,null,null,null,null,null,null,null,null,null,null,2.08,0.82499999999999996,0,{"$error":"#DIV/0!"},{"$error":"#DIV/0!"}]
[null,null,null,null,null,105,2.1,-20.905100000000001,2.5634765625,{"$f":"FOURIER!M107","v":0},{"$f":"FOURIER!N107","v":0},null,null,16.106798272799232,null,null,null,null,0,0,null,null,null,null,null,null,0,-20.905100000000001,null,null,null,null,null,null,null,null,null,null,null,null,null,2.1,0.86499999999999999,0,{"$error":"#DIV/0!"},{"$error":"#DIV/0!"}]
[null,null,null,null,null,106,2.12,-12.6854,2.587890625,{"$f":"FOURIER!M108","v":0},{"$f":"FOURIER!N108","v":0},null,null,16.260196351587798,null,null,null,null,0,0,null,null,null,null,null,null,0,-12.6854,null,null,null,null,null,null,null,null,null,null,null,null,null,2.12,0.89500000000000002,0,{"$error":"#DIV/0!"},{"$error":"#DIV/0!"}]
[null,null,null,null,null,107,2.14,-28.584900000000001,2.6123046875,{"$f":"FOURIER!M109","v":0},{"$f":"FOURIER!N109","v":0},null,null,16.41359443037636,null,null,null,null,0,0,null,null,null,null,null,null,0,-28.584900000000001,null,null,null,null,null,null,null,null,null,null,null,null,null,2.14,0.91700000000000004,0,{"$error":"#DIV/0!"},{"$error":"#DIV/0!"}]
[null,null,null,null,null,108,2.16,-28.584900000000001,2.63671875,{"$f":"FOURIER!M110","v":0},{"$f":"FOURIER!N110","v":0},null,null,16.566992509164926,null,null,null,null,0,0,null,null,null,null,null,null,0,-28.584900000000001,null,null,null,null,null,null,null,null,null,null,null,null,null,2.16,0.92700000000000005,0,{"$error":"#DIV/0!"},{"$error":"#DIV/0!"}]
[null,null,null,null,null,109,2.1800000000000002,-15.6553,2.6611328125,{"$f":"FOURIER!M111","v":0},{"$f":"FOURIER!N111","v":0},null,null,16.720390587953489,null,null,null,null,0,0,null,null,null,null,null,null,0,-15.6553,null,null,null,null,null,null,null,null,null,null,null,null,null,2.1800000000000002,0.92300000000000004,0,{"$error":"#DIV/0!"},{"$error":"#DIV/0!"}]
[null,null,null,null,null,110,2.2000000000000002,-15.1153,2.685546875,{"$f":"FOURIER!M112","v":0},{"$f":"FOURIER!N112","v":0},null,null,16.873788666742055,null,null,null,null,0,0,null,null,null,null,null,null,0,-15.1153,null,null,null,null,null,null,null,null,null,null,null,null,null,2.2000000000000002,0.91100000000000003,0,{"$error":"#DIV/0!"},{"$error":"#DIV/0!"}]
[null,null,null,null,null,111,2.2200000000000002,6.5141,2.7099609375,{"$f":"FOURIER!M113","v":0},{"$f":"FOURIER!N113","v":0},null,null,17.027186745530617,null,null,null,null,0,0,null,null,null,null,null,null,0,6.5141,null,null,null,null,null,null,null,null,null,null,null,null,null,2.2200000000000002,0.89200000000000002,0,{"$error":"#DIV/0!"},{"$error":"#DIV/0!"}]
[null,null,null,null,null,112,2.2400000000000002,22.413599999999999,2.734375,{"$f":"FOURIER!M114","v":0},{"$f":"FOURIER!N114","v":0},null,null,17.180584824319183,null,null,null,null,0,0,null,null,null,null,null,null,0,22.413599999999999,null,null,null,null,null,null,null,null,null,null,null,null,null,2.2400000000000002,0.874,0,{"$error":"#DIV/0!"},{"$error":"#DIV/0!"}]
[null,null,null,null,null,113,2.2600000000000002,21.663599999999999,2.7587890625,{"$f":"FOURIER!M115","v":0},{"$f":"FOURIER!N115","v":0},null,null,17.333982903107746,null,null,null,null,0,0,null,null,null,null,null,null,0,21.663599999999999,null,null,null,null,null,null,null,null,null,null,null,null,null,2.2600000000000002,0.86199999999999999,0,{"$error":"#DIV/0!"},{"$error":"#DIV/0!"}]
[null,null,null,null,null,114,2.2800000000000002,15.963800000000001,2.783203125,{"$f":"FOURIER!M116","v":0},{"$f":"FOURIER!N116","v":0},null,null,17.487380981896312,null,null,null,null,0,0,null,null,null,null,null,null,0,15.963800000000001,null,null,null,null,null,null,null,null,null,null,null,null,null,2.2800000000000002,0.85699999999999998,0,{"$error":"#DIV/0!"},{"$error":"#DIV/0!"}]
[null,null,null,null,null,115,2.3000000000000003,-0.77569999999999995,2.8076171875,{"$f":"FOURIER!M117","v":0},{"$f":"FOURIER!N117","v":0},null,null,17.640779060684874,null,null,null,null,0,0,null,null,null,null,null,null,0,-0.77569999999999995,null,null,null,null,null,null,null,null,null,null,null,null,null,2.3000000000000003,0.85699999999999998,0,{"$error":"#DIV/0!"},{"$error":"#DIV/0!"}]
[null,null,null,null,null,116,2.3199999999999998,-4.4656000000000002,2.83203125,{"$f":"FOURIER!M118","v":0},{"$f":"FOURIER!N118","v":0},null,null,17.794177139473437,null,null,null,null,0,0,null,null,null,null,null,null,0,-4.4656000000000002,null,null,null,null,null,null,null,null,null,null,null,null,null,2.3199999999999998,0.85399999999999998,0,{"$error":"#DIV/0!"},{"$error":"#DIV/0!"}]
[null,null,null,null,null,117,2.34,15.963800000000001,2.8564453125,{"$f":"FOURIER!M119","v":0},{"$f":"FOURIER!N119","v":0},null,null,17.947575218262003,null,null,null,null,0,0,null,null,null,null,null,null,0,15.963800000000001,null,null,null,null,null,null,null,null,null,null,null,null,null,2.34,0.85,0,{"$error":"#DIV/0!"},{"$error":"#DIV/0!"}]
[null,null,null,null,null,118,2.36,25.113499999999998,2.880859375,{"$f":"FOURIER!M120","v":0},{"$f":"FOURIER!N120","v":0},null,null,18.100973297050565,null,null,null,null,0,0,null,null,null,null,null,null,0,25.113499999999998,null,null,null,null,null,null,null,null,null,null,null,null,null,2.36,0.84899999999999998,0,{"$error":"#DIV/0!"},{"$error":"#DIV/0!"}]
[null,null,null,null,null,119,2.38,18.2437,2.9052734375,{"$f":"FOURIER!M121","v":0},{"$f":"FOURIER!N121","v":0},null,null,18.254371375839131,null,null,null,null,0,0,null,null,null,null,null,null,0,18.2437,null,null,null,null,null,null,null,null,null,null,null,null,null,2.38,0.85599999999999998,0,{"$error":"#DIV/0!"},{"$error":"#DIV/0!"}]
[null,null,null,null,null,120,2.4,16.7438,2.9296875,{"$f":"FOURIER!M122","v":0},{"$f":"FOURIER!N122","v":0},null,null,18.407769454627694,null,null,null,null,0,0,null,null,null,null,null,null,0,16.7438,null,null,null,null,null,null,null,null,null,null,null,null,null,2.4,0.86899999999999999,0,{"$error":"#DIV/0!"},{"$error":"#DIV/0!"}]
[null,null,null,null,null,121,2.42,16.623799999999999,2.9541015625,{"$f":"FOURIER!M123","v":0},{"$f":"FOURIER!N123","v":0},null,null,18.56116753341626,null,null,null,null,0,0,null,null,null,null,null,null,0,16.623799999999999,null,null,null,null,null,null,null,null,null,null,null,null,null,2.42,0.88800000000000001,0,{"$error":"#DIV/0!"},{"$error":"#DIV/0!"}]
[null,null,null,null,null,122,2.44,-9.4754000000000005,2.978515625,{"$f":"FOURIER!M124","v":0},{"$f":"FOURIER!N124","v":0},null,null,18.714565612204822,null,null,null,null,0,0,null,null,null,null,null,null,0,-9.4754000000000005,null,null,null,null,null,null,null,null,null,null,null,null,null,2.44,0.90900000000000003,0,{"$error":"#DIV/0!"},{"$error":"#DIV/0!"}]
[null,null,null,null,null,123,2.46,-24.8049,3.0029296875,{"$f":"FOURIER!M125","v":0},{"$f":"FOURIER!N125","v":0},null,null,18.867963690993388,null,null,null,null,0,0,null,null,null,null,null,null,0,-24.8049,null,null,null,null,null,null,null,null,null,null,null,null,null,2.46,0.92600000000000005,0,{"$error":"#DIV/0!"},{"$error":"#DIV/0!"}]
[null,null,null,null,null,124,2.48,-2.8456000000000001,3.02734375,{"$f":"FOURIER!M126","v":0},{"$f":"FOURIER!N126","v":0},null,null,19.021361769781951,null,null,null,null,0,0,null,null,null,null,null,null,0,-2.8456000000000001,null,null,null,null,null,null,null,null,null,null,null,null,null,2.48,0.93200000000000005,0,{"$error":"#DIV/0!"},{"$error":"#DIV/0!"}]
[null,null,null,null,null,125,2.5,36.543199999999999,3.0517578125,{"$f":"FOURIER!M127","v":0},{"$f":"FOURIER!N127","v":0},null,null,19.174759848570517,null,null,null,null,0,0,null,null,null,null,null,null,0,36.543199999999999,null,null,null,null,null,null,null,null,null,null,null,null,null,2.5,0.93600000000000005,0,{"$error":"#DIV/0!"},{"$error":"#DIV/0!"}]
[null,null,null,null,null,126,2.52,28.923400000000001,3.076171875,{"$f":"FOURIER!M128","v":0},{"$f":"FOURIER!N128","v":0},null,null,19.328157927359079,null,null,null,null,0,0,null,null,null,null,null,null,0,28.923400000000001,null,null,null,null,null,null,null,null,null,null,null,null,null,2.52,0.95,0,{"$error":"#DIV/0!"},{"$error":"#DIV/0!"}]
[null,null,null,null,null,127,2.54,-22.164999999999999,3.1005859375,{"$f":"FOURIER!M129","v":0},{"$f":"FOURIER!N129","v":0},null,null,19.481556006147645,null,null,null,null,0,0,null,null,null,null,null,null,0,-22.164999999999999,null,null,null,null,null,null,null,null,null,null,null,null,null,2.54,0.97299999999999998,0,{"$error":"#DIV/0!"},{"$error":"#DIV/0!"}]
[null,null,null,null,null,128,2.56,-40.674399999999999,3.125,{"$f":"FOURIER!M130","v":0},{"$f":"FOURIER!N130","v":0},null,null,{"$f":"2*PI()/B$9/B$6*F130","v":19.634954084936208},null,null,null,null,{"$f":"J130*O130-K130*P130","v":0},{"$f":"J130*P130+K130*O130","v":0},null,null,null,null,null,null,0,-40.674399999999999,null,null,null,null,null,null,null,null,null,null,null,null,null,{"$f":"G130","v":2.56},0.98599999999999999,0,{"$error":"#DIV/0!"},{"$error":"#DIV/0!"}]
[null,null,null,null,null,129,{"$f":"B$6*F131","v":2.58},-13.735200000000001,{"$f":"F131/B$9/B$6","v":3.1494140625},{"$f":"FOURIER!M131","v":0},{"$f":"FOURIER!N131","v":0},null,null,19.78835216372477,null,null,null,null,0,0,null,null,null,null,null,null,{"$f":"(Y131-Y130)/B$6","v":0},{"$f":"(AA131-AA130)/B$6+H131","v":-13.735200000000001},null,null,null,null,null,null,null,null,null,null,null,null,null,2.58,0.98299999999999998,0,{"$f":"(AQ131-AQ130)/O$6","v":{"$error":"#DIV/0!"}},{"$f":"(AS131-AS130)/O$6+S131","v":{"$error":"#DIV/0!"}}]
[null,null,null,null,null,130,2.6,4.2342000000000004,3.173828125,{"$f":"FOURIER!M132","v":0},{"$f":"FOURIER!N132","v":0},null,null,19.941750242513336,null,null,null,null,0,0,null,null,null,null,null,null,0,4.2342000000000004,null,null,null,null,null,null,null,null,null,null,null,null,null,2.6,0.97099999999999997,0,{"$error":"#DIV/0!"},{"$error":"#DIV/0!"}]
[null,null,null,null,null,131,2.62,-13.3752,3.1982421875,{"$f":"FOURIER!M133","v":0},{"$f":"FOURIER!N133","v":0},null,null,20.095148321301899,null,null,null,null,0,0,null,null,null,null,null,null,0,-13.3752,null,null,null,null,null,null,null,null,null,null,null,null,null,2.62,0.95799999999999996,0,{"$error":"#DIV/0!"},{"$error":"#DIV/0!"}]
[null,null,null,null,null,132,2.64,-25.7349,3.22265625,{"$f":"FOURIER!M134","v":0},{"$f":"FOURIER!N134","v":0},null,null,20.248546400090465,null,null,null,null,0,0,null,null,null,null,null,null,0,-25.7349,null,null,null,null,null,null,null,null,null,null,null,null,null,2.64,0.93799999999999994,0,{"$error":"#DIV/0!"},{"$error":"#DIV/0!"}]
[null,null,null,null,null,133,2.66,12.334,3.2470703125,{"$f":"FOURIER!M135","v":0},{"$f":"FOURIER!N135","v":0},null,null,20.401944478879027,null,null,null,null,0,0,null,null,null,null,null,null,0,12.334,null,null,null,null,null,null,null,null,null,null,null,null,null,2.66,0.90800000000000003,0,{"$error":"#DIV/0!"},{"$error":"#DIV/0!"}]
[null,null,null,null,null,134,2.68,42.333100000000002,3.271484375,{"$f":"FOURIER!M136","v":0},{"$f":"FOURIER!N136","v":0},null,null,20.555342557667593,null,null,null,null,0,0,null,null,null,null,null,null,0,42.333100000000002,null,null,null,null,null,null,null,null,null,null,null,null,null,2.68,0.88100000000000001,0,{"$error":"#DIV/0!"},{"$error":"#DIV/0!"}]
[null,null,null,null,null,135,2.7,6.4399999999999999E-2,3.2958984375,{"$f":"FOURIER!M137","v":0},{"$f":"FOURIER!N137","v":0},null,null,20.708740636456156,null,null,null,null,0,0,null,null,null,null,null,null,0,6.4399999999999999E-2,null,null,null,null,null,null,null,null,null,null,null,null,null,2.7,0.86699999999999999,0,{"$error":"#DIV/0!"},{"$error":"#DIV/0!"}]
[null,null,null,null,null,136,2.72,-60.323799999999999,3.3203125,{"$f":"FOURIER!M138","v":0},{"$f":"FOURIER!N138","v":0},null,null,20.862138715244722,null,null,null,null,0,0,null,null,null,null,null,null,0,-60.323799999999999,null,null,null,null,null,null,null,null,null,null,null,null,null,2.72,0.85,0,{"$error":"#DIV/0!"},{"$error":"#DIV/0!"}]
[null,null,null,null,null,137,2.74,-70.223500000000001,3.3447265625,{"$f":"FOURIER!M139","v":0},{"$f":"FOURIER!N139","v":0},null,null,21.015536794033284,null,null,null,null,0,0,null,null,null,null,null,null,0,-70.223500000000001,null,null,null,null,null,null,null,null,null,null,null,null,null,2.74,0.80900000000000005,0,{"$error":"#DIV/0!"},{"$error":"#DIV/0!"}]
[null,null,null,null,null,138,2.7600000000000002,-13.8552,3.369140625,{"$f":"FOURIER!M140","v":0},{"$f":"FOURIER!N140","v":0},null,null,21.16893487282185,null,null,null,null,0,0,null,null,null,null,null,null,0,-13.8552,null,null,null,null,null,null,null,null,null,null,null,null,null,2.7600000000000002,0.74099999999999999,0,{"$error":"#DIV/0!"},{"$error":"#DIV/0!"}]
[null,null,null,null,null,139,2.7800000000000002,24.243600000000001,3.3935546875,{"$f":"FOURIER!M141","v":0},{"$f":"FOURIER!N141","v":0},null,null,21.322332951610413,null,null,null,null,0,0,null,null,null,null,null,null,0,24.243600000000001,null,null,null,null,null,null,null,null,null,null,null,null,null,2.7800000000000002,0.66600000000000004,0,{"$error":"#DIV/0!"},{"$error":"#DIV/0!"}]
[null,null,null,null,null,140,2.8000000000000003,-2.2155,3.41796875,{"$f":"FOURIER!M142","v":0},{"$f":"FOURIER!N142","v":0},null,null,21.475731030398979,null,null,null,null,0,0,null,null,null,null,null,null,0,-2.2155,null,null,null,null,null,null,null,null,null,null,null,null,null,2.8000000000000003,0.59699999999999998,0,{"$error":"#DIV/0!"},{"$error":"#DIV/0!"}]
[null,null,null,null,null,141,2.82,-8.6952999999999996,3.4423828125,{"$f":"FOURIER!M143","v":0},{"$f":"FOURIER!N143","v":0},null,null,21.629129109187542,null,null,null,null,0,0,null,null,null,null,null,null,0,-8.6952999999999996,null,null,null,null,null,null,null,null,null,null,null,null,null,2.82,0.52700000000000002,0,{"$error":"#DIV/0!"},{"$error":"#DIV/0!"}]
[null,null,null,null,null,142,2.84,22.623699999999999,3.466796875,{"$f":"FOURIER!M144","v":0},{"$f":"FOURIER!N144","v":0},null,null,21.782527187976104,null,null,null,null,0,0,null,null,null,null,null,null,0,22.623699999999999,null,null,null,null,null,null,null,null,null,null,null,null,null,2.84,0.45400000000000001,0,{"$error":"#DIV/0!"},{"$error":"#DIV/0!"}]
[null,null,null,null,null,143,2.86,45.363,3.4912109375,{"$f":"FOURIER!M145","v":0},{"$f":"FOURIER!N145","v":0},null,null,21.93592526676467,null,null,null,null,0,0,null,null,null,null,null,null,0,45.363,null,null,null,null,null,null,null,null,null,null,null,null,null,2.86,0.38900000000000001,0,{"$error":"#DIV/0!"},{"$error":"#DIV/0!"}]
[null,null,null,null,null,144,2.88,30.543500000000002,3.515625,{"$f":"FOURIER!M146","v":0},{"$f":"FOURIER!N146","v":0},null,null,22.089323345553233,null,null,null,null,0,0,null,null,null,null,null,null,0,30.543500000000002,null,null,null,null,null,null,null,null,null,null,null,null,null,2.88,0.34,0,{"$error":"#DIV/0!"},{"$error":"#DIV/0!"}]
[null,null,null,null,null,145,2.9,-15.805099999999999,3.5400390625,{"$f":"FOURIER!M147","v":0},{"$f":"FOURIER!N147","v":0},null,null,22.242721424341799,null,null,null,null,0,0,null,null,null,null,null,null,0,-15.805099999999999,null,null,null,null,null,null,null,null,null,null,null,null,null,2.9,0.30199999999999999,0,{"$error":"#DIV/0!"},{"$error":"#DIV/0!"}]
[null,null,null,null,null,146,2.92,-21.1449,3.564453125,{"$f":"FOURIER!M148","v":0},{"$f":"FOURIER!N148","v":0},null,null,22.396119503130361,null,null,null,null,0,0,null,null,null,null,null,null,0,-21.1449,null,null,null,null,null,null,null,null,null,null,null,null,null,2.92,0.25900000000000001,0,{"$error":"#DIV/0!"},{"$error":"#DIV/0!"}]
[null,null,null,null,null,147,2.94,45.152999999999999,3.5888671875,{"$f":"FOURIER!M149","v":0},{"$f":"FOURIER!N149","v":0},null,null,22.549517581918927,null,null,null,null,0,0,null,null,null,null,null,null,0,45.152999999999999,null,null,null,null,null,null,null,null,null,null,null,null,null,2.94,0.21,0,{"$error":"#DIV/0!"},{"$error":"#DIV/0!"}]
[null,null,null,null,null,148,2.96,87.391800000000003,3.61328125,{"$f":"FOURIER!M150","v":0},{"$f":"FOURIER!N150","v":0},null,null,22.70291566070749,null,null,null,null,0,0,null,null,null,null,null,null,0,87.391800000000003,null,null,null,null,null,null,null,null,null,null,null,null,null,2.96,0.17699999999999999,0,{"$error":"#DIV/0!"},{"$error":"#DIV/0!"}]
[null,null,null,null,null,149,2.98,51.002899999999997,3.6376953125,{"$f":"FOURIER!M151","v":0},{"$f":"FOURIER!N151","v":0},null,null,22.856313739496056,null,null,null,null,0,0,null,null,null,null,null,null,0,51.002899999999997,null,null,null,null,null,null,null,null,null,null,null,null,null,2.98,0.17599999999999999,0,{"$error":"#DIV/0!"},{"$error":"#DIV/0!"}]
[null,null,null,null,null,150,3,16.024000000000001,3.662109375,{"$f":"FOURIER!M152","v":0},{"$f":"FOURIER!N152","v":0},null,null,23.009711818284618,null,null,null,null,0,0,null,null,null,null,null,null,0,16.024000000000001,null,null,null,null,null,null,null,null,null,null,null,null,null,3,0.19600000000000001,0,{"$error":"#DIV/0!"},{"$error":"#DIV/0!"}]
[null,null,null,null,null,151,3.02,43.503100000000003,3.6865234375,{"$f":"FOURIER!M153","v":0},{"$f":"FOURIER!N153","v":0},null,null,23.163109897073184,null,null,null,null,0,0,null,null,null,null,null,null,0,43.503100000000003,null,null,null,null,null,null,null,null,null,null,null,null,null,3.02,0.223,0,{"$error":"#DIV/0!"},{"$error":"#DIV/0!"}]
[null,null,null,null,null,152,3.04,92.671599999999998,3.7109375,{"$f":"FOURIER!M154","v":0},{"$f":"FOURIER!N154","v":0},null,null,23.316507975861747,null,null,null,null,0,0,null,null,null,null,null,null,0,92.671599999999998,null,null,null,null,null,null,null,null,null,null,null,null,null,3.04,0.26900000000000002,0,{"$error":"#DIV/0!"},{"$error":"#DIV/0!"}]
[null,null,null,null,null,153,3.06,83.671899999999994,3.7353515625,{"$f":"FOURIER!M155","v":0},{"$f":"FOURIER!N155","v":0},null,null,23.469906054650313,null,null,null,null,0,0,null,null,null,null,null,null,0,83.671899999999994,null,null,null,null,null,null,null,null,null,null,null,null,null,3.06,0.34799999999999998,0,{"$error":"#DIV/0!"},{"$error":"#DIV/0!"}]
[null,null,null,null,null,154,3.08,15.724,3.759765625,{"$f":"FOURIER!M156","v":0},{"$f":"FOURIER!N156","v":0},null,null,23.623304133438875,null,null,null,null,0,0,null,null,null,null,null,null,0,15.724,null,null,null,null,null,null,null,null,null,null,null,null,null,3.08,0.45800000000000002,0,{"$error":"#DIV/0!"},{"$error":"#DIV/0!"}]
[null,null,null,null,null,155,3.1,-23.004799999999999,3.7841796875,{"$f":"FOURIER!M157","v":0},{"$f":"FOURIER!N157","v":0},null,null,23.776702212227438,null,null,null,null,0,0,null,null,null,null,null,null,0,-23.004799999999999,null,null,null,null,null,null,null,null,null,null,null,null,null,3.1,0.57399999999999995,0,{"$error":"#DIV/0!"},{"$error":"#DIV/0!"}]
[null,null,null,null,null,156,3.12,-1.3754999999999999,3.80859375,{"$f":"FOURIER!M158","v":0},{"$f":"FOURIER!N158","v":0},null,null,23.930100291016004,null,null,null,null,0,0,null,null,null,null,null,null,0,-1.3754999999999999,null,null,null,null,null,null,null,null,null,null,null,null,null,3.12,0.68100000000000005,0,{"$error":"#DIV/0!"},{"$error":"#DIV/0!"}]
[null,null,null,null,null,157,3.14,24.273700000000002,3.8330078125,{"$f":"FOURIER!M159","v":0},{"$f":"FOURIER!N159","v":0},null,null,24.083498369804566,null,null,null,null,0,0,null,null,null,null,null,null,0,24.273700000000002,null,null,null,null,null,null,null,null,null,null,null,null,null,3.14,0.78600000000000003,0,{"$error":"#DIV/0!"},{"$error":"#DIV/0!"}]
[null,null,null,null,null,158,3.16,11.6441,3.857421875,{"$f":"FOURIER!M160","v":0},{"$f":"FOURIER!N160","v":0},null,null,24.236896448593132,null,null,null,null,0,0,null,null,null,null,null,null,0,11.6441,null,null,null,null,null,null,null,null,null,null,null,null,null,3.16,0.89700000000000002,0,{"$error":"#DIV/0!"},{"$error":"#DIV/0!"}]
[null,null,null,null,null,159,3.18,-5.1554000000000002,3.8818359375,{"$f":"FOURIER!M161","v":0},{"$f":"FOURIER!N161","v":0},null,null,24.390294527381695,null,null,null,null,0,0,null,null,null,null,null,null,0,-5.1554000000000002,null,null,null,null,null,null,null,null,null,null,null,null,null,3.18,1.01,0,{"$error":"#DIV/0!"},{"$error":"#DIV/0!"}]
[null,null,null,null,null,160,3.2,10.3842,3.90625,{"$f":"FOURIER!M162","v":0},{"$f":"FOURIER!N162","v":0},null,null,24.543692606170261,null,null,null,null,0,0,null,null,null,null,null,null,0,10.3842,null,null,null,null,null,null,null,null,null,null,null,null,null,3.2,1.1200000000000001,0,{"$error":"#DIV/0!"},{"$error":"#DIV/0!"}]
[null,null,null,null,null,161,3.22,52.712899999999998,3.9306640625,{"$f":"FOURIER!M163","v":0},{"$f":"FOURIER!N163","v":0},null,null,24.697090684958823,null,null,null,null,0,0,null,null,null,null,null,null,0,52.712899999999998,null,null,null,null,null,null,null,null,null,null,null,null,null,3.22,1.2330000000000001,0,{"$error":"#DIV/0!"},{"$error":"#DIV/0!"}]
[null,null,null,null,null,162,3.24,110.8811,3.955078125,{"$f":"FOURIER!M164","v":0},{"$f":"FOURIER!N164","v":0},null,null,24.850488763747389,null,null,null,null,0,0,null,null,null,null,null,null,0,110.8811,null,null,null,null,null,null,null,null,null,null,null,null,null,3.24,1.3640000000000001,0,{"$error":"#DIV/0!"},{"$error":"#DIV/0!"}]
[null,null,null,null,null,163,3.2600000000000002,170.7893,3.9794921875,{"$f":"FOURIER!M165","v":0},{"$f":"FOURIER!N165","v":0},null,null,25.003886842535952,null,null,null,null,0,0,null,null,null,null,null,null,0,170.7893,null,null,null,null,null,null,null,null,null,null,null,null,null,3.2600000000000002,1.536,0,{"$error":"#DIV/0!"},{"$error":"#DIV/0!"}]
[null,null,null,null,null,164,3.2800000000000002,208.6481,4.00390625,{"$f":"FOURIER!M166","v":0},{"$f":"FOURIER!N166","v":0},null,null,25.157284921324518,null,null,null,null,0,0,null,null,null,null,null,null,0,208.6481,null,null,null,null,null,null,null,null,null,null,null,null,null,3.2800000000000002,1.772,0,{"$error":"#DIV/0!"},{"$error":"#DIV/0!"}]
[null,null,null,null,null,165,3.3000000000000003,232.25739999999999,4.0283203125,{"$f":"FOURIER!M167","v":0},{"$f":"FOURIER!N167","v":0},null,null,25.31068300011308,null,null,null,null,0,0,null,null,null,null,null,null,0,232.25739999999999,null,null,null,null,null,null,null,null,null,null,null,null,null,3.3000000000000003,2.0870000000000002,0,{"$error":"#DIV/0!"},{"$error":"#DIV/0!"}]
[null,null,null,null,null,166,3.3200000000000003,263.90640000000002,4.052734375,{"$f":"FOURIER!M168","v":0},{"$f":"FOURIER!N168","v":0},null,null,25.464081078901646,null,null,null,null,0,0,null,null,null,null,null,null,0,263.90640000000002,null,null,null,null,null,null,null,null,null,null,null,null,null,3.3200000000000003,2.4889999999999999,0,{"$error":"#DIV/0!"},{"$error":"#DIV/0!"}]
[null,null,null,null,null,167,3.34,295.16550000000001,4.0771484375,{"$f":"FOURIER!M169","v":0},{"$f":"FOURIER!N169","v":0},null,null,25.617479157690209,null,null,null,null,0,0,null,null,null,null,null,null,0,295.16550000000001,null,null,null,null,null,null,null,null,null,null,null,null,null,3.34,2.99,0,{"$error":"#DIV/0!"},{"$error":"#DIV/0!"}]
[null,null,null,null,null,168,3.36,318.44479999999999,4.1015625,{"$f":"FOURIER!M170","v":0},{"$f":"FOURIER!N170","v":0},null,null,25.770877236478771,null,null,null,null,0,0,null,null,null,null,null,null,0,318.44479999999999,null,null,null,null,null,null,null,null,null,null,null,null,null,3.36,3.6,0,{"$error":"#DIV/0!"},{"$error":"#DIV/0!"}]
[null,null,null,null,null,169,3.38,345.98390000000001,4.1259765625,{"$f":"FOURIER!M171","v":0},{"$f":"FOURIER!N171","v":0},null,null,25.924275315267337,null,null,null,null,0,0,null,null,null,null,null,null,0,345.98390000000001,null,null,null,null,null,null,null,null,null,null,null,null,null,3.38,4.3289999999999997,0,{"$error":"#DIV/0!"},{"$error":"#DIV/0!"}]
[null,null,null,null,null,170,3.4,332.27429999999998,4.150390625,{"$f":"FOURIER!M172","v":0},{"$f":"FOURIER!N172","v":0},null,null,26.0776733940559,null,null,null,null,0,0,null,null,null,null,null,null,0,332.27429999999998,null,null,null,null,null,null,null,null,null,null,null,null,null,3.4,5.1820000000000004,0,{"$error":"#DIV/0!"},{"$error":"#DIV/0!"}]
[null,null,null,null,null,171,3.42,223.07769999999999,4.1748046875,{"$f":"FOURIER!M173","v":0},{"$f":"FOURIER!N173","v":0},null,null,26.231071472844466,null,null,null,null,0,0,null,null,null,null,null,null,0,223.07769999999999,null,null,null,null,null,null,null,null,null,null,null,null,null,3.42,6.1520000000000001,0,{"$error":"#DIV/0!"},{"$error":"#DIV/0!"}]
[null,null,null,null,null,172,3.44,82.802000000000007,4.19921875,{"$f":"FOURIER!M174","v":0},{"$f":"FOURIER!N174","v":0},null,null,26.384469551633028,null,null,null,null,0,0,null,null,null,null,null,null,0,82.802000000000007,null,null,null,null,null,null,null,null,null,null,null,null,null,3.44,7.1929999999999996,0,{"$error":"#DIV/0!"},{"$error":"#DIV/0!"}]
[null,null,null,null,null,173,3.46,-33.504399999999997,4.2236328125,{"$f":"FOURIER!M175","v":0},{"$f":"FOURIER!N175","v":0},null,null,26.537867630421594,null,null,null,null,0,0,null,null,null,null,null,null,0,-33.504399999999997,null,null,null,null,null,null,null,null,null,null,null,null,null,3.46,8.25,0,{"$error":"#DIV/0!"},{"$error":"#DIV/0!"}]
[null,null,null,null,null,174,3.48,-158.511,4.248046875,{"$f":"FOURIER!M176","v":0},{"$f":"FOURIER!N176","v":0},null,null,26.691265709210157,null,null,null,null,0,0,null,null,null,null,null,null,0,-158.511,null,null,null,null,null,null,null,null,null,null,null,null,null,3.48,9.2720000000000002,0,{"$error":"#DIV/0!"},{"$error":"#DIV/0!"}]
[null,null,null,null,null,175,3.5,-328.27499999999998,4.2724609375,{"$f":"FOURIER!M177","v":0},{"$f":"FOURIER!N177","v":0},null,null,26.844663787998723,null,null,null,null,0,0,null,null,null,null,null,null,0,-328.27499999999998,null,null,null,null,null,null,null,null,null,null,null,null,null,3.5,10.207000000000001,0,{"$error":"#DIV/0!"},{"$error":"#DIV/0!"}]
[null,null,null,null,null,176,3.52,-454.78199999999998,4.296875,{"$f":"FOURIER!M178","v":0},{"$f":"FOURIER!N178","v":0},null,null,26.998061866787285,null,null,null,null,0,0,null,null,null,null,null,null,0,-454.78199999999998,null,null,null,null,null,null,null,null,null,null,null,null,null,3.52,10.988,0,{"$error":"#DIV/0!"},{"$error":"#DIV/0!"}]
[null,null,null,null,null,177,3.54,-498.01,4.3212890625,{"$f":"FOURIER!M179","v":0},{"$f":"FOURIER!N179","v":0},null,null,27.151459945575851,null,null,null,null,0,0,null,null,null,null,null,null,0,-498.01,null,null,null,null,null,null,null,null,null,null,null,null,null,3.54,11.565,0,{"$error":"#DIV/0!"},{"$error":"#DIV/0!"}]
[null,null,null,null,null,178,3.56,-505.18,4.345703125,{"$f":"FOURIER!M180","v":0},{"$f":"FOURIER!N180","v":0},null,null,27.304858024364414,null,null,null,null,0,0,null,null,null,null,null,null,0,-505.18,null,null,null,null,null,null,null,null,null,null,null,null,null,3.56,11.919,0,{"$error":"#DIV/0!"},{"$error":"#DIV/0!"}]
[null,null,null,null,null,179,3.58,-511.42,4.3701171875,{"$f":"FOURIER!M181","v":0},{"$f":"FOURIER!N181","v":0},null,null,27.45825610315298,null,null,null,null,0,0,null,null,null,null,null,null,0,-511.42,null,null,null,null,null,null,null,null,null,null,null,null,null,3.58,12.045,0,{"$error":"#DIV/0!"},{"$error":"#DIV/0!"}]
[null,null,null,null,null,180,3.6,-535.83900000000006,4.39453125,{"$f":"FOURIER!M182","v":0},{"$f":"FOURIER!N182","v":0},null,null,27.611654181941542,null,null,null,null,0,0,null,null,null,null,null,null,0,-535.83900000000006,null,null,null,null,null,null,null,null,null,null,null,null,null,3.6,11.943,0,{"$error":"#DIV/0!"},{"$error":"#DIV/0!"}]
[null,null,null,null,null,181,3.62,-587.67700000000002,4.4189453125,{"$f":"FOURIER!M183","v":0},{"$f":"FOURIER!N183","v":0},null,null,27.765052260730105,null,null,null,null,0,0,null,null,null,null,null,null,0,-587.67700000000002,null,null,null,null,null,null,null,null,null,null,null,null,null,3.62,11.601000000000001,0,{"$error":"#DIV/0!"},{"$error":"#DIV/0!"}]
[null,null,null,null,null,182,3.64,-630.57600000000002,4.443359375,{"$f":"FOURIER!M184","v":0},{"$f":"FOURIER!N184","v":0},null,null,27.918450339518671,null,null,null,null,0,0,null,null,null,null,null,null,0,-630.57600000000002,null,null,null,null,null,null,null,null,null,null,null,null,null,3.64,11.004,0,{"$error":"#DIV/0!"},{"$error":"#DIV/0!"}]
[null,null,null,null,null,183,3.66,-557.31799999999998,4.4677734375,{"$f":"FOURIER!M185","v":0},{"$f":"FOURIER!N185","v":0},null,null,28.071848418307233,null,null,null,null,0,0,null,null,null,null,null,null,0,-557.31799999999998,null,null,null,null,null,null,null,null,null,null,null,null,null,3.66,10.138999999999999,0,{"$error":"#DIV/0!"},{"$error":"#DIV/0!"}]
[null,null,null,null,null,184,3.68,-351.07499999999999,4.4921875,{"$f":"FOURIER!M186","v":0},{"$f":"FOURIER!N186","v":0},null,null,28.225246497095799,null,null,null,null,0,0,null,null,null,null,null,null,0,-351.07499999999999,null,null,null,null,null,null,null,null,null,null,null,null,null,3.68,9.0389999999999997,0,{"$error":"#DIV/0!"},{"$error":"#DIV/0!"}]
[null,null,null,null,null,185,3.7,-137.93100000000001,4.5166015625,{"$f":"FOURIER!M187","v":0},{"$f":"FOURIER!N187","v":0},null,null,28.378644575884362,null,null,null,null,0,0,null,null,null,null,null,null,0,-137.93100000000001,null,null,null,null,null,null,null,null,null,null,null,null,null,3.7,7.7850000000000001,0,{"$error":"#DIV/0!"},{"$error":"#DIV/0!"}]
[null,null,null,null,null,186,3.72,-3.5952999999999999,4.541015625,{"$f":"FOURIER!M188","v":0},{"$f":"FOURIER!N188","v":0},null,null,28.532042654672928,null,null,null,null,0,0,null,null,null,null,null,null,0,-3.5952999999999999,null,null,null,null,null,null,null,null,null,null,null,null,null,3.72,6.4630000000000001,0,{"$error":"#DIV/0!"},{"$error":"#DIV/0!"}]
[null,null,null,null,null,187,3.74,65.312600000000003,4.5654296875,{"$f":"FOURIER!M189","v":0},{"$f":"FOURIER!N189","v":0},null,null,28.68544073346149,null,null,null,null,0,0,null,null,null,null,null,null,0,65.312600000000003,null,null,null,null,null,null,null,null,null,null,null,null,null,3.74,5.1289999999999996,0,{"$error":"#DIV/0!"},{"$error":"#DIV/0!"}]
[null,null,null,null,null,188,3.7600000000000002,133.68049999999999,4.58984375,{"$f":"FOURIER!M190","v":0},{"$f":"FOURIER!N190","v":0},null,null,28.838838812250057,null,null,null,null,0,0,null,null,null,null,null,null,0,133.68049999999999,null,null,null,null,null,null,null,null,null,null,null,null,null,3.7600000000000002,3.8170000000000002,0,{"$error":"#DIV/0!"},{"$error":"#DIV/0!"}]
[null,null,null,null,null,189,3.7800000000000002,176.9392,4.6142578125,{"$f":"FOURIER!M191","v":0},{"$f":"FOURIER!N191","v":0},null,null,28.992236891038619,null,null,null,null,0,0,null,null,null,null,null,null,0,176.9392,null,null,null,null,null,null,null,null,null,null,null,null,null,3.7800000000000002,2.5550000000000002,0,{"$error":"#DIV/0!"},{"$error":"#DIV/0!"}]
[null,null,null,null,null,190,3.8000000000000003,177.7192,4.638671875,{"$f":"FOURIER!M192","v":0},{"$f":"FOURIER!N192","v":0},null,null,29.145634969827185,null,null,null,null,0,0,null,null,null,null,null,null,0,177.7192,null,null,null,null,null,null,null,null,null,null,null,null,null,3.8000000000000003,1.3620000000000001,0,{"$error":"#DIV/0!"},{"$error":"#DIV/0!"}]
[null,null,null,null,null,191,3.8200000000000003,176.60919999999999,4.6630859375,{"$f":"FOURIER!M193","v":0},{"$f":"FOURIER!N193","v":0},null,null,29.299033048615748,null,null,null,null,0,0,null,null,null,null,null,null,0,176.60919999999999,null,null,null,null,null,null,null,null,null,null,null,null,null,3.8200000000000003,0.24199999999999999,0,{"$error":"#DIV/0!"},{"$error":"#DIV/0!"}]
[null,null,null,null,null,192,3.84,171.5994,4.6875,{"$f":"FOURIER!M194","v":0},{"$f":"FOURIER!N194","v":0},null,null,{"$f":"2*PI()/B$9/B$6*F194","v":29.45243112740431},null,null,null,null,{"$f":"J194*O194-K194*P194","v":0},{"$f":"J194*P194+K194*O194","v":0},null,null,null,null,null,null,0,171.5994,null,null,null,null,null,null,null,null,null,null,null,null,null,{"$f":"G194","v":3.84},-0.80300000000000005,0,{"$error":"#DIV/0!"},{"$error":"#DIV/0!"}]
[null,null,null,null,null,193,{"$f":"B$6*F195","v":3.86},145.92019999999999,{"$f":"F195/B$9/B$6","v":4.7119140625},{"$f":"FOURIER!M195","v":0},{"$f":"FOURIER!N195","v":0},null,null,29.605829206192876,null,null,null,null,0,0,null,null,null,null,null,null,{"$f":"(Y195-Y194)/B$6","v":0},{"$f":"(AA195-AA194)/B$6+H195","v":145.92019999999999},null,null,null,null,null,null,null,null,null,null,null,null,null,3.86,-1.7749999999999999,0,{"$f":"(AQ195-AQ194)/O$6","v":{"$error":"#DIV/0!"}},{"$f":"(AS195-AS194)/O$6+S195","v":{"$error":"#DIV/0!"}}]
[null,null,null,null,null,194,3.88,96.721699999999998,4.736328125,{"$f":"FOURIER!M196","v":0},{"$f":"FOURIER!N196","v":0},null,null,29.759227284981439,null,null,null,null,0,0,null,null,null,null,null,null,0,96.721699999999998,null,null,null,null,null,null,null,null,null,null,null,null,null,3.88,-2.681,0,{"$error":"#DIV/0!"},{"$error":"#DIV/0!"}]
[null,null,null,null,null,195,3.9,31.2637,4.7607421875,{"$f":"FOURIER!M197","v":0},{"$f":"FOURIER!N197","v":0},null,null,29.912625363770005,null,null,null,null,0,0,null,null,null,null,null,null,0,31.2637,null,null,null,null,null,null,null,null,null,null,null,null,null,3.9,-3.5409999999999999,0,{"$error":"#DIV/0!"},{"$error":"#DIV/0!"}]
[null,null,null,null,null,196,3.92,-9.9250000000000007,4.78515625,{"$f":"FOURIER!M198","v":0},{"$f":"FOURIER!N198","v":0},null,null,30.066023442558567,null,null,null,null,0,0,null,null,null,null,null,null,0,-9.9250000000000007,null,null,null,null,null,null,null,null,null,null,null,null,null,3.92,-4.3769999999999998,0,{"$error":"#DIV/0!"},{"$error":"#DIV/0!"}]
[null,null,null,null,null,197,3.94,14.4642,4.8095703125,{"$f":"FOURIER!M199","v":0},{"$f":"FOURIER!N199","v":0},null,null,30.219421521347133,null,null,null,null,0,0,null,null,null,null,null,null,0,14.4642,null,null,null,null,null,null,null,null,null,null,null,null,null,3.94,-5.2030000000000003,0,{"$error":"#DIV/0!"},{"$error":"#DIV/0!"}]
[null,null,null,null,null,198,3.96,61.802799999999998,4.833984375,{"$f":"FOURIER!M200","v":0},{"$f":"FOURIER!N200","v":0},null,null,30.372819600135696,null,null,null,null,0,0,null,null,null,null,null,null,0,61.802799999999998,null,null,null,null,null,null,null,null,null,null,null,null,null,3.96,-6.008,0,{"$error":"#DIV/0!"},{"$error":"#DIV/0!"}]
[null,null,null,null,null,199,3.98,96.541700000000006,4.8583984375,{"$f":"FOURIER!M201","v":0},{"$f":"FOURIER!N201","v":0},null,null,30.526217678924262,null,null,null,null,0,0,null,null,null,null,null,null,0,96.541700000000006,null,null,null,null,null,null,null,null,null,null,null,null,null,3.98,-6.774,0,{"$error":"#DIV/0!"},{"$error":"#DIV/0!"}]
[null,null,null,null,null,200,4,133.38059999999999,4.8828125,{"$f":"FOURIER!M202","v":0},{"$f":"FOURIER!N202","v":0},null,null,30.679615757712824,null,null,null,null,0,0,null,null,null,null,null,null,0,133.38059999999999,null,null,null,null,null,null,null,null,null,null,null,null,null,4,-7.4850000000000003,0,{"$error":"#DIV/0!"},{"$error":"#DIV/0!"}]
[null,null,null,null,null,201,4.0200000000000005,164.00970000000001,4.9072265625,{"$f":"FOURIER!M203","v":0},{"$f":"FOURIER!N203","v":0},null,null,30.83301383650139,null,null,null,null,0,0,null,null,null,null,null,null,0,164.00970000000001,null,null,null,null,null,null,null,null,null,null,null,null,null,4.0200000000000005,-8.1240000000000006,0,{"$error":"#DIV/0!"},{"$error":"#DIV/0!"}]
[null,null,null,null,null,202,4.04,189.80889999999999,4.931640625,{"$f":"FOURIER!M204","v":0},{"$f":"FOURIER!N204","v":0},null,null,30.986411915289953,null,null,null,null,0,0,null,null,null,null,null,null,0,189.80889999999999,null,null,null,null,null,null,null,null,null,null,null,null,null,4.04,-8.68,0,{"$error":"#DIV/0!"},{"$error":"#DIV/0!"}]
[null,null,null,null,null,203,4.0600000000000005,211.19820000000001,4.9560546875,{"$f":"FOURIER!M205","v":0},{"$f":"FOURIER!N205","v":0},null,null,31.139809994078519,null,null,null,null,0,0,null,null,null,null,null,null,0,211.19820000000001,null,null,null,null,null,null,null,null,null,null,null,null,null,4.0600000000000005,-9.14,0,{"$error":"#DIV/0!"},{"$error":"#DIV/0!"}]
[null,null,null,null,null,204,4.08,229.85759999999999,4.98046875,{"$f":"FOURIER!M206","v":0},{"$f":"FOURIER!N206","v":0},null,null,31.293208072867081,null,null,null,null,0,0,null,null,null,null,null,null,0,229.85759999999999,null,null,null,null,null,null,null,null,null,null,null,null,null,4.08,-9.4960000000000004,0,{"$error":"#DIV/0!"},{"$error":"#DIV/0!"}]
[null,null,null,null,null,205,4.0999999999999996,261.80669999999998,5.0048828125,{"$f":"FOURIER!M207","v":0},{"$f":"FOURIER!N207","v":0},null,null,31.446606151655644,null,null,null,null,0,0,null,null,null,null,null,null,0,261.80669999999998,null,null,null,null,null,null,null,null,null,null,null,null,null,4.0999999999999996,-9.74,0,{"$error":"#DIV/0!"},{"$error":"#DIV/0!"}]
[null,null,null,null,null,206,4.12,319.55489999999998,5.029296875,{"$f":"FOURIER!M208","v":0},{"$f":"FOURIER!N208","v":0},null,null,31.60000423044421,null,null,null,null,0,0,null,null,null,null,null,null,0,319.55489999999998,null,null,null,null,null,null,null,null,null,null,null,null,null,4.12,-9.8569999999999993,0,{"$error":"#DIV/0!"},{"$error":"#DIV/0!"}]
[null,null,null,null,null,207,4.1399999999999997,391.85270000000003,5.0537109375,{"$f":"FOURIER!M209","v":0},{"$f":"FOURIER!N209","v":0},null,null,31.753402309232772,null,null,null,null,0,0,null,null,null,null,null,null,0,391.85270000000003,null,null,null,null,null,null,null,null,null,null,null,null,null,4.1399999999999997,-9.8260000000000005,0,{"$error":"#DIV/0!"},{"$error":"#DIV/0!"}]
[null,null,null,null,null,208,4.16,451.10090000000002,5.078125,{"$f":"FOURIER!M210","v":0},{"$f":"FOURIER!N210","v":0},null,null,31.906800388021338,null,null,null,null,0,0,null,null,null,null,null,null,0,451.10090000000002,null,null,null,null,null,null,null,null,null,null,null,null,null,4.16,-9.6189999999999998,0,{"$error":"#DIV/0!"},{"$error":"#DIV/0!"}]
[null,null,null,null,null,209,4.18,474.41019999999997,5.1025390625,{"$f":"FOURIER!M211","v":0},{"$f":"FOURIER!N211","v":0},null,null,32.060198466809901,null,null,null,null,0,0,null,null,null,null,null,null,0,474.41019999999997,null,null,null,null,null,null,null,null,null,null,null,null,null,4.18,-9.2149999999999999,0,{"$error":"#DIV/0!"},{"$error":"#DIV/0!"}]
[null,null,null,null,null,210,4.2,470.5403,5.126953125,{"$f":"FOURIER!M212","v":0},{"$f":"FOURIER!N212","v":0},null,null,32.213596545598463,null,null,null,null,0,0,null,null,null,null,null,null,0,470.5403,null,null,null,null,null,null,null,null,null,null,null,null,null,4.2,-8.6059999999999999,0,{"$error":"#DIV/0!"},{"$error":"#DIV/0!"}]
[null,null,null,null,null,211,4.22,464.33049999999997,5.1513671875,{"$f":"FOURIER!M213","v":0},{"$f":"FOURIER!N213","v":0},null,null,32.366994624387033,null,null,null,null,0,0,null,null,null,null,null,null,0,464.33049999999997,null,null,null,null,null,null,null,null,null,null,null,null,null,4.22,-7.7939999999999996,0,{"$error":"#DIV/0!"},{"$error":"#DIV/0!"}]
[null,null,null,null,null,212,4.24,470.4203,5.17578125,{"$f":"FOURIER!M214","v":0},{"$f":"FOURIER!N214","v":0},null,null,32.520392703175595,null,null,null,null,0,0,null,null,null,null,null,null,0,470.4203,null,null,null,null,null,null,null,null,null,null,null,null,null,4.24,-6.7830000000000004,0,{"$error":"#DIV/0!"},{"$error":"#DIV/0!"}]
[null,null,null,null,null,213,4.26,473.87020000000001,5.2001953125,{"$f":"FOURIER!M215","v":0},{"$f":"FOURIER!N215","v":0},null,null,32.673790781964158,null,null,null,null,0,0,null,null,null,null,null,null,0,473.87020000000001,null,null,null,null,null,null,null,null,null,null,null,null,null,4.26,-5.5759999999999996,0,{"$error":"#DIV/0!"},{"$error":"#DIV/0!"}]
[null,null,null,null,null,214,4.28,425.12169999999998,5.224609375,{"$f":"FOURIER!M216","v":0},{"$f":"FOURIER!N216","v":0},null,null,32.82718886075272,null,null,null,null,0,0,null,null,null,null,null,null,0,425.12169999999998,null,null,null,null,null,null,null,null,null,null,null,null,null,4.28,-4.1740000000000004,0,{"$error":"#DIV/0!"},{"$error":"#DIV/0!"}]
[null,null,null,null,null,215,4.3,297.23559999999998,5.2490234375,{"$f":"FOURIER!M217","v":0},{"$f":"FOURIER!N217","v":0},null,null,32.98058693954129,null,null,null,null,0,0,null,null,null,null,null,null,0,297.23559999999998,null,null,null,null,null,null,null,null,null,null,null,null,null,4.3,-2.6019999999999999,0,{"$error":"#DIV/0!"},{"$error":"#DIV/0!"}]
[null,null,null,null,null,216,4.32,120.6611,5.2734375,{"$f":"FOURIER!M218","v":0},{"$f":"FOURIER!N218","v":0},null,null,33.133985018329852,null,null,null,null,0,0,null,null,null,null,null,null,0,120.6611,null,null,null,null,null,null,null,null,null,null,null,null,null,4.32,-0.91500000000000004,0,{"$error":"#DIV/0!"},{"$error":"#DIV/0!"}]
[null,null,null,null,null,217,4.34,-56.8735,5.2978515625,{"$f":"FOURIER!M219","v":0},{"$f":"FOURIER!N219","v":0},null,null,33.287383097118415,null,null,null,null,0,0,null,null,null,null,null,null,0,-56.8735,null,null,null,null,null,null,null,null,null,null,null,null,null,4.34,0.81599999999999995,0,{"$error":"#DIV/0!"},{"$error":"#DIV/0!"}]
[null,null,null,null,null,218,4.3600000000000003,-201.97900000000001,5.322265625,{"$f":"FOURIER!M220","v":0},{"$f":"FOURIER!N220","v":0},null,null,33.440781175906977,null,null,null,null,0,0,null,null,null,null,null,null,0,-201.97900000000001,null,null,null,null,null,null,null,null,null,null,null,null,null,4.3600000000000003,2.5169999999999999,0,{"$error":"#DIV/0!"},{"$error":"#DIV/0!"}]
[null,null,null,null,null,219,4.38,-289.33600000000001,5.3466796875,{"$f":"FOURIER!M221","v":0},{"$f":"FOURIER!N221","v":0},null,null,33.59417925469554,null,null,null,null,0,0,null,null,null,null,null,null,0,-289.33600000000001,null,null,null,null,null,null,null,null,null,null,null,null,null,4.38,4.1269999999999998,0,{"$error":"#DIV/0!"},{"$error":"#DIV/0!"}]
[null,null,null,null,null,220,4.4000000000000004,-343.60500000000002,5.37109375,{"$f":"FOURIER!M222","v":0},{"$f":"FOURIER!N222","v":0},null,null,33.747577333484109,null,null,null,null,0,0,null,null,null,null,null,null,0,-343.60500000000002,null,null,null,null,null,null,null,null,null,null,null,null,null,4.4000000000000004,5.6079999999999997,0,{"$error":"#DIV/0!"},{"$error":"#DIV/0!"}]
[null,null,null,null,null,221,4.42,-393.613,5.3955078125,{"$f":"FOURIER!M223","v":0},{"$f":"FOURIER!N223","v":0},null,null,33.900975412272672,null,null,null,null,0,0,null,null,null,null,null,null,0,-393.613,null,null,null,null,null,null,null,null,null,null,null,null,null,4.42,6.9340000000000002,0,{"$error":"#DIV/0!"},{"$error":"#DIV/0!"}]
[null,null,null,null,null,222,4.4400000000000004,-443.65199999999999,5.419921875,{"$f":"FOURIER!M224","v":0},{"$f":"FOURIER!N224","v":0},null,null,34.054373491061234,null,null,null,null,0,0,null,null,null,null,null,null,0,-443.65199999999999,null,null,null,null,null,null,null,null,null,null,null,null,null,4.4400000000000004,8.0850000000000009,0,{"$error":"#DIV/0!"},{"$error":"#DIV/0!"}]
[null,null,null,null,null,223,4.46,-511.96,5.4443359375,{"$f":"FOURIER!M225","v":0},{"$f":"FOURIER!N225","v":0},null,null,34.207771569849797,null,null,null,null,0,0,null,null,null,null,null,null,0,-511.96,null,null,null,null,null,null,null,null,null,null,null,null,null,4.46,9.0359999999999996,0,{"$error":"#DIV/0!"},{"$error":"#DIV/0!"}]
[null,null,null,null,null,224,4.4800000000000004,-594.30700000000002,5.46875,{"$f":"FOURIER!M226","v":0},{"$f":"FOURIER!N226","v":0},null,null,34.361169648638366,null,null,null,null,0,0,null,null,null,null,null,null,0,-594.30700000000002,null,null,null,null,null,null,null,null,null,null,null,null,null,4.4800000000000004,9.7609999999999992,0,{"$error":"#DIV/0!"},{"$error":"#DIV/0!"}]
[null,null,null,null,null,225,4.5,-677.70399999999995,5.4931640625,{"$f":"FOURIER!M227","v":0},{"$f":"FOURIER!N227","v":0},null,null,34.514567727426929,null,null,null,null,0,0,null,null,null,null,null,null,0,-677.70399999999995,null,null,null,null,null,null,null,null,null,null,null,null,null,4.5,10.226000000000001,0,{"$error":"#DIV/0!"},{"$error":"#DIV/0!"}]
[null,null,null,null,null,226,4.5200000000000005,-763.17200000000003,5.517578125,{"$f":"FOURIER!M228","v":0},{"$f":"FOURIER!N228","v":0},null,null,34.667965806215491,null,null,null,null,0,0,null,null,null,null,null,null,0,-763.17200000000003,null,null,null,null,null,null,null,null,null,null,null,null,null,4.5200000000000005,10.397,0,{"$error":"#DIV/0!"},{"$error":"#DIV/0!"}]
[null,null,null,null,null,227,4.54,-820.56,5.5419921875,{"$f":"FOURIER!M229","v":0},{"$f":"FOURIER!N229","v":0},null,null,34.821363885004054,null,null,null,null,0,0,null,null,null,null,null,null,0,-820.56,null,null,null,null,null,null,null,null,null,null,null,null,null,4.54,10.244,0,{"$error":"#DIV/0!"},{"$error":"#DIV/0!"}]
[null,null,null,null,null,228,4.5600000000000005,-812.61,5.56640625,{"$f":"FOURIER!M230","v":0},{"$f":"FOURIER!N230","v":0},null,null,34.974761963792623,null,null,null,null,0,0,null,null,null,null,null,null,0,-812.61,null,null,null,null,null,null,null,null,null,null,null,null,null,4.5600000000000005,9.7439999999999998,0,{"$error":"#DIV/0!"},{"$error":"#DIV/0!"}]
[null,null,null,null,null,229,4.58,-705.154,5.5908203125,{"$f":"FOURIER!M231","v":0},{"$f":"FOURIER!N231","v":0},null,null,35.128160042581186,null,null,null,null,0,0,null,null,null,null,null,null,0,-705.154,null,null,null,null,null,null,null,null,null,null,null,null,null,4.58,8.9060000000000006,0,{"$error":"#DIV/0!"},{"$error":"#DIV/0!"}]
[null,null,null,null,null,230,4.6000000000000005,-522.279,5.615234375,{"$f":"FOURIER!M232","v":0},{"$f":"FOURIER!N232","v":0},null,null,35.281558121369748,null,null,null,null,0,0,null,null,null,null,null,null,0,-522.279,null,null,null,null,null,null,null,null,null,null,null,null,null,4.6000000000000005,7.7750000000000004,0,{"$error":"#DIV/0!"},{"$error":"#DIV/0!"}]
[null,null,null,null,null,231,4.62,-346.30500000000001,5.6396484375,{"$f":"FOURIER!M233","v":0},{"$f":"FOURIER!N233","v":0},null,null,35.434956200158311,null,null,null,null,0,0,null,null,null,null,null,null,0,-346.30500000000001,null,null,null,null,null,null,null,null,null,null,null,null,null,4.62,6.423,0,{"$error":"#DIV/0!"},{"$error":"#DIV/0!"}]
[null,null,null,null,null,232,4.6399999999999997,-208.339,5.6640625,{"$f":"FOURIER!M234","v":0},{"$f":"FOURIER!N234","v":0},null,null,35.588354278946873,null,null,null,null,0,0,null,null,null,null,null,null,0,-208.339,null,null,null,null,null,null,null,null,null,null,null,null,null,4.6399999999999997,4.9240000000000004,0,{"$error":"#DIV/0!"},{"$error":"#DIV/0!"}]
[null,null,null,null,null,233,4.66,-96.772199999999998,5.6884765625,{"$f":"FOURIER!M235","v":0},{"$f":"FOURIER!N235","v":0},null,null,35.741752357735443,null,null,null,null,0,0,null,null,null,null,null,null,0,-96.772199999999998,null,null,null,null,null,null,null,null,null,null,null,null,null,4.66,3.3380000000000001,0,{"$error":"#DIV/0!"},{"$error":"#DIV/0!"}]
[null,null,null,null,null,234,4.68,-19.374600000000001,5.712890625,{"$f":"FOURIER!M236","v":0},{"$f":"FOURIER!N236","v":0},null,null,35.895150436524005,null,null,null,null,0,0,null,null,null,null,null,null,0,-19.374600000000001,null,null,null,null,null,null,null,null,null,null,null,null,null,4.68,1.7110000000000001,0,{"$error":"#DIV/0!"},{"$error":"#DIV/0!"}]
[null,null,null,null,null,235,4.7,22.354199999999999,5.7373046875,{"$f":"FOURIER!M237","v":0},{"$f":"FOURIER!N237","v":0},null,null,36.048548515312568,null,null,null,null,0,0,null,null,null,null,null,null,0,22.354199999999999,null,null,null,null,null,null,null,null,null,null,null,null,null,4.7,7.8E-2,0,{"$error":"#DIV/0!"},{"$error":"#DIV/0!"}]
[null,null,null,null,null,236,4.72,70.082700000000003,5.76171875,{"$f":"FOURIER!M238","v":0},{"$f":"FOURIER!N238","v":0},null,null,36.20194659410113,null,null,null,null,0,0,null,null,null,null,null,null,0,70.082700000000003,null,null,null,null,null,null,null,null,null,null,null,null,null,4.72,-1.5389999999999999,0,{"$error":"#DIV/0!"},{"$error":"#DIV/0!"}]
[null,null,null,null,null,237,4.74,148.8903,5.7861328125,{"$f":"FOURIER!M239","v":0},{"$f":"FOURIER!N239","v":0},null,null,36.3553446728897,null,null,null,null,0,0,null,null,null,null,null,null,0,148.8903,null,null,null,null,null,null,null,null,null,null,null,null,null,4.74,-3.117,0,{"$error":"#DIV/0!"},{"$error":"#DIV/0!"}]
[null,null,null,null,null,238,4.76,224.78800000000001,5.810546875,{"$f":"FOURIER!M240","v":0},{"$f":"FOURIER!N240","v":0},null,null,36.508742751678263,null,null,null,null,0,0,null,null,null,null,null,null,0,224.78800000000001,null,null,null,null,null,null,null,null,null,null,null,null,null,4.76,-4.6239999999999997,0,{"$error":"#DIV/0!"},{"$error":"#DIV/0!"}]
[null,null,null,null,null,239,4.78,279.05630000000002,5.8349609375,{"$f":"FOURIER!M241","v":0},{"$f":"FOURIER!N241","v":0},null,null,36.662140830466825,null,null,null,null,0,0,null,null,null,null,null,null,0,279.05630000000002,null,null,null,null,null,null,null,null,null,null,null,null,null,4.78,-6.0259999999999998,0,{"$error":"#DIV/0!"},{"$error":"#DIV/0!"}]
[null,null,null,null,null,240,4.8,325.19490000000002,5.859375,{"$f":"FOURIER!M242","v":0},{"$f":"FOURIER!N242","v":0},null,null,36.815538909255388,null,null,null,null,0,0,null,null,null,null,null,null,0,325.19490000000002,null,null,null,null,null,null,null,null,null,null,null,null,null,4.8,-7.3,0,{"$error":"#DIV/0!"},{"$error":"#DIV/0!"}]
[null,null,null,null,null,241,4.82,338.00450000000001,5.8837890625,{"$f":"FOURIER!M243","v":0},{"$f":"FOURIER!N243","v":0},null,null,36.968936988043957,null,null,null,null,0,0,null,null,null,null,null,null,0,338.00450000000001,null,null,null,null,null,null,null,null,null,null,null,null,null,4.82,-8.4239999999999995,0,{"$error":"#DIV/0!"},{"$error":"#DIV/0!"}]
[null,null,null,null,null,242,4.84,305.90550000000002,5.908203125,{"$f":"FOURIER!M244","v":0},{"$f":"FOURIER!N244","v":0},null,null,37.12233506683252,null,null,null,null,0,0,null,null,null,null,null,null,0,305.90550000000002,null,null,null,null,null,null,null,null,null,null,null,null,null,4.84,-9.3949999999999996,0,{"$error":"#DIV/0!"},{"$error":"#DIV/0!"}]
[null,null,null,null,null,243,4.8600000000000003,261.3569,5.9326171875,{"$f":"FOURIER!M245","v":0},{"$f":"FOURIER!N245","v":0},null,null,37.275733145621082,null,null,null,null,0,0,null,null,null,null,null,null,0,261.3569,null,null,null,null,null,null,null,null,null,null,null,null,null,4.8600000000000003,-10.220000000000001,0,{"$error":"#DIV/0!"},{"$error":"#DIV/0!"}]
[null,null,null,null,null,244,4.88,207.17850000000001,5.95703125,{"$f":"FOURIER!M246","v":0},{"$f":"FOURIER!N246","v":0},null,null,37.429131224409645,null,null,null,null,0,0,null,null,null,null,null,null,0,207.17850000000001,null,null,null,null,null,null,null,null,null,null,null,null,null,4.88,-10.917999999999999,0,{"$error":"#DIV/0!"},{"$error":"#DIV/0!"}]
[null,null,null,null,null,245,4.9000000000000004,118.0813,5.9814453125,{"$f":"FOURIER!M247","v":0},{"$f":"FOURIER!N247","v":0},null,null,37.582529303198207,null,null,null,null,0,0,null,null,null,null,null,null,0,118.0813,null,null,null,null,null,null,null,null,null,null,null,null,null,4.9000000000000004,-11.509,0,{"$error":"#DIV/0!"},{"$error":"#DIV/0!"}]
[null,null,null,null,null,246,4.92,7.8047000000000004,6.005859375,{"$f":"FOURIER!M248","v":0},{"$f":"FOURIER!N248","v":0},null,null,37.735927381986777,null,null,null,null,0,0,null,null,null,null,null,null,0,7.8047000000000004,null,null,null,null,null,null,null,null,null,null,null,null,null,4.92,-12.029,0,{"$error":"#DIV/0!"},{"$error":"#DIV/0!"}]
[null,null,null,null,null,247,4.9400000000000004,-70.942899999999995,6.0302734375,{"$f":"FOURIER!M249","v":0},{"$f":"FOURIER!N249","v":0},null,null,37.889325460775339,null,null,null,null,0,0,null,null,null,null,null,null,0,-70.942899999999995,null,null,null,null,null,null,null,null,null,null,null,null,null,4.9400000000000004,-12.519,0,{"$error":"#DIV/0!"},{"$error":"#DIV/0!"}]
[null,null,null,null,null,248,4.96,-100.072,6.0546875,{"$f":"FOURIER!M250","v":0},{"$f":"FOURIER!N250","v":0},null,null,38.042723539563902,null,null,null,null,0,0,null,null,null,null,null,null,0,-100.072,null,null,null,null,null,null,null,null,null,null,null,null,null,4.96,-13.007999999999999,0,{"$error":"#DIV/0!"},{"$error":"#DIV/0!"}]
[null,null,null,null,null,249,4.9800000000000004,-118.22199999999999,6.0791015625,{"$f":"FOURIER!M251","v":0},{"$f":"FOURIER!N251","v":0},null,null,38.196121618352464,null,null,null,null,0,0,null,null,null,null,null,null,0,-118.22199999999999,null,null,null,null,null,null,null,null,null,null,null,null,null,4.9800000000000004,-13.509,0,{"$error":"#DIV/0!"},{"$error":"#DIV/0!"}]
[null,null,null,null,null,250,5,-142.70099999999999,6.103515625,{"$f":"FOURIER!M252","v":0},{"$f":"FOURIER!N252","v":0},null,null,38.349519697141034,null,null,null,null,0,0,null,null,null,null,null,null,0,-142.70099999999999,null,null,null,null,null,null,null,null,null,null,null,null,null,5,-14.028,0,{"$error":"#DIV/0!"},{"$error":"#DIV/0!"}]
[null,null,null,null,null,251,5.0200000000000005,-156.38,6.1279296875,{"$f":"FOURIER!M253","v":0},{"$f":"FOURIER!N253","v":0},null,null,38.502917775929596,null,null,null,null,0,0,null,null,null,null,null,null,0,-156.38,null,null,null,null,null,null,null,null,null,null,null,null,null,5.0200000000000005,-14.574,0,{"$error":"#DIV/0!"},{"$error":"#DIV/0!"}]
[null,null,null,null,null,252,5.04,-162.62,6.15234375,{"$f":"FOURIER!M254","v":0},{"$f":"FOURIER!N254","v":0},null,null,38.656315854718159,null,null,null,null,0,0,null,null,null,null,null,null,0,-162.62,null,null,null,null,null,null,null,null,null,null,null,null,null,5.04,-15.151,0,{"$error":"#DIV/0!"},{"$error":"#DIV/0!"}]
[null,null,null,null,null,253,5.0600000000000005,-179.48,6.1767578125,{"$f":"FOURIER!M255","v":0},{"$f":"FOURIER!N255","v":0},null,null,38.809713933506721,null,null,null,null,0,0,null,null,null,null,null,null,0,-179.48,null,null,null,null,null,null,null,null,null,null,null,null,null,5.0600000000000005,-15.760999999999999,0,{"$error":"#DIV/0!"},{"$error":"#DIV/0!"}]
[null,null,null,null,null,254,5.08,-188.239,6.201171875,{"$f":"FOURIER!M256","v":0},{"$f":"FOURIER!N256","v":0},null,null,38.963112012295291,null,null,null,null,0,0,null,null,null,null,null,null,0,-188.239,null,null,null,null,null,null,null,null,null,null,null,null,null,5.08,-16.408000000000001,0,{"$error":"#DIV/0!"},{"$error":"#DIV/0!"}]
[null,null,null,null,null,255,5.1000000000000005,-175.04,6.2255859375,{"$f":"FOURIER!M257","v":0},{"$f":"FOURIER!N257","v":0},null,null,39.116510091083853,null,null,null,null,0,0,null,null,null,null,null,null,0,-175.04,null,null,null,null,null,null,null,null,null,null,null,null,null,5.1000000000000005,-17.094000000000001,0,{"$error":"#DIV/0!"},{"$error":"#DIV/0!"}]
[null,null,null,null,null,256,5.12,-130.46100000000001,6.25,{"$f":"FOURIER!M258","v":0},{"$f":"FOURIER!N258","v":0},null,null,{"$f":"2*PI()/B$9/B$6*F258","v":39.269908169872416},null,null,null,null,{"$f":"J258*O258-K258*P258","v":0},{"$f":"J258*P258+K258*O258","v":0},null,null,null,null,null,null,0,-130.46100000000001,null,null,null,null,null,null,null,null,null,null,null,null,null,{"$f":"G258","v":5.12},-17.812000000000001,0,{"$error":"#DIV/0!"},{"$error":"#DIV/0!"}]
[null,null,null,null,null,257,{"$f":"B$6*F259","v":5.14},-38.933799999999998,{"$f":"F259/B$9/B$6","v":6.2744140625},{"$f":"FOURIER!M259","v":0},{"$f":"FOURIER!N259","v":0},null,null,39.423306248660978,null,null,null,null,0,0,null,null,null,null,null,null,{"$f":"(Y259-Y258)/B$6","v":0},{"$f":"(AA259-AA258)/B$6+H259","v":-38.933799999999998},null,null,null,null,null,null,null,null,null,null,null,null,null,5.14,-18.542000000000002,0,{"$f":"(AQ259-AQ258)/O$6","v":{"$error":"#DIV/0!"}},{"$f":"(AS259-AS258)/O$6+S259","v":{"$error":"#DIV/0!"}}]
[null,null,null,null,null,258,5.16,44.2836,6.298828125,{"$f":"FOURIER!M260","v":0},{"$f":"FOURIER!N260","v":0},null,null,39.576704327449541,null,null,null,null,0,0,null,null,null,null,null,null,0,44.2836,null,null,null,null,null,null,null,null,null,null,null,null,null,5.16,-19.248999999999999,0,{"$error":"#DIV/0!"},{"$error":"#DIV/0!"}]
[null,null,null,null,null,259,5.18,77.6126,6.3232421875,{"$f":"FOURIER!M261","v":0},{"$f":"FOURIER!N261","v":0},null,null,39.73010240623811,null,null,null,null,0,0,null,null,null,null,null,null,0,77.6126,null,null,null,null,null,null,null,null,null,null,null,null,null,5.18,-19.898,0,{"$error":"#DIV/0!"},{"$error":"#DIV/0!"}]
[null,null,null,null,null,260,5.2,108.33159999999999,6.34765625,{"$f":"FOURIER!M262","v":0},{"$f":"FOURIER!N262","v":0},null,null,39.883500485026673,null,null,null,null,0,0,null,null,null,null,null,null,0,108.33159999999999,null,null,null,null,null,null,null,null,null,null,null,null,null,5.2,-20.472999999999999,0,{"$error":"#DIV/0!"},{"$error":"#DIV/0!"}]
[null,null,null,null,null,261,5.22,127.3511,6.3720703125,{"$f":"FOURIER!M263","v":0},{"$f":"FOURIER!N263","v":0},null,null,40.036898563815235,null,null,null,null,0,0,null,null,null,null,null,null,0,127.3511,null,null,null,null,null,null,null,null,null,null,null,null,null,5.22,-20.963000000000001,0,{"$error":"#DIV/0!"},{"$error":"#DIV/0!"}]
[null,null,null,null,null,262,5.24,87.692300000000003,6.396484375,{"$f":"FOURIER!M264","v":0},{"$f":"FOURIER!N264","v":0},null,null,40.190296642603798,null,null,null,null,0,0,null,null,null,null,null,null,0,87.692300000000003,null,null,null,null,null,null,null,null,null,null,null,null,null,5.24,-21.359000000000002,0,{"$error":"#DIV/0!"},{"$error":"#DIV/0!"}]
[null,null,null,null,null,263,5.26,24.844200000000001,6.4208984375,{"$f":"FOURIER!M265","v":0},{"$f":"FOURIER!N265","v":0},null,null,40.343694721392367,null,null,null,null,0,0,null,null,null,null,null,null,0,24.844200000000001,null,null,null,null,null,null,null,null,null,null,null,null,null,5.26,-21.678000000000001,0,{"$error":"#DIV/0!"},{"$error":"#DIV/0!"}]
[null,null,null,null,null,264,5.28,-8.7247000000000003,6.4453125,{"$f":"FOURIER!M266","v":0},{"$f":"FOURIER!N266","v":0},null,null,40.49709280018093,null,null,null,null,0,0,null,null,null,null,null,null,0,-8.7247000000000003,null,null,null,null,null,null,null,null,null,null,null,null,null,5.28,-21.940999999999999,0,{"$error":"#DIV/0!"},{"$error":"#DIV/0!"}]
[null,null,null,null,null,265,5.3,-2.5449000000000002,6.4697265625,{"$f":"FOURIER!M267","v":0},{"$f":"FOURIER!N267","v":0},null,null,40.650490878969492,null,null,null,null,0,0,null,null,null,null,null,null,0,-2.5449000000000002,null,null,null,null,null,null,null,null,null,null,null,null,null,5.3,-22.161000000000001,0,{"$error":"#DIV/0!"},{"$error":"#DIV/0!"}]
[null,null,null,null,null,266,5.32,41.853700000000003,6.494140625,{"$f":"FOURIER!M268","v":0},{"$f":"FOURIER!N268","v":0},null,null,40.803888957758055,null,null,null,null,0,0,null,null,null,null,null,null,0,41.853700000000003,null,null,null,null,null,null,null,null,null,null,null,null,null,5.32,-22.335000000000001,0,{"$error":"#DIV/0!"},{"$error":"#DIV/0!"}]
[null,null,null,null,null,267,5.34,95.582099999999997,6.5185546875,{"$f":"FOURIER!M269","v":0},{"$f":"FOURIER!N269","v":0},null,null,40.957287036546624,null,null,null,null,0,0,null,null,null,null,null,null,0,95.582099999999997,null,null,null,null,null,null,null,null,null,null,null,null,null,5.34,-22.446999999999999,0,{"$error":"#DIV/0!"},{"$error":"#DIV/0!"}]
[null,null,null,null,null,268,5.36,123.66119999999999,6.54296875,{"$f":"FOURIER!M270","v":0},{"$f":"FOURIER!N270","v":0},null,null,41.110685115335187,null,null,null,null,0,0,null,null,null,null,null,null,0,123.66119999999999,null,null,null,null,null,null,null,null,null,null,null,null,null,5.36,-22.477,0,{"$error":"#DIV/0!"},{"$error":"#DIV/0!"}]
[null,null,null,null,null,269,5.38,143.85059999999999,6.5673828125,{"$f":"FOURIER!M271","v":0},{"$f":"FOURIER!N271","v":0},null,null,41.264083194123749,null,null,null,null,0,0,null,null,null,null,null,null,0,143.85059999999999,null,null,null,null,null,null,null,null,null,null,null,null,null,5.38,-22.413,0,{"$error":"#DIV/0!"},{"$error":"#DIV/0!"}]
[null,null,null,null,null,270,5.4,179.36949999999999,6.591796875,{"$f":"FOURIER!M272","v":0},{"$f":"FOURIER!N272","v":0},null,null,41.417481272912312,null,null,null,null,0,0,null,null,null,null,null,null,0,179.36949999999999,null,null,null,null,null,null,null,null,null,null,null,null,null,5.4,-22.245999999999999,0,{"$error":"#DIV/0!"},{"$error":"#DIV/0!"}]
[null,null,null,null,null,271,5.42,224.66810000000001,6.6162109375,{"$f":"FOURIER!M273","v":0},{"$f":"FOURIER!N273","v":0},null,null,41.570879351700874,null,null,null,null,0,0,null,null,null,null,null,null,0,224.66810000000001,null,null,null,null,null,null,null,null,null,null,null,null,null,5.42,-21.963000000000001,0,{"$error":"#DIV/0!"},{"$error":"#DIV/0!"}]
[null,null,null,null,null,272,5.44,267.35680000000002,6.640625,{"$f":"FOURIER!M274","v":0},{"$f":"FOURIER!N274","v":0},null,null,41.724277430489444,null,null,null,null,0,0,null,null,null,null,null,null,0,267.35680000000002,null,null,null,null,null,null,null,null,null,null,null,null,null,5.44,-21.547999999999998,0,{"$error":"#DIV/0!"},{"$error":"#DIV/0!"}]
[null,null,null,null,null,273,5.46,295.79599999999999,6.6650390625,{"$f":"FOURIER!M275","v":0},{"$f":"FOURIER!N275","v":0},null,null,41.877675509278006,null,null,null,null,0,0,null,null,null,null,null,null,0,295.79599999999999,null,null,null,null,null,null,null,null,null,null,null,null,null,5.46,-20.984999999999999,0,{"$error":"#DIV/0!"},{"$error":"#DIV/0!"}]
[null,null,null,null,null,274,5.48,296.66590000000002,6.689453125,{"$f":"FOURIER!M276","v":0},{"$f":"FOURIER!N276","v":0},null,null,42.031073588066569,null,null,null,null,0,0,null,null,null,null,null,null,0,296.66590000000002,null,null,null,null,null,null,null,null,null,null,null,null,null,5.48,-20.265000000000001,0,{"$error":"#DIV/0!"},{"$error":"#DIV/0!"}]
[null,null,null,null,null,275,5.5,264.98689999999999,6.7138671875,{"$f":"FOURIER!M277","v":0},{"$f":"FOURIER!N277","v":0},null,null,42.184471666855131,null,null,null,null,0,0,null,null,null,null,null,null,0,264.98689999999999,null,null,null,null,null,null,null,null,null,null,null,null,null,5.5,-19.39,0,{"$error":"#DIV/0!"},{"$error":"#DIV/0!"}]
[null,null,null,null,null,276,5.5200000000000005,218.9983,6.73828125,{"$f":"FOURIER!M278","v":0},{"$f":"FOURIER!N278","v":0},null,null,42.337869745643701,null,null,null,null,0,0,null,null,null,null,null,null,0,218.9983,null,null,null,null,null,null,null,null,null,null,null,null,null,5.5200000000000005,-18.375,0,{"$error":"#DIV/0!"},{"$error":"#DIV/0!"}]
[null,null,null,null,null,277,5.54,178.52959999999999,6.7626953125,{"$f":"FOURIER!M279","v":0},{"$f":"FOURIER!N279","v":0},null,null,42.491267824432263,null,null,null,null,0,0,null,null,null,null,null,null,0,178.52959999999999,null,null,null,null,null,null,null,null,null,null,null,null,null,5.54,-17.239000000000001,0,{"$error":"#DIV/0!"},{"$error":"#DIV/0!"}]
[null,null,null,null,null,278,5.5600000000000005,137.67080000000001,6.787109375,{"$f":"FOURIER!M280","v":0},{"$f":"FOURIER!N280","v":0},null,null,42.644665903220826,null,null,null,null,0,0,null,null,null,null,null,null,0,137.67080000000001,null,null,null,null,null,null,null,null,null,null,null,null,null,5.5600000000000005,-16.001999999999999,0,{"$error":"#DIV/0!"},{"$error":"#DIV/0!"}]
[null,null,null,null,null,279,5.58,91.232299999999995,6.8115234375,{"$f":"FOURIER!M281","v":0},{"$f":"FOURIER!N281","v":0},null,null,42.798063982009388,null,null,null,null,0,0,null,null,null,null,null,null,0,91.232299999999995,null,null,null,null,null,null,null,null,null,null,null,null,null,5.58,-14.683,0,{"$error":"#DIV/0!"},{"$error":"#DIV/0!"}]
[null,null,null,null,null,280,5.6000000000000005,55.863399999999999,6.8359375,{"$f":"FOURIER!M282","v":0},{"$f":"FOURIER!N282","v":0},null,null,42.951462060797958,null,null,null,null,0,0,null,null,null,null,null,null,0,55.863399999999999,null,null,null,null,null,null,null,null,null,null,null,null,null,5.6000000000000005,-13.303000000000001,0,{"$error":"#DIV/0!"},{"$error":"#DIV/0!"}]
[null,null,null,null,null,281,5.62,46.743600000000001,6.8603515625,{"$f":"FOURIER!M283","v":0},{"$f":"FOURIER!N283","v":0},null,null,43.104860139586521,null,null,null,null,0,0,null,null,null,null,null,null,0,46.743600000000001,null,null,null,null,null,null,null,null,null,null,null,null,null,5.62,-11.879,0,{"$error":"#DIV/0!"},{"$error":"#DIV/0!"}]
[null,null,null,null,null,282,5.64,50.1935,6.884765625,{"$f":"FOURIER!M284","v":0},{"$f":"FOURIER!N284","v":0},null,null,43.258258218375083,null,null,null,null,0,0,null,null,null,null,null,null,0,50.1935,null,null,null,null,null,null,null,null,null,null,null,null,null,5.64,-10.417,0,{"$error":"#DIV/0!"},{"$error":"#DIV/0!"}]
[null,null,null,null,null,283,5.66,39.003900000000002,6.9091796875,{"$f":"FOURIER!M285","v":0},{"$f":"FOURIER!N285","v":0},null,null,43.411656297163645,null,null,null,null,0,0,null,null,null,null,null,null,0,39.003900000000002,null,null,null,null,null,null,null,null,null,null,null,null,null,5.66,-8.9220000000000006,0,{"$error":"#DIV/0!"},{"$error":"#DIV/0!"}]
[null,null,null,null,null,284,5.68,32.884099999999997,6.93359375,{"$f":"FOURIER!M286","v":0},{"$f":"FOURIER!N286","v":0},null,null,43.565054375952208,null,null,null,null,0,0,null,null,null,null,null,null,0,32.884099999999997,null,null,null,null,null,null,null,null,null,null,null,null,null,5.68,-7.399,0,{"$error":"#DIV/0!"},{"$error":"#DIV/0!"}]
[null,null,null,null,null,285,5.7,60.363199999999999,6.9580078125,{"$f":"FOURIER!M287","v":0},{"$f":"FOURIER!N287","v":0},null,null,43.718452454740778,null,null,null,null,0,0,null,null,null,null,null,null,0,60.363199999999999,null,null,null,null,null,null,null,null,null,null,null,null,null,5.7,-5.8520000000000003,0,{"$error":"#DIV/0!"},{"$error":"#DIV/0!"}]
[null,null,null,null,null,286,5.72,85.622500000000002,6.982421875,{"$f":"FOURIER!M288","v":0},{"$f":"FOURIER!N288","v":0},null,null,43.87185053352934,null,null,null,null,0,0,null,null,null,null,null,null,0,85.622500000000002,null,null,null,null,null,null,null,null,null,null,null,null,null,5.72,-4.2759999999999998,0,{"$error":"#DIV/0!"},{"$error":"#DIV/0!"}]
[null,null,null,null,null,287,5.74,87.572400000000002,7.0068359375,{"$f":"FOURIER!M289","v":0},{"$f":"FOURIER!N289","v":0},null,null,44.025248612317903,null,null,null,null,0,0,null,null,null,null,null,null,0,87.572400000000002,null,null,null,null,null,null,null,null,null,null,null,null,null,5.74,-2.665,0,{"$error":"#DIV/0!"},{"$error":"#DIV/0!"}]
[null,null,null,null,null,288,5.76,63.693199999999997,7.03125,{"$f":"FOURIER!M290","v":0},{"$f":"FOURIER!N290","v":0},null,null,44.178646691106465,null,null,null,null,0,0,null,null,null,null,null,null,0,63.693199999999997,null,null,null,null,null,null,null,null,null,null,null,null,null,5.76,-1.02,0,{"$error":"#DIV/0!"},{"$error":"#DIV/0!"}]
[null,null,null,null,null,289,5.78,48.693600000000004,7.0556640625,{"$f":"FOURIER!M291","v":0},{"$f":"FOURIER!N291","v":0},null,null,44.332044769895035,null,null,null,null,0,0,null,null,null,null,null,null,0,48.693600000000004,null,null,null,null,null,null,null,null,null,null,null,null,null,5.78,0.64600000000000002,0,{"$error":"#DIV/0!"},{"$error":"#DIV/0!"}]
[null,null,null,null,null,290,5.8,78.152699999999996,7.080078125,{"$f":"FOURIER!M292","v":0},{"$f":"FOURIER!N292","v":0},null,null,44.485442848683597,null,null,null,null,0,0,null,null,null,null,null,null,0,78.152699999999996,null,null,null,null,null,null,null,null,null,null,null,null,null,5.8,2.3239999999999998,0,{"$error":"#DIV/0!"},{"$error":"#DIV/0!"}]
[null,null,null,null,null,291,5.82,105.2719,7.1044921875,{"$f":"FOURIER!M293","v":0},{"$f":"FOURIER!N293","v":0},null,null,44.63884092747216,null,null,null,null,0,0,null,null,null,null,null,null,0,105.2719,null,null,null,null,null,null,null,null,null,null,null,null,null,5.82,4.0229999999999997,0,{"$error":"#DIV/0!"},{"$error":"#DIV/0!"}]
[null,null,null,null,null,292,5.84,76.622799999999998,7.12890625,{"$f":"FOURIER!M294","v":0},{"$f":"FOURIER!N294","v":0},null,null,44.792239006260722,null,null,null,null,0,0,null,null,null,null,null,null,0,76.622799999999998,null,null,null,null,null,null,null,null,null,null,null,null,null,5.84,5.7469999999999999,0,{"$error":"#DIV/0!"},{"$error":"#DIV/0!"}]
[null,null,null,null,null,293,5.86,62.733199999999997,7.1533203125,{"$f":"FOURIER!M295","v":0},{"$f":"FOURIER!N295","v":0},null,null,44.945637085049292,null,null,null,null,0,0,null,null,null,null,null,null,0,62.733199999999997,null,null,null,null,null,null,null,null,null,null,null,null,null,5.86,7.4829999999999997,0,{"$error":"#DIV/0!"},{"$error":"#DIV/0!"}]
[null,null,null,null,null,294,5.88,71.822900000000004,7.177734375,{"$f":"FOURIER!M296","v":0},{"$f":"FOURIER!N296","v":0},null,null,45.099035163837854,null,null,null,null,0,0,null,null,null,null,null,null,0,71.822900000000004,null,null,null,null,null,null,null,null,null,null,null,null,null,5.88,9.2240000000000002,0,{"$error":"#DIV/0!"},{"$error":"#DIV/0!"}]
[null,null,null,null,null,295,5.9,3.4550000000000001,7.2021484375,{"$f":"FOURIER!M297","v":0},{"$f":"FOURIER!N297","v":0},null,null,45.252433242626417,null,null,null,null,0,0,null,null,null,null,null,null,0,3.4550000000000001,null,null,null,null,null,null,null,null,null,null,null,null,null,5.9,10.965999999999999,0,{"$error":"#DIV/0!"},{"$error":"#DIV/0!"}]
[null,null,null,null,null,296,5.92,-105.47199999999999,7.2265625,{"$f":"FOURIER!M298","v":0},{"$f":"FOURIER!N298","v":0},null,null,45.405831321414979,null,null,null,null,0,0,null,null,null,null,null,null,0,-105.47199999999999,null,null,null,null,null,null,null,null,null,null,null,null,null,5.92,12.678000000000001,0,{"$error":"#DIV/0!"},{"$error":"#DIV/0!"}]
[null,null,null,null,null,297,5.94,-137.39099999999999,7.2509765625,{"$f":"FOURIER!M299","v":0},{"$f":"FOURIER!N299","v":0},null,null,45.559229400203542,null,null,null,null,0,0,null,null,null,null,null,null,0,-137.39099999999999,null,null,null,null,null,null,null,null,null,null,null,null,null,5.94,14.319000000000001,0,{"$error":"#DIV/0!"},{"$error":"#DIV/0!"}]
[null,null,null,null,null,298,5.96,-95.631900000000002,7.275390625,{"$f":"FOURIER!M300","v":0},{"$f":"FOURIER!N300","v":0},null,null,45.712627478992111,null,null,null,null,0,0,null,null,null,null,null,null,0,-95.631900000000002,null,null,null,null,null,null,null,null,null,null,null,null,null,5.96,15.872,0,{"$error":"#DIV/0!"},{"$error":"#DIV/0!"}]
[null,null,null,null,null,299,5.98,-42.143500000000003,7.2998046875,{"$f":"FOURIER!M301","v":0},{"$f":"FOURIER!N301","v":0},null,null,45.866025557780674,null,null,null,null,0,0,null,null,null,null,null,null,0,-42.143500000000003,null,null,null,null,null,null,null,null,null,null,null,null,null,5.98,17.349,0,{"$error":"#DIV/0!"},{"$error":"#DIV/0!"}]
[null,null,null,null,null,300,6,-19.9742,7.32421875,{"$f":"FOURIER!M302","v":0},{"$f":"FOURIER!N302","v":0},null,null,46.019423636569236,null,null,null,null,0,0,null,null,null,null,null,null,0,-19.9742,null,null,null,null,null,null,null,null,null,null,null,null,null,6,18.768000000000001,0,{"$error":"#DIV/0!"},{"$error":"#DIV/0!"}]
[null,null,null,null,null,301,6.0200000000000005,-1.6148,7.3486328125,{"$f":"FOURIER!M303","v":0},{"$f":"FOURIER!N303","v":0},null,null,46.172821715357799,null,null,null,null,0,0,null,null,null,null,null,null,0,-1.6148,null,null,null,null,null,null,null,null,null,null,null,null,null,6.0200000000000005,20.135999999999999,0,{"$error":"#DIV/0!"},{"$error":"#DIV/0!"}]
[null,null,null,null,null,302,6.04,29.194299999999998,7.373046875,{"$f":"FOURIER!M304","v":0},{"$f":"FOURIER!N304","v":0},null,null,46.326219794146368,null,null,null,null,0,0,null,null,null,null,null,null,0,29.194299999999998,null,null,null,null,null,null,null,null,null,null,null,null,null,6.04,21.457999999999998,0,{"$error":"#DIV/0!"},{"$error":"#DIV/0!"}]
[null,null,null,null,null,303,6.0600000000000005,29.4343,7.3974609375,{"$f":"FOURIER!M305","v":0},{"$f":"FOURIER!N305","v":0},null,null,46.479617872934931,null,null,null,null,0,0,null,null,null,null,null,null,0,29.4343,null,null,null,null,null,null,null,null,null,null,null,null,null,6.0600000000000005,22.742000000000001,0,{"$error":"#DIV/0!"},{"$error":"#DIV/0!"}]
[null,null,null,null,null,304,6.08,30.784199999999998,7.421875,{"$f":"FOURIER!M306","v":0},{"$f":"FOURIER!N306","v":0},null,null,46.633015951723493,null,null,null,null,0,0,null,null,null,null,null,null,0,30.784199999999998,null,null,null,null,null,null,null,null,null,null,null,null,null,6.08,23.988,0,{"$error":"#DIV/0!"},{"$error":"#DIV/0!"}]
[null,null,null,null,null,305,6.1000000000000005,105.8719,7.4462890625,{"$f":"FOURIER!M307","v":0},{"$f":"FOURIER!N307","v":0},null,null,46.786414030512056,null,null,null,null,0,0,null,null,null,null,null,null,0,105.8719,null,null,null,null,null,null,null,null,null,null,null,null,null,6.1000000000000005,25.195,0,{"$error":"#DIV/0!"},{"$error":"#DIV/0!"}]
[null,null,null,null,null,306,6.12,206.4889,7.470703125,{"$f":"FOURIER!M308","v":0},{"$f":"FOURIER!N308","v":0},null,null,46.939812109300625,null,null,null,null,0,0,null,null,null,null,null,null,0,206.4889,null,null,null,null,null,null,null,null,null,null,null,null,null,6.12,26.390999999999998,0,{"$error":"#DIV/0!"},{"$error":"#DIV/0!"}]
[null,null,null,null,null,307,6.1400000000000006,262.0172,7.4951171875,{"$f":"FOURIER!M309","v":0},{"$f":"FOURIER!N309","v":0},null,null,47.093210188089188,null,null,null,null,0,0,null,null,null,null,null,null,0,262.0172,null,null,null,null,null,null,null,null,null,null,null,null,null,6.1400000000000006,27.61,0,{"$error":"#DIV/0!"},{"$error":"#DIV/0!"}]
[null,null,null,null,null,308,6.16,245.45769999999999,7.51953125,{"$f":"FOURIER!M310","v":0},{"$f":"FOURIER!N310","v":0},null,null,47.24660826687775,null,null,null,null,0,0,null,null,null,null,null,null,0,245.45769999999999,null,null,null,null,null,null,null,null,null,null,null,null,null,6.16,28.870999999999999,0,{"$error":"#DIV/0!"},{"$error":"#DIV/0!"}]
[null,null,null,null,null,309,6.18,175.91980000000001,7.5439453125,{"$f":"FOURIER!M311","v":0},{"$f":"FOURIER!N311","v":0},null,null,47.400006345666313,null,null,null,null,0,0,null,null,null,null,null,null,0,175.91980000000001,null,null,null,null,null,null,null,null,null,null,null,null,null,6.18,30.166,0,{"$error":"#DIV/0!"},{"$error":"#DIV/0!"}]
[null,null,null,null,null,310,6.2,107.22190000000001,7.568359375,{"$f":"FOURIER!M312","v":0},{"$f":"FOURIER!N312","v":0},null,null,47.553404424454875,null,null,null,null,0,0,null,null,null,null,null,null,0,107.22190000000001,null,null,null,null,null,null,null,null,null,null,null,null,null,6.2,31.465,0,{"$error":"#DIV/0!"},{"$error":"#DIV/0!"}]
[null,null,null,null,null,311,6.22,41.943899999999999,7.5927734375,{"$f":"FOURIER!M313","v":0},{"$f":"FOURIER!N313","v":0},null,null,47.706802503243445,null,null,null,null,0,0,null,null,null,null,null,null,0,41.943899999999999,null,null,null,null,null,null,null,null,null,null,null,null,null,6.22,32.74,0,{"$error":"#DIV/0!"},{"$error":"#DIV/0!"}]
[null,null,null,null,null,312,6.24,-30.4438,7.6171875,{"$f":"FOURIER!M314","v":0},{"$f":"FOURIER!N314","v":0},null,null,47.860200582032007,null,null,null,null,0,0,null,null,null,null,null,null,0,-30.4438,null,null,null,null,null,null,null,null,null,null,null,null,null,6.24,33.960999999999999,0,{"$error":"#DIV/0!"},{"$error":"#DIV/0!"}]
[null,null,null,null,null,313,6.26,-124.431,7.6416015625,{"$f":"FOURIER!M315","v":0},{"$f":"FOURIER!N315","v":0},null,null,48.01359866082057,null,null,null,null,0,0,null,null,null,null,null,null,0,-124.431,null,null,null,null,null,null,null,null,null,null,null,null,null,6.26,35.095999999999997,0,{"$error":"#DIV/0!"},{"$error":"#DIV/0!"}]
[null,null,null,null,null,314,6.28,-241.45699999999999,7.666015625,{"$f":"FOURIER!M316","v":0},{"$f":"FOURIER!N316","v":0},null,null,48.166996739609132,null,null,null,null,0,0,null,null,null,null,null,null,0,-241.45699999999999,null,null,null,null,null,null,null,null,null,null,null,null,null,6.28,36.104999999999997,0,{"$error":"#DIV/0!"},{"$error":"#DIV/0!"}]
[null,null,null,null,null,315,6.3,-354.07400000000001,7.6904296875,{"$f":"FOURIER!M317","v":0},{"$f":"FOURIER!N317","v":0},null,null,48.320394818397702,null,null,null,null,0,0,null,null,null,null,null,null,0,-354.07400000000001,null,null,null,null,null,null,null,null,null,null,null,null,null,6.3,36.942999999999998,0,{"$error":"#DIV/0!"},{"$error":"#DIV/0!"}]
[null,null,null,null,null,316,6.32,-442.84100000000001,7.71484375,{"$f":"FOURIER!M318","v":0},{"$f":"FOURIER!N318","v":0},null,null,48.473792897186264,null,null,null,null,0,0,null,null,null,null,null,null,0,-442.84100000000001,null,null,null,null,null,null,null,null,null,null,null,null,null,6.32,37.561999999999998,0,{"$error":"#DIV/0!"},{"$error":"#DIV/0!"}]
[null,null,null,null,null,317,6.34,-511.68900000000002,7.7392578125,{"$f":"FOURIER!M319","v":0},{"$f":"FOURIER!N319","v":0},null,null,48.627190975974827,null,null,null,null,0,0,null,null,null,null,null,null,0,-511.68900000000002,null,null,null,null,null,null,null,null,null,null,null,null,null,6.34,37.927999999999997,0,{"$error":"#DIV/0!"},{"$error":"#DIV/0!"}]
[null,null,null,null,null,318,6.36,-579.84699999999998,7.763671875,{"$f":"FOURIER!M320","v":0},{"$f":"FOURIER!N320","v":0},null,null,48.780589054763389,null,null,null,null,0,0,null,null,null,null,null,null,0,-579.84699999999998,null,null,null,null,null,null,null,null,null,null,null,null,null,6.36,38.012,0,{"$error":"#DIV/0!"},{"$error":"#DIV/0!"}]
[null,null,null,null,null,319,6.38,-661.654,7.7880859375,{"$f":"FOURIER!M321","v":0},{"$f":"FOURIER!N321","v":0},null,null,48.933987133551959,null,null,null,null,0,0,null,null,null,null,null,null,0,-661.654,null,null,null,null,null,null,null,null,null,null,null,null,null,6.38,37.787999999999997,0,{"$error":"#DIV/0!"},{"$error":"#DIV/0!"}]
[null,null,null,null,null,320,6.4,-729.72199999999998,7.8125,{"$f":"FOURIER!M322","v":0},{"$f":"FOURIER!N322","v":0},null,null,{"$f":"2*PI()/B$9/B$6*F322","v":49.087385212340521},null,null,null,null,{"$f":"J322*O322-K322*P322","v":0},{"$f":"J322*P322+K322*O322","v":0},null,null,null,null,null,null,0,-729.72199999999998,null,null,null,null,null,null,null,null,null,null,null,null,null,{"$f":"G322","v":6.4},37.225000000000001,0,{"$error":"#DIV/0!"},{"$error":"#DIV/0!"}]
[null,null,null,null,null,321,{"$f":"B$6*F323","v":6.42},-701.73299999999995,{"$f":"F323/B$9/B$6","v":7.8369140625},{"$f":"FOURIER!M323","v":0},{"$f":"FOURIER!N323","v":0},null,null,49.240783291129084,null,null,null,null,0,0,null,null,null,null,null,null,{"$f":"(Y323-Y322)/B$6","v":0},{"$f":"(AA323-AA322)/B$6+H323","v":-701.73299999999995},null,null,null,null,null,null,null,null,null,null,null,null,null,6.42,36.301000000000002,0,{"$f":"(AQ323-AQ322)/O$6","v":{"$error":"#DIV/0!"}},{"$f":"(AS323-AS322)/O$6+S323","v":{"$error":"#DIV/0!"}}]
[null,null,null,null,null,322,6.44,-527.10900000000004,7.861328125,{"$f":"FOURIER!M324","v":0},{"$f":"FOURIER!N324","v":0},null,null,49.394181369917646,null,null,null,null,0,0,null,null,null,null,null,null,0,-527.10900000000004,null,null,null,null,null,null,null,null,null,null,null,null,null,6.44,35.033999999999999,0,{"$error":"#DIV/0!"},{"$error":"#DIV/0!"}]
[null,null,null,null,null,323,6.46,-254.20699999999999,7.8857421875,{"$f":"FOURIER!M325","v":0},{"$f":"FOURIER!N325","v":0},null,null,49.547579448706209,null,null,null,null,0,0,null,null,null,null,null,null,0,-254.20699999999999,null,null,null,null,null,null,null,null,null,null,null,null,null,6.46,33.494,0,{"$error":"#DIV/0!"},{"$error":"#DIV/0!"}]
[null,null,null,null,null,324,6.48,29.734400000000001,7.91015625,{"$f":"FOURIER!M326","v":0},{"$f":"FOURIER!N326","v":0},null,null,49.700977527494778,null,null,null,null,0,0,null,null,null,null,null,null,0,29.734400000000001,null,null,null,null,null,null,null,null,null,null,null,null,null,6.48,31.792000000000002,0,{"$error":"#DIV/0!"},{"$error":"#DIV/0!"}]
[null,null,null,null,null,325,6.5,221.8785,7.9345703125,{"$f":"FOURIER!M327","v":0},{"$f":"FOURIER!N327","v":0},null,null,49.854375606283341,null,null,null,null,0,0,null,null,null,null,null,null,0,221.8785,null,null,null,null,null,null,null,null,null,null,null,null,null,6.5,30.042999999999999,0,{"$error":"#DIV/0!"},{"$error":"#DIV/0!"}]
[null,null,null,null,null,326,6.5200000000000005,243.3578,7.958984375,{"$f":"FOURIER!M328","v":0},{"$f":"FOURIER!N328","v":0},null,null,50.007773685071903,null,null,null,null,0,0,null,null,null,null,null,null,0,243.3578,null,null,null,null,null,null,null,null,null,null,null,null,null,6.5200000000000005,28.323,0,{"$error":"#DIV/0!"},{"$error":"#DIV/0!"}]
[null,null,null,null,null,327,6.54,275.36680000000001,7.9833984375,{"$f":"FOURIER!M329","v":0},{"$f":"FOURIER!N329","v":0},null,null,50.161171763860466,null,null,null,null,0,0,null,null,null,null,null,null,0,275.36680000000001,null,null,null,null,null,null,null,null,null,null,null,null,null,6.54,26.651,0,{"$error":"#DIV/0!"},{"$error":"#DIV/0!"}]
[null,null,null,null,null,328,6.5600000000000005,390.02330000000001,8.0078125,{"$f":"FOURIER!M330","v":0},{"$f":"FOURIER!N330","v":0},null,null,50.314569842649036,null,null,null,null,0,0,null,null,null,null,null,null,0,390.02330000000001,null,null,null,null,null,null,null,null,null,null,null,null,null,6.5600000000000005,25.045999999999999,0,{"$error":"#DIV/0!"},{"$error":"#DIV/0!"}]
[null,null,null,null,null,329,6.58,365.27409999999998,8.0322265625,{"$f":"FOURIER!M331","v":0},{"$f":"FOURIER!N331","v":0},null,null,50.467967921437598,null,null,null,null,0,0,null,null,null,null,null,null,0,365.27409999999998,null,null,null,null,null,null,null,null,null,null,null,null,null,6.58,23.547999999999998,0,{"$error":"#DIV/0!"},{"$error":"#DIV/0!"}]
[null,null,null,null,null,330,6.6000000000000005,229.22829999999999,8.056640625,{"$f":"FOURIER!M332","v":0},{"$f":"FOURIER!N332","v":0},null,null,50.621366000226161,null,null,null,null,0,0,null,null,null,null,null,null,0,229.22829999999999,null,null,null,null,null,null,null,null,null,null,null,null,null,6.6000000000000005,22.151,0,{"$error":"#DIV/0!"},{"$error":"#DIV/0!"}]
[null,null,null,null,null,331,6.62,107.61199999999999,8.0810546875,{"$f":"FOURIER!M333","v":0},{"$f":"FOURIER!N333","v":0},null,null,50.774764079014723,null,null,null,null,0,0,null,null,null,null,null,null,0,107.61199999999999,null,null,null,null,null,null,null,null,null,null,null,null,null,6.62,20.806999999999999,0,{"$error":"#DIV/0!"},{"$error":"#DIV/0!"}]
[null,null,null,null,null,332,6.6400000000000006,-21.414000000000001,8.10546875,{"$f":"FOURIER!M334","v":0},{"$f":"FOURIER!N334","v":0},null,null,50.928162157803293,null,null,null,null,0,0,null,null,null,null,null,null,0,-21.414000000000001,null,null,null,null,null,null,null,null,null,null,null,null,null,6.6400000000000006,19.47,0,{"$error":"#DIV/0!"},{"$error":"#DIV/0!"}]
[null,null,null,null,null,333,6.66,-171.85900000000001,8.1298828125,{"$f":"FOURIER!M335","v":0},{"$f":"FOURIER!N335","v":0},null,null,51.081560236591855,null,null,null,null,0,0,null,null,null,null,null,null,0,-171.85900000000001,null,null,null,null,null,null,null,null,null,null,null,null,null,6.66,18.09,0,{"$error":"#DIV/0!"},{"$error":"#DIV/0!"}]
[null,null,null,null,null,334,6.68,-287.77600000000001,8.154296875,{"$f":"FOURIER!M336","v":0},{"$f":"FOURIER!N336","v":0},null,null,51.234958315380418,null,null,null,null,0,0,null,null,null,null,null,null,0,-287.77600000000001,null,null,null,null,null,null,null,null,null,null,null,null,null,6.68,16.611999999999998,0,{"$error":"#DIV/0!"},{"$error":"#DIV/0!"}]
[null,null,null,null,null,335,6.7,-333.43400000000003,8.1787109375,{"$f":"FOURIER!M337","v":0},{"$f":"FOURIER!N337","v":0},null,null,51.38835639416898,null,null,null,null,0,0,null,null,null,null,null,null,0,-333.43400000000003,null,null,null,null,null,null,null,null,null,null,null,null,null,6.7,14.994999999999999,0,{"$error":"#DIV/0!"},{"$error":"#DIV/0!"}]
[null,null,null,null,null,336,6.72,-323.83499999999998,8.203125,{"$f":"FOURIER!M338","v":0},{"$f":"FOURIER!N338","v":0},null,null,51.541754472957543,null,null,null,null,0,0,null,null,null,null,null,null,0,-323.83499999999998,null,null,null,null,null,null,null,null,null,null,null,null,null,6.72,13.222,0,{"$error":"#DIV/0!"},{"$error":"#DIV/0!"}]
[null,null,null,null,null,337,6.74,-247.667,8.2275390625,{"$f":"FOURIER!M339","v":0},{"$f":"FOURIER!N339","v":0},null,null,51.695152551746112,null,null,null,null,0,0,null,null,null,null,null,null,0,-247.667,null,null,null,null,null,null,null,null,null,null,null,null,null,6.74,11.303000000000001,0,{"$error":"#DIV/0!"},{"$error":"#DIV/0!"}]
[null,null,null,null,null,338,6.76,-116.661,8.251953125,{"$f":"FOURIER!M340","v":0},{"$f":"FOURIER!N340","v":0},null,null,51.848550630534675,null,null,null,null,0,0,null,null,null,null,null,null,0,-116.661,null,null,null,null,null,null,null,null,null,null,null,null,null,6.76,9.2710000000000008,0,{"$error":"#DIV/0!"},{"$error":"#DIV/0!"}]
[null,null,null,null,null,339,6.78,27.1845,8.2763671875,{"$f":"FOURIER!M341","v":0},{"$f":"FOURIER!N341","v":0},null,null,52.001948709323237,null,null,null,null,0,0,null,null,null,null,null,null,0,27.1845,null,null,null,null,null,null,null,null,null,null,null,null,null,6.78,7.1840000000000002,0,{"$error":"#DIV/0!"},{"$error":"#DIV/0!"}]
[null,null,null,null,null,340,6.8,162.3004,8.30078125,{"$f":"FOURIER!M342","v":0},{"$f":"FOURIER!N342","v":0},null,null,52.1553467881118,null,null,null,null,0,0,null,null,null,null,null,null,0,162.3004,null,null,null,null,null,null,null,null,null,null,null,null,null,6.8,5.0999999999999996,0,{"$error":"#DIV/0!"},{"$error":"#DIV/0!"}]
[null,null,null,null,null,341,6.82,275.18689999999998,8.3251953125,{"$f":"FOURIER!M343","v":0},{"$f":"FOURIER!N343","v":0},null,null,52.308744866900369,null,null,null,null,0,0,null,null,null,null,null,null,0,275.18689999999998,null,null,null,null,null,null,null,null,null,null,null,null,null,6.82,3.0790000000000002,0,{"$error":"#DIV/0!"},{"$error":"#DIV/0!"}]
[null,null,null,null,null,342,6.84,392.1533,8.349609375,{"$f":"FOURIER!M344","v":0},{"$f":"FOURIER!N344","v":0},null,null,52.462142945688932,null,null,null,null,0,0,null,null,null,null,null,null,0,392.1533,null,null,null,null,null,null,null,null,null,null,null,null,null,6.84,1.17,0,{"$error":"#DIV/0!"},{"$error":"#DIV/0!"}]
[null,null,null,null,null,343,6.86,473.69080000000002,8.3740234375,{"$f":"FOURIER!M345","v":0},{"$f":"FOURIER!N345","v":0},null,null,52.615541024477494,null,null,null,null,0,0,null,null,null,null,null,null,0,473.69080000000002,null,null,null,null,null,null,null,null,null,null,null,null,null,6.86,-0.57799999999999996,0,{"$error":"#DIV/0!"},{"$error":"#DIV/0!"}]
[null,null,null,null,null,344,6.88,517.45950000000005,8.3984375,{"$f":"FOURIER!M346","v":0},{"$f":"FOURIER!N346","v":0},null,null,52.768939103266057,null,null,null,null,0,0,null,null,null,null,null,null,0,517.45950000000005,null,null,null,null,null,null,null,null,null,null,null,null,null,6.88,-2.13,0,{"$error":"#DIV/0!"},{"$error":"#DIV/0!"}]
[null,null,null,null,null,345,6.9,562.33810000000005,8.4228515625,{"$f":"FOURIER!M347","v":0},{"$f":"FOURIER!N347","v":0},null,null,52.922337182054626,null,null,null,null,0,0,null,null,null,null,null,null,0,562.33810000000005,null,null,null,null,null,null,null,null,null,null,null,null,null,6.9,-3.4649999999999999,0,{"$error":"#DIV/0!"},{"$error":"#DIV/0!"}]
[null,null,null,null,null,346,6.92,580.72760000000005,8.447265625,{"$f":"FOURIER!M348","v":0},{"$f":"FOURIER!N348","v":0},null,null,53.075735260843189,null,null,null,null,0,0,null,null,null,null,null,null,0,580.72760000000005,null,null,null,null,null,null,null,null,null,null,null,null,null,6.92,-4.5629999999999997,0,{"$error":"#DIV/0!"},{"$error":"#DIV/0!"}]
[null,null,null,null,null,347,6.94,543.13869999999997,8.4716796875,{"$f":"FOURIER!M349","v":0},{"$f":"FOURIER!N349","v":0},null,null,53.229133339631751,null,null,null,null,0,0,null,null,null,null,null,null,0,543.13869999999997,null,null,null,null,null,null,null,null,null,null,null,null,null,6.94,-5.4189999999999996,0,{"$error":"#DIV/0!"},{"$error":"#DIV/0!"}]
[null,null,null,null,null,348,6.96,470.54090000000002,8.49609375,{"$f":"FOURIER!M350","v":0},{"$f":"FOURIER!N350","v":0},null,null,53.382531418420314,null,null,null,null,0,0,null,null,null,null,null,null,0,470.54090000000002,null,null,null,null,null,null,null,null,null,null,null,null,null,6.96,-6.0439999999999996,0,{"$error":"#DIV/0!"},{"$error":"#DIV/0!"}]
[null,null,null,null,null,349,6.98,382.70359999999999,8.5205078125,{"$f":"FOURIER!M351","v":0},{"$f":"FOURIER!N351","v":0},null,null,53.535929497208876,null,null,null,null,0,0,null,null,null,null,null,null,0,382.70359999999999,null,null,null,null,null,null,null,null,null,null,null,null,null,6.98,-6.4669999999999996,0,{"$error":"#DIV/0!"},{"$error":"#DIV/0!"}]
[null,null,null,null,null,350,7,292.22640000000001,8.544921875,{"$f":"FOURIER!M352","v":0},{"$f":"FOURIER!N352","v":0},null,null,53.689327575997446,null,null,null,null,0,0,null,null,null,null,null,null,0,292.22640000000001,null,null,null,null,null,null,null,null,null,null,null,null,null,7,-6.7220000000000004,0,{"$error":"#DIV/0!"},{"$error":"#DIV/0!"}]
[null,null,null,null,null,351,7.0200000000000005,203.00919999999999,8.5693359375,{"$f":"FOURIER!M353","v":0},{"$f":"FOURIER!N353","v":0},null,null,53.842725654786008,null,null,null,null,0,0,null,null,null,null,null,null,0,203.00919999999999,null,null,null,null,null,null,null,null,null,null,null,null,null,7.0200000000000005,-6.8460000000000001,0,{"$error":"#DIV/0!"},{"$error":"#DIV/0!"}]
[null,null,null,null,null,352,7.04,78.602999999999994,8.59375,{"$f":"FOURIER!M354","v":0},{"$f":"FOURIER!N354","v":0},null,null,53.996123733574571,null,null,null,null,0,0,null,null,null,null,null,null,0,78.602999999999994,null,null,null,null,null,null,null,null,null,null,null,null,null,7.04,-6.8769999999999998,0,{"$error":"#DIV/0!"},{"$error":"#DIV/0!"}]
[null,null,null,null,null,353,7.0600000000000005,-97.041600000000003,8.6181640625,{"$f":"FOURIER!M355","v":0},{"$f":"FOURIER!N355","v":0},null,null,54.149521812363133,null,null,null,null,0,0,null,null,null,null,null,null,0,-97.041600000000003,null,null,null,null,null,null,null,null,null,null,null,null,null,7.0600000000000005,-6.8639999999999999,0,{"$error":"#DIV/0!"},{"$error":"#DIV/0!"}]
[null,null,null,null,null,354,7.08,-245.23699999999999,8.642578125,{"$f":"FOURIER!M356","v":0},{"$f":"FOURIER!N356","v":0},null,null,54.302919891151703,null,null,null,null,0,0,null,null,null,null,null,null,0,-245.23699999999999,null,null,null,null,null,null,null,null,null,null,null,null,null,7.08,-6.875,0,{"$error":"#DIV/0!"},{"$error":"#DIV/0!"}]
[null,null,null,null,null,355,7.1000000000000005,-291.76600000000002,8.6669921875,{"$f":"FOURIER!M357","v":0},{"$f":"FOURIER!N357","v":0},null,null,54.456317969940265,null,null,null,null,0,0,null,null,null,null,null,null,0,-291.76600000000002,null,null,null,null,null,null,null,null,null,null,null,null,null,7.1000000000000005,-6.9660000000000002,0,{"$error":"#DIV/0!"},{"$error":"#DIV/0!"}]
[null,null,null,null,null,356,7.12,-244.03700000000001,8.69140625,{"$f":"FOURIER!M358","v":0},{"$f":"FOURIER!N358","v":0},null,null,54.609716048728828,null,null,null,null,0,0,null,null,null,null,null,null,0,-244.03700000000001,null,null,null,null,null,null,null,null,null,null,null,null,null,7.12,-7.157,0,{"$error":"#DIV/0!"},{"$error":"#DIV/0!"}]
[null,null,null,null,null,357,7.1400000000000006,-198.19900000000001,8.7158203125,{"$f":"FOURIER!M359","v":0},{"$f":"FOURIER!N359","v":0},null,null,54.76311412751739,null,null,null,null,0,0,null,null,null,null,null,null,0,-198.19900000000001,null,null,null,null,null,null,null,null,null,null,null,null,null,7.1400000000000006,-7.43,0,{"$error":"#DIV/0!"},{"$error":"#DIV/0!"}]
[null,null,null,null,null,358,7.16,-219.19800000000001,8.740234375,{"$f":"FOURIER!M360","v":0},{"$f":"FOURIER!N360","v":0},null,null,54.91651220630596,null,null,null,null,0,0,null,null,null,null,null,null,0,-219.19800000000001,null,null,null,null,null,null,null,null,null,null,null,null,null,7.16,-7.7690000000000001,0,{"$error":"#DIV/0!"},{"$error":"#DIV/0!"}]
[null,null,null,null,null,359,7.18,-292.90600000000001,8.7646484375,{"$f":"FOURIER!M361","v":0},{"$f":"FOURIER!N361","v":0},null,null,55.069910285094522,null,null,null,null,0,0,null,null,null,null,null,null,0,-292.90600000000001,null,null,null,null,null,null,null,null,null,null,null,null,null,7.18,-8.1809999999999992,0,{"$error":"#DIV/0!"},{"$error":"#DIV/0!"}]
[null,null,null,null,null,360,7.2,-343.57400000000001,8.7890625,{"$f":"FOURIER!M362","v":0},{"$f":"FOURIER!N362","v":0},null,null,55.223308363883085,null,null,null,null,0,0,null,null,null,null,null,null,0,-343.57400000000001,null,null,null,null,null,null,null,null,null,null,null,null,null,7.2,-8.69,0,{"$error":"#DIV/0!"},{"$error":"#DIV/0!"}]
[null,null,null,null,null,361,7.22,-303.16500000000002,8.8134765625,{"$f":"FOURIER!M363","v":0},{"$f":"FOURIER!N363","v":0},null,null,55.376706442671647,null,null,null,null,0,0,null,null,null,null,null,null,0,-303.16500000000002,null,null,null,null,null,null,null,null,null,null,null,null,null,7.22,-9.3149999999999995,0,{"$error":"#DIV/0!"},{"$error":"#DIV/0!"}]
[null,null,null,null,null,362,7.24,-184.75899999999999,8.837890625,{"$f":"FOURIER!M364","v":0},{"$f":"FOURIER!N364","v":0},null,null,55.53010452146021,null,null,null,null,0,0,null,null,null,null,null,null,0,-184.75899999999999,null,null,null,null,null,null,null,null,null,null,null,null,null,7.24,-10.037000000000001,0,{"$error":"#DIV/0!"},{"$error":"#DIV/0!"}]
[null,null,null,null,null,363,7.26,-55.222799999999999,8.8623046875,{"$f":"FOURIER!M365","v":0},{"$f":"FOURIER!N365","v":0},null,null,55.683502600248779,null,null,null,null,0,0,null,null,null,null,null,null,0,-55.222799999999999,null,null,null,null,null,null,null,null,null,null,null,null,null,7.26,-10.808999999999999,0,{"$error":"#DIV/0!"},{"$error":"#DIV/0!"}]
[null,null,null,null,null,364,7.28,19.564900000000002,8.88671875,{"$f":"FOURIER!M366","v":0},{"$f":"FOURIER!N366","v":0},null,null,55.836900679037342,null,null,null,null,0,0,null,null,null,null,null,null,0,19.564900000000002,null,null,null,null,null,null,null,null,null,null,null,null,null,7.28,-11.58,0,{"$error":"#DIV/0!"},{"$error":"#DIV/0!"}]
[null,null,null,null,null,365,7.3,25.114699999999999,8.9111328125,{"$f":"FOURIER!M367","v":0},{"$f":"FOURIER!N367","v":0},null,null,55.990298757825904,null,null,null,null,0,0,null,null,null,null,null,null,0,25.114699999999999,null,null,null,null,null,null,null,null,null,null,null,null,null,7.3,-12.32,0,{"$error":"#DIV/0!"},{"$error":"#DIV/0!"}]
[null,null,null,null,null,366,7.32,29.5246,8.935546875,{"$f":"FOURIER!M368","v":0},{"$f":"FOURIER!N368","v":0},null,null,56.143696836614467,null,null,null,null,0,0,null,null,null,null,null,null,0,29.5246,null,null,null,null,null,null,null,null,null,null,null,null,null,7.32,-13.023,0,{"$error":"#DIV/0!"},{"$error":"#DIV/0!"}]
[null,null,null,null,null,367,7.34,30.334599999999998,8.9599609375,{"$f":"FOURIER!M369","v":0},{"$f":"FOURIER!N369","v":0},null,null,56.297094915403036,null,null,null,null,0,0,null,null,null,null,null,null,0,30.334599999999998,null,null,null,null,null,null,null,null,null,null,null,null,null,7.34,-13.683999999999999,0,{"$error":"#DIV/0!"},{"$error":"#DIV/0!"}]
[null,null,null,null,null,368,7.36,2.3754,8.984375,{"$f":"FOURIER!M370","v":0},{"$f":"FOURIER!N370","v":0},null,null,56.450492994191599,null,null,null,null,0,0,null,null,null,null,null,null,0,2.3754,null,null,null,null,null,null,null,null,null,null,null,null,null,7.36,-14.305,0,{"$error":"#DIV/0!"},{"$error":"#DIV/0!"}]
[null,null,null,null,null,369,7.38,-28.643599999999999,9.0087890625,{"$f":"FOURIER!M371","v":0},{"$f":"FOURIER!N371","v":0},null,null,56.603891072980161,null,null,null,null,0,0,null,null,null,null,null,null,0,-28.643599999999999,null,null,null,null,null,null,null,null,null,null,null,null,null,7.38,-14.894,0,{"$error":"#DIV/0!"},{"$error":"#DIV/0!"}]
[null,null,null,null,null,370,7.4,-55.6128,9.033203125,{"$f":"FOURIER!M372","v":0},{"$f":"FOURIER!N372","v":0},null,null,56.757289151768724,null,null,null,null,0,0,null,null,null,null,null,null,0,-55.6128,null,null,null,null,null,null,null,null,null,null,null,null,null,7.4,-15.462,0,{"$error":"#DIV/0!"},{"$error":"#DIV/0!"}]
[null,null,null,null,null,371,7.42,-86.541799999999995,9.0576171875,{"$f":"FOURIER!M373","v":0},{"$f":"FOURIER!N373","v":0},null,null,56.910687230557294,null,null,null,null,0,0,null,null,null,null,null,null,0,-86.541799999999995,null,null,null,null,null,null,null,null,null,null,null,null,null,7.42,-16.018999999999998,0,{"$error":"#DIV/0!"},{"$error":"#DIV/0!"}]
[null,null,null,null,null,372,7.44,-98.091499999999996,9.08203125,{"$f":"FOURIER!M374","v":0},{"$f":"FOURIER!N374","v":0},null,null,57.064085309345856,null,null,null,null,0,0,null,null,null,null,null,null,0,-98.091499999999996,null,null,null,null,null,null,null,null,null,null,null,null,null,7.44,-16.576000000000001,0,{"$error":"#DIV/0!"},{"$error":"#DIV/0!"}]
[null,null,null,null,null,373,7.46,-34.433399999999999,9.1064453125,{"$f":"FOURIER!M375","v":0},{"$f":"FOURIER!N375","v":0},null,null,57.217483388134418,null,null,null,null,0,0,null,null,null,null,null,null,0,-34.433399999999999,null,null,null,null,null,null,null,null,null,null,null,null,null,7.46,-17.134,0,{"$error":"#DIV/0!"},{"$error":"#DIV/0!"}]
[null,null,null,null,null,374,7.48,81.722999999999999,9.130859375,{"$f":"FOURIER!M376","v":0},{"$f":"FOURIER!N376","v":0},null,null,57.370881466922981,null,null,null,null,0,0,null,null,null,null,null,null,0,81.722999999999999,null,null,null,null,null,null,null,null,null,null,null,null,null,7.48,-17.667999999999999,0,{"$error":"#DIV/0!"},{"$error":"#DIV/0!"}]
[null,null,null,null,null,375,7.5,165.2704,9.1552734375,{"$f":"FOURIER!M377","v":0},{"$f":"FOURIER!N377","v":0},null,null,57.524279545711543,null,null,null,null,0,0,null,null,null,null,null,null,0,165.2704,null,null,null,null,null,null,null,null,null,null,null,null,null,7.5,-18.132000000000001,0,{"$error":"#DIV/0!"},{"$error":"#DIV/0!"}]
[null,null,null,null,null,376,7.5200000000000005,195.86949999999999,9.1796875,{"$f":"FOURIER!M378","v":0},{"$f":"FOURIER!N378","v":0},null,null,57.677677624500113,null,null,null,null,0,0,null,null,null,null,null,null,0,195.86949999999999,null,null,null,null,null,null,null,null,null,null,null,null,null,7.5200000000000005,-18.495000000000001,0,{"$error":"#DIV/0!"},{"$error":"#DIV/0!"}]
[null,null,null,null,null,377,7.54,230.27850000000001,9.2041015625,{"$f":"FOURIER!M379","v":0},{"$f":"FOURIER!N379","v":0},null,null,57.831075703288676,null,null,null,null,0,0,null,null,null,null,null,null,0,230.27850000000001,null,null,null,null,null,null,null,null,null,null,null,null,null,7.54,-18.739999999999998,0,{"$error":"#DIV/0!"},{"$error":"#DIV/0!"}]
[null,null,null,null,null,378,7.5600000000000005,328.49549999999999,9.228515625,{"$f":"FOURIER!M380","v":0},{"$f":"FOURIER!N380","v":0},null,null,57.984473782077238,null,null,null,null,0,0,null,null,null,null,null,null,0,328.49549999999999,null,null,null,null,null,null,null,null,null,null,null,null,null,7.5600000000000005,-18.853000000000002,0,{"$error":"#DIV/0!"},{"$error":"#DIV/0!"}]
[null,null,null,null,null,379,7.58,437.15210000000002,9.2529296875,{"$f":"FOURIER!M381","v":0},{"$f":"FOURIER!N381","v":0},null,null,58.1378718608658,null,null,null,null,0,0,null,null,null,null,null,null,0,437.15210000000002,null,null,null,null,null,null,null,null,null,null,null,null,null,7.58,-18.797000000000001,0,{"$error":"#DIV/0!"},{"$error":"#DIV/0!"}]
[null,null,null,null,null,380,7.6000000000000005,480.35079999999999,9.27734375,{"$f":"FOURIER!M382","v":0},{"$f":"FOURIER!N382","v":0},null,null,58.29126993965437,null,null,null,null,0,0,null,null,null,null,null,null,0,480.35079999999999,null,null,null,null,null,null,null,null,null,null,null,null,null,7.6000000000000005,-18.53,0,{"$error":"#DIV/0!"},{"$error":"#DIV/0!"}]
[null,null,null,null,null,381,7.62,418.34269999999998,9.3017578125,{"$f":"FOURIER!M383","v":0},{"$f":"FOURIER!N383","v":0},null,null,58.444668018442933,null,null,null,null,0,0,null,null,null,null,null,null,0,418.34269999999998,null,null,null,null,null,null,null,null,null,null,null,null,null,7.62,-18.039000000000001,0,{"$error":"#DIV/0!"},{"$error":"#DIV/0!"}]
[null,null,null,null,null,382,7.6400000000000006,262.40750000000003,9.326171875,{"$f":"FOURIER!M384","v":0},{"$f":"FOURIER!N384","v":0},null,null,58.598066097231495,null,null,null,null,0,0,null,null,null,null,null,null,0,262.40750000000003,null,null,null,null,null,null,null,null,null,null,null,null,null,7.6400000000000006,-17.350000000000001,0,{"$error":"#DIV/0!"},{"$error":"#DIV/0!"}]
[null,null,null,null,null,383,7.66,72.903300000000002,9.3505859375,{"$f":"FOURIER!M385","v":0},{"$f":"FOURIER!N385","v":0},null,null,58.751464176020058,null,null,null,null,0,0,null,null,null,null,null,null,0,72.903300000000002,null,null,null,null,null,null,null,null,null,null,null,null,null,7.66,-16.526,0,{"$error":"#DIV/0!"},{"$error":"#DIV/0!"}]
[null,null,null,null,null,384,7.68,-111.20099999999999,9.375,{"$f":"FOURIER!M386","v":0},{"$f":"FOURIER!N386","v":0},null,null,{"$f":"2*PI()/B$9/B$6*F386","v":58.90486225480862},null,null,null,null,{"$f":"J386*O386-K386*P386","v":0},{"$f":"J386*P386+K386*O386","v":0},null,null,null,null,null,null,0,-111.20099999999999,null,null,null,null,null,null,null,null,null,null,null,null,null,{"$f":"G386","v":7.68},-15.641999999999999,0,{"$error":"#DIV/0!"},{"$error":"#DIV/0!"}]
[null,null,null,null,null,385,{"$f":"B$6*F387","v":7.7},-275.92599999999999,{"$f":"F387/B$9/B$6","v":9.3994140625},{"$f":"FOURIER!M387","v":0},{"$f":"FOURIER!N387","v":0},null,null,59.05826033359719,null,null,null,null,0,0,null,null,null,null,null,null,{"$f":"(Y387-Y386)/B$6","v":0},{"$f":"(AA387-AA386)/B$6+H387","v":-275.92599999999999},null,null,null,null,null,null,null,null,null,null,null,null,null,7.7,-14.775,0,{"$f":"(AQ387-AQ386)/O$6","v":{"$error":"#DIV/0!"}},{"$f":"(AS387-AS386)/O$6+S387","v":{"$error":"#DIV/0!"}}]
[null,null,null,null,null,386,7.72,-412.90199999999999,9.423828125,{"$f":"FOURIER!M388","v":0},{"$f":"FOURIER!N388","v":0},null,null,59.211658412385752,null,null,null,null,0,0,null,null,null,null,null,null,0,-412.90199999999999,null,null,null,null,null,null,null,null,null,null,null,null,null,7.72,-13.991,0,{"$error":"#DIV/0!"},{"$error":"#DIV/0!"}]
[null,null,null,null,null,387,7.74,-505.47899999999998,9.4482421875,{"$f":"FOURIER!M389","v":0},{"$f":"FOURIER!N389","v":0},null,null,59.365056491174315,null,null,null,null,0,0,null,null,null,null,null,null,0,-505.47899999999998,null,null,null,null,null,null,null,null,null,null,null,null,null,7.74,-13.345000000000001,0,{"$error":"#DIV/0!"},{"$error":"#DIV/0!"}]
[null,null,null,null,null,388,7.76,-514.62900000000002,9.47265625,{"$f":"FOURIER!M390","v":0},{"$f":"FOURIER!N390","v":0},null,null,59.518454569962877,null,null,null,null,0,0,null,null,null,null,null,null,0,-514.62900000000002,null,null,null,null,null,null,null,null,null,null,null,null,null,7.76,-12.875,0,{"$error":"#DIV/0!"},{"$error":"#DIV/0!"}]
[null,null,null,null,null,389,7.78,-423.94099999999997,9.4970703125,{"$f":"FOURIER!M391","v":0},{"$f":"FOURIER!N391","v":0},null,null,59.671852648751447,null,null,null,null,0,0,null,null,null,null,null,null,0,-423.94099999999997,null,null,null,null,null,null,null,null,null,null,null,null,null,7.78,-12.583,0,{"$error":"#DIV/0!"},{"$error":"#DIV/0!"}]
[null,null,null,null,null,390,7.8,-323.08499999999998,9.521484375,{"$f":"FOURIER!M392","v":0},{"$f":"FOURIER!N392","v":0},null,null,59.825250727540009,null,null,null,null,0,0,null,null,null,null,null,null,0,-323.08499999999998,null,null,null,null,null,null,null,null,null,null,null,null,null,7.8,-12.436,0,{"$error":"#DIV/0!"},{"$error":"#DIV/0!"}]
[null,null,null,null,null,391,7.82,-258.04700000000003,9.5458984375,{"$f":"FOURIER!M393","v":0},{"$f":"FOURIER!N393","v":0},null,null,59.978648806328572,null,null,null,null,0,0,null,null,null,null,null,null,0,-258.04700000000003,null,null,null,null,null,null,null,null,null,null,null,null,null,7.82,-12.395,0,{"$error":"#DIV/0!"},{"$error":"#DIV/0!"}]
[null,null,null,null,null,392,7.84,-195.49799999999999,9.5703125,{"$f":"FOURIER!M394","v":0},{"$f":"FOURIER!N394","v":0},null,null,60.132046885117134,null,null,null,null,0,0,null,null,null,null,null,null,0,-195.49799999999999,null,null,null,null,null,null,null,null,null,null,null,null,null,7.84,-12.433,0,{"$error":"#DIV/0!"},{"$error":"#DIV/0!"}]
[null,null,null,null,null,393,7.86,-126.23099999999999,9.5947265625,{"$f":"FOURIER!M395","v":0},{"$f":"FOURIER!N395","v":0},null,null,60.285444963905704,null,null,null,null,0,0,null,null,null,null,null,null,0,-126.23099999999999,null,null,null,null,null,null,null,null,null,null,null,null,null,7.86,-12.523,0,{"$error":"#DIV/0!"},{"$error":"#DIV/0!"}]
[null,null,null,null,null,394,7.88,-63.322400000000002,9.619140625,{"$f":"FOURIER!M396","v":0},{"$f":"FOURIER!N396","v":0},null,null,60.438843042694266,null,null,null,null,0,0,null,null,null,null,null,null,0,-63.322400000000002,null,null,null,null,null,null,null,null,null,null,null,null,null,7.88,-12.638999999999999,0,{"$error":"#DIV/0!"},{"$error":"#DIV/0!"}]
[null,null,null,null,null,395,7.9,3.4855,9.6435546875,{"$f":"FOURIER!M397","v":0},{"$f":"FOURIER!N397","v":0},null,null,60.592241121482829,null,null,null,null,0,0,null,null,null,null,null,null,0,3.4855,null,null,null,null,null,null,null,null,null,null,null,null,null,7.9,-12.754,0,{"$error":"#DIV/0!"},{"$error":"#DIV/0!"}]
[null,null,null,null,null,396,7.92,13.1752,9.66796875,{"$f":"FOURIER!M398","v":0},{"$f":"FOURIER!N398","v":0},null,null,60.745639200271391,null,null,null,null,0,0,null,null,null,null,null,null,0,13.1752,null,null,null,null,null,null,null,null,null,null,null,null,null,7.92,-12.843999999999999,0,{"$error":"#DIV/0!"},{"$error":"#DIV/0!"}]
[null,null,null,null,null,397,7.94,-85.911699999999996,9.6923828125,{"$f":"FOURIER!M399","v":0},{"$f":"FOURIER!N399","v":0},null,null,60.899037279059954,null,null,null,null,0,0,null,null,null,null,null,null,0,-85.911699999999996,null,null,null,null,null,null,null,null,null,null,null,null,null,7.94,-12.906000000000001,0,{"$error":"#DIV/0!"},{"$error":"#DIV/0!"}]
[null,null,null,null,null,398,7.96,-210.798,9.716796875,{"$f":"FOURIER!M400","v":0},{"$f":"FOURIER!N400","v":0},null,null,61.052435357848523,null,null,null,null,0,0,null,null,null,null,null,null,0,-210.798,null,null,null,null,null,null,null,null,null,null,null,null,null,7.96,-12.978,0,{"$error":"#DIV/0!"},{"$error":"#DIV/0!"}]
[null,null,null,null,null,399,7.98,-275.77600000000001,9.7412109375,{"$f":"FOURIER!M401","v":0},{"$f":"FOURIER!N401","v":0},null,null,61.205833436637086,null,null,null,null,0,0,null,null,null,null,null,null,0,-275.77600000000001,null,null,null,null,null,null,null,null,null,null,null,null,null,7.98,-13.105,0,{"$error":"#DIV/0!"},{"$error":"#DIV/0!"}]
[null,null,null,null,null,400,8,-239.71700000000001,9.765625,{"$f":"FOURIER!M402","v":0},{"$f":"FOURIER!N402","v":0},null,null,61.359231515425648,null,null,null,null,0,0,null,null,null,null,null,null,0,-239.71700000000001,null,null,null,null,null,null,null,null,null,null,null,null,null,8,-13.313000000000001,0,{"$error":"#DIV/0!"},{"$error":"#DIV/0!"}]
[null,null,null,null,null,401,8.02,-146.47999999999999,9.7900390625,{"$f":"FOURIER!M403","v":0},{"$f":"FOURIER!N403","v":0},null,null,61.512629594214211,null,null,null,null,0,0,null,null,null,null,null,null,0,-146.47999999999999,null,null,null,null,null,null,null,null,null,null,null,null,null,8.02,-13.587,0,{"$error":"#DIV/0!"},{"$error":"#DIV/0!"}]
[null,null,null,null,null,402,8.0400000000000009,-75.951999999999998,9.814453125,{"$f":"FOURIER!M404","v":0},{"$f":"FOURIER!N404","v":0},null,null,61.66602767300278,null,null,null,null,0,0,null,null,null,null,null,null,0,-75.951999999999998,null,null,null,null,null,null,null,null,null,null,null,null,null,8.0400000000000009,-13.891999999999999,0,{"$error":"#DIV/0!"},{"$error":"#DIV/0!"}]
[null,null,null,null,null,403,8.06,9.3054000000000006,9.8388671875,{"$f":"FOURIER!M405","v":0},{"$f":"FOURIER!N405","v":0},null,null,61.819425751791343,null,null,null,null,0,0,null,null,null,null,null,null,0,9.3054000000000006,null,null,null,null,null,null,null,null,null,null,null,null,null,8.06,-14.198,0,{"$error":"#DIV/0!"},{"$error":"#DIV/0!"}]
[null,null,null,null,null,404,8.08,139.20140000000001,9.86328125,{"$f":"FOURIER!M406","v":0},{"$f":"FOURIER!N406","v":0},null,null,61.972823830579905,null,null,null,null,0,0,null,null,null,null,null,null,0,139.20140000000001,null,null,null,null,null,null,null,null,null,null,null,null,null,8.08,-14.468999999999999,0,{"$error":"#DIV/0!"},{"$error":"#DIV/0!"}]
[null,null,null,null,null,405,8.1,276.23719999999997,9.8876953125,{"$f":"FOURIER!M407","v":0},{"$f":"FOURIER!N407","v":0},null,null,62.126221909368468,null,null,null,null,0,0,null,null,null,null,null,null,0,276.23719999999997,null,null,null,null,null,null,null,null,null,null,null,null,null,8.1,-14.654,0,{"$error":"#DIV/0!"},{"$error":"#DIV/0!"}]
[null,null,null,null,null,406,8.120000000000001,370.01429999999999,9.912109375,{"$f":"FOURIER!M408","v":0},{"$f":"FOURIER!N408","v":0},null,null,62.279619988157037,null,null,null,null,0,0,null,null,null,null,null,null,0,370.01429999999999,null,null,null,null,null,null,null,null,null,null,null,null,null,8.120000000000001,-14.7,0,{"$error":"#DIV/0!"},{"$error":"#DIV/0!"}]
[null,null,null,null,null,407,8.14,399.83339999999998,9.9365234375,{"$f":"FOURIER!M409","v":0},{"$f":"FOURIER!N409","v":0},null,null,62.4330180669456,null,null,null,null,0,0,null,null,null,null,null,null,0,399.83339999999998,null,null,null,null,null,null,null,null,null,null,null,null,null,8.14,-14.571,0,{"$error":"#DIV/0!"},{"$error":"#DIV/0!"}]
[null,null,null,null,null,408,8.16,404.30329999999998,9.9609375,{"$f":"FOURIER!M410","v":0},{"$f":"FOURIER!N410","v":0},null,null,62.586416145734162,null,null,null,null,0,0,null,null,null,null,null,null,0,404.30329999999998,null,null,null,null,null,null,null,null,null,null,null,null,null,8.16,-14.255000000000001,0,{"$error":"#DIV/0!"},{"$error":"#DIV/0!"}]
[null,null,null,null,null,409,8.18,391.13369999999998,9.9853515625,{"$f":"FOURIER!M411","v":0},{"$f":"FOURIER!N411","v":0},null,null,62.739814224522725,null,null,null,null,0,0,null,null,null,null,null,null,0,391.13369999999998,null,null,null,null,null,null,null,null,null,null,null,null,null,8.18,-13.75,0,{"$error":"#DIV/0!"},{"$error":"#DIV/0!"}]
[null,null,null,null,null,410,8.1999999999999993,368.5444,10.009765625,{"$f":"FOURIER!M412","v":0},{"$f":"FOURIER!N412","v":0},null,null,62.893212303311287,null,null,null,null,0,0,null,null,null,null,null,null,0,368.5444,null,null,null,null,null,null,null,null,null,null,null,null,null,8.1999999999999993,-13.064,0,{"$error":"#DIV/0!"},{"$error":"#DIV/0!"}]
[null,null,null,null,null,411,8.2200000000000006,344.51510000000002,10.0341796875,{"$f":"FOURIER!M413","v":0},{"$f":"FOURIER!N413","v":0},null,null,63.046610382099857,null,null,null,null,0,0,null,null,null,null,null,null,0,344.51510000000002,null,null,null,null,null,null,null,null,null,null,null,null,null,8.2200000000000006,-12.207000000000001,0,{"$error":"#DIV/0!"},{"$error":"#DIV/0!"}]
[null,null,null,null,null,412,8.24,314.51600000000002,10.05859375,{"$f":"FOURIER!M414","v":0},{"$f":"FOURIER!N414","v":0},null,null,63.200008460888419,null,null,null,null,0,0,null,null,null,null,null,null,0,314.51600000000002,null,null,null,null,null,null,null,null,null,null,null,null,null,8.24,-11.192,0,{"$error":"#DIV/0!"},{"$error":"#DIV/0!"}]
[null,null,null,null,null,413,8.26,283.46699999999998,10.0830078125,{"$f":"FOURIER!M415","v":0},{"$f":"FOURIER!N415","v":0},null,null,63.353406539676982,null,null,null,null,0,0,null,null,null,null,null,null,0,283.46699999999998,null,null,null,null,null,null,null,null,null,null,null,null,null,8.26,-10.032999999999999,0,{"$error":"#DIV/0!"},{"$error":"#DIV/0!"}]
[null,null,null,null,null,414,8.2799999999999994,229.73869999999999,10.107421875,{"$f":"FOURIER!M416","v":0},{"$f":"FOURIER!N416","v":0},null,null,63.506804618465544,null,null,null,null,0,0,null,null,null,null,null,null,0,229.73869999999999,null,null,null,null,null,null,null,null,null,null,null,null,null,8.2799999999999994,-8.7460000000000004,0,{"$error":"#DIV/0!"},{"$error":"#DIV/0!"}]
[null,null,null,null,null,415,8.3000000000000007,123.03189999999999,10.1318359375,{"$f":"FOURIER!M417","v":0},{"$f":"FOURIER!N417","v":0},null,null,63.660202697254114,null,null,null,null,0,0,null,null,null,null,null,null,0,123.03189999999999,null,null,null,null,null,null,null,null,null,null,null,null,null,8.3000000000000007,-7.3570000000000002,0,{"$error":"#DIV/0!"},{"$error":"#DIV/0!"}]
[null,null,null,null,null,416,8.32,-6.6540999999999997,10.15625,{"$f":"FOURIER!M418","v":0},{"$f":"FOURIER!N418","v":0},null,null,63.813600776042676,null,null,null,null,0,0,null,null,null,null,null,null,0,-6.6540999999999997,null,null,null,null,null,null,null,null,null,null,null,null,null,8.32,-5.9109999999999996,0,{"$error":"#DIV/0!"},{"$error":"#DIV/0!"}]
[null,null,null,null,null,417,8.34,-129.35,10.1806640625,{"$f":"FOURIER!M419","v":0},{"$f":"FOURIER!N419","v":0},null,null,63.966998854831239,null,null,null,null,0,0,null,null,null,null,null,null,0,-129.35,null,null,null,null,null,null,null,null,null,null,null,null,null,8.34,-4.46,0,{"$error":"#DIV/0!"},{"$error":"#DIV/0!"}]
[null,null,null,null,null,418,8.36,-237.49700000000001,10.205078125,{"$f":"FOURIER!M420","v":0},{"$f":"FOURIER!N420","v":0},null,null,64.120396933619801,null,null,null,null,0,0,null,null,null,null,null,null,0,-237.49700000000001,null,null,null,null,null,null,null,null,null,null,null,null,null,8.36,-3.0579999999999998,0,{"$error":"#DIV/0!"},{"$error":"#DIV/0!"}]
[null,null,null,null,null,419,8.3800000000000008,-325.45400000000001,10.2294921875,{"$f":"FOURIER!M421","v":0},{"$f":"FOURIER!N421","v":0},null,null,64.273795012408371,null,null,null,null,0,0,null,null,null,null,null,null,0,-325.45400000000001,null,null,null,null,null,null,null,null,null,null,null,null,null,8.3800000000000008,-1.75,0,{"$error":"#DIV/0!"},{"$error":"#DIV/0!"}]
[null,null,null,null,null,420,8.4,-370.00299999999999,10.25390625,{"$f":"FOURIER!M422","v":0},{"$f":"FOURIER!N422","v":0},null,null,64.427193091196926,null,null,null,null,0,0,null,null,null,null,null,null,0,-370.00299999999999,null,null,null,null,null,null,null,null,null,null,null,null,null,8.4,-0.57099999999999995,0,{"$error":"#DIV/0!"},{"$error":"#DIV/0!"}]
[null,null,null,null,null,421,8.42,-337.18400000000003,10.2783203125,{"$f":"FOURIER!M423","v":0},{"$f":"FOURIER!N423","v":0},null,null,64.580591169985496,null,null,null,null,0,0,null,null,null,null,null,null,0,-337.18400000000003,null,null,null,null,null,null,null,null,null,null,null,null,null,8.42,0.45800000000000002,0,{"$error":"#DIV/0!"},{"$error":"#DIV/0!"}]
[null,null,null,null,null,422,8.44,-245.50700000000001,10.302734375,{"$f":"FOURIER!M424","v":0},{"$f":"FOURIER!N424","v":0},null,null,64.733989248774066,null,null,null,null,0,0,null,null,null,null,null,null,0,-245.50700000000001,null,null,null,null,null,null,null,null,null,null,null,null,null,8.44,1.35,0,{"$error":"#DIV/0!"},{"$error":"#DIV/0!"}]
[null,null,null,null,null,423,8.4600000000000009,-163.72900000000001,10.3271484375,{"$f":"FOURIER!M425","v":0},{"$f":"FOURIER!N425","v":0},null,null,64.887387327562621,null,null,null,null,0,0,null,null,null,null,null,null,0,-163.72900000000001,null,null,null,null,null,null,null,null,null,null,null,null,null,8.4600000000000009,2.137,0,{"$error":"#DIV/0!"},{"$error":"#DIV/0!"}]
[null,null,null,null,null,424,8.48,-91.401399999999995,10.3515625,{"$f":"FOURIER!M426","v":0},{"$f":"FOURIER!N426","v":0},null,null,65.040785406351191,null,null,null,null,0,0,null,null,null,null,null,null,0,-91.401399999999995,null,null,null,null,null,null,null,null,null,null,null,null,null,8.48,2.85,0,{"$error":"#DIV/0!"},{"$error":"#DIV/0!"}]
[null,null,null,null,null,425,8.5,-2.3641999999999999,10.3759765625,{"$f":"FOURIER!M427","v":0},{"$f":"FOURIER!N427","v":0},null,null,65.194183485139746,null,null,null,null,0,0,null,null,null,null,null,null,0,-2.3641999999999999,null,null,null,null,null,null,null,null,null,null,null,null,null,8.5,3.52,0,{"$error":"#DIV/0!"},{"$error":"#DIV/0!"}]
[null,null,null,null,null,426,8.52,52.534199999999998,10.400390625,{"$f":"FOURIER!M428","v":0},{"$f":"FOURIER!N428","v":0},null,null,65.347581563928316,null,null,null,null,0,0,null,null,null,null,null,null,0,52.534199999999998,null,null,null,null,null,null,null,null,null,null,null,null,null,8.52,4.1769999999999996,0,{"$error":"#DIV/0!"},{"$error":"#DIV/0!"}]
[null,null,null,null,null,427,8.5400000000000009,54.604100000000003,10.4248046875,{"$f":"FOURIER!M429","v":0},{"$f":"FOURIER!N429","v":0},null,null,65.500979642716885,null,null,null,null,0,0,null,null,null,null,null,null,0,54.604100000000003,null,null,null,null,null,null,null,null,null,null,null,null,null,8.5400000000000009,4.843,0,{"$error":"#DIV/0!"},{"$error":"#DIV/0!"}]
[null,null,null,null,null,428,8.56,21.9651,10.44921875,{"$f":"FOURIER!M430","v":0},{"$f":"FOURIER!N430","v":0},null,null,65.65437772150544,null,null,null,null,0,0,null,null,null,null,null,null,0,21.9651,null,null,null,null,null,null,null,null,null,null,null,null,null,8.56,5.5170000000000003,0,{"$error":"#DIV/0!"},{"$error":"#DIV/0!"}]
[null,null,null,null,null,429,8.58,-25.883400000000002,10.4736328125,{"$f":"FOURIER!M431","v":0},{"$f":"FOURIER!N431","v":0},null,null,65.80777580029401,null,null,null,null,0,0,null,null,null,null,null,null,0,-25.883400000000002,null,null,null,null,null,null,null,null,null,null,null,null,null,8.58,6.1859999999999999,0,{"$error":"#DIV/0!"},{"$error":"#DIV/0!"}]
[null,null,null,null,null,430,8.6,-76.071899999999999,10.498046875,{"$f":"FOURIER!M432","v":0},{"$f":"FOURIER!N432","v":0},null,null,65.96117387908258,null,null,null,null,0,0,null,null,null,null,null,null,0,-76.071899999999999,null,null,null,null,null,null,null,null,null,null,null,null,null,8.6,6.8289999999999997,0,{"$error":"#DIV/0!"},{"$error":"#DIV/0!"}]
[null,null,null,null,null,431,8.620000000000001,-120.17100000000001,10.5224609375,{"$f":"FOURIER!M433","v":0},{"$f":"FOURIER!N433","v":0},null,null,66.114571957871135,null,null,null,null,0,0,null,null,null,null,null,null,0,-120.17100000000001,null,null,null,null,null,null,null,null,null,null,null,null,null,8.620000000000001,7.4260000000000002,0,{"$error":"#DIV/0!"},{"$error":"#DIV/0!"}]
[null,null,null,null,null,432,8.64,-148.69999999999999,10.546875,{"$f":"FOURIER!M434","v":0},{"$f":"FOURIER!N434","v":0},null,null,66.267970036659705,null,null,null,null,0,0,null,null,null,null,null,null,0,-148.69999999999999,null,null,null,null,null,null,null,null,null,null,null,null,null,8.64,7.9580000000000002,0,{"$error":"#DIV/0!"},{"$error":"#DIV/0!"}]
[null,null,null,null,null,433,8.66,-174.88900000000001,10.5712890625,{"$f":"FOURIER!M435","v":0},{"$f":"FOURIER!N435","v":0},null,null,66.42136811544826,null,null,null,null,0,0,null,null,null,null,null,null,0,-174.88900000000001,null,null,null,null,null,null,null,null,null,null,null,null,null,8.66,8.4130000000000003,0,{"$error":"#DIV/0!"},{"$error":"#DIV/0!"}]
[null,null,null,null,null,434,8.68,-212.898,10.595703125,{"$f":"FOURIER!M436","v":0},{"$f":"FOURIER!N436","v":0},null,null,66.57476619423683,null,null,null,null,0,0,null,null,null,null,null,null,0,-212.898,null,null,null,null,null,null,null,null,null,null,null,null,null,8.68,8.7780000000000005,0,{"$error":"#DIV/0!"},{"$error":"#DIV/0!"}]
[null,null,null,null,null,435,8.7000000000000011,-249.70699999999999,10.6201171875,{"$f":"FOURIER!M437","v":0},{"$f":"FOURIER!N437","v":0},null,null,66.728164273025399,null,null,null,null,0,0,null,null,null,null,null,null,0,-249.70699999999999,null,null,null,null,null,null,null,null,null,null,null,null,null,8.7000000000000011,9.0399999999999991,0,{"$error":"#DIV/0!"},{"$error":"#DIV/0!"}]
[null,null,null,null,null,436,8.7200000000000006,-293.11500000000001,10.64453125,{"$f":"FOURIER!M438","v":0},{"$f":"FOURIER!N438","v":0},null,null,66.881562351813955,null,null,null,null,0,0,null,null,null,null,null,null,0,-293.11500000000001,null,null,null,null,null,null,null,null,null,null,null,null,null,8.7200000000000006,9.1829999999999998,0,{"$error":"#DIV/0!"},{"$error":"#DIV/0!"}]
[null,null,null,null,null,437,8.74,-301.15499999999997,10.6689453125,{"$f":"FOURIER!M439","v":0},{"$f":"FOURIER!N439","v":0},null,null,67.034960430602524,null,null,null,null,0,0,null,null,null,null,null,null,0,-301.15499999999997,null,null,null,null,null,null,null,null,null,null,null,null,null,8.74,9.1910000000000007,0,{"$error":"#DIV/0!"},{"$error":"#DIV/0!"}]
[null,null,null,null,null,438,8.76,-262.726,10.693359375,{"$f":"FOURIER!M440","v":0},{"$f":"FOURIER!N440","v":0},null,null,67.18835850939108,null,null,null,null,0,0,null,null,null,null,null,null,0,-262.726,null,null,null,null,null,null,null,null,null,null,null,null,null,8.76,9.0609999999999999,0,{"$error":"#DIV/0!"},{"$error":"#DIV/0!"}]
[null,null,null,null,null,439,8.7799999999999994,-217.27799999999999,10.7177734375,{"$f":"FOURIER!M441","v":0},{"$f":"FOURIER!N441","v":0},null,null,67.341756588179649,null,null,null,null,0,0,null,null,null,null,null,null,0,-217.27799999999999,null,null,null,null,null,null,null,null,null,null,null,null,null,8.7799999999999994,8.81,0,{"$error":"#DIV/0!"},{"$error":"#DIV/0!"}]
[null,null,null,null,null,440,8.8000000000000007,-162.739,10.7421875,{"$f":"FOURIER!M442","v":0},{"$f":"FOURIER!N442","v":0},null,null,67.495154666968219,null,null,null,null,0,0,null,null,null,null,null,null,0,-162.739,null,null,null,null,null,null,null,null,null,null,null,null,null,8.8000000000000007,8.4550000000000001,0,{"$error":"#DIV/0!"},{"$error":"#DIV/0!"}]
[null,null,null,null,null,441,8.82,-116.601,10.7666015625,{"$f":"FOURIER!M443","v":0},{"$f":"FOURIER!N443","v":0},null,null,67.648552745756774,null,null,null,null,0,0,null,null,null,null,null,null,0,-116.601,null,null,null,null,null,null,null,null,null,null,null,null,null,8.82,8.02,0,{"$error":"#DIV/0!"},{"$error":"#DIV/0!"}]
[null,null,null,null,null,442,8.84,-96.291200000000003,10.791015625,{"$f":"FOURIER!M444","v":0},{"$f":"FOURIER!N444","v":0},null,null,67.801950824545344,null,null,null,null,0,0,null,null,null,null,null,null,0,-96.291200000000003,null,null,null,null,null,null,null,null,null,null,null,null,null,8.84,7.5220000000000002,0,{"$error":"#DIV/0!"},{"$error":"#DIV/0!"}]
[null,null,null,null,null,443,8.86,-77.511799999999994,10.8154296875,{"$f":"FOURIER!M445","v":0},{"$f":"FOURIER!N445","v":0},null,null,67.955348903333913,null,null,null,null,0,0,null,null,null,null,null,null,0,-77.511799999999994,null,null,null,null,null,null,null,null,null,null,null,null,null,8.86,6.9740000000000002,0,{"$error":"#DIV/0!"},{"$error":"#DIV/0!"}]
[null,null,null,null,null,444,8.8800000000000008,-28.1633,10.83984375,{"$f":"FOURIER!M446","v":0},{"$f":"FOURIER!N446","v":0},null,null,68.108746982122469,null,null,null,null,0,0,null,null,null,null,null,null,0,-28.1633,null,null,null,null,null,null,null,null,null,null,null,null,null,8.8800000000000008,6.383,0,{"$error":"#DIV/0!"},{"$error":"#DIV/0!"}]
[null,null,null,null,null,445,8.9,45.694499999999998,10.8642578125,{"$f":"FOURIER!M447","v":0},{"$f":"FOURIER!N447","v":0},null,null,68.262145060911038,null,null,null,null,0,0,null,null,null,null,null,null,0,45.694499999999998,null,null,null,null,null,null,null,null,null,null,null,null,null,8.9,5.7720000000000002,0,{"$error":"#DIV/0!"},{"$error":"#DIV/0!"}]
[null,null,null,null,null,446,8.92,124.982,10.888671875,{"$f":"FOURIER!M448","v":0},{"$f":"FOURIER!N448","v":0},null,null,68.415543139699594,null,null,null,null,0,0,null,null,null,null,null,null,0,124.982,null,null,null,null,null,null,null,null,null,null,null,null,null,8.92,5.17,0,{"$error":"#DIV/0!"},{"$error":"#DIV/0!"}]
[null,null,null,null,null,447,8.94,198.62979999999999,10.9130859375,{"$f":"FOURIER!M449","v":0},{"$f":"FOURIER!N449","v":0},null,null,68.568941218488163,null,null,null,null,0,0,null,null,null,null,null,null,0,198.62979999999999,null,null,null,null,null,null,null,null,null,null,null,null,null,8.94,4.6100000000000003,0,{"$error":"#DIV/0!"},{"$error":"#DIV/0!"}]
[null,null,null,null,null,448,8.9600000000000009,254.75810000000001,10.9375,{"$f":"FOURIER!M450","v":0},{"$f":"FOURIER!N450","v":0},null,null,{"$f":"2*PI()/B$9/B$6*F450","v":68.722339297276733},null,null,null,null,{"$f":"J450*O450-K450*P450","v":0},{"$f":"J450*P450+K450*O450","v":0},null,null,null,null,null,null,0,254.75810000000001,null,null,null,null,null,null,null,null,null,null,null,null,null,{"$f":"G450","v":8.9600000000000009},4.1219999999999999,0,{"$error":"#DIV/0!"},{"$error":"#DIV/0!"}]
[null,null,null,null,null,449,{"$f":"B$6*F451","v":8.98},282.68720000000002,{"$f":"F451/B$9/B$6","v":10.9619140625},{"$f":"FOURIER!M451","v":0},{"$f":"FOURIER!N451","v":0},null,null,68.875737376065288,null,null,null,null,0,0,null,null,null,null,null,null,{"$f":"(Y451-Y450)/B$6","v":0},{"$f":"(AA451-AA450)/B$6+H451","v":282.68720000000002},null,null,null,null,null,null,null,null,null,null,null,null,null,8.98,3.7280000000000002,0,{"$f":"(AQ451-AQ450)/O$6","v":{"$error":"#DIV/0!"}},{"$f":"(AS451-AS450)/O$6+S451","v":{"$error":"#DIV/0!"}}]
[null,null,null,null,null,450,9,267.83769999999998,10.986328125,{"$f":"FOURIER!M452","v":0},{"$f":"FOURIER!N452","v":0},null,null,69.029135454853858,null,null,null,null,0,0,null,null,null,null,null,null,0,267.83769999999998,null,null,null,null,null,null,null,null,null,null,null,null,null,9,3.44,0,{"$error":"#DIV/0!"},{"$error":"#DIV/0!"}]
[null,null,null,null,null,451,9.02,213.89930000000001,11.0107421875,{"$f":"FOURIER!M453","v":0},{"$f":"FOURIER!N453","v":0},null,null,69.182533533642413,null,null,null,null,0,0,null,null,null,null,null,null,0,213.89930000000001,null,null,null,null,null,null,null,null,null,null,null,null,null,9.02,3.2519999999999998,0,{"$error":"#DIV/0!"},{"$error":"#DIV/0!"}]
[null,null,null,null,null,452,9.0400000000000009,160.53100000000001,11.03515625,{"$f":"FOURIER!M454","v":0},{"$f":"FOURIER!N454","v":0},null,null,69.335931612430983,null,null,null,null,0,0,null,null,null,null,null,null,0,160.53100000000001,null,null,null,null,null,null,null,null,null,null,null,null,null,9.0400000000000009,3.1429999999999998,0,{"$error":"#DIV/0!"},{"$error":"#DIV/0!"}]
[null,null,null,null,null,453,9.06,136.5317,11.0595703125,{"$f":"FOURIER!M455","v":0},{"$f":"FOURIER!N455","v":0},null,null,69.489329691219552,null,null,null,null,0,0,null,null,null,null,null,null,0,136.5317,null,null,null,null,null,null,null,null,null,null,null,null,null,9.06,3.0939999999999999,0,{"$error":"#DIV/0!"},{"$error":"#DIV/0!"}]
[null,null,null,null,null,454,9.08,124.2921,11.083984375,{"$f":"FOURIER!M456","v":0},{"$f":"FOURIER!N456","v":0},null,null,69.642727770008108,null,null,null,null,0,0,null,null,null,null,null,null,0,124.2921,null,null,null,null,null,null,null,null,null,null,null,null,null,9.08,3.0939999999999999,0,{"$error":"#DIV/0!"},{"$error":"#DIV/0!"}]
[null,null,null,null,null,455,9.1,106.2026,11.1083984375,{"$f":"FOURIER!M457","v":0},{"$f":"FOURIER!N457","v":0},null,null,69.796125848796677,null,null,null,null,0,0,null,null,null,null,null,null,0,106.2026,null,null,null,null,null,null,null,null,null,null,null,null,null,9.1,3.137,0,{"$error":"#DIV/0!"},{"$error":"#DIV/0!"}]
[null,null,null,null,null,456,9.120000000000001,95.972999999999999,11.1328125,{"$f":"FOURIER!M458","v":0},{"$f":"FOURIER!N458","v":0},null,null,69.949523927585247,null,null,null,null,0,0,null,null,null,null,null,null,0,95.972999999999999,null,null,null,null,null,null,null,null,null,null,null,null,null,9.120000000000001,3.2170000000000001,0,{"$error":"#DIV/0!"},{"$error":"#DIV/0!"}]
[null,null,null,null,null,457,9.14,103.98269999999999,11.1572265625,{"$f":"FOURIER!M459","v":0},{"$f":"FOURIER!N459","v":0},null,null,70.102922006373802,null,null,null,null,0,0,null,null,null,null,null,null,0,103.98269999999999,null,null,null,null,null,null,null,null,null,null,null,null,null,9.14,3.3279999999999998,0,{"$error":"#DIV/0!"},{"$error":"#DIV/0!"}]
[null,null,null,null,null,458,9.16,112.2325,11.181640625,{"$f":"FOURIER!M460","v":0},{"$f":"FOURIER!N460","v":0},null,null,70.256320085162372,null,null,null,null,0,0,null,null,null,null,null,null,0,112.2325,null,null,null,null,null,null,null,null,null,null,null,null,null,9.16,3.4740000000000002,0,{"$error":"#DIV/0!"},{"$error":"#DIV/0!"}]
[null,null,null,null,null,459,9.18,120.15219999999999,11.2060546875,{"$f":"FOURIER!M461","v":0},{"$f":"FOURIER!N461","v":0},null,null,70.409718163950927,null,null,null,null,0,0,null,null,null,null,null,null,0,120.15219999999999,null,null,null,null,null,null,null,null,null,null,null,null,null,9.18,3.6579999999999999,0,{"$error":"#DIV/0!"},{"$error":"#DIV/0!"}]
[null,null,null,null,null,460,9.2000000000000011,128.042,11.23046875,{"$f":"FOURIER!M462","v":0},{"$f":"FOURIER!N462","v":0},null,null,70.563116242739497,null,null,null,null,0,0,null,null,null,null,null,null,0,128.042,null,null,null,null,null,null,null,null,null,null,null,null,null,9.2000000000000011,3.8809999999999998,0,{"$error":"#DIV/0!"},{"$error":"#DIV/0!"}]
[null,null,null,null,null,461,9.2200000000000006,130.08189999999999,11.2548828125,{"$f":"FOURIER!M463","v":0},{"$f":"FOURIER!N463","v":0},null,null,70.716514321528066,null,null,null,null,0,0,null,null,null,null,null,null,0,130.08189999999999,null,null,null,null,null,null,null,null,null,null,null,null,null,9.2200000000000006,4.1470000000000002,0,{"$error":"#DIV/0!"},{"$error":"#DIV/0!"}]
[null,null,null,null,null,462,9.24,134.9718,11.279296875,{"$f":"FOURIER!M464","v":0},{"$f":"FOURIER!N464","v":0},null,null,70.869912400316622,null,null,null,null,0,0,null,null,null,null,null,null,0,134.9718,null,null,null,null,null,null,null,null,null,null,null,null,null,9.24,4.4550000000000001,0,{"$error":"#DIV/0!"},{"$error":"#DIV/0!"}]
[null,null,null,null,null,463,9.26,143.5215,11.3037109375,{"$f":"FOURIER!M465","v":0},{"$f":"FOURIER!N465","v":0},null,null,71.023310479105191,null,null,null,null,0,0,null,null,null,null,null,null,0,143.5215,null,null,null,null,null,null,null,null,null,null,null,null,null,9.26,4.8070000000000004,0,{"$error":"#DIV/0!"},{"$error":"#DIV/0!"}]
[null,null,null,null,null,464,9.2799999999999994,142.86160000000001,11.328125,{"$f":"FOURIER!M466","v":0},{"$f":"FOURIER!N466","v":0},null,null,71.176708557893747,null,null,null,null,0,0,null,null,null,null,null,null,0,142.86160000000001,null,null,null,null,null,null,null,null,null,null,null,null,null,9.2799999999999994,5.2060000000000004,0,{"$error":"#DIV/0!"},{"$error":"#DIV/0!"}]
[null,null,null,null,null,465,9.3000000000000007,117.9623,11.3525390625,{"$f":"FOURIER!M467","v":0},{"$f":"FOURIER!N467","v":0},null,null,71.330106636682316,null,null,null,null,0,0,null,null,null,null,null,null,0,117.9623,null,null,null,null,null,null,null,null,null,null,null,null,null,9.3000000000000007,5.6479999999999997,0,{"$error":"#DIV/0!"},{"$error":"#DIV/0!"}]
[null,null,null,null,null,466,9.32,61.684100000000001,11.376953125,{"$f":"FOURIER!M468","v":0},{"$f":"FOURIER!N468","v":0},null,null,71.483504715470886,null,null,null,null,0,0,null,null,null,null,null,null,0,61.684100000000001,null,null,null,null,null,null,null,null,null,null,null,null,null,9.32,6.1239999999999997,0,{"$error":"#DIV/0!"},{"$error":"#DIV/0!"}]
[null,null,null,null,null,467,9.34,-27.743200000000002,11.4013671875,{"$f":"FOURIER!M469","v":0},{"$f":"FOURIER!N469","v":0},null,null,71.636902794259441,null,null,null,null,0,0,null,null,null,null,null,null,0,-27.743200000000002,null,null,null,null,null,null,null,null,null,null,null,null,null,9.34,6.609,0,{"$error":"#DIV/0!"},{"$error":"#DIV/0!"}]
[null,null,null,null,null,468,9.36,-136.43,11.42578125,{"$f":"FOURIER!M470","v":0},{"$f":"FOURIER!N470","v":0},null,null,71.790300873048011,null,null,null,null,0,0,null,null,null,null,null,null,0,-136.43,null,null,null,null,null,null,null,null,null,null,null,null,null,9.36,7.0670000000000002,0,{"$error":"#DIV/0!"},{"$error":"#DIV/0!"}]
[null,null,null,null,null,469,9.3800000000000008,-229.78700000000001,11.4501953125,{"$f":"FOURIER!M471","v":0},{"$f":"FOURIER!N471","v":0},null,null,71.943698951836581,null,null,null,null,0,0,null,null,null,null,null,null,0,-229.78700000000001,null,null,null,null,null,null,null,null,null,null,null,null,null,9.3800000000000008,7.4550000000000001,0,{"$error":"#DIV/0!"},{"$error":"#DIV/0!"}]
[null,null,null,null,null,470,9.4,-268.846,11.474609375,{"$f":"FOURIER!M472","v":0},{"$f":"FOURIER!N472","v":0},null,null,72.097097030625136,null,null,null,null,0,0,null,null,null,null,null,null,0,-268.846,null,null,null,null,null,null,null,null,null,null,null,null,null,9.4,7.7370000000000001,0,{"$error":"#DIV/0!"},{"$error":"#DIV/0!"}]
[null,null,null,null,null,471,9.42,-241.90700000000001,11.4990234375,{"$f":"FOURIER!M473","v":0},{"$f":"FOURIER!N473","v":0},null,null,72.250495109413706,null,null,null,null,0,0,null,null,null,null,null,null,0,-241.90700000000001,null,null,null,null,null,null,null,null,null,null,null,null,null,9.42,7.8970000000000002,0,{"$error":"#DIV/0!"},{"$error":"#DIV/0!"}]
[null,null,null,null,null,472,9.44,-187.12799999999999,11.5234375,{"$f":"FOURIER!M474","v":0},{"$f":"FOURIER!N474","v":0},null,null,72.403893188202261,null,null,null,null,0,0,null,null,null,null,null,null,0,-187.12799999999999,null,null,null,null,null,null,null,null,null,null,null,null,null,9.44,7.9450000000000003,0,{"$error":"#DIV/0!"},{"$error":"#DIV/0!"}]
[null,null,null,null,null,473,9.4600000000000009,-132.38,11.5478515625,{"$f":"FOURIER!M475","v":0},{"$f":"FOURIER!N475","v":0},null,null,72.557291266990831,null,null,null,null,0,0,null,null,null,null,null,null,0,-132.38,null,null,null,null,null,null,null,null,null,null,null,null,null,9.4600000000000009,7.9020000000000001,0,{"$error":"#DIV/0!"},{"$error":"#DIV/0!"}]
[null,null,null,null,null,474,9.48,-82.881500000000003,11.572265625,{"$f":"FOURIER!M476","v":0},{"$f":"FOURIER!N476","v":0},null,null,72.7106893457794,null,null,null,null,0,0,null,null,null,null,null,null,0,-82.881500000000003,null,null,null,null,null,null,null,null,null,null,null,null,null,9.48,7.79,0,{"$error":"#DIV/0!"},{"$error":"#DIV/0!"}]
[null,null,null,null,null,475,9.5,-49.672499999999999,11.5966796875,{"$f":"FOURIER!M477","v":0},{"$f":"FOURIER!N477","v":0},null,null,72.864087424567956,null,null,null,null,0,0,null,null,null,null,null,null,0,-49.672499999999999,null,null,null,null,null,null,null,null,null,null,null,null,null,9.5,7.63,0,{"$error":"#DIV/0!"},{"$error":"#DIV/0!"}]
[null,null,null,null,null,476,9.52,-19.253399999999999,11.62109375,{"$f":"FOURIER!M478","v":0},{"$f":"FOURIER!N478","v":0},null,null,73.017485503356525,null,null,null,null,0,0,null,null,null,null,null,null,0,-19.253399999999999,null,null,null,null,null,null,null,null,null,null,null,null,null,9.52,7.4349999999999996,0,{"$error":"#DIV/0!"},{"$error":"#DIV/0!"}]
[null,null,null,null,null,477,9.5400000000000009,16.265499999999999,11.6455078125,{"$f":"FOURIER!M479","v":0},{"$f":"FOURIER!N479","v":0},null,null,73.17088358214508,null,null,null,null,0,0,null,null,null,null,null,null,0,16.265499999999999,null,null,null,null,null,null,null,null,null,null,null,null,null,9.5400000000000009,7.218,0,{"$error":"#DIV/0!"},{"$error":"#DIV/0!"}]
[null,null,null,null,null,478,9.56,58.054200000000002,11.669921875,{"$f":"FOURIER!M480","v":0},{"$f":"FOURIER!N480","v":0},null,null,73.32428166093365,null,null,null,null,0,0,null,null,null,null,null,null,0,58.054200000000002,null,null,null,null,null,null,null,null,null,null,null,null,null,9.56,6.9950000000000001,0,{"$error":"#DIV/0!"},{"$error":"#DIV/0!"}]
[null,null,null,null,null,479,9.58,88.953299999999999,11.6943359375,{"$f":"FOURIER!M481","v":0},{"$f":"FOURIER!N481","v":0},null,null,73.47767973972222,null,null,null,null,0,0,null,null,null,null,null,null,0,88.953299999999999,null,null,null,null,null,null,null,null,null,null,null,null,null,9.58,6.7809999999999997,0,{"$error":"#DIV/0!"},{"$error":"#DIV/0!"}]
[null,null,null,null,null,480,9.6,86.463399999999993,11.71875,{"$f":"FOURIER!M482","v":0},{"$f":"FOURIER!N482","v":0},null,null,73.631077818510775,null,null,null,null,0,0,null,null,null,null,null,null,0,86.463399999999993,null,null,null,null,null,null,null,null,null,null,null,null,null,9.6,6.5890000000000004,0,{"$error":"#DIV/0!"},{"$error":"#DIV/0!"}]
[null,null,null,null,null,481,9.620000000000001,62.014099999999999,11.7431640625,{"$f":"FOURIER!M483","v":0},{"$f":"FOURIER!N483","v":0},null,null,73.784475897299345,null,null,null,null,0,0,null,null,null,null,null,null,0,62.014099999999999,null,null,null,null,null,null,null,null,null,null,null,null,null,9.620000000000001,6.4189999999999996,0,{"$error":"#DIV/0!"},{"$error":"#DIV/0!"}]
[null,null,null,null,null,482,9.64,52.114400000000003,11.767578125,{"$f":"FOURIER!M484","v":0},{"$f":"FOURIER!N484","v":0},null,null,73.937873976087914,null,null,null,null,0,0,null,null,null,null,null,null,0,52.114400000000003,null,null,null,null,null,null,null,null,null,null,null,null,null,9.64,6.2610000000000001,0,{"$error":"#DIV/0!"},{"$error":"#DIV/0!"}]
[null,null,null,null,null,483,9.66,63.844099999999997,11.7919921875,{"$f":"FOURIER!M485","v":0},{"$f":"FOURIER!N485","v":0},null,null,74.09127205487647,null,null,null,null,0,0,null,null,null,null,null,null,0,63.844099999999997,null,null,null,null,null,null,null,null,null,null,null,null,null,9.66,6.1139999999999999,0,{"$error":"#DIV/0!"},{"$error":"#DIV/0!"}]
[null,null,null,null,null,484,9.68,79.413600000000002,11.81640625,{"$f":"FOURIER!M486","v":0},{"$f":"FOURIER!N486","v":0},null,null,74.244670133665039,null,null,null,null,0,0,null,null,null,null,null,null,0,79.413600000000002,null,null,null,null,null,null,null,null,null,null,null,null,null,9.68,5.98,0,{"$error":"#DIV/0!"},{"$error":"#DIV/0!"}]
[null,null,null,null,null,485,9.7000000000000011,104.0429,11.8408203125,{"$f":"FOURIER!M487","v":0},{"$f":"FOURIER!N487","v":0},null,null,74.398068212453595,null,null,null,null,0,0,null,null,null,null,null,null,0,104.0429,null,null,null,null,null,null,null,null,null,null,null,null,null,9.7000000000000011,5.867,0,{"$error":"#DIV/0!"},{"$error":"#DIV/0!"}]
[null,null,null,null,null,486,9.7200000000000006,138.7818,11.865234375,{"$f":"FOURIER!M488","v":0},{"$f":"FOURIER!N488","v":0},null,null,74.551466291242164,null,null,null,null,0,0,null,null,null,null,null,null,0,138.7818,null,null,null,null,null,null,null,null,null,null,null,null,null,9.7200000000000006,5.7839999999999998,0,{"$error":"#DIV/0!"},{"$error":"#DIV/0!"}]
[null,null,null,null,null,487,9.74,154.59129999999999,11.8896484375,{"$f":"FOURIER!M489","v":0},{"$f":"FOURIER!N489","v":0},null,null,74.704864370030734,null,null,null,null,0,0,null,null,null,null,null,null,0,154.59129999999999,null,null,null,null,null,null,null,null,null,null,null,null,null,9.74,5.7460000000000004,0,{"$error":"#DIV/0!"},{"$error":"#DIV/0!"}]
[null,null,null,null,null,488,9.76,122.8823,11.9140625,{"$f":"FOURIER!M490","v":0},{"$f":"FOURIER!N490","v":0},null,null,74.858262448819289,null,null,null,null,0,0,null,null,null,null,null,null,0,122.8823,null,null,null,null,null,null,null,null,null,null,null,null,null,9.76,5.7549999999999999,0,{"$error":"#DIV/0!"},{"$error":"#DIV/0!"}]
[null,null,null,null,null,489,9.7799999999999994,59.734200000000001,11.9384765625,{"$f":"FOURIER!M491","v":0},{"$f":"FOURIER!N491","v":0},null,null,75.011660527607859,null,null,null,null,0,0,null,null,null,null,null,null,0,59.734200000000001,null,null,null,null,null,null,null,null,null,null,null,null,null,9.7799999999999994,5.8019999999999996,0,{"$error":"#DIV/0!"},{"$error":"#DIV/0!"}]
[null,null,null,null,null,490,9.8000000000000007,-11.483599999999999,11.962890625,{"$f":"FOURIER!M492","v":0},{"$f":"FOURIER!N492","v":0},null,null,75.165058606396414,null,null,null,null,0,0,null,null,null,null,null,null,0,-11.483599999999999,null,null,null,null,null,null,null,null,null,null,null,null,null,9.8000000000000007,5.86,0,{"$error":"#DIV/0!"},{"$error":"#DIV/0!"}]
[null,null,null,null,null,491,9.82,-84.741299999999995,11.9873046875,{"$f":"FOURIER!M493","v":0},{"$f":"FOURIER!N493","v":0},null,null,75.318456685184984,null,null,null,null,0,0,null,null,null,null,null,null,0,-84.741299999999995,null,null,null,null,null,null,null,null,null,null,null,null,null,9.82,5.9020000000000001,0,{"$error":"#DIV/0!"},{"$error":"#DIV/0!"}]
[null,null,null,null,null,492,9.84,-145.55000000000001,12.01171875,{"$f":"FOURIER!M494","v":0},{"$f":"FOURIER!N494","v":0},null,null,75.471854763973553,null,null,null,null,0,0,null,null,null,null,null,null,0,-145.55000000000001,null,null,null,null,null,null,null,null,null,null,null,null,null,9.84,5.8979999999999997,0,{"$error":"#DIV/0!"},{"$error":"#DIV/0!"}]
[null,null,null,null,null,493,9.86,-182.71799999999999,12.0361328125,{"$f":"FOURIER!M495","v":0},{"$f":"FOURIER!N495","v":0},null,null,75.625252842762109,null,null,null,null,0,0,null,null,null,null,null,null,0,-182.71799999999999,null,null,null,null,null,null,null,null,null,null,null,null,null,9.86,5.8250000000000002,0,{"$error":"#DIV/0!"},{"$error":"#DIV/0!"}]
[null,null,null,null,null,494,9.8800000000000008,-200.68799999999999,12.060546875,{"$f":"FOURIER!M496","v":0},{"$f":"FOURIER!N496","v":0},null,null,75.778650921550678,null,null,null,null,0,0,null,null,null,null,null,null,0,-200.68799999999999,null,null,null,null,null,null,null,null,null,null,null,null,null,9.8800000000000008,5.6689999999999996,0,{"$error":"#DIV/0!"},{"$error":"#DIV/0!"}]
[null,null,null,null,null,495,9.9,-191.08799999999999,12.0849609375,{"$f":"FOURIER!M497","v":0},{"$f":"FOURIER!N497","v":0},null,null,75.932049000339248,null,null,null,null,0,0,null,null,null,null,null,null,0,-191.08799999999999,null,null,null,null,null,null,null,null,null,null,null,null,null,9.9,5.4219999999999997,0,{"$error":"#DIV/0!"},{"$error":"#DIV/0!"}]
[null,null,null,null,null,496,9.92,-135.62,12.109375,{"$f":"FOURIER!M498","v":0},{"$f":"FOURIER!N498","v":0},null,null,76.085447079127803,null,null,null,null,0,0,null,null,null,null,null,null,0,-135.62,null,null,null,null,null,null,null,null,null,null,null,null,null,9.92,5.0910000000000002,0,{"$error":"#DIV/0!"},{"$error":"#DIV/0!"}]
[null,null,null,null,null,497,9.94,-52.882300000000001,12.1337890625,{"$f":"FOURIER!M499","v":0},{"$f":"FOURIER!N499","v":0},null,null,76.238845157916373,null,null,null,null,0,0,null,null,null,null,null,null,0,-52.882300000000001,null,null,null,null,null,null,null,null,null,null,null,null,null,9.94,4.6980000000000004,0,{"$error":"#DIV/0!"},{"$error":"#DIV/0!"}]
[null,null,null,null,null,498,9.9600000000000009,18.1556,12.158203125,{"$f":"FOURIER!M500","v":0},{"$f":"FOURIER!N500","v":0},null,null,76.392243236704928,null,null,null,null,0,0,null,null,null,null,null,null,0,18.1556,null,null,null,null,null,null,null,null,null,null,null,null,null,9.9600000000000009,4.2750000000000004,0,{"$error":"#DIV/0!"},{"$error":"#DIV/0!"}]
[null,null,null,null,null,499,9.98,67.024100000000004,12.1826171875,{"$f":"FOURIER!M501","v":0},{"$f":"FOURIER!N501","v":0},null,null,76.545641315493498,null,null,null,null,0,0,null,null,null,null,null,null,0,67.024100000000004,null,null,null,null,null,null,null,null,null,null,null,null,null,9.98,3.8519999999999999,0,{"$error":"#DIV/0!"},{"$error":"#DIV/0!"}]
[null,null,null,null,null,500,10,103.9529,12.20703125,{"$f":"FOURIER!M502","v":0},{"$f":"FOURIER!N502","v":0},null,null,76.699039394282067,null,null,null,null,0,0,null,null,null,null,null,null,0,103.9529,null,null,null,null,null,null,null,null,null,null,null,null,null,10,3.45,0,{"$error":"#DIV/0!"},{"$error":"#DIV/0!"}]
[null,null,null,null,null,501,10.02,131.7021,12.2314453125,{"$f":"FOURIER!M503","v":0},{"$f":"FOURIER!N503","v":0},null,null,76.852437473070623,null,null,null,null,0,0,null,null,null,null,null,null,0,131.7021,null,null,null,null,null,null,null,null,null,null,null,null,null,10.02,3.0830000000000002,0,{"$error":"#DIV/0!"},{"$error":"#DIV/0!"}]
[null,null,null,null,null,502,10.040000000000001,144.36170000000001,12.255859375,{"$f":"FOURIER!M504","v":0},{"$f":"FOURIER!N504","v":0},null,null,77.005835551859192,null,null,null,null,0,0,null,null,null,null,null,null,0,144.36170000000001,null,null,null,null,null,null,null,null,null,null,null,null,null,10.040000000000001,2.7639999999999998,0,{"$error":"#DIV/0!"},{"$error":"#DIV/0!"}]
[null,null,null,null,null,503,10.06,137.46190000000001,12.2802734375,{"$f":"FOURIER!M505","v":0},{"$f":"FOURIER!N505","v":0},null,null,77.159233630647748,null,null,null,null,0,0,null,null,null,null,null,null,0,137.46190000000001,null,null,null,null,null,null,null,null,null,null,null,null,null,10.06,2.4980000000000002,0,{"$error":"#DIV/0!"},{"$error":"#DIV/0!"}]
[null,null,null,null,null,504,10.08,111.78270000000001,12.3046875,{"$f":"FOURIER!M506","v":0},{"$f":"FOURIER!N506","v":0},null,null,77.312631709436317,null,null,null,null,0,0,null,null,null,null,null,null,0,111.78270000000001,null,null,null,null,null,null,null,null,null,null,null,null,null,10.08,2.282,0,{"$error":"#DIV/0!"},{"$error":"#DIV/0!"}]
[null,null,null,null,null,505,10.1,64.744200000000006,12.3291015625,{"$f":"FOURIER!M507","v":0},{"$f":"FOURIER!N507","v":0},null,null,77.466029788224887,null,null,null,null,0,0,null,null,null,null,null,null,0,64.744200000000006,null,null,null,null,null,null,null,null,null,null,null,null,null,10.1,2.1059999999999999,0,{"$error":"#DIV/0!"},{"$error":"#DIV/0!"}]
[null,null,null,null,null,506,10.120000000000001,8.2858999999999998,12.353515625,{"$f":"FOURIER!M508","v":0},{"$f":"FOURIER!N508","v":0},null,null,77.619427867013442,null,null,null,null,0,0,null,null,null,null,null,null,0,8.2858999999999998,null,null,null,null,null,null,null,null,null,null,null,null,null,10.120000000000001,1.952,0,{"$error":"#DIV/0!"},{"$error":"#DIV/0!"}]
[null,null,null,null,null,507,10.14,-41.182600000000001,12.3779296875,{"$f":"FOURIER!M509","v":0},{"$f":"FOURIER!N509","v":0},null,null,77.772825945802012,null,null,null,null,0,0,null,null,null,null,null,null,0,-41.182600000000001,null,null,null,null,null,null,null,null,null,null,null,null,null,10.14,1.798,0,{"$error":"#DIV/0!"},{"$error":"#DIV/0!"}]
[null,null,null,null,null,508,10.16,-82.371300000000005,12.40234375,{"$f":"FOURIER!M510","v":0},{"$f":"FOURIER!N510","v":0},null,null,77.926224024590582,null,null,null,null,0,0,null,null,null,null,null,null,0,-82.371300000000005,null,null,null,null,null,null,null,null,null,null,null,null,null,10.16,1.6259999999999999,0,{"$error":"#DIV/0!"},{"$error":"#DIV/0!"}]
[null,null,null,null,null,509,10.18,-114.2,12.4267578125,{"$f":"FOURIER!M511","v":0},{"$f":"FOURIER!N511","v":0},null,null,78.079622103379137,null,null,null,null,0,0,null,null,null,null,null,null,0,-114.2,null,null,null,null,null,null,null,null,null,null,null,null,null,10.18,1.4179999999999999,0,{"$error":"#DIV/0!"},{"$error":"#DIV/0!"}]
[null,null,null,null,null,510,10.200000000000001,-136.72999999999999,12.451171875,{"$f":"FOURIER!M512","v":0},{"$f":"FOURIER!N512","v":0},null,null,78.233020182167706,null,null,null,null,0,0,null,null,null,null,null,null,0,-136.72999999999999,null,null,null,null,null,null,null,null,null,null,null,null,null,10.200000000000001,1.163,0,{"$error":"#DIV/0!"},{"$error":"#DIV/0!"}]
[null,null,null,null,null,511,10.220000000000001,-159.10900000000001,12.4755859375,{"$f":"FOURIER!M513","v":0},{"$f":"FOURIER!N513","v":0},null,null,78.386418260956262,null,null,null,null,0,0,null,null,null,null,null,null,0,-159.10900000000001,null,null,null,null,null,null,null,null,null,null,null,null,null,10.220000000000001,0.85199999999999998,0,{"$error":"#DIV/0!"},{"$error":"#DIV/0!"}]
[null,null,null,null,null,512,10.24,-184.428,12.5,{"$f":"FOURIER!M514","v":0},{"$f":"FOURIER!N514","v":0},null,null,{"$f":"2*PI()/B$9/B$6*F514","v":78.539816339744831},null,null,null,null,{"$f":"J514*O514-K514*P514","v":0},{"$f":"J514*P514+K514*O514","v":0},null,null,null,null,null,null,0,-184.428,null,null,null,null,null,null,null,null,null,null,null,null,null,{"$f":"G514","v":10.24},0.47699999999999998,0,{"$error":"#DIV/0!"},{"$error":"#DIV/0!"}]
[null,null,null,null,null,513,{"$f":"B$6*F515","v":10.26},-188.02799999999999,{"$f":"F515/B$9/B$6","v":12.5244140625},{"$f":"FOURIER!M515","v":0},{"$f":"FOURIER!N515","v":0},null,null,78.693214418533401,null,null,null,null,0,0,null,null,null,null,null,null,{"$f":"(Y515-Y514)/B$6","v":0},{"$f":"(AA515-AA514)/B$6+H515","v":-188.02799999999999},null,null,null,null,null,null,null,null,null,null,null,null,null,10.26,2.9000000000000001E-2,0,{"$f":"(AQ515-AQ514)/O$6","v":{"$error":"#DIV/0!"}},{"$f":"(AS515-AS514)/O$6+S515","v":{"$error":"#DIV/0!"}}]
[null,null,null,null,null,514,10.28,-157.51900000000001,12.548828125,{"$f":"FOURIER!M516","v":0},{"$f":"FOURIER!N516","v":0},null,null,78.846612497321956,null,null,null,null,0,0,null,null,null,null,null,null,0,-157.51900000000001,null,null,null,null,null,null,null,null,null,null,null,null,null,10.28,-0.49099999999999999,0,{"$error":"#DIV/0!"},{"$error":"#DIV/0!"}]
[null,null,null,null,null,515,10.3,-119.93,12.5732421875,{"$f":"FOURIER!M517","v":0},{"$f":"FOURIER!N517","v":0},null,null,79.000010576110526,null,null,null,null,0,0,null,null,null,null,null,null,0,-119.93,null,null,null,null,null,null,null,null,null,null,null,null,null,10.3,-1.07,0,{"$error":"#DIV/0!"},{"$error":"#DIV/0!"}]
[null,null,null,null,null,516,10.32,-85.461200000000005,12.59765625,{"$f":"FOURIER!M518","v":0},{"$f":"FOURIER!N518","v":0},null,null,79.153408654899081,null,null,null,null,0,0,null,null,null,null,null,null,0,-85.461200000000005,null,null,null,null,null,null,null,null,null,null,null,null,null,10.32,-1.694,0,{"$error":"#DIV/0!"},{"$error":"#DIV/0!"}]
[null,null,null,null,null,517,10.34,-38.062600000000003,12.6220703125,{"$f":"FOURIER!M519","v":0},{"$f":"FOURIER!N519","v":0},null,null,79.306806733687651,null,null,null,null,0,0,null,null,null,null,null,null,0,-38.062600000000003,null,null,null,null,null,null,null,null,null,null,null,null,null,10.34,-2.3450000000000002,0,{"$error":"#DIV/0!"},{"$error":"#DIV/0!"}]
[null,null,null,null,null,518,10.36,22.7455,12.646484375,{"$f":"FOURIER!M520","v":0},{"$f":"FOURIER!N520","v":0},null,null,79.460204812476221,null,null,null,null,0,0,null,null,null,null,null,null,0,22.7455,null,null,null,null,null,null,null,null,null,null,null,null,null,10.36,-3.0030000000000001,0,{"$error":"#DIV/0!"},{"$error":"#DIV/0!"}]
[null,null,null,null,null,519,10.38,85.773600000000002,12.6708984375,{"$f":"FOURIER!M521","v":0},{"$f":"FOURIER!N521","v":0},null,null,79.613602891264776,null,null,null,null,0,0,null,null,null,null,null,null,0,85.773600000000002,null,null,null,null,null,null,null,null,null,null,null,null,null,10.38,-3.6429999999999998,0,{"$error":"#DIV/0!"},{"$error":"#DIV/0!"}]
[null,null,null,null,null,520,10.4,144.99180000000001,12.6953125,{"$f":"FOURIER!M522","v":0},{"$f":"FOURIER!N522","v":0},null,null,79.767000970053346,null,null,null,null,0,0,null,null,null,null,null,null,0,144.99180000000001,null,null,null,null,null,null,null,null,null,null,null,null,null,10.4,-4.24,0,{"$error":"#DIV/0!"},{"$error":"#DIV/0!"}]
[null,null,null,null,null,521,10.42,186.03049999999999,12.7197265625,{"$f":"FOURIER!M523","v":0},{"$f":"FOURIER!N523","v":0},null,null,79.920399048841915,null,null,null,null,0,0,null,null,null,null,null,null,0,186.03049999999999,null,null,null,null,null,null,null,null,null,null,null,null,null,10.42,-4.7679999999999998,0,{"$error":"#DIV/0!"},{"$error":"#DIV/0!"}]
[null,null,null,null,null,522,10.44,199.68010000000001,12.744140625,{"$f":"FOURIER!M524","v":0},{"$f":"FOURIER!N524","v":0},null,null,80.073797127630471,null,null,null,null,0,0,null,null,null,null,null,null,0,199.68010000000001,null,null,null,null,null,null,null,null,null,null,null,null,null,10.44,-5.2119999999999997,0,{"$error":"#DIV/0!"},{"$error":"#DIV/0!"}]
[null,null,null,null,null,523,10.46,187.1105,12.7685546875,{"$f":"FOURIER!M525","v":0},{"$f":"FOURIER!N525","v":0},null,null,80.22719520641904,null,null,null,null,0,0,null,null,null,null,null,null,0,187.1105,null,null,null,null,null,null,null,null,null,null,null,null,null,10.46,-5.5640000000000001,0,{"$error":"#DIV/0!"},{"$error":"#DIV/0!"}]
[null,null,null,null,null,524,10.48,142.74189999999999,12.79296875,{"$f":"FOURIER!M526","v":0},{"$f":"FOURIER!N526","v":0},null,null,80.380593285207595,null,null,null,null,0,0,null,null,null,null,null,null,0,142.74189999999999,null,null,null,null,null,null,null,null,null,null,null,null,null,10.48,-5.83,0,{"$error":"#DIV/0!"},{"$error":"#DIV/0!"}]
[null,null,null,null,null,525,10.5,79.803799999999995,12.8173828125,{"$f":"FOURIER!M527","v":0},{"$f":"FOURIER!N527","v":0},null,null,80.533991363996165,null,null,null,null,0,0,null,null,null,null,null,null,0,79.803799999999995,null,null,null,null,null,null,null,null,null,null,null,null,null,10.5,-6.0270000000000001,0,{"$error":"#DIV/0!"},{"$error":"#DIV/0!"}]
[null,null,null,null,null,526,10.52,28.415400000000002,12.841796875,{"$f":"FOURIER!M528","v":0},{"$f":"FOURIER!N528","v":0},null,null,80.687389442784735,null,null,null,null,0,0,null,null,null,null,null,null,0,28.415400000000002,null,null,null,null,null,null,null,null,null,null,null,null,null,10.52,-6.1790000000000003,0,{"$error":"#DIV/0!"},{"$error":"#DIV/0!"}]
[null,null,null,null,null,527,10.540000000000001,3.1861999999999999,12.8662109375,{"$f":"FOURIER!M529","v":0},{"$f":"FOURIER!N529","v":0},null,null,80.84078752157329,null,null,null,null,0,0,null,null,null,null,null,null,0,3.1861999999999999,null,null,null,null,null,null,null,null,null,null,null,null,null,10.540000000000001,-6.306,0,{"$error":"#DIV/0!"},{"$error":"#DIV/0!"}]
[null,null,null,null,null,528,10.56,-3.2936000000000001,12.890625,{"$f":"FOURIER!M530","v":0},{"$f":"FOURIER!N530","v":0},null,null,80.99418560036186,null,null,null,null,0,0,null,null,null,null,null,null,0,-3.2936000000000001,null,null,null,null,null,null,null,null,null,null,null,null,null,10.56,-6.4169999999999998,0,{"$error":"#DIV/0!"},{"$error":"#DIV/0!"}]
[null,null,null,null,null,529,10.58,-20.3931,12.9150390625,{"$f":"FOURIER!M531","v":0},{"$f":"FOURIER!N531","v":0},null,null,81.147583679150415,null,null,null,null,0,0,null,null,null,null,null,null,0,-20.3931,null,null,null,null,null,null,null,null,null,null,null,null,null,10.58,-6.5170000000000003,0,{"$error":"#DIV/0!"},{"$error":"#DIV/0!"}]
[null,null,null,null,null,530,10.6,-62.991799999999998,12.939453125,{"$f":"FOURIER!M532","v":0},{"$f":"FOURIER!N532","v":0},null,null,81.300981757938985,null,null,null,null,0,0,null,null,null,null,null,null,0,-62.991799999999998,null,null,null,null,null,null,null,null,null,null,null,null,null,10.6,-6.6130000000000004,0,{"$error":"#DIV/0!"},{"$error":"#DIV/0!"}]
[null,null,null,null,null,531,10.620000000000001,-106.101,12.9638671875,{"$f":"FOURIER!M533","v":0},{"$f":"FOURIER!N533","v":0},null,null,81.454379836727554,null,null,null,null,0,0,null,null,null,null,null,null,0,-106.101,null,null,null,null,null,null,null,null,null,null,null,null,null,10.620000000000001,-6.72,0,{"$error":"#DIV/0!"},{"$error":"#DIV/0!"}]
[null,null,null,null,null,532,10.64,-129.94999999999999,12.98828125,{"$f":"FOURIER!M534","v":0},{"$f":"FOURIER!N534","v":0},null,null,81.60777791551611,null,null,null,null,0,0,null,null,null,null,null,null,0,-129.94999999999999,null,null,null,null,null,null,null,null,null,null,null,null,null,10.64,-6.8559999999999999,0,{"$error":"#DIV/0!"},{"$error":"#DIV/0!"}]
[null,null,null,null,null,533,10.66,-147.25899999999999,13.0126953125,{"$f":"FOURIER!M535","v":0},{"$f":"FOURIER!N535","v":0},null,null,81.761175994304679,null,null,null,null,0,0,null,null,null,null,null,null,0,-147.25899999999999,null,null,null,null,null,null,null,null,null,null,null,null,null,10.66,-7.0279999999999996,0,{"$error":"#DIV/0!"},{"$error":"#DIV/0!"}]
[null,null,null,null,null,534,10.68,-167.179,13.037109375,{"$f":"FOURIER!M536","v":0},{"$f":"FOURIER!N536","v":0},null,null,81.914574073093249,null,null,null,null,0,0,null,null,null,null,null,null,0,-167.179,null,null,null,null,null,null,null,null,null,null,null,null,null,10.68,-7.2450000000000001,0,{"$error":"#DIV/0!"},{"$error":"#DIV/0!"}]
[null,null,null,null,null,535,10.700000000000001,-166.51900000000001,13.0615234375,{"$f":"FOURIER!M537","v":0},{"$f":"FOURIER!N537","v":0},null,null,82.067972151881804,null,null,null,null,0,0,null,null,null,null,null,null,0,-166.51900000000001,null,null,null,null,null,null,null,null,null,null,null,null,null,10.700000000000001,-7.5129999999999999,0,{"$error":"#DIV/0!"},{"$error":"#DIV/0!"}]
[null,null,null,null,null,536,10.72,-121.46,13.0859375,{"$f":"FOURIER!M538","v":0},{"$f":"FOURIER!N538","v":0},null,null,82.221370230670374,null,null,null,null,0,0,null,null,null,null,null,null,0,-121.46,null,null,null,null,null,null,null,null,null,null,null,null,null,10.72,-7.8289999999999997,0,{"$error":"#DIV/0!"},{"$error":"#DIV/0!"}]
[null,null,null,null,null,537,10.74,-51.682099999999998,13.1103515625,{"$f":"FOURIER!M539","v":0},{"$f":"FOURIER!N539","v":0},null,null,82.374768309458929,null,null,null,null,0,0,null,null,null,null,null,null,0,-51.682099999999998,null,null,null,null,null,null,null,null,null,null,null,null,null,10.74,-8.1769999999999996,0,{"$error":"#DIV/0!"},{"$error":"#DIV/0!"}]
[null,null,null,null,null,538,10.76,11.8559,13.134765625,{"$f":"FOURIER!M540","v":0},{"$f":"FOURIER!N540","v":0},null,null,82.528166388247499,null,null,null,null,0,0,null,null,null,null,null,null,0,11.8559,null,null,null,null,null,null,null,null,null,null,null,null,null,10.76,-8.5269999999999992,0,{"$error":"#DIV/0!"},{"$error":"#DIV/0!"}]
[null,null,null,null,null,539,10.78,59.344499999999996,13.1591796875,{"$f":"FOURIER!M541","v":0},{"$f":"FOURIER!N541","v":0},null,null,82.681564467036068,null,null,null,null,0,0,null,null,null,null,null,null,0,59.344499999999996,null,null,null,null,null,null,null,null,null,null,null,null,null,10.78,-8.8550000000000004,0,{"$error":"#DIV/0!"},{"$error":"#DIV/0!"}]
[null,null,null,null,null,540,10.8,94.1434,13.18359375,{"$f":"FOURIER!M542","v":0},{"$f":"FOURIER!N542","v":0},null,null,82.834962545824624,null,null,null,null,0,0,null,null,null,null,null,null,0,94.1434,null,null,null,null,null,null,null,null,null,null,null,null,null,10.8,-9.141,0,{"$error":"#DIV/0!"},{"$error":"#DIV/0!"}]
[null,null,null,null,null,541,10.82,122.01260000000001,13.2080078125,{"$f":"FOURIER!M543","v":0},{"$f":"FOURIER!N543","v":0},null,null,82.988360624613193,null,null,null,null,0,0,null,null,null,null,null,null,0,122.01260000000001,null,null,null,null,null,null,null,null,null,null,null,null,null,10.82,-9.3689999999999998,0,{"$error":"#DIV/0!"},{"$error":"#DIV/0!"}]
[null,null,null,null,null,542,10.84,146.34180000000001,13.232421875,{"$f":"FOURIER!M544","v":0},{"$f":"FOURIER!N544","v":0},null,null,83.141758703401749,null,null,null,null,0,0,null,null,null,null,null,null,0,146.34180000000001,null,null,null,null,null,null,null,null,null,null,null,null,null,10.84,-9.5299999999999994,0,{"$error":"#DIV/0!"},{"$error":"#DIV/0!"}]
[null,null,null,null,null,543,10.86,159.3314,13.2568359375,{"$f":"FOURIER!M545","v":0},{"$f":"FOURIER!N545","v":0},null,null,83.295156782190318,null,null,null,null,0,0,null,null,null,null,null,null,0,159.3314,null,null,null,null,null,null,null,null,null,null,null,null,null,10.86,-9.6129999999999995,0,{"$error":"#DIV/0!"},{"$error":"#DIV/0!"}]
[null,null,null,null,null,544,10.88,147.81180000000001,13.28125,{"$f":"FOURIER!M546","v":0},{"$f":"FOURIER!N546","v":0},null,null,83.448554860978888,null,null,null,null,0,0,null,null,null,null,null,null,0,147.81180000000001,null,null,null,null,null,null,null,null,null,null,null,null,null,10.88,-9.6129999999999995,0,{"$error":"#DIV/0!"},{"$error":"#DIV/0!"}]
[null,null,null,null,null,545,10.9,121.23260000000001,13.3056640625,{"$f":"FOURIER!M547","v":0},{"$f":"FOURIER!N547","v":0},null,null,83.601952939767443,null,null,null,null,0,0,null,null,null,null,null,null,0,121.23260000000001,null,null,null,null,null,null,null,null,null,null,null,null,null,10.9,-9.5359999999999996,0,{"$error":"#DIV/0!"},{"$error":"#DIV/0!"}]
[null,null,null,null,null,546,10.92,81.243799999999993,13.330078125,{"$f":"FOURIER!M548","v":0},{"$f":"FOURIER!N548","v":0},null,null,83.755351018556013,null,null,null,null,0,0,null,null,null,null,null,null,0,81.243799999999993,null,null,null,null,null,null,null,null,null,null,null,null,null,10.92,-9.391,0,{"$error":"#DIV/0!"},{"$error":"#DIV/0!"}]
[null,null,null,null,null,547,10.94,24.755600000000001,13.3544921875,{"$f":"FOURIER!M549","v":0},{"$f":"FOURIER!N549","v":0},null,null,83.908749097344582,null,null,null,null,0,0,null,null,null,null,null,null,0,24.755600000000001,null,null,null,null,null,null,null,null,null,null,null,null,null,10.94,-9.1969999999999992,0,{"$error":"#DIV/0!"},{"$error":"#DIV/0!"}]
[null,null,null,null,null,548,10.96,-12.3833,13.37890625,{"$f":"FOURIER!M550","v":0},{"$f":"FOURIER!N550","v":0},null,null,84.062147176133138,null,null,null,null,0,0,null,null,null,null,null,null,0,-12.3833,null,null,null,null,null,null,null,null,null,null,null,null,null,10.96,-8.9749999999999996,0,{"$error":"#DIV/0!"},{"$error":"#DIV/0!"}]
[null,null,null,null,null,549,10.98,-28.1328,13.4033203125,{"$f":"FOURIER!M551","v":0},{"$f":"FOURIER!N551","v":0},null,null,84.215545254921707,null,null,null,null,0,0,null,null,null,null,null,null,0,-28.1328,null,null,null,null,null,null,null,null,null,null,null,null,null,10.98,-8.74,0,{"$error":"#DIV/0!"},{"$error":"#DIV/0!"}]
[null,null,null,null,null,550,11,-37.852499999999999,13.427734375,{"$f":"FOURIER!M552","v":0},{"$f":"FOURIER!N552","v":0},null,null,84.368943333710263,null,null,null,null,0,0,null,null,null,null,null,null,0,-37.852499999999999,null,null,null,null,null,null,null,null,null,null,null,null,null,11,-8.4990000000000006,0,{"$error":"#DIV/0!"},{"$error":"#DIV/0!"}]
[null,null,null,null,null,551,11.02,-45.922199999999997,13.4521484375,{"$f":"FOURIER!M553","v":0},{"$f":"FOURIER!N553","v":0},null,null,84.522341412498832,null,null,null,null,0,0,null,null,null,null,null,null,0,-45.922199999999997,null,null,null,null,null,null,null,null,null,null,null,null,null,11.02,-8.2579999999999991,0,{"$error":"#DIV/0!"},{"$error":"#DIV/0!"}]
[null,null,null,null,null,552,11.040000000000001,-49.192100000000003,13.4765625,{"$f":"FOURIER!M554","v":0},{"$f":"FOURIER!N554","v":0},null,null,84.675739491287402,null,null,null,null,0,0,null,null,null,null,null,null,0,-49.192100000000003,null,null,null,null,null,null,null,null,null,null,null,null,null,11.040000000000001,-8.0190000000000001,0,{"$error":"#DIV/0!"},{"$error":"#DIV/0!"}]
[null,null,null,null,null,553,11.06,-29.242699999999999,13.5009765625,{"$f":"FOURIER!M555","v":0},{"$f":"FOURIER!N555","v":0},null,null,84.829137570075957,null,null,null,null,0,0,null,null,null,null,null,null,0,-29.242699999999999,null,null,null,null,null,null,null,null,null,null,null,null,null,11.06,-7.7839999999999998,0,{"$error":"#DIV/0!"},{"$error":"#DIV/0!"}]
[null,null,null,null,null,554,11.08,4.5362,13.525390625,{"$f":"FOURIER!M556","v":0},{"$f":"FOURIER!N556","v":0},null,null,84.982535648864527,null,null,null,null,0,0,null,null,null,null,null,null,0,4.5362,null,null,null,null,null,null,null,null,null,null,null,null,null,11.08,-7.5449999999999999,0,{"$error":"#DIV/0!"},{"$error":"#DIV/0!"}]
[null,null,null,null,null,555,11.1,34.235300000000002,13.5498046875,{"$f":"FOURIER!M557","v":0},{"$f":"FOURIER!N557","v":0},null,null,85.135933727653082,null,null,null,null,0,0,null,null,null,null,null,null,0,34.235300000000002,null,null,null,null,null,null,null,null,null,null,null,null,null,11.1,-7.2910000000000004,0,{"$error":"#DIV/0!"},{"$error":"#DIV/0!"}]
[null,null,null,null,null,556,11.120000000000001,59.104599999999998,13.57421875,{"$f":"FOURIER!M558","v":0},{"$f":"FOURIER!N558","v":0},null,null,85.289331806441652,null,null,null,null,0,0,null,null,null,null,null,null,0,59.104599999999998,null,null,null,null,null,null,null,null,null,null,null,null,null,11.120000000000001,-7.0090000000000003,0,{"$error":"#DIV/0!"},{"$error":"#DIV/0!"}]
[null,null,null,null,null,557,11.14,75.844099999999997,13.5986328125,{"$f":"FOURIER!M559","v":0},{"$f":"FOURIER!N559","v":0},null,null,85.442729885230221,null,null,null,null,0,0,null,null,null,null,null,null,0,75.844099999999997,null,null,null,null,null,null,null,null,null,null,null,null,null,11.14,-6.6920000000000002,0,{"$error":"#DIV/0!"},{"$error":"#DIV/0!"}]
[null,null,null,null,null,558,11.16,87.843699999999998,13.623046875,{"$f":"FOURIER!M560","v":0},{"$f":"FOURIER!N560","v":0},null,null,85.596127964018777,null,null,null,null,0,0,null,null,null,null,null,null,0,87.843699999999998,null,null,null,null,null,null,null,null,null,null,null,null,null,11.16,-6.3319999999999999,0,{"$error":"#DIV/0!"},{"$error":"#DIV/0!"}]
[null,null,null,null,null,559,11.18,96.723399999999998,13.6474609375,{"$f":"FOURIER!M561","v":0},{"$f":"FOURIER!N561","v":0},null,null,85.749526042807346,null,null,null,null,0,0,null,null,null,null,null,null,0,96.723399999999998,null,null,null,null,null,null,null,null,null,null,null,null,null,11.18,-5.9260000000000002,0,{"$error":"#DIV/0!"},{"$error":"#DIV/0!"}]
[null,null,null,null,null,560,11.200000000000001,89.343699999999998,13.671875,{"$f":"FOURIER!M562","v":0},{"$f":"FOURIER!N562","v":0},null,null,85.902924121595916,null,null,null,null,0,0,null,null,null,null,null,null,0,89.343699999999998,null,null,null,null,null,null,null,null,null,null,null,null,null,11.200000000000001,-5.4720000000000004,0,{"$error":"#DIV/0!"},{"$error":"#DIV/0!"}]
[null,null,null,null,null,561,11.22,66.904399999999995,13.6962890625,{"$f":"FOURIER!M563","v":0},{"$f":"FOURIER!N563","v":0},null,null,86.056322200384471,null,null,null,null,0,0,null,null,null,null,null,null,0,66.904399999999995,null,null,null,null,null,null,null,null,null,null,null,null,null,11.22,-4.9729999999999999,0,{"$error":"#DIV/0!"},{"$error":"#DIV/0!"}]
[null,null,null,null,null,562,11.24,42.185099999999998,13.720703125,{"$f":"FOURIER!M564","v":0},{"$f":"FOURIER!N564","v":0},null,null,86.209720279173041,null,null,null,null,0,0,null,null,null,null,null,null,0,42.185099999999998,null,null,null,null,null,null,null,null,null,null,null,null,null,11.24,-4.4400000000000004,0,{"$error":"#DIV/0!"},{"$error":"#DIV/0!"}]
[null,null,null,null,null,563,11.26,18.5459,13.7451171875,{"$f":"FOURIER!M565","v":0},{"$f":"FOURIER!N565","v":0},null,null,86.363118357961596,null,null,null,null,0,0,null,null,null,null,null,null,0,18.5459,null,null,null,null,null,null,null,null,null,null,null,null,null,11.26,-3.883,0,{"$error":"#DIV/0!"},{"$error":"#DIV/0!"}]
[null,null,null,null,null,564,11.28,-13.283200000000001,13.76953125,{"$f":"FOURIER!M566","v":0},{"$f":"FOURIER!N566","v":0},null,null,86.516516436750166,null,null,null,null,0,0,null,null,null,null,null,null,0,-13.283200000000001,null,null,null,null,null,null,null,null,null,null,null,null,null,11.28,-3.3130000000000002,0,{"$error":"#DIV/0!"},{"$error":"#DIV/0!"}]
[null,null,null,null,null,565,11.3,-47.272100000000002,13.7939453125,{"$f":"FOURIER!M567","v":0},{"$f":"FOURIER!N567","v":0},null,null,86.669914515538736,null,null,null,null,0,0,null,null,null,null,null,null,0,-47.272100000000002,null,null,null,null,null,null,null,null,null,null,null,null,null,11.3,-2.7450000000000001,0,{"$error":"#DIV/0!"},{"$error":"#DIV/0!"}]
[null,null,null,null,null,566,11.32,-66.891499999999994,13.818359375,{"$f":"FOURIER!M568","v":0},{"$f":"FOURIER!N568","v":0},null,null,86.823312594327291,null,null,null,null,0,0,null,null,null,null,null,null,0,-66.891499999999994,null,null,null,null,null,null,null,null,null,null,null,null,null,11.32,-2.1909999999999998,0,{"$error":"#DIV/0!"},{"$error":"#DIV/0!"}]
[null,null,null,null,null,567,11.34,-84.260999999999996,13.8427734375,{"$f":"FOURIER!M569","v":0},{"$f":"FOURIER!N569","v":0},null,null,86.976710673115861,null,null,null,null,0,0,null,null,null,null,null,null,0,-84.260999999999996,null,null,null,null,null,null,null,null,null,null,null,null,null,11.34,-1.663,0,{"$error":"#DIV/0!"},{"$error":"#DIV/0!"}]
[null,null,null,null,null,568,11.36,-104.78,13.8671875,{"$f":"FOURIER!M570","v":0},{"$f":"FOURIER!N570","v":0},null,null,87.130108751904416,null,null,null,null,0,0,null,null,null,null,null,null,0,-104.78,null,null,null,null,null,null,null,null,null,null,null,null,null,11.36,-1.1659999999999999,0,{"$error":"#DIV/0!"},{"$error":"#DIV/0!"}]
[null,null,null,null,null,569,11.38,-103.34,13.8916015625,{"$f":"FOURIER!M571","v":0},{"$f":"FOURIER!N571","v":0},null,null,87.283506830692986,null,null,null,null,0,0,null,null,null,null,null,null,0,-103.34,null,null,null,null,null,null,null,null,null,null,null,null,null,11.38,-0.71099999999999997,0,{"$error":"#DIV/0!"},{"$error":"#DIV/0!"}]
[null,null,null,null,null,570,11.4,-90.860799999999998,13.916015625,{"$f":"FOURIER!M572","v":0},{"$f":"FOURIER!N572","v":0},null,null,87.436904909481555,null,null,null,null,0,0,null,null,null,null,null,null,0,-90.860799999999998,null,null,null,null,null,null,null,null,null,null,null,null,null,11.4,-0.29699999999999999,0,{"$error":"#DIV/0!"},{"$error":"#DIV/0!"}]
[null,null,null,null,null,571,11.42,-67.191500000000005,13.9404296875,{"$f":"FOURIER!M573","v":0},{"$f":"FOURIER!N573","v":0},null,null,87.590302988270111,null,null,null,null,0,0,null,null,null,null,null,null,0,-67.191500000000005,null,null,null,null,null,null,null,null,null,null,null,null,null,11.42,0.08,0,{"$error":"#DIV/0!"},{"$error":"#DIV/0!"}]
[null,null,null,null,null,572,11.44,-29.782599999999999,13.96484375,{"$f":"FOURIER!M574","v":0},{"$f":"FOURIER!N574","v":0},null,null,87.74370106705868,null,null,null,null,0,0,null,null,null,null,null,null,0,-29.782599999999999,null,null,null,null,null,null,null,null,null,null,null,null,null,11.44,0.43,0,{"$error":"#DIV/0!"},{"$error":"#DIV/0!"}]
[null,null,null,null,null,573,11.46,1.8964000000000001,13.9892578125,{"$f":"FOURIER!M575","v":0},{"$f":"FOURIER!N575","v":0},null,null,87.89709914584725,null,null,null,null,0,0,null,null,null,null,null,null,0,1.8964000000000001,null,null,null,null,null,null,null,null,null,null,null,null,null,11.46,0.76400000000000001,0,{"$error":"#DIV/0!"},{"$error":"#DIV/0!"}]
[null,null,null,null,null,574,11.48,28.055599999999998,14.013671875,{"$f":"FOURIER!M576","v":0},{"$f":"FOURIER!N576","v":0},null,null,88.050497224635805,null,null,null,null,0,0,null,null,null,null,null,null,0,28.055599999999998,null,null,null,null,null,null,null,null,null,null,null,null,null,11.48,1.097,0,{"$error":"#DIV/0!"},{"$error":"#DIV/0!"}]
[null,null,null,null,null,575,11.5,51.814900000000002,14.0380859375,{"$f":"FOURIER!M577","v":0},{"$f":"FOURIER!N577","v":0},null,null,88.203895303424375,null,null,null,null,0,0,null,null,null,null,null,null,0,51.814900000000002,null,null,null,null,null,null,null,null,null,null,null,null,null,11.5,1.4370000000000001,0,{"$error":"#DIV/0!"},{"$error":"#DIV/0!"}]
[null,null,null,null,null,576,11.52,64.954499999999996,14.0625,{"$f":"FOURIER!M578","v":0},{"$f":"FOURIER!N578","v":0},null,null,{"$f":"2*PI()/B$9/B$6*F578","v":88.35729338221293},null,null,null,null,{"$f":"J578*O578-K578*P578","v":0},{"$f":"J578*P578+K578*O578","v":0},null,null,null,null,null,null,0,64.954499999999996,null,null,null,null,null,null,null,null,null,null,null,null,null,{"$f":"G578","v":11.52},1.7929999999999999,0,{"$error":"#DIV/0!"},{"$error":"#DIV/0!"}]
[null,null,null,null,null,577,{"$f":"B$6*F579","v":11.540000000000001},64.504499999999993,{"$f":"F579/B$9/B$6","v":14.0869140625},{"$f":"FOURIER!M579","v":0},{"$f":"FOURIER!N579","v":0},null,null,88.5106914610015,null,null,null,null,0,0,null,null,null,null,null,null,{"$f":"(Y579-Y578)/B$6","v":0},{"$f":"(AA579-AA578)/B$6+H579","v":64.504499999999993},null,null,null,null,null,null,null,null,null,null,null,null,null,11.540000000000001,2.17,0,{"$f":"(AQ579-AQ578)/O$6","v":{"$error":"#DIV/0!"}},{"$f":"(AS579-AS578)/O$6+S579","v":{"$error":"#DIV/0!"}}]
[null,null,null,null,null,578,11.56,65.104500000000002,14.111328125,{"$f":"FOURIER!M580","v":0},{"$f":"FOURIER!N580","v":0},null,null,88.664089539790069,null,null,null,null,0,0,null,null,null,null,null,null,0,65.104500000000002,null,null,null,null,null,null,null,null,null,null,null,null,null,11.56,2.5670000000000002,0,{"$error":"#DIV/0!"},{"$error":"#DIV/0!"}]
[null,null,null,null,null,579,11.58,78.574100000000001,14.1357421875,{"$f":"FOURIER!M581","v":0},{"$f":"FOURIER!N581","v":0},null,null,88.817487618578625,null,null,null,null,0,0,null,null,null,null,null,null,0,78.574100000000001,null,null,null,null,null,null,null,null,null,null,null,null,null,11.58,2.9830000000000001,0,{"$error":"#DIV/0!"},{"$error":"#DIV/0!"}]
[null,null,null,null,null,580,11.6,86.2239,14.16015625,{"$f":"FOURIER!M582","v":0},{"$f":"FOURIER!N582","v":0},null,null,88.970885697367194,null,null,null,null,0,0,null,null,null,null,null,null,0,86.2239,null,null,null,null,null,null,null,null,null,null,null,null,null,11.6,3.423,0,{"$error":"#DIV/0!"},{"$error":"#DIV/0!"}]
[null,null,null,null,null,581,11.620000000000001,75.8142,14.1845703125,{"$f":"FOURIER!M583","v":0},{"$f":"FOURIER!N583","v":0},null,null,89.12428377615575,null,null,null,null,0,0,null,null,null,null,null,null,0,75.8142,null,null,null,null,null,null,null,null,null,null,null,null,null,11.620000000000001,3.8879999999999999,0,{"$error":"#DIV/0!"},{"$error":"#DIV/0!"}]
[null,null,null,null,null,582,11.64,66.004499999999993,14.208984375,{"$f":"FOURIER!M584","v":0},{"$f":"FOURIER!N584","v":0},null,null,89.277681854944319,null,null,null,null,0,0,null,null,null,null,null,null,0,66.004499999999993,null,null,null,null,null,null,null,null,null,null,null,null,null,11.64,4.3739999999999997,0,{"$error":"#DIV/0!"},{"$error":"#DIV/0!"}]
[null,null,null,null,null,583,11.66,63.754600000000003,14.2333984375,{"$f":"FOURIER!M585","v":0},{"$f":"FOURIER!N585","v":0},null,null,89.431079933732889,null,null,null,null,0,0,null,null,null,null,null,null,0,63.754600000000003,null,null,null,null,null,null,null,null,null,null,null,null,null,11.66,4.8760000000000003,0,{"$error":"#DIV/0!"},{"$error":"#DIV/0!"}]
[null,null,null,null,null,584,11.68,63.784599999999998,14.2578125,{"$f":"FOURIER!M586","v":0},{"$f":"FOURIER!N586","v":0},null,null,89.584478012521444,null,null,null,null,0,0,null,null,null,null,null,null,0,63.784599999999998,null,null,null,null,null,null,null,null,null,null,null,null,null,11.68,5.3920000000000003,0,{"$error":"#DIV/0!"},{"$error":"#DIV/0!"}]
[null,null,null,null,null,585,11.700000000000001,60.334699999999998,14.2822265625,{"$f":"FOURIER!M587","v":0},{"$f":"FOURIER!N587","v":0},null,null,89.737876091310014,null,null,null,null,0,0,null,null,null,null,null,null,0,60.334699999999998,null,null,null,null,null,null,null,null,null,null,null,null,null,11.700000000000001,5.92,0,{"$error":"#DIV/0!"},{"$error":"#DIV/0!"}]
[null,null,null,null,null,586,11.72,53.314900000000002,14.306640625,{"$f":"FOURIER!M588","v":0},{"$f":"FOURIER!N588","v":0},null,null,89.891274170098583,null,null,null,null,0,0,null,null,null,null,null,null,0,53.314900000000002,null,null,null,null,null,null,null,null,null,null,null,null,null,11.72,6.4580000000000002,0,{"$error":"#DIV/0!"},{"$error":"#DIV/0!"}]
[null,null,null,null,null,587,11.74,37.325400000000002,14.3310546875,{"$f":"FOURIER!M589","v":0},{"$f":"FOURIER!N589","v":0},null,null,90.044672248887139,null,null,null,null,0,0,null,null,null,null,null,null,0,37.325400000000002,null,null,null,null,null,null,null,null,null,null,null,null,null,11.74,7.0030000000000001,0,{"$error":"#DIV/0!"},{"$error":"#DIV/0!"}]
[null,null,null,null,null,588,11.76,18.006,14.35546875,{"$f":"FOURIER!M590","v":0},{"$f":"FOURIER!N590","v":0},null,null,90.198070327675708,null,null,null,null,0,0,null,null,null,null,null,null,0,18.006,null,null,null,null,null,null,null,null,null,null,null,null,null,11.76,7.5449999999999999,0,{"$error":"#DIV/0!"},{"$error":"#DIV/0!"}]
[null,null,null,null,null,589,11.78,6.4863,14.3798828125,{"$f":"FOURIER!M591","v":0},{"$f":"FOURIER!N591","v":0},null,null,90.351468406464264,null,null,null,null,0,0,null,null,null,null,null,null,0,6.4863,null,null,null,null,null,null,null,null,null,null,null,null,null,11.78,8.0779999999999994,0,{"$error":"#DIV/0!"},{"$error":"#DIV/0!"}]
[null,null,null,null,null,590,11.8,-17.422899999999998,14.404296875,{"$f":"FOURIER!M592","v":0},{"$f":"FOURIER!N592","v":0},null,null,90.504866485252833,null,null,null,null,0,0,null,null,null,null,null,null,0,-17.422899999999998,null,null,null,null,null,null,null,null,null,null,null,null,null,11.8,8.5950000000000006,0,{"$error":"#DIV/0!"},{"$error":"#DIV/0!"}]
[null,null,null,null,null,591,11.82,-46.432000000000002,14.4287109375,{"$f":"FOURIER!M593","v":0},{"$f":"FOURIER!N593","v":0},null,null,90.658264564041403,null,null,null,null,0,0,null,null,null,null,null,null,0,-46.432000000000002,null,null,null,null,null,null,null,null,null,null,null,null,null,11.82,9.0860000000000003,0,{"$error":"#DIV/0!"},{"$error":"#DIV/0!"}]
[null,null,null,null,null,592,11.84,-50.841900000000003,14.453125,{"$f":"FOURIER!M594","v":0},{"$f":"FOURIER!N594","v":0},null,null,90.811662642829958,null,null,null,null,0,0,null,null,null,null,null,null,0,-50.841900000000003,null,null,null,null,null,null,null,null,null,null,null,null,null,11.84,9.5389999999999997,0,{"$error":"#DIV/0!"},{"$error":"#DIV/0!"}]
[null,null,null,null,null,593,11.86,-52.191800000000001,14.4775390625,{"$f":"FOURIER!M595","v":0},{"$f":"FOURIER!N595","v":0},null,null,90.965060721618528,null,null,null,null,0,0,null,null,null,null,null,null,0,-52.191800000000001,null,null,null,null,null,null,null,null,null,null,null,null,null,11.86,9.9510000000000005,0,{"$error":"#DIV/0!"},{"$error":"#DIV/0!"}]
[null,null,null,null,null,594,11.88,-62.061500000000002,14.501953125,{"$f":"FOURIER!M596","v":0},{"$f":"FOURIER!N596","v":0},null,null,91.118458800407083,null,null,null,null,0,0,null,null,null,null,null,null,0,-62.061500000000002,null,null,null,null,null,null,null,null,null,null,null,null,null,11.88,10.319000000000001,0,{"$error":"#DIV/0!"},{"$error":"#DIV/0!"}]
[null,null,null,null,null,595,11.9,-57.171700000000001,14.5263671875,{"$f":"FOURIER!M597","v":0},{"$f":"FOURIER!N597","v":0},null,null,91.271856879195653,null,null,null,null,0,0,null,null,null,null,null,null,0,-57.171700000000001,null,null,null,null,null,null,null,null,null,null,null,null,null,11.9,10.641999999999999,0,{"$error":"#DIV/0!"},{"$error":"#DIV/0!"}]
[null,null,null,null,null,596,11.92,-49.671900000000001,14.55078125,{"$f":"FOURIER!M598","v":0},{"$f":"FOURIER!N598","v":0},null,null,91.425254957984222,null,null,null,null,0,0,null,null,null,null,null,null,0,-49.671900000000001,null,null,null,null,null,null,null,null,null,null,null,null,null,11.92,10.919,0,{"$error":"#DIV/0!"},{"$error":"#DIV/0!"}]
[null,null,null,null,null,597,11.94,-55.161700000000003,14.5751953125,{"$f":"FOURIER!M599","v":0},{"$f":"FOURIER!N599","v":0},null,null,91.578653036772778,null,null,null,null,0,0,null,null,null,null,null,null,0,-55.161700000000003,null,null,null,null,null,null,null,null,null,null,null,null,null,11.94,11.154,0,{"$error":"#DIV/0!"},{"$error":"#DIV/0!"}]
[null,null,null,null,null,598,11.96,-64.131399999999999,14.599609375,{"$f":"FOURIER!M600","v":0},{"$f":"FOURIER!N600","v":0},null,null,91.732051115561347,null,null,null,null,0,0,null,null,null,null,null,null,0,-64.131399999999999,null,null,null,null,null,null,null,null,null,null,null,null,null,11.96,11.342000000000001,0,{"$error":"#DIV/0!"},{"$error":"#DIV/0!"}]
[null,null,null,null,null,599,11.98,-71.241200000000006,14.6240234375,{"$f":"FOURIER!M601","v":0},{"$f":"FOURIER!N601","v":0},null,null,91.885449194349917,null,null,null,null,0,0,null,null,null,null,null,null,0,-71.241200000000006,null,null,null,null,null,null,null,null,null,null,null,null,null,11.98,11.481999999999999,0,{"$error":"#DIV/0!"},{"$error":"#DIV/0!"}]
[null,null,null,null,null,600,12,-76.191100000000006,14.6484375,{"$f":"FOURIER!M602","v":0},{"$f":"FOURIER!N602","v":0},null,null,92.038847273138472,null,null,null,null,0,0,null,null,null,null,null,null,0,-76.191100000000006,null,null,null,null,null,null,null,null,null,null,null,null,null,12,11.57,0,{"$error":"#DIV/0!"},{"$error":"#DIV/0!"}]
[null,null,null,null,null,601,12.02,-73.971100000000007,14.6728515625,{"$f":"FOURIER!M603","v":0},{"$f":"FOURIER!N603","v":0},null,null,92.192245351927042,null,null,null,null,0,0,null,null,null,null,null,null,0,-73.971100000000007,null,null,null,null,null,null,null,null,null,null,null,null,null,12.02,11.603999999999999,0,{"$error":"#DIV/0!"},{"$error":"#DIV/0!"}]
[null,null,null,null,null,602,12.040000000000001,-73.461100000000002,14.697265625,{"$f":"FOURIER!M604","v":0},{"$f":"FOURIER!N604","v":0},null,null,92.345643430715597,null,null,null,null,0,0,null,null,null,null,null,null,0,-73.461100000000002,null,null,null,null,null,null,null,null,null,null,null,null,null,12.040000000000001,11.586,0,{"$error":"#DIV/0!"},{"$error":"#DIV/0!"}]
[null,null,null,null,null,603,12.06,-79.100999999999999,14.7216796875,{"$f":"FOURIER!M605","v":0},{"$f":"FOURIER!N605","v":0},null,null,92.499041509504167,null,null,null,null,0,0,null,null,null,null,null,null,0,-79.100999999999999,null,null,null,null,null,null,null,null,null,null,null,null,null,12.06,11.513999999999999,0,{"$error":"#DIV/0!"},{"$error":"#DIV/0!"}]
[null,null,null,null,null,604,12.08,-71.991200000000006,14.74609375,{"$f":"FOURIER!M606","v":0},{"$f":"FOURIER!N606","v":0},null,null,92.652439588292737,null,null,null,null,0,0,null,null,null,null,null,null,0,-71.991200000000006,null,null,null,null,null,null,null,null,null,null,null,null,null,12.08,11.388999999999999,0,{"$error":"#DIV/0!"},{"$error":"#DIV/0!"}]
[null,null,null,null,null,605,12.1,-49.731900000000003,14.7705078125,{"$f":"FOURIER!M607","v":0},{"$f":"FOURIER!N607","v":0},null,null,92.805837667081292,null,null,null,null,0,0,null,null,null,null,null,null,0,-49.731900000000003,null,null,null,null,null,null,null,null,null,null,null,null,null,12.1,11.212999999999999,0,{"$error":"#DIV/0!"},{"$error":"#DIV/0!"}]
[null,null,null,null,null,606,12.120000000000001,-32.3324,14.794921875,{"$f":"FOURIER!M608","v":0},{"$f":"FOURIER!N608","v":0},null,null,92.959235745869861,null,null,null,null,0,0,null,null,null,null,null,null,0,-32.3324,null,null,null,null,null,null,null,null,null,null,null,null,null,12.120000000000001,10.996,0,{"$error":"#DIV/0!"},{"$error":"#DIV/0!"}]
[null,null,null,null,null,607,12.14,-21.832699999999999,14.8193359375,{"$f":"FOURIER!M609","v":0},{"$f":"FOURIER!N609","v":0},null,null,93.112633824658417,null,null,null,null,0,0,null,null,null,null,null,null,0,-21.832699999999999,null,null,null,null,null,null,null,null,null,null,null,null,null,12.14,10.744,0,{"$error":"#DIV/0!"},{"$error":"#DIV/0!"}]
[null,null,null,null,null,608,12.16,-7.7331000000000003,14.84375,{"$f":"FOURIER!M610","v":0},{"$f":"FOURIER!N610","v":0},null,null,93.266031903446986,null,null,null,null,0,0,null,null,null,null,null,null,0,-7.7331000000000003,null,null,null,null,null,null,null,null,null,null,null,null,null,12.16,10.462999999999999,0,{"$error":"#DIV/0!"},{"$error":"#DIV/0!"}]
[null,null,null,null,null,609,12.18,18.636099999999999,14.8681640625,{"$f":"FOURIER!M611","v":0},{"$f":"FOURIER!N611","v":0},null,null,93.419429982235556,null,null,null,null,0,0,null,null,null,null,null,null,0,18.636099999999999,null,null,null,null,null,null,null,null,null,null,null,null,null,12.18,10.16,0,{"$error":"#DIV/0!"},{"$error":"#DIV/0!"}]
[null,null,null,null,null,610,12.200000000000001,48.065199999999997,14.892578125,{"$f":"FOURIER!M612","v":0},{"$f":"FOURIER!N612","v":0},null,null,93.572828061024111,null,null,null,null,0,0,null,null,null,null,null,null,0,48.065199999999997,null,null,null,null,null,null,null,null,null,null,null,null,null,12.200000000000001,9.8450000000000006,0,{"$error":"#DIV/0!"},{"$error":"#DIV/0!"}]
[null,null,null,null,null,611,12.22,70.894499999999994,14.9169921875,{"$f":"FOURIER!M613","v":0},{"$f":"FOURIER!N613","v":0},null,null,93.726226139812681,null,null,null,null,0,0,null,null,null,null,null,null,0,70.894499999999994,null,null,null,null,null,null,null,null,null,null,null,null,null,12.22,9.5310000000000006,0,{"$error":"#DIV/0!"},{"$error":"#DIV/0!"}]
[null,null,null,null,null,612,12.24,82.054100000000005,14.94140625,{"$f":"FOURIER!M614","v":0},{"$f":"FOURIER!N614","v":0},null,null,93.879624218601251,null,null,null,null,0,0,null,null,null,null,null,null,0,82.054100000000005,null,null,null,null,null,null,null,null,null,null,null,null,null,12.24,9.2270000000000003,0,{"$error":"#DIV/0!"},{"$error":"#DIV/0!"}]
[null,null,null,null,null,613,12.26,86.103999999999999,14.9658203125,{"$f":"FOURIER!M615","v":0},{"$f":"FOURIER!N615","v":0},null,null,94.033022297389806,null,null,null,null,0,0,null,null,null,null,null,null,0,86.103999999999999,null,null,null,null,null,null,null,null,null,null,null,null,null,12.26,8.9380000000000006,0,{"$error":"#DIV/0!"},{"$error":"#DIV/0!"}]
[null,null,null,null,null,614,12.280000000000001,86.103999999999999,14.990234375,{"$f":"FOURIER!M616","v":0},{"$f":"FOURIER!N616","v":0},null,null,94.186420376178376,null,null,null,null,0,0,null,null,null,null,null,null,0,86.103999999999999,null,null,null,null,null,null,null,null,null,null,null,null,null,12.280000000000001,8.6669999999999998,0,{"$error":"#DIV/0!"},{"$error":"#DIV/0!"}]
[null,null,null,null,null,615,12.3,70.024500000000003,15.0146484375,{"$f":"FOURIER!M617","v":0},{"$f":"FOURIER!N617","v":0},null,null,94.339818454966931,null,null,null,null,0,0,null,null,null,null,null,null,0,70.024500000000003,null,null,null,null,null,null,null,null,null,null,null,null,null,12.3,8.4139999999999997,0,{"$error":"#DIV/0!"},{"$error":"#DIV/0!"}]
[null,null,null,null,null,616,12.32,44.195300000000003,15.0390625,{"$f":"FOURIER!M618","v":0},{"$f":"FOURIER!N618","v":0},null,null,94.493216533755501,null,null,null,null,0,0,null,null,null,null,null,null,0,44.195300000000003,null,null,null,null,null,null,null,null,null,null,null,null,null,12.32,8.1720000000000006,0,{"$error":"#DIV/0!"},{"$error":"#DIV/0!"}]
[null,null,null,null,null,617,12.34,22.056000000000001,15.0634765625,{"$f":"FOURIER!M619","v":0},{"$f":"FOURIER!N619","v":0},null,null,94.64661461254407,null,null,null,null,0,0,null,null,null,null,null,null,0,22.056000000000001,null,null,null,null,null,null,null,null,null,null,null,null,null,12.34,7.9329999999999998,0,{"$error":"#DIV/0!"},{"$error":"#DIV/0!"}]
[null,null,null,null,null,618,12.36,-4.6432000000000002,15.087890625,{"$f":"FOURIER!M620","v":0},{"$f":"FOURIER!N620","v":0},null,null,94.800012691332626,null,null,null,null,0,0,null,null,null,null,null,null,0,-4.6432000000000002,null,null,null,null,null,null,null,null,null,null,null,null,null,12.36,7.6870000000000003,0,{"$error":"#DIV/0!"},{"$error":"#DIV/0!"}]
[null,null,null,null,null,619,12.38,-44.511899999999997,15.1123046875,{"$f":"FOURIER!M621","v":0},{"$f":"FOURIER!N621","v":0},null,null,94.953410770121195,null,null,null,null,0,0,null,null,null,null,null,null,0,-44.511899999999997,null,null,null,null,null,null,null,null,null,null,null,null,null,12.38,7.4249999999999998,0,{"$error":"#DIV/0!"},{"$error":"#DIV/0!"}]
[null,null,null,null,null,620,12.4,-73.941000000000003,15.13671875,{"$f":"FOURIER!M622","v":0},{"$f":"FOURIER!N622","v":0},null,null,95.106808848909751,null,null,null,null,0,0,null,null,null,null,null,null,0,-73.941000000000003,null,null,null,null,null,null,null,null,null,null,null,null,null,12.4,7.1319999999999997,0,{"$error":"#DIV/0!"},{"$error":"#DIV/0!"}]
[null,null,null,null,null,621,12.42,-85.730699999999999,15.1611328125,{"$f":"FOURIER!M623","v":0},{"$f":"FOURIER!N623","v":0},null,null,95.26020692769832,null,null,null,null,0,0,null,null,null,null,null,null,0,-85.730699999999999,null,null,null,null,null,null,null,null,null,null,null,null,null,12.42,6.7969999999999997,0,{"$error":"#DIV/0!"},{"$error":"#DIV/0!"}]
[null,null,null,null,null,622,12.44,-94.520399999999995,15.185546875,{"$f":"FOURIER!M624","v":0},{"$f":"FOURIER!N624","v":0},null,null,95.41360500648689,null,null,null,null,0,0,null,null,null,null,null,null,0,-94.520399999999995,null,null,null,null,null,null,null,null,null,null,null,null,null,12.44,6.415,0,{"$error":"#DIV/0!"},{"$error":"#DIV/0!"}]
[null,null,null,null,null,623,12.46,-89.090599999999995,15.2099609375,{"$f":"FOURIER!M625","v":0},{"$f":"FOURIER!N625","v":0},null,null,95.567003085275445,null,null,null,null,0,0,null,null,null,null,null,null,0,-89.090599999999995,null,null,null,null,null,null,null,null,null,null,null,null,null,12.46,5.984,0,{"$error":"#DIV/0!"},{"$error":"#DIV/0!"}]
[null,null,null,null,null,624,12.48,-66.201300000000003,15.234375,{"$f":"FOURIER!M626","v":0},{"$f":"FOURIER!N626","v":0},null,null,95.720401164064015,null,null,null,null,0,0,null,null,null,null,null,null,0,-66.201300000000003,null,null,null,null,null,null,null,null,null,null,null,null,null,12.48,5.5090000000000003,0,{"$error":"#DIV/0!"},{"$error":"#DIV/0!"}]
[null,null,null,null,null,625,12.5,-47.901800000000001,15.2587890625,{"$f":"FOURIER!M627","v":0},{"$f":"FOURIER!N627","v":0},null,null,95.873799242852584,null,null,null,null,0,0,null,null,null,null,null,null,0,-47.901800000000001,null,null,null,null,null,null,null,null,null,null,null,null,null,12.5,4.9969999999999999,0,{"$error":"#DIV/0!"},{"$error":"#DIV/0!"}]
[null,null,null,null,null,626,12.52,-33.952199999999998,15.283203125,{"$f":"FOURIER!M628","v":0},{"$f":"FOURIER!N628","v":0},null,null,96.02719732164114,null,null,null,null,0,0,null,null,null,null,null,null,0,-33.952199999999998,null,null,null,null,null,null,null,null,null,null,null,null,null,12.52,4.4589999999999996,0,{"$error":"#DIV/0!"},{"$error":"#DIV/0!"}]
[null,null,null,null,null,627,12.540000000000001,-12.472899999999999,15.3076171875,{"$f":"FOURIER!M629","v":0},{"$f":"FOURIER!N629","v":0},null,null,96.180595400429709,null,null,null,null,0,0,null,null,null,null,null,null,0,-12.472899999999999,null,null,null,null,null,null,null,null,null,null,null,null,null,12.540000000000001,3.9,0,{"$error":"#DIV/0!"},{"$error":"#DIV/0!"}]
[null,null,null,null,null,628,12.56,11.2864,15.33203125,{"$f":"FOURIER!M630","v":0},{"$f":"FOURIER!N630","v":0},null,null,96.333993479218265,null,null,null,null,0,0,null,null,null,null,null,null,0,11.2864,null,null,null,null,null,null,null,null,null,null,null,null,null,12.56,3.331,0,{"$error":"#DIV/0!"},{"$error":"#DIV/0!"}]
[null,null,null,null,null,629,12.58,22.176100000000002,15.3564453125,{"$f":"FOURIER!M631","v":0},{"$f":"FOURIER!N631","v":0},null,null,96.487391558006834,null,null,null,null,0,0,null,null,null,null,null,null,0,22.176100000000002,null,null,null,null,null,null,null,null,null,null,null,null,null,12.58,2.762,0,{"$error":"#DIV/0!"},{"$error":"#DIV/0!"}]
[null,null,null,null,null,630,12.6,34.505699999999997,15.380859375,{"$f":"FOURIER!M632","v":0},{"$f":"FOURIER!N632","v":0},null,null,96.640789636795404,null,null,null,null,0,0,null,null,null,null,null,null,0,34.505699999999997,null,null,null,null,null,null,null,null,null,null,null,null,null,12.6,2.198,0,{"$error":"#DIV/0!"},{"$error":"#DIV/0!"}]
[null,null,null,null,null,631,12.620000000000001,61.7149,15.4052734375,{"$f":"FOURIER!M633","v":0},{"$f":"FOURIER!N633","v":0},null,null,96.794187715583959,null,null,null,null,0,0,null,null,null,null,null,null,0,61.7149,null,null,null,null,null,null,null,null,null,null,null,null,null,12.620000000000001,1.647,0,{"$error":"#DIV/0!"},{"$error":"#DIV/0!"}]
[null,null,null,null,null,632,12.64,81.304299999999998,15.4296875,{"$f":"FOURIER!M634","v":0},{"$f":"FOURIER!N634","v":0},null,null,96.947585794372529,null,null,null,null,0,0,null,null,null,null,null,null,0,81.304299999999998,null,null,null,null,null,null,null,null,null,null,null,null,null,12.64,1.1180000000000001,0,{"$error":"#DIV/0!"},{"$error":"#DIV/0!"}]
[null,null,null,null,null,633,12.66,79.684299999999993,15.4541015625,{"$f":"FOURIER!M635","v":0},{"$f":"FOURIER!N635","v":0},null,null,97.100983873161084,null,null,null,null,0,0,null,null,null,null,null,null,0,79.684299999999993,null,null,null,null,null,null,null,null,null,null,null,null,null,12.66,0.622,0,{"$error":"#DIV/0!"},{"$error":"#DIV/0!"}]
[null,null,null,null,null,634,12.68,63.634799999999998,15.478515625,{"$f":"FOURIER!M636","v":0},{"$f":"FOURIER!N636","v":0},null,null,97.254381951949654,null,null,null,null,0,0,null,null,null,null,null,null,0,63.634799999999998,null,null,null,null,null,null,null,null,null,null,null,null,null,12.68,0.157,0,{"$error":"#DIV/0!"},{"$error":"#DIV/0!"}]
[null,null,null,null,null,635,12.700000000000001,38.4056,15.5029296875,{"$f":"FOURIER!M637","v":0},{"$f":"FOURIER!N637","v":0},null,null,97.407780030738223,null,null,null,null,0,0,null,null,null,null,null,null,0,38.4056,null,null,null,null,null,null,null,null,null,null,null,null,null,12.700000000000001,-0.28100000000000003,0,{"$error":"#DIV/0!"},{"$error":"#DIV/0!"}]
[null,null,null,null,null,636,12.72,7.1166,15.52734375,{"$f":"FOURIER!M638","v":0},{"$f":"FOURIER!N638","v":0},null,null,97.561178109526779,null,null,null,null,0,0,null,null,null,null,null,null,0,7.1166,null,null,null,null,null,null,null,null,null,null,null,null,null,12.72,-0.70099999999999996,0,{"$error":"#DIV/0!"},{"$error":"#DIV/0!"}]
[null,null,null,null,null,637,12.74,-17.3627,15.5517578125,{"$f":"FOURIER!M639","v":0},{"$f":"FOURIER!N639","v":0},null,null,97.714576188315348,null,null,null,null,0,0,null,null,null,null,null,null,0,-17.3627,null,null,null,null,null,null,null,null,null,null,null,null,null,12.74,-1.115,0,{"$error":"#DIV/0!"},{"$error":"#DIV/0!"}]
[null,null,null,null,null,638,12.76,-32.302199999999999,15.576171875,{"$f":"FOURIER!M640","v":0},{"$f":"FOURIER!N640","v":0},null,null,97.867974267103918,null,null,null,null,0,0,null,null,null,null,null,null,0,-32.302199999999999,null,null,null,null,null,null,null,null,null,null,null,null,null,12.76,-1.532,0,{"$error":"#DIV/0!"},{"$error":"#DIV/0!"}]
[null,null,null,null,null,639,12.780000000000001,-48.561700000000002,15.6005859375,{"$f":"FOURIER!M641","v":0},{"$f":"FOURIER!N641","v":0},null,null,98.021372345892473,null,null,null,null,0,0,null,null,null,null,null,null,0,-48.561700000000002,null,null,null,null,null,null,null,null,null,null,null,null,null,12.780000000000001,-1.958,0,{"$error":"#DIV/0!"},{"$error":"#DIV/0!"}]
[null,null,null,null,null,640,12.8,-68.361099999999993,15.625,{"$f":"FOURIER!M642","v":0},{"$f":"FOURIER!N642","v":0},null,null,{"$f":"2*PI()/B$9/B$6*F642","v":98.174770424681043},null,null,null,null,{"$f":"J642*O642-K642*P642","v":0},{"$f":"J642*P642+K642*O642","v":0},null,null,null,null,null,null,0,-68.361099999999993,null,null,null,null,null,null,null,null,null,null,null,null,null,{"$f":"G642","v":12.8},-2.3969999999999998,0,{"$error":"#DIV/0!"},{"$error":"#DIV/0!"}]
[null,null,null,null,null,641,{"$f":"B$6*F643","v":12.82},-86.510599999999997,{"$f":"F643/B$9/B$6","v":15.6494140625},{"$f":"FOURIER!M643","v":0},{"$f":"FOURIER!N643","v":0},null,null,98.328168503469598,null,null,null,null,0,0,null,null,null,null,null,null,{"$f":"(Y643-Y642)/B$6","v":0},{"$f":"(AA643-AA642)/B$6+H643","v":-86.510599999999997},null,null,null,null,null,null,null,null,null,null,null,null,null,12.82,-2.8559999999999999,0,{"$f":"(AQ643-AQ642)/O$6","v":{"$error":"#DIV/0!"}},{"$f":"(AS643-AS642)/O$6+S643","v":{"$error":"#DIV/0!"}}]
[null,null,null,null,null,642,12.84,-98.330200000000005,15.673828125,{"$f":"FOURIER!M644","v":0},{"$f":"FOURIER!N644","v":0},null,null,98.481566582258168,null,null,null,null,0,0,null,null,null,null,null,null,0,-98.330200000000005,null,null,null,null,null,null,null,null,null,null,null,null,null,12.84,-3.343,0,{"$error":"#DIV/0!"},{"$error":"#DIV/0!"}]
[null,null,null,null,null,643,12.86,-99.530100000000004,15.6982421875,{"$f":"FOURIER!M645","v":0},{"$f":"FOURIER!N645","v":0},null,null,98.634964661046737,null,null,null,null,0,0,null,null,null,null,null,null,0,-99.530100000000004,null,null,null,null,null,null,null,null,null,null,null,null,null,12.86,-3.86,0,{"$error":"#DIV/0!"},{"$error":"#DIV/0!"}]
[null,null,null,null,null,644,12.88,-86.840500000000006,15.72265625,{"$f":"FOURIER!M646","v":0},{"$f":"FOURIER!N646","v":0},null,null,98.788362739835293,null,null,null,null,0,0,null,null,null,null,null,null,0,-86.840500000000006,null,null,null,null,null,null,null,null,null,null,null,null,null,12.88,-4.407,0,{"$error":"#DIV/0!"},{"$error":"#DIV/0!"}]
[null,null,null,null,null,645,12.9,-61.551299999999998,15.7470703125,{"$f":"FOURIER!M647","v":0},{"$f":"FOURIER!N647","v":0},null,null,98.941760818623862,null,null,null,null,0,0,null,null,null,null,null,null,0,-61.551299999999998,null,null,null,null,null,null,null,null,null,null,null,null,null,12.9,-4.976,0,{"$error":"#DIV/0!"},{"$error":"#DIV/0!"}]
[null,null,null,null,null,646,12.92,-39.262,15.771484375,{"$f":"FOURIER!M648","v":0},{"$f":"FOURIER!N648","v":0},null,null,99.095158897412418,null,null,null,null,0,0,null,null,null,null,null,null,0,-39.262,null,null,null,null,null,null,null,null,null,null,null,null,null,12.92,-5.5590000000000002,0,{"$error":"#DIV/0!"},{"$error":"#DIV/0!"}]
[null,null,null,null,null,647,12.94,-28.1023,15.7958984375,{"$f":"FOURIER!M649","v":0},{"$f":"FOURIER!N649","v":0},null,null,99.248556976200987,null,null,null,null,0,0,null,null,null,null,null,null,0,-28.1023,null,null,null,null,null,null,null,null,null,null,null,null,null,12.94,-6.1440000000000001,0,{"$error":"#DIV/0!"},{"$error":"#DIV/0!"}]
[null,null,null,null,null,648,12.96,-13.9427,15.8203125,{"$f":"FOURIER!M650","v":0},{"$f":"FOURIER!N650","v":0},null,null,99.401955054989557,null,null,null,null,0,0,null,null,null,null,null,null,0,-13.9427,null,null,null,null,null,null,null,null,null,null,null,null,null,12.96,-6.7249999999999996,0,{"$error":"#DIV/0!"},{"$error":"#DIV/0!"}]
[null,null,null,null,null,649,12.98,8.3765999999999998,15.8447265625,{"$f":"FOURIER!M651","v":0},{"$f":"FOURIER!N651","v":0},null,null,99.555353133778112,null,null,null,null,0,0,null,null,null,null,null,null,0,8.3765999999999998,null,null,null,null,null,null,null,null,null,null,null,null,null,12.98,-7.2960000000000003,0,{"$error":"#DIV/0!"},{"$error":"#DIV/0!"}]
[null,null,null,null,null,650,13,25.5961,15.869140625,{"$f":"FOURIER!M652","v":0},{"$f":"FOURIER!N652","v":0},null,null,99.708751212566682,null,null,null,null,0,0,null,null,null,null,null,null,0,25.5961,null,null,null,null,null,null,null,null,null,null,null,null,null,13,-7.8470000000000004,0,{"$error":"#DIV/0!"},{"$error":"#DIV/0!"}]
[null,null,null,null,null,651,13.02,24.126100000000001,15.8935546875,{"$f":"FOURIER!M653","v":0},{"$f":"FOURIER!N653","v":0},null,null,99.862149291355252,null,null,null,null,0,0,null,null,null,null,null,null,0,24.126100000000001,null,null,null,null,null,null,null,null,null,null,null,null,null,13.02,-8.3699999999999992,0,{"$error":"#DIV/0!"},{"$error":"#DIV/0!"}]
[null,null,null,null,null,652,13.040000000000001,15.4864,15.91796875,{"$f":"FOURIER!M654","v":0},{"$f":"FOURIER!N654","v":0},null,null,100.01554737014381,null,null,null,null,0,0,null,null,null,null,null,null,0,15.4864,null,null,null,null,null,null,null,null,null,null,null,null,null,13.040000000000001,-8.8650000000000002,0,{"$error":"#DIV/0!"},{"$error":"#DIV/0!"}]
[null,null,null,null,null,653,13.06,20.466200000000001,15.9423828125,{"$f":"FOURIER!M655","v":0},{"$f":"FOURIER!N655","v":0},null,null,100.16894544893238,null,null,null,null,0,0,null,null,null,null,null,null,0,20.466200000000001,null,null,null,null,null,null,null,null,null,null,null,null,null,13.06,-9.3339999999999996,0,{"$error":"#DIV/0!"},{"$error":"#DIV/0!"}]
[null,null,null,null,null,654,13.08,34.325800000000001,15.966796875,{"$f":"FOURIER!M656","v":0},{"$f":"FOURIER!N656","v":0},null,null,100.32234352772093,null,null,null,null,0,0,null,null,null,null,null,null,0,34.325800000000001,null,null,null,null,null,null,null,null,null,null,null,null,null,13.08,-9.7739999999999991,0,{"$error":"#DIV/0!"},{"$error":"#DIV/0!"}]
[null,null,null,null,null,655,13.1,37.445700000000002,15.9912109375,{"$f":"FOURIER!M657","v":0},{"$f":"FOURIER!N657","v":0},null,null,100.4757416065095,null,null,null,null,0,0,null,null,null,null,null,null,0,37.445700000000002,null,null,null,null,null,null,null,null,null,null,null,null,null,13.1,-10.179,0,{"$error":"#DIV/0!"},{"$error":"#DIV/0!"}]
[null,null,null,null,null,656,13.120000000000001,28.506,16.015625,{"$f":"FOURIER!M658","v":0},{"$f":"FOURIER!N658","v":0},null,null,100.62913968529807,null,null,null,null,0,0,null,null,null,null,null,null,0,28.506,null,null,null,null,null,null,null,null,null,null,null,null,null,13.120000000000001,-10.548,0,{"$error":"#DIV/0!"},{"$error":"#DIV/0!"}]
[null,null,null,null,null,657,13.14,25.5961,16.0400390625,{"$f":"FOURIER!M659","v":0},{"$f":"FOURIER!N659","v":0},null,null,100.78253776408663,null,null,null,null,0,0,null,null,null,null,null,null,0,25.5961,null,null,null,null,null,null,null,null,null,null,null,null,null,13.14,-10.882999999999999,0,{"$error":"#DIV/0!"},{"$error":"#DIV/0!"}]
[null,null,null,null,null,658,13.16,23.046199999999999,16.064453125,{"$f":"FOURIER!M660","v":0},{"$f":"FOURIER!N660","v":0},null,null,100.9359358428752,null,null,null,null,0,0,null,null,null,null,null,null,0,23.046199999999999,null,null,null,null,null,null,null,null,null,null,null,null,null,13.16,-11.183999999999999,0,{"$error":"#DIV/0!"},{"$error":"#DIV/0!"}]
[null,null,null,null,null,659,13.18,15.096399999999999,16.0888671875,{"$f":"FOURIER!M661","v":0},{"$f":"FOURIER!N661","v":0},null,null,101.08933392166375,null,null,null,null,0,0,null,null,null,null,null,null,0,15.096399999999999,null,null,null,null,null,null,null,null,null,null,null,null,null,13.18,-11.452999999999999,0,{"$error":"#DIV/0!"},{"$error":"#DIV/0!"}]
[null,null,null,null,null,660,13.200000000000001,11.6465,16.11328125,{"$f":"FOURIER!M662","v":0},{"$f":"FOURIER!N662","v":0},null,null,101.24273200045232,null,null,null,null,0,0,null,null,null,null,null,null,0,11.6465,null,null,null,null,null,null,null,null,null,null,null,null,null,13.200000000000001,-11.691000000000001,0,{"$error":"#DIV/0!"},{"$error":"#DIV/0!"}]
[null,null,null,null,null,661,13.22,8.6465999999999994,16.1376953125,{"$f":"FOURIER!M663","v":0},{"$f":"FOURIER!N663","v":0},null,null,101.39613007924089,null,null,null,null,0,0,null,null,null,null,null,null,0,8.6465999999999994,null,null,null,null,null,null,null,null,null,null,null,null,null,13.22,-11.901,0,{"$error":"#DIV/0!"},{"$error":"#DIV/0!"}]
[null,null,null,null,null,662,13.24,-4.0730000000000004,16.162109375,{"$f":"FOURIER!M664","v":0},{"$f":"FOURIER!N664","v":0},null,null,101.54952815802945,null,null,null,null,0,0,null,null,null,null,null,null,0,-4.0730000000000004,null,null,null,null,null,null,null,null,null,null,null,null,null,13.24,-12.083,0,{"$error":"#DIV/0!"},{"$error":"#DIV/0!"}]
[null,null,null,null,null,663,13.26,-24.4724,16.1865234375,{"$f":"FOURIER!M665","v":0},{"$f":"FOURIER!N665","v":0},null,null,101.70292623681802,null,null,null,null,0,0,null,null,null,null,null,null,0,-24.4724,null,null,null,null,null,null,null,null,null,null,null,null,null,13.26,-12.242000000000001,0,{"$error":"#DIV/0!"},{"$error":"#DIV/0!"}]
[null,null,null,null,null,664,13.280000000000001,-40.371899999999997,16.2109375,{"$f":"FOURIER!M666","v":0},{"$f":"FOURIER!N666","v":0},null,null,101.85632431560659,null,null,null,null,0,0,null,null,null,null,null,null,0,-40.371899999999997,null,null,null,null,null,null,null,null,null,null,null,null,null,13.280000000000001,-12.385,0,{"$error":"#DIV/0!"},{"$error":"#DIV/0!"}]
[null,null,null,null,null,665,13.3,-47.901600000000002,16.2353515625,{"$f":"FOURIER!M667","v":0},{"$f":"FOURIER!N667","v":0},null,null,102.00972239439514,null,null,null,null,0,0,null,null,null,null,null,null,0,-47.901600000000002,null,null,null,null,null,null,null,null,null,null,null,null,null,13.3,-12.519,0,{"$error":"#DIV/0!"},{"$error":"#DIV/0!"}]
[null,null,null,null,null,666,13.32,-53.541400000000003,16.259765625,{"$f":"FOURIER!M668","v":0},{"$f":"FOURIER!N668","v":0},null,null,102.16312047318371,null,null,null,null,0,0,null,null,null,null,null,null,0,-53.541400000000003,null,null,null,null,null,null,null,null,null,null,null,null,null,13.32,-12.647,0,{"$error":"#DIV/0!"},{"$error":"#DIV/0!"}]
[null,null,null,null,null,667,13.34,-60.981200000000001,16.2841796875,{"$f":"FOURIER!M669","v":0},{"$f":"FOURIER!N669","v":0},null,null,102.31651855197227,null,null,null,null,0,0,null,null,null,null,null,null,0,-60.981200000000001,null,null,null,null,null,null,null,null,null,null,null,null,null,13.34,-12.77,0,{"$error":"#DIV/0!"},{"$error":"#DIV/0!"}]
[null,null,null,null,null,668,13.36,-68.721000000000004,16.30859375,{"$f":"FOURIER!M670","v":0},{"$f":"FOURIER!N670","v":0},null,null,102.46991663076084,null,null,null,null,0,0,null,null,null,null,null,null,0,-68.721000000000004,null,null,null,null,null,null,null,null,null,null,null,null,null,13.36,-12.891,0,{"$error":"#DIV/0!"},{"$error":"#DIV/0!"}]
[null,null,null,null,null,669,13.38,-60.741199999999999,16.3330078125,{"$f":"FOURIER!M671","v":0},{"$f":"FOURIER!N671","v":0},null,null,102.6233147095494,null,null,null,null,0,0,null,null,null,null,null,null,0,-60.741199999999999,null,null,null,null,null,null,null,null,null,null,null,null,null,13.38,-13.013999999999999,0,{"$error":"#DIV/0!"},{"$error":"#DIV/0!"}]
[null,null,null,null,null,670,13.4,-27.682200000000002,16.357421875,{"$f":"FOURIER!M672","v":0},{"$f":"FOURIER!N672","v":0},null,null,102.77671278833796,null,null,null,null,0,0,null,null,null,null,null,null,0,-27.682200000000002,null,null,null,null,null,null,null,null,null,null,null,null,null,13.4,-13.132999999999999,0,{"$error":"#DIV/0!"},{"$error":"#DIV/0!"}]
[null,null,null,null,null,671,13.42,16.5364,16.3818359375,{"$f":"FOURIER!M673","v":0},{"$f":"FOURIER!N673","v":0},null,null,102.93011086712653,null,null,null,null,0,0,null,null,null,null,null,null,0,16.5364,null,null,null,null,null,null,null,null,null,null,null,null,null,13.42,-13.236000000000001,0,{"$error":"#DIV/0!"},{"$error":"#DIV/0!"}]
[null,null,null,null,null,672,13.44,54.965299999999999,16.40625,{"$f":"FOURIER!M674","v":0},{"$f":"FOURIER!N674","v":0},null,null,103.08350894591509,null,null,null,null,0,0,null,null,null,null,null,null,0,54.965299999999999,null,null,null,null,null,null,null,null,null,null,null,null,null,13.44,-13.305999999999999,0,{"$error":"#DIV/0!"},{"$error":"#DIV/0!"}]
[null,null,null,null,null,673,13.46,84.664299999999997,16.4306640625,{"$f":"FOURIER!M675","v":0},{"$f":"FOURIER!N675","v":0},null,null,103.23690702470365,null,null,null,null,0,0,null,null,null,null,null,null,0,84.664299999999997,null,null,null,null,null,null,null,null,null,null,null,null,null,13.46,-13.327,0,{"$error":"#DIV/0!"},{"$error":"#DIV/0!"}]
[null,null,null,null,null,674,13.48,103.71380000000001,16.455078125,{"$f":"FOURIER!M676","v":0},{"$f":"FOURIER!N676","v":0},null,null,103.39030510349222,null,null,null,null,0,0,null,null,null,null,null,null,0,103.71380000000001,null,null,null,null,null,null,null,null,null,null,null,null,null,13.48,-13.288,0,{"$error":"#DIV/0!"},{"$error":"#DIV/0!"}]
[null,null,null,null,null,675,13.5,102.4838,16.4794921875,{"$f":"FOURIER!M677","v":0},{"$f":"FOURIER!N677","v":0},null,null,103.54370318228078,null,null,null,null,0,0,null,null,null,null,null,null,0,102.4838,null,null,null,null,null,null,null,null,null,null,null,null,null,13.5,-13.182,0,{"$error":"#DIV/0!"},{"$error":"#DIV/0!"}]
[null,null,null,null,null,676,13.52,85.144300000000001,16.50390625,{"$f":"FOURIER!M678","v":0},{"$f":"FOURIER!N678","v":0},null,null,103.69710126106935,null,null,null,null,0,0,null,null,null,null,null,null,0,85.144300000000001,null,null,null,null,null,null,null,null,null,null,null,null,null,13.52,-13.01,0,{"$error":"#DIV/0!"},{"$error":"#DIV/0!"}]
[null,null,null,null,null,677,13.540000000000001,68.434899999999999,16.5283203125,{"$f":"FOURIER!M679","v":0},{"$f":"FOURIER!N679","v":0},null,null,103.85049933985792,null,null,null,null,0,0,null,null,null,null,null,null,0,68.434899999999999,null,null,null,null,null,null,null,null,null,null,null,null,null,13.540000000000001,-12.778,0,{"$error":"#DIV/0!"},{"$error":"#DIV/0!"}]
[null,null,null,null,null,678,13.56,54.485300000000002,16.552734375,{"$f":"FOURIER!M680","v":0},{"$f":"FOURIER!N680","v":0},null,null,104.00389741864647,null,null,null,null,0,0,null,null,null,null,null,null,0,54.485300000000002,null,null,null,null,null,null,null,null,null,null,null,null,null,13.56,-12.494999999999999,0,{"$error":"#DIV/0!"},{"$error":"#DIV/0!"}]
[null,null,null,null,null,679,13.58,33.8459,16.5771484375,{"$f":"FOURIER!M681","v":0},{"$f":"FOURIER!N681","v":0},null,null,104.15729549743504,null,null,null,null,0,0,null,null,null,null,null,null,0,33.8459,null,null,null,null,null,null,null,null,null,null,null,null,null,13.58,-12.166,0,{"$error":"#DIV/0!"},{"$error":"#DIV/0!"}]
[null,null,null,null,null,680,13.6,5.2267999999999999,16.6015625,{"$f":"FOURIER!M682","v":0},{"$f":"FOURIER!N682","v":0},null,null,104.3106935762236,null,null,null,null,0,0,null,null,null,null,null,null,0,5.2267999999999999,null,null,null,null,null,null,null,null,null,null,null,null,null,13.6,-11.8,0,{"$error":"#DIV/0!"},{"$error":"#DIV/0!"}]
[null,null,null,null,null,681,13.620000000000001,-21.862300000000001,16.6259765625,{"$f":"FOURIER!M683","v":0},{"$f":"FOURIER!N683","v":0},null,null,104.46409165501217,null,null,null,null,0,0,null,null,null,null,null,null,0,-21.862300000000001,null,null,null,null,null,null,null,null,null,null,null,null,null,13.620000000000001,-11.411,0,{"$error":"#DIV/0!"},{"$error":"#DIV/0!"}]
[null,null,null,null,null,682,13.64,-40.281799999999997,16.650390625,{"$f":"FOURIER!M684","v":0},{"$f":"FOURIER!N684","v":0},null,null,104.61748973380074,null,null,null,null,0,0,null,null,null,null,null,null,0,-40.281799999999997,null,null,null,null,null,null,null,null,null,null,null,null,null,13.64,-11.007999999999999,0,{"$error":"#DIV/0!"},{"$error":"#DIV/0!"}]
[null,null,null,null,null,683,13.66,-48.831499999999998,16.6748046875,{"$f":"FOURIER!M685","v":0},{"$f":"FOURIER!N685","v":0},null,null,104.77088781258929,null,null,null,null,0,0,null,null,null,null,null,null,0,-48.831499999999998,null,null,null,null,null,null,null,null,null,null,null,null,null,13.66,-10.601000000000001,0,{"$error":"#DIV/0!"},{"$error":"#DIV/0!"}]
[null,null,null,null,null,684,13.68,-56.391300000000001,16.69921875,{"$f":"FOURIER!M686","v":0},{"$f":"FOURIER!N686","v":0},null,null,104.92428589137786,null,null,null,null,0,0,null,null,null,null,null,null,0,-56.391300000000001,null,null,null,null,null,null,null,null,null,null,null,null,null,13.68,-10.194000000000001,0,{"$error":"#DIV/0!"},{"$error":"#DIV/0!"}]
[null,null,null,null,null,685,13.700000000000001,-77.450599999999994,16.7236328125,{"$f":"FOURIER!M687","v":0},{"$f":"FOURIER!N687","v":0},null,null,105.07768397016642,null,null,null,null,0,0,null,null,null,null,null,null,0,-77.450599999999994,null,null,null,null,null,null,null,null,null,null,null,null,null,13.700000000000001,-9.7919999999999998,0,{"$error":"#DIV/0!"},{"$error":"#DIV/0!"}]
[null,null,null,null,null,686,13.72,-96.32,16.748046875,{"$f":"FOURIER!M688","v":0},{"$f":"FOURIER!N688","v":0},null,null,105.23108204895499,null,null,null,null,0,0,null,null,null,null,null,null,0,-96.32,null,null,null,null,null,null,null,null,null,null,null,null,null,13.72,-9.4019999999999992,0,{"$error":"#DIV/0!"},{"$error":"#DIV/0!"}]
[null,null,null,null,null,687,13.74,-88.970299999999995,16.7724609375,{"$f":"FOURIER!M689","v":0},{"$f":"FOURIER!N689","v":0},null,null,105.38448012774356,null,null,null,null,0,0,null,null,null,null,null,null,0,-88.970299999999995,null,null,null,null,null,null,null,null,null,null,null,null,null,13.74,-9.032,0,{"$error":"#DIV/0!"},{"$error":"#DIV/0!"}]
[null,null,null,null,null,688,13.76,-64.221000000000004,16.796875,{"$f":"FOURIER!M690","v":0},{"$f":"FOURIER!N690","v":0},null,null,105.53787820653211,null,null,null,null,0,0,null,null,null,null,null,null,0,-64.221000000000004,null,null,null,null,null,null,null,null,null,null,null,null,null,13.76,-8.6809999999999992,0,{"$error":"#DIV/0!"},{"$error":"#DIV/0!"}]
[null,null,null,null,null,689,13.780000000000001,-45.831600000000002,16.8212890625,{"$f":"FOURIER!M691","v":0},{"$f":"FOURIER!N691","v":0},null,null,105.69127628532068,null,null,null,null,0,0,null,null,null,null,null,null,0,-45.831600000000002,null,null,null,null,null,null,null,null,null,null,null,null,null,13.780000000000001,-8.34,0,{"$error":"#DIV/0!"},{"$error":"#DIV/0!"}]
[null,null,null,null,null,690,13.8,-36.1419,16.845703125,{"$f":"FOURIER!M692","v":0},{"$f":"FOURIER!N692","v":0},null,null,105.84467436410925,null,null,null,null,0,0,null,null,null,null,null,null,0,-36.1419,null,null,null,null,null,null,null,null,null,null,null,null,null,13.8,-8.0020000000000007,0,{"$error":"#DIV/0!"},{"$error":"#DIV/0!"}]
[null,null,null,null,null,691,13.82,-22.132300000000001,16.8701171875,{"$f":"FOURIER!M693","v":0},{"$f":"FOURIER!N693","v":0},null,null,105.99807244289781,null,null,null,null,0,0,null,null,null,null,null,null,0,-22.132300000000001,null,null,null,null,null,null,null,null,null,null,null,null,null,13.82,-7.6639999999999997,0,{"$error":"#DIV/0!"},{"$error":"#DIV/0!"}]
[null,null,null,null,null,692,13.84,-0.89290000000000003,16.89453125,{"$f":"FOURIER!M694","v":0},{"$f":"FOURIER!N694","v":0},null,null,106.15147052168638,null,null,null,null,0,0,null,null,null,null,null,null,0,-0.89290000000000003,null,null,null,null,null,null,null,null,null,null,null,null,null,13.84,-7.32,0,{"$error":"#DIV/0!"},{"$error":"#DIV/0!"}]
[null,null,null,null,null,693,13.86,9.1867999999999999,16.9189453125,{"$f":"FOURIER!M695","v":0},{"$f":"FOURIER!N695","v":0},null,null,106.30486860047493,null,null,null,null,0,0,null,null,null,null,null,null,0,9.1867999999999999,null,null,null,null,null,null,null,null,null,null,null,null,null,13.86,-6.9640000000000004,0,{"$error":"#DIV/0!"},{"$error":"#DIV/0!"}]
[null,null,null,null,null,694,13.88,-3.3229000000000002,16.943359375,{"$f":"FOURIER!M696","v":0},{"$f":"FOURIER!N696","v":0},null,null,106.4582666792635,null,null,null,null,0,0,null,null,null,null,null,null,0,-3.3229000000000002,null,null,null,null,null,null,null,null,null,null,null,null,null,13.88,-6.593,0,{"$error":"#DIV/0!"},{"$error":"#DIV/0!"}]
[null,null,null,null,null,695,13.9,-27.022099999999998,16.9677734375,{"$f":"FOURIER!M697","v":0},{"$f":"FOURIER!N697","v":0},null,null,106.61166475805207,null,null,null,null,0,0,null,null,null,null,null,null,0,-27.022099999999998,null,null,null,null,null,null,null,null,null,null,null,null,null,13.9,-6.2110000000000003,0,{"$error":"#DIV/0!"},{"$error":"#DIV/0!"}]
[null,null,null,null,null,696,13.92,-46.941499999999998,16.9921875,{"$f":"FOURIER!M698","v":0},{"$f":"FOURIER!N698","v":0},null,null,106.76506283684063,null,null,null,null,0,0,null,null,null,null,null,null,0,-46.941499999999998,null,null,null,null,null,null,null,null,null,null,null,null,null,13.92,-5.83,0,{"$error":"#DIV/0!"},{"$error":"#DIV/0!"}]
[null,null,null,null,null,697,13.94,-56.661200000000001,17.0166015625,{"$f":"FOURIER!M699","v":0},{"$f":"FOURIER!N699","v":0},null,null,106.9184609156292,null,null,null,null,0,0,null,null,null,null,null,null,0,-56.661200000000001,null,null,null,null,null,null,null,null,null,null,null,null,null,13.94,-5.4560000000000004,0,{"$error":"#DIV/0!"},{"$error":"#DIV/0!"}]
[null,null,null,null,null,698,13.96,-62.390999999999998,17.041015625,{"$f":"FOURIER!M700","v":0},{"$f":"FOURIER!N700","v":0},null,null,107.07185899441775,null,null,null,null,0,0,null,null,null,null,null,null,0,-62.390999999999998,null,null,null,null,null,null,null,null,null,null,null,null,null,13.96,-5.0960000000000001,0,{"$error":"#DIV/0!"},{"$error":"#DIV/0!"}]
[null,null,null,null,null,699,13.98,-69.290800000000004,17.0654296875,{"$f":"FOURIER!M701","v":0},{"$f":"FOURIER!N701","v":0},null,null,107.22525707320632,null,null,null,null,0,0,null,null,null,null,null,null,0,-69.290800000000004,null,null,null,null,null,null,null,null,null,null,null,null,null,13.98,-4.7519999999999998,0,{"$error":"#DIV/0!"},{"$error":"#DIV/0!"}]
[null,null,null,null,null,700,14,-75.680599999999998,17.08984375,{"$f":"FOURIER!M702","v":0},{"$f":"FOURIER!N702","v":0},null,null,107.37865515199489,null,null,null,null,0,0,null,null,null,null,null,null,0,-75.680599999999998,null,null,null,null,null,null,null,null,null,null,null,null,null,14,-4.4279999999999999,0,{"$error":"#DIV/0!"},{"$error":"#DIV/0!"}]
[null,null,null,null,null,701,14.02,-83.150400000000005,17.1142578125,{"$f":"FOURIER!M703","v":0},{"$f":"FOURIER!N703","v":0},null,null,107.53205323078345,null,null,null,null,0,0,null,null,null,null,null,null,0,-83.150400000000005,null,null,null,null,null,null,null,null,null,null,null,null,null,14.02,-4.1260000000000003,0,{"$error":"#DIV/0!"},{"$error":"#DIV/0!"}]
[null,null,null,null,null,702,14.040000000000001,-83.8703,17.138671875,{"$f":"FOURIER!M704","v":0},{"$f":"FOURIER!N704","v":0},null,null,107.68545130957202,null,null,null,null,0,0,null,null,null,null,null,null,0,-83.8703,null,null,null,null,null,null,null,null,null,null,null,null,null,14.040000000000001,-3.85,0,{"$error":"#DIV/0!"},{"$error":"#DIV/0!"}]
[null,null,null,null,null,703,14.06,-69.380799999999994,17.1630859375,{"$f":"FOURIER!M705","v":0},{"$f":"FOURIER!N705","v":0},null,null,107.83884938836059,null,null,null,null,0,0,null,null,null,null,null,null,0,-69.380799999999994,null,null,null,null,null,null,null,null,null,null,null,null,null,14.06,-3.601,0,{"$error":"#DIV/0!"},{"$error":"#DIV/0!"}]
[null,null,null,null,null,704,14.08,-43.941600000000001,17.1875,{"$f":"FOURIER!M706","v":0},{"$f":"FOURIER!N706","v":0},null,null,{"$f":"2*PI()/B$9/B$6*F706","v":107.99224746714914},null,null,null,null,{"$f":"J706*O706-K706*P706","v":0},{"$f":"J706*P706+K706*O706","v":0},null,null,null,null,null,null,0,-43.941600000000001,null,null,null,null,null,null,null,null,null,null,null,null,null,{"$f":"G706","v":14.08},-3.3719999999999999,0,{"$error":"#DIV/0!"},{"$error":"#DIV/0!"}]
[null,null,null,null,null,705,{"$f":"B$6*F707","v":14.1},-14.692500000000001,{"$f":"F707/B$9/B$6","v":17.2119140625},{"$f":"FOURIER!M707","v":0},{"$f":"FOURIER!N707","v":0},null,null,108.14564554593771,null,null,null,null,0,0,null,null,null,null,null,null,{"$f":"(Y707-Y706)/B$6","v":0},{"$f":"(AA707-AA706)/B$6+H707","v":-14.692500000000001},null,null,null,null,null,null,null,null,null,null,null,null,null,14.1,-3.1560000000000001,0,{"$f":"(AQ707-AQ706)/O$6","v":{"$error":"#DIV/0!"}},{"$f":"(AS707-AS706)/O$6+S707","v":{"$error":"#DIV/0!"}}]
[null,null,null,null,null,706,14.120000000000001,18.576499999999999,17.236328125,{"$f":"FOURIER!M708","v":0},{"$f":"FOURIER!N708","v":0},null,null,108.29904362472627,null,null,null,null,0,0,null,null,null,null,null,null,0,18.576499999999999,null,null,null,null,null,null,null,null,null,null,null,null,null,14.120000000000001,-2.9390000000000001,0,{"$error":"#DIV/0!"},{"$error":"#DIV/0!"}]
[null,null,null,null,null,707,14.14,54.755400000000002,17.2607421875,{"$f":"FOURIER!M709","v":0},{"$f":"FOURIER!N709","v":0},null,null,108.45244170351484,null,null,null,null,0,0,null,null,null,null,null,null,0,54.755400000000002,null,null,null,null,null,null,null,null,null,null,null,null,null,14.14,-2.71,0,{"$error":"#DIV/0!"},{"$error":"#DIV/0!"}]
[null,null,null,null,null,708,14.16,89.434399999999997,17.28515625,{"$f":"FOURIER!M710","v":0},{"$f":"FOURIER!N710","v":0},null,null,108.60583978230341,null,null,null,null,0,0,null,null,null,null,null,null,0,89.434399999999997,null,null,null,null,null,null,null,null,null,null,null,null,null,14.16,-2.4550000000000001,0,{"$error":"#DIV/0!"},{"$error":"#DIV/0!"}]
[null,null,null,null,null,709,14.18,124.7433,17.3095703125,{"$f":"FOURIER!M711","v":0},{"$f":"FOURIER!N711","v":0},null,null,108.75923786109196,null,null,null,null,0,0,null,null,null,null,null,null,0,124.7433,null,null,null,null,null,null,null,null,null,null,null,null,null,14.18,-2.16,0,{"$error":"#DIV/0!"},{"$error":"#DIV/0!"}]
[null,null,null,null,null,710,14.200000000000001,156.9023,17.333984375,{"$f":"FOURIER!M712","v":0},{"$f":"FOURIER!N712","v":0},null,null,108.91263593988053,null,null,null,null,0,0,null,null,null,null,null,null,0,156.9023,null,null,null,null,null,null,null,null,null,null,null,null,null,14.200000000000001,-1.8120000000000001,0,{"$error":"#DIV/0!"},{"$error":"#DIV/0!"}]
[null,null,null,null,null,711,14.22,172.98179999999999,17.3583984375,{"$f":"FOURIER!M713","v":0},{"$f":"FOURIER!N713","v":0},null,null,109.06603401866909,null,null,null,null,0,0,null,null,null,null,null,null,0,172.98179999999999,null,null,null,null,null,null,null,null,null,null,null,null,null,14.22,-1.4,0,{"$error":"#DIV/0!"},{"$error":"#DIV/0!"}]
[null,null,null,null,null,712,14.24,175.80170000000001,17.3828125,{"$f":"FOURIER!M714","v":0},{"$f":"FOURIER!N714","v":0},null,null,109.21943209745766,null,null,null,null,0,0,null,null,null,null,null,null,0,175.80170000000001,null,null,null,null,null,null,null,null,null,null,null,null,null,14.24,-0.91800000000000004,0,{"$error":"#DIV/0!"},{"$error":"#DIV/0!"}]
[null,null,null,null,null,713,14.26,178.14169999999999,17.4072265625,{"$f":"FOURIER!M715","v":0},{"$f":"FOURIER!N715","v":0},null,null,109.37283017624623,null,null,null,null,0,0,null,null,null,null,null,null,0,178.14169999999999,null,null,null,null,null,null,null,null,null,null,null,null,null,14.26,-0.36599999999999999,0,{"$error":"#DIV/0!"},{"$error":"#DIV/0!"}]
[null,null,null,null,null,714,14.280000000000001,178.86170000000001,17.431640625,{"$f":"FOURIER!M716","v":0},{"$f":"FOURIER!N716","v":0},null,null,109.52622825503478,null,null,null,null,0,0,null,null,null,null,null,null,0,178.86170000000001,null,null,null,null,null,null,null,null,null,null,null,null,null,14.280000000000001,0.255,0,{"$error":"#DIV/0!"},{"$error":"#DIV/0!"}]
[null,null,null,null,null,715,14.3,163.56209999999999,17.4560546875,{"$f":"FOURIER!M717","v":0},{"$f":"FOURIER!N717","v":0},null,null,109.67962633382335,null,null,null,null,0,0,null,null,null,null,null,null,0,163.56209999999999,null,null,null,null,null,null,null,null,null,null,null,null,null,14.3,0.94499999999999995,0,{"$error":"#DIV/0!"},{"$error":"#DIV/0!"}]
[null,null,null,null,null,716,14.32,130.47309999999999,17.48046875,{"$f":"FOURIER!M718","v":0},{"$f":"FOURIER!N718","v":0},null,null,109.83302441261192,null,null,null,null,0,0,null,null,null,null,null,null,0,130.47309999999999,null,null,null,null,null,null,null,null,null,null,null,null,null,14.32,1.6950000000000001,0,{"$error":"#DIV/0!"},{"$error":"#DIV/0!"}]
[null,null,null,null,null,717,14.34,93.934299999999993,17.5048828125,{"$f":"FOURIER!M719","v":0},{"$f":"FOURIER!N719","v":0},null,null,109.98642249140048,null,null,null,null,0,0,null,null,null,null,null,null,0,93.934299999999993,null,null,null,null,null,null,null,null,null,null,null,null,null,14.34,2.4900000000000002,0,{"$error":"#DIV/0!"},{"$error":"#DIV/0!"}]
[null,null,null,null,null,718,14.36,60.485300000000002,17.529296875,{"$f":"FOURIER!M720","v":0},{"$f":"FOURIER!N720","v":0},null,null,110.13982057018904,null,null,null,null,0,0,null,null,null,null,null,null,0,60.485300000000002,null,null,null,null,null,null,null,null,null,null,null,null,null,14.36,3.3149999999999999,0,{"$error":"#DIV/0!"},{"$error":"#DIV/0!"}]
[null,null,null,null,null,719,14.38,26.706299999999999,17.5537109375,{"$f":"FOURIER!M721","v":0},{"$f":"FOURIER!N721","v":0},null,null,110.2932186489776,null,null,null,null,0,0,null,null,null,null,null,null,0,26.706299999999999,null,null,null,null,null,null,null,null,null,null,null,null,null,14.38,4.1539999999999999,0,{"$error":"#DIV/0!"},{"$error":"#DIV/0!"}]
[null,null,null,null,null,720,14.4,-6.1125999999999996,17.578125,{"$f":"FOURIER!M722","v":0},{"$f":"FOURIER!N722","v":0},null,null,110.44661672776617,null,null,null,null,0,0,null,null,null,null,null,null,0,-6.1125999999999996,null,null,null,null,null,null,null,null,null,null,null,null,null,14.4,4.992,0,{"$error":"#DIV/0!"},{"$error":"#DIV/0!"}]
[null,null,null,null,null,721,14.42,-33.0518,17.6025390625,{"$f":"FOURIER!M723","v":0},{"$f":"FOURIER!N723","v":0},null,null,110.60001480655474,null,null,null,null,0,0,null,null,null,null,null,null,0,-33.0518,null,null,null,null,null,null,null,null,null,null,null,null,null,14.42,5.8150000000000004,0,{"$error":"#DIV/0!"},{"$error":"#DIV/0!"}]
[null,null,null,null,null,722,14.44,-48.741300000000003,17.626953125,{"$f":"FOURIER!M724","v":0},{"$f":"FOURIER!N724","v":0},null,null,110.75341288534329,null,null,null,null,0,0,null,null,null,null,null,null,0,-48.741300000000003,null,null,null,null,null,null,null,null,null,null,null,null,null,14.44,6.61,0,{"$error":"#DIV/0!"},{"$error":"#DIV/0!"}]
[null,null,null,null,null,723,14.46,-55.491100000000003,17.6513671875,{"$f":"FOURIER!M725","v":0},{"$f":"FOURIER!N725","v":0},null,null,110.90681096413186,null,null,null,null,0,0,null,null,null,null,null,null,0,-55.491100000000003,null,null,null,null,null,null,null,null,null,null,null,null,null,14.46,7.3689999999999998,0,{"$error":"#DIV/0!"},{"$error":"#DIV/0!"}]
[null,null,null,null,null,724,14.48,-55.521099999999997,17.67578125,{"$f":"FOURIER!M726","v":0},{"$f":"FOURIER!N726","v":0},null,null,111.06020904292042,null,null,null,null,0,0,null,null,null,null,null,null,0,-55.521099999999997,null,null,null,null,null,null,null,null,null,null,null,null,null,14.48,8.0890000000000004,0,{"$error":"#DIV/0!"},{"$error":"#DIV/0!"}]
[null,null,null,null,null,725,14.5,-48.261299999999999,17.7001953125,{"$f":"FOURIER!M727","v":0},{"$f":"FOURIER!N727","v":0},null,null,111.21360712170899,null,null,null,null,0,0,null,null,null,null,null,null,0,-48.261299999999999,null,null,null,null,null,null,null,null,null,null,null,null,null,14.5,8.7669999999999995,0,{"$error":"#DIV/0!"},{"$error":"#DIV/0!"}]
[null,null,null,null,null,726,14.52,-40.011600000000001,17.724609375,{"$f":"FOURIER!M728","v":0},{"$f":"FOURIER!N728","v":0},null,null,111.36700520049756,null,null,null,null,0,0,null,null,null,null,null,null,0,-40.011600000000001,null,null,null,null,null,null,null,null,null,null,null,null,null,14.52,9.407,0,{"$error":"#DIV/0!"},{"$error":"#DIV/0!"}]
[null,null,null,null,null,727,14.540000000000001,-32.661799999999999,17.7490234375,{"$f":"FOURIER!M729","v":0},{"$f":"FOURIER!N729","v":0},null,null,111.52040327928611,null,null,null,null,0,0,null,null,null,null,null,null,0,-32.661799999999999,null,null,null,null,null,null,null,null,null,null,null,null,null,14.540000000000001,10.007999999999999,0,{"$error":"#DIV/0!"},{"$error":"#DIV/0!"}]
[null,null,null,null,null,728,14.56,-20.542200000000001,17.7734375,{"$f":"FOURIER!M730","v":0},{"$f":"FOURIER!N730","v":0},null,null,111.67380135807468,null,null,null,null,0,0,null,null,null,null,null,null,0,-20.542200000000001,null,null,null,null,null,null,null,null,null,null,null,null,null,14.56,10.574999999999999,0,{"$error":"#DIV/0!"},{"$error":"#DIV/0!"}]
[null,null,null,null,null,729,14.58,-9.4725000000000001,17.7978515625,{"$f":"FOURIER!M731","v":0},{"$f":"FOURIER!N731","v":0},null,null,111.82719943686325,null,null,null,null,0,0,null,null,null,null,null,null,0,-9.4725000000000001,null,null,null,null,null,null,null,null,null,null,null,null,null,14.58,11.11,0,{"$error":"#DIV/0!"},{"$error":"#DIV/0!"}]
[null,null,null,null,null,730,14.6,-13.4024,17.822265625,{"$f":"FOURIER!M732","v":0},{"$f":"FOURIER!N732","v":0},null,null,111.98059751565181,null,null,null,null,0,0,null,null,null,null,null,null,0,-13.4024,null,null,null,null,null,null,null,null,null,null,null,null,null,14.6,11.616,0,{"$error":"#DIV/0!"},{"$error":"#DIV/0!"}]
[null,null,null,null,null,731,14.620000000000001,-22.162099999999999,17.8466796875,{"$f":"FOURIER!M733","v":0},{"$f":"FOURIER!N733","v":0},null,null,112.13399559444038,null,null,null,null,0,0,null,null,null,null,null,null,0,-22.162099999999999,null,null,null,null,null,null,null,null,null,null,null,null,null,14.620000000000001,12.092000000000001,0,{"$error":"#DIV/0!"},{"$error":"#DIV/0!"}]
[null,null,null,null,null,732,14.64,-22.522099999999998,17.87109375,{"$f":"FOURIER!M734","v":0},{"$f":"FOURIER!N734","v":0},null,null,112.28739367322893,null,null,null,null,0,0,null,null,null,null,null,null,0,-22.522099999999998,null,null,null,null,null,null,null,null,null,null,null,null,null,14.64,12.532999999999999,0,{"$error":"#DIV/0!"},{"$error":"#DIV/0!"}]
[null,null,null,null,null,733,14.66,-23.481999999999999,17.8955078125,{"$f":"FOURIER!M735","v":0},{"$f":"FOURIER!N735","v":0},null,null,112.4407917520175,null,null,null,null,0,0,null,null,null,null,null,null,0,-23.481999999999999,null,null,null,null,null,null,null,null,null,null,null,null,null,14.66,12.938000000000001,0,{"$error":"#DIV/0!"},{"$error":"#DIV/0!"}]
[null,null,null,null,null,734,14.68,-35.061700000000002,17.919921875,{"$f":"FOURIER!M736","v":0},{"$f":"FOURIER!N736","v":0},null,null,112.59418983080607,null,null,null,null,0,0,null,null,null,null,null,null,0,-35.061700000000002,null,null,null,null,null,null,null,null,null,null,null,null,null,14.68,13.305,0,{"$error":"#DIV/0!"},{"$error":"#DIV/0!"}]
[null,null,null,null,null,735,14.700000000000001,-46.251300000000001,17.9443359375,{"$f":"FOURIER!M737","v":0},{"$f":"FOURIER!N737","v":0},null,null,112.74758790959463,null,null,null,null,0,0,null,null,null,null,null,null,0,-46.251300000000001,null,null,null,null,null,null,null,null,null,null,null,null,null,14.700000000000001,13.631,0,{"$error":"#DIV/0!"},{"$error":"#DIV/0!"}]
[null,null,null,null,null,736,14.72,-43.821399999999997,17.96875,{"$f":"FOURIER!M738","v":0},{"$f":"FOURIER!N738","v":0},null,null,112.9009859883832,null,null,null,null,0,0,null,null,null,null,null,null,0,-43.821399999999997,null,null,null,null,null,null,null,null,null,null,null,null,null,14.72,13.911,0,{"$error":"#DIV/0!"},{"$error":"#DIV/0!"}]
[null,null,null,null,null,737,14.74,-31.701799999999999,17.9931640625,{"$f":"FOURIER!M739","v":0},{"$f":"FOURIER!N739","v":0},null,null,113.05438406717175,null,null,null,null,0,0,null,null,null,null,null,null,0,-31.701799999999999,null,null,null,null,null,null,null,null,null,null,null,null,null,14.74,14.144,0,{"$error":"#DIV/0!"},{"$error":"#DIV/0!"}]
[null,null,null,null,null,738,14.76,-24.771999999999998,18.017578125,{"$f":"FOURIER!M740","v":0},{"$f":"FOURIER!N740","v":0},null,null,113.20778214596032,null,null,null,null,0,0,null,null,null,null,null,null,0,-24.771999999999998,null,null,null,null,null,null,null,null,null,null,null,null,null,14.76,14.335000000000001,0,{"$error":"#DIV/0!"},{"$error":"#DIV/0!"}]
[null,null,null,null,null,739,14.780000000000001,-25.492000000000001,18.0419921875,{"$f":"FOURIER!M741","v":0},{"$f":"FOURIER!N741","v":0},null,null,113.36118022474889,null,null,null,null,0,0,null,null,null,null,null,null,0,-25.492000000000001,null,null,null,null,null,null,null,null,null,null,null,null,null,14.780000000000001,14.487,0,{"$error":"#DIV/0!"},{"$error":"#DIV/0!"}]
[null,null,null,null,null,740,14.8,-11.932399999999999,18.06640625,{"$f":"FOURIER!M742","v":0},{"$f":"FOURIER!N742","v":0},null,null,113.51457830353745,null,null,null,null,0,0,null,null,null,null,null,null,0,-11.932399999999999,null,null,null,null,null,null,null,null,null,null,null,null,null,14.8,14.599,0,{"$error":"#DIV/0!"},{"$error":"#DIV/0!"}]
[null,null,null,null,null,741,14.82,24.7865,18.0908203125,{"$f":"FOURIER!M743","v":0},{"$f":"FOURIER!N743","v":0},null,null,113.66797638232602,null,null,null,null,0,0,null,null,null,null,null,null,0,24.7865,null,null,null,null,null,null,null,null,null,null,null,null,null,14.82,14.678000000000001,0,{"$error":"#DIV/0!"},{"$error":"#DIV/0!"}]
[null,null,null,null,null,742,14.84,67.4452,18.115234375,{"$f":"FOURIER!M744","v":0},{"$f":"FOURIER!N744","v":0},null,null,113.82137446111459,null,null,null,null,0,0,null,null,null,null,null,null,0,67.4452,null,null,null,null,null,null,null,null,null,null,null,null,null,14.84,14.737,0,{"$error":"#DIV/0!"},{"$error":"#DIV/0!"}]
[null,null,null,null,null,743,14.86,97.894300000000001,18.1396484375,{"$f":"FOURIER!M745","v":0},{"$f":"FOURIER!N745","v":0},null,null,113.97477253990314,null,null,null,null,0,0,null,null,null,null,null,null,0,97.894300000000001,null,null,null,null,null,null,null,null,null,null,null,null,null,14.86,14.792999999999999,0,{"$error":"#DIV/0!"},{"$error":"#DIV/0!"}]
[null,null,null,null,null,744,14.88,116.4637,18.1640625,{"$f":"FOURIER!M746","v":0},{"$f":"FOURIER!N746","v":0},null,null,114.12817061869171,null,null,null,null,0,0,null,null,null,null,null,null,0,116.4637,null,null,null,null,null,null,null,null,null,null,null,null,null,14.88,14.858000000000001,0,{"$error":"#DIV/0!"},{"$error":"#DIV/0!"}]
[null,null,null,null,null,745,14.9,126.5134,18.1884765625,{"$f":"FOURIER!M747","v":0},{"$f":"FOURIER!N747","v":0},null,null,114.28156869748027,null,null,null,null,0,0,null,null,null,null,null,null,0,126.5134,null,null,null,null,null,null,null,null,null,null,null,null,null,14.9,14.939,0,{"$error":"#DIV/0!"},{"$error":"#DIV/0!"}]
[null,null,null,null,null,746,14.92,121.2936,18.212890625,{"$f":"FOURIER!M748","v":0},{"$f":"FOURIER!N748","v":0},null,null,114.43496677626884,null,null,null,null,0,0,null,null,null,null,null,null,0,121.2936,null,null,null,null,null,null,null,null,null,null,null,null,null,14.92,15.041,0,{"$error":"#DIV/0!"},{"$error":"#DIV/0!"}]
[null,null,null,null,null,747,14.94,100.8342,18.2373046875,{"$f":"FOURIER!M749","v":0},{"$f":"FOURIER!N749","v":0},null,null,114.58836485505741,null,null,null,null,0,0,null,null,null,null,null,null,0,100.8342,null,null,null,null,null,null,null,null,null,null,null,null,null,14.94,15.159000000000001,0,{"$error":"#DIV/0!"},{"$error":"#DIV/0!"}]
[null,null,null,null,null,748,14.96,69.935199999999995,18.26171875,{"$f":"FOURIER!M750","v":0},{"$f":"FOURIER!N750","v":0},null,null,114.74176293384596,null,null,null,null,0,0,null,null,null,null,null,null,0,69.935199999999995,null,null,null,null,null,null,null,null,null,null,null,null,null,14.96,15.287000000000001,0,{"$error":"#DIV/0!"},{"$error":"#DIV/0!"}]
[null,null,null,null,null,749,14.98,31.176400000000001,18.2861328125,{"$f":"FOURIER!M751","v":0},{"$f":"FOURIER!N751","v":0},null,null,114.89516101263453,null,null,null,null,0,0,null,null,null,null,null,null,0,31.176400000000001,null,null,null,null,null,null,null,null,null,null,null,null,null,14.98,15.412000000000001,0,{"$error":"#DIV/0!"},{"$error":"#DIV/0!"}]
[null,null,null,null,null,750,15,-6.5025000000000004,18.310546875,{"$f":"FOURIER!M752","v":0},{"$f":"FOURIER!N752","v":0},null,null,115.04855909142309,null,null,null,null,0,0,null,null,null,null,null,null,0,-6.5025000000000004,null,null,null,null,null,null,null,null,null,null,null,null,null,15,15.516999999999999,0,{"$error":"#DIV/0!"},{"$error":"#DIV/0!"}]
[null,null,null,null,null,751,15.02,-34.551600000000001,18.3349609375,{"$f":"FOURIER!M753","v":0},{"$f":"FOURIER!N753","v":0},null,null,115.20195717021166,null,null,null,null,0,0,null,null,null,null,null,null,0,-34.551600000000001,null,null,null,null,null,null,null,null,null,null,null,null,null,15.02,15.589,0,{"$error":"#DIV/0!"},{"$error":"#DIV/0!"}]
[null,null,null,null,null,752,15.040000000000001,-56.570900000000002,18.359375,{"$f":"FOURIER!M754","v":0},{"$f":"FOURIER!N754","v":0},null,null,115.35535524900023,null,null,null,null,0,0,null,null,null,null,null,null,0,-56.570900000000002,null,null,null,null,null,null,null,null,null,null,null,null,null,15.040000000000001,15.616,0,{"$error":"#DIV/0!"},{"$error":"#DIV/0!"}]
[null,null,null,null,null,753,15.06,-79.370199999999997,18.3837890625,{"$f":"FOURIER!M755","v":0},{"$f":"FOURIER!N755","v":0},null,null,115.50875332778878,null,null,null,null,0,0,null,null,null,null,null,null,0,-79.370199999999997,null,null,null,null,null,null,null,null,null,null,null,null,null,15.06,15.589,0,{"$error":"#DIV/0!"},{"$error":"#DIV/0!"}]
[null,null,null,null,null,754,15.08,-98.449600000000004,18.408203125,{"$f":"FOURIER!M756","v":0},{"$f":"FOURIER!N756","v":0},null,null,115.66215140657735,null,null,null,null,0,0,null,null,null,null,null,null,0,-98.449600000000004,null,null,null,null,null,null,null,null,null,null,null,null,null,15.08,15.5,0,{"$error":"#DIV/0!"},{"$error":"#DIV/0!"}]
[null,null,null,null,null,755,15.1,-103.64,18.4326171875,{"$f":"FOURIER!M757","v":0},{"$f":"FOURIER!N757","v":0},null,null,115.81554948536592,null,null,null,null,0,0,null,null,null,null,null,null,0,-103.64,null,null,null,null,null,null,null,null,null,null,null,null,null,15.1,15.340999999999999,0,{"$error":"#DIV/0!"},{"$error":"#DIV/0!"}]
[null,null,null,null,null,756,15.120000000000001,-93.2898,18.45703125,{"$f":"FOURIER!M758","v":0},{"$f":"FOURIER!N758","v":0},null,null,115.96894756415448,null,null,null,null,0,0,null,null,null,null,null,null,0,-93.2898,null,null,null,null,null,null,null,null,null,null,null,null,null,15.120000000000001,15.111000000000001,0,{"$error":"#DIV/0!"},{"$error":"#DIV/0!"}]
[null,null,null,null,null,757,15.14,-72.230400000000003,18.4814453125,{"$f":"FOURIER!M759","v":0},{"$f":"FOURIER!N759","v":0},null,null,116.12234564294305,null,null,null,null,0,0,null,null,null,null,null,null,0,-72.230400000000003,null,null,null,null,null,null,null,null,null,null,null,null,null,15.14,14.815,0,{"$error":"#DIV/0!"},{"$error":"#DIV/0!"}]
[null,null,null,null,null,758,15.16,-46.281199999999998,18.505859375,{"$f":"FOURIER!M760","v":0},{"$f":"FOURIER!N760","v":0},null,null,116.2757437217316,null,null,null,null,0,0,null,null,null,null,null,null,0,-46.281199999999998,null,null,null,null,null,null,null,null,null,null,null,null,null,15.16,14.461,0,{"$error":"#DIV/0!"},{"$error":"#DIV/0!"}]
[null,null,null,null,null,759,15.18,-14.3322,18.5302734375,{"$f":"FOURIER!M761","v":0},{"$f":"FOURIER!N761","v":0},null,null,116.42914180052017,null,null,null,null,0,0,null,null,null,null,null,null,0,-14.3322,null,null,null,null,null,null,null,null,null,null,null,null,null,15.18,14.061999999999999,0,{"$error":"#DIV/0!"},{"$error":"#DIV/0!"}]
[null,null,null,null,null,760,15.200000000000001,18.636800000000001,18.5546875,{"$f":"FOURIER!M762","v":0},{"$f":"FOURIER!N762","v":0},null,null,116.58253987930874,null,null,null,null,0,0,null,null,null,null,null,null,0,18.636800000000001,null,null,null,null,null,null,null,null,null,null,null,null,null,15.200000000000001,13.631,0,{"$error":"#DIV/0!"},{"$error":"#DIV/0!"}]
[null,null,null,null,null,761,15.22,46.565899999999999,18.5791015625,{"$f":"FOURIER!M763","v":0},{"$f":"FOURIER!N763","v":0},null,null,116.7359379580973,null,null,null,null,0,0,null,null,null,null,null,null,0,46.565899999999999,null,null,null,null,null,null,null,null,null,null,null,null,null,15.22,13.182,0,{"$error":"#DIV/0!"},{"$error":"#DIV/0!"}]
[null,null,null,null,null,762,15.24,66.785300000000007,18.603515625,{"$f":"FOURIER!M764","v":0},{"$f":"FOURIER!N764","v":0},null,null,116.88933603688587,null,null,null,null,0,0,null,null,null,null,null,null,0,66.785300000000007,null,null,null,null,null,null,null,null,null,null,null,null,null,15.24,12.726000000000001,0,{"$error":"#DIV/0!"},{"$error":"#DIV/0!"}]
[null,null,null,null,null,763,15.26,74.885099999999994,18.6279296875,{"$f":"FOURIER!M765","v":0},{"$f":"FOURIER!N765","v":0},null,null,117.04273411567442,null,null,null,null,0,0,null,null,null,null,null,null,0,74.885099999999994,null,null,null,null,null,null,null,null,null,null,null,null,null,15.26,12.273,0,{"$error":"#DIV/0!"},{"$error":"#DIV/0!"}]
[null,null,null,null,null,764,15.280000000000001,77.734999999999999,18.65234375,{"$f":"FOURIER!M766","v":0},{"$f":"FOURIER!N766","v":0},null,null,117.19613219446299,null,null,null,null,0,0,null,null,null,null,null,null,0,77.734999999999999,null,null,null,null,null,null,null,null,null,null,null,null,null,15.280000000000001,11.827,0,{"$error":"#DIV/0!"},{"$error":"#DIV/0!"}]
[null,null,null,null,null,765,15.3,84.634799999999998,18.6767578125,{"$f":"FOURIER!M767","v":0},{"$f":"FOURIER!N767","v":0},null,null,117.34953027325156,null,null,null,null,0,0,null,null,null,null,null,null,0,84.634799999999998,null,null,null,null,null,null,null,null,null,null,null,null,null,15.3,11.391,0,{"$error":"#DIV/0!"},{"$error":"#DIV/0!"}]
[null,null,null,null,null,766,15.32,88.174700000000001,18.701171875,{"$f":"FOURIER!M768","v":0},{"$f":"FOURIER!N768","v":0},null,null,117.50292835204012,null,null,null,null,0,0,null,null,null,null,null,null,0,88.174700000000001,null,null,null,null,null,null,null,null,null,null,null,null,null,15.32,10.967000000000001,0,{"$error":"#DIV/0!"},{"$error":"#DIV/0!"}]
[null,null,null,null,null,767,15.34,77.885000000000005,18.7255859375,{"$f":"FOURIER!M769","v":0},{"$f":"FOURIER!N769","v":0},null,null,117.65632643082868,null,null,null,null,0,0,null,null,null,null,null,null,0,77.885000000000005,null,null,null,null,null,null,null,null,null,null,null,null,null,15.34,10.558,0,{"$error":"#DIV/0!"},{"$error":"#DIV/0!"}]
[null,null,null,null,null,768,15.36,60.275599999999997,18.75,{"$f":"FOURIER!M770","v":0},{"$f":"FOURIER!N770","v":0},null,null,{"$f":"2*PI()/B$9/B$6*F770","v":117.80972450961724},null,null,null,null,{"$f":"J770*O770-K770*P770","v":0},{"$f":"J770*P770+K770*O770","v":0},null,null,null,null,null,null,0,60.275599999999997,null,null,null,null,null,null,null,null,null,null,null,null,null,{"$f":"G770","v":15.36},10.16,0,{"$error":"#DIV/0!"},{"$error":"#DIV/0!"}]
[null,null,null,null,null,769,{"$f":"B$6*F771","v":15.38},45.875999999999998,{"$f":"F771/B$9/B$6","v":18.7744140625},{"$f":"FOURIER!M771","v":0},{"$f":"FOURIER!N771","v":0},null,null,117.96312258840581,null,null,null,null,0,0,null,null,null,null,null,null,{"$f":"(Y771-Y770)/B$6","v":0},{"$f":"(AA771-AA770)/B$6+H771","v":45.875999999999998},null,null,null,null,null,null,null,null,null,null,null,null,null,15.38,9.7669999999999995,0,{"$f":"(AQ771-AQ770)/O$6","v":{"$error":"#DIV/0!"}},{"$f":"(AS771-AS770)/O$6+S771","v":{"$error":"#DIV/0!"}}]
[null,null,null,null,null,770,15.4,35.616300000000003,18.798828125,{"$f":"FOURIER!M772","v":0},{"$f":"FOURIER!N772","v":0},null,null,118.11652066719438,null,null,null,null,0,0,null,null,null,null,null,null,0,35.616300000000003,null,null,null,null,null,null,null,null,null,null,null,null,null,15.4,9.375,0,{"$error":"#DIV/0!"},{"$error":"#DIV/0!"}]
[null,null,null,null,null,771,15.42,29.586500000000001,18.8232421875,{"$f":"FOURIER!M773","v":0},{"$f":"FOURIER!N773","v":0},null,null,118.26991874598293,null,null,null,null,0,0,null,null,null,null,null,null,0,29.586500000000001,null,null,null,null,null,null,null,null,null,null,null,null,null,15.42,8.9809999999999999,0,{"$error":"#DIV/0!"},{"$error":"#DIV/0!"}]
[null,null,null,null,null,772,15.44,29.676500000000001,18.84765625,{"$f":"FOURIER!M774","v":0},{"$f":"FOURIER!N774","v":0},null,null,118.4233168247715,null,null,null,null,0,0,null,null,null,null,null,null,0,29.676500000000001,null,null,null,null,null,null,null,null,null,null,null,null,null,15.44,8.5820000000000007,0,{"$error":"#DIV/0!"},{"$error":"#DIV/0!"}]
[null,null,null,null,null,773,15.46,30.0365,18.8720703125,{"$f":"FOURIER!M775","v":0},{"$f":"FOURIER!N775","v":0},null,null,118.57671490356007,null,null,null,null,0,0,null,null,null,null,null,null,0,30.0365,null,null,null,null,null,null,null,null,null,null,null,null,null,15.46,8.1790000000000003,0,{"$error":"#DIV/0!"},{"$error":"#DIV/0!"}]
[null,null,null,null,null,774,15.48,20.826799999999999,18.896484375,{"$f":"FOURIER!M776","v":0},{"$f":"FOURIER!N776","v":0},null,null,118.73011298234863,null,null,null,null,0,0,null,null,null,null,null,null,0,20.826799999999999,null,null,null,null,null,null,null,null,null,null,null,null,null,15.48,7.7729999999999997,0,{"$error":"#DIV/0!"},{"$error":"#DIV/0!"}]
[null,null,null,null,null,775,15.5,7.1471999999999998,18.9208984375,{"$f":"FOURIER!M777","v":0},{"$f":"FOURIER!N777","v":0},null,null,118.8835110611372,null,null,null,null,0,0,null,null,null,null,null,null,0,7.1471999999999998,null,null,null,null,null,null,null,null,null,null,null,null,null,15.5,7.3620000000000001,0,{"$error":"#DIV/0!"},{"$error":"#DIV/0!"}]
[null,null,null,null,null,776,15.52,-0.71250000000000002,18.9453125,{"$f":"FOURIER!M778","v":0},{"$f":"FOURIER!N778","v":0},null,null,119.03690913992575,null,null,null,null,0,0,null,null,null,null,null,null,0,-0.71250000000000002,null,null,null,null,null,null,null,null,null,null,null,null,null,15.52,6.94,0,{"$error":"#DIV/0!"},{"$error":"#DIV/0!"}]
[null,null,null,null,null,777,15.540000000000001,-9.0222999999999995,18.9697265625,{"$f":"FOURIER!M779","v":0},{"$f":"FOURIER!N779","v":0},null,null,119.19030721871432,null,null,null,null,0,0,null,null,null,null,null,null,0,-9.0222999999999995,null,null,null,null,null,null,null,null,null,null,null,null,null,15.540000000000001,6.5060000000000002,0,{"$error":"#DIV/0!"},{"$error":"#DIV/0!"}]
[null,null,null,null,null,778,15.56,-21.741900000000001,18.994140625,{"$f":"FOURIER!M780","v":0},{"$f":"FOURIER!N780","v":0},null,null,119.34370529750289,null,null,null,null,0,0,null,null,null,null,null,null,0,-21.741900000000001,null,null,null,null,null,null,null,null,null,null,null,null,null,15.56,6.0570000000000004,0,{"$error":"#DIV/0!"},{"$error":"#DIV/0!"}]
[null,null,null,null,null,779,15.58,-32.601500000000001,19.0185546875,{"$f":"FOURIER!M781","v":0},{"$f":"FOURIER!N781","v":0},null,null,119.49710337629145,null,null,null,null,0,0,null,null,null,null,null,null,0,-32.601500000000001,null,null,null,null,null,null,null,null,null,null,null,null,null,15.58,5.5890000000000004,0,{"$error":"#DIV/0!"},{"$error":"#DIV/0!"}]
[null,null,null,null,null,780,15.6,-45.111199999999997,19.04296875,{"$f":"FOURIER!M782","v":0},{"$f":"FOURIER!N782","v":0},null,null,119.65050145508002,null,null,null,null,0,0,null,null,null,null,null,null,0,-45.111199999999997,null,null,null,null,null,null,null,null,null,null,null,null,null,15.6,5.0990000000000002,0,{"$error":"#DIV/0!"},{"$error":"#DIV/0!"}]
[null,null,null,null,null,781,15.620000000000001,-61.430700000000002,19.0673828125,{"$f":"FOURIER!M783","v":0},{"$f":"FOURIER!N783","v":0},null,null,119.80389953386857,null,null,null,null,0,0,null,null,null,null,null,null,0,-61.430700000000002,null,null,null,null,null,null,null,null,null,null,null,null,null,15.620000000000001,4.5819999999999999,0,{"$error":"#DIV/0!"},{"$error":"#DIV/0!"}]
[null,null,null,null,null,782,15.64,-74.1203,19.091796875,{"$f":"FOURIER!M784","v":0},{"$f":"FOURIER!N784","v":0},null,null,119.95729761265714,null,null,null,null,0,0,null,null,null,null,null,null,0,-74.1203,null,null,null,null,null,null,null,null,null,null,null,null,null,15.64,4.0339999999999998,0,{"$error":"#DIV/0!"},{"$error":"#DIV/0!"}]
[null,null,null,null,null,783,15.66,-82.67,19.1162109375,{"$f":"FOURIER!M785","v":0},{"$f":"FOURIER!N785","v":0},null,null,120.11069569144571,null,null,null,null,0,0,null,null,null,null,null,null,0,-82.67,null,null,null,null,null,null,null,null,null,null,null,null,null,15.66,3.45,0,{"$error":"#DIV/0!"},{"$error":"#DIV/0!"}]
[null,null,null,null,null,784,15.68,-80.150099999999995,19.140625,{"$f":"FOURIER!M786","v":0},{"$f":"FOURIER!N786","v":0},null,null,120.26409377023427,null,null,null,null,0,0,null,null,null,null,null,null,0,-80.150099999999995,null,null,null,null,null,null,null,null,null,null,null,null,null,15.68,2.83,0,{"$error":"#DIV/0!"},{"$error":"#DIV/0!"}]
[null,null,null,null,null,785,15.700000000000001,-56.840800000000002,19.1650390625,{"$f":"FOURIER!M787","v":0},{"$f":"FOURIER!N787","v":0},null,null,120.41749184902284,null,null,null,null,0,0,null,null,null,null,null,null,0,-56.840800000000002,null,null,null,null,null,null,null,null,null,null,null,null,null,15.700000000000001,2.1739999999999999,0,{"$error":"#DIV/0!"},{"$error":"#DIV/0!"}]
[null,null,null,null,null,786,15.72,-36.561399999999999,19.189453125,{"$f":"FOURIER!M788","v":0},{"$f":"FOURIER!N788","v":0},null,null,120.57088992781141,null,null,null,null,0,0,null,null,null,null,null,null,0,-36.561399999999999,null,null,null,null,null,null,null,null,null,null,null,null,null,15.72,1.4950000000000001,0,{"$error":"#DIV/0!"},{"$error":"#DIV/0!"}]
[null,null,null,null,null,787,15.74,-33.891500000000001,19.2138671875,{"$f":"FOURIER!M789","v":0},{"$f":"FOURIER!N789","v":0},null,null,120.72428800659996,null,null,null,null,0,0,null,null,null,null,null,null,0,-33.891500000000001,null,null,null,null,null,null,null,null,null,null,null,null,null,15.74,0.79900000000000004,0,{"$error":"#DIV/0!"},{"$error":"#DIV/0!"}]
[null,null,null,null,null,788,15.76,-31.3415,19.23828125,{"$f":"FOURIER!M790","v":0},{"$f":"FOURIER!N790","v":0},null,null,120.87768608538853,null,null,null,null,0,0,null,null,null,null,null,null,0,-31.3415,null,null,null,null,null,null,null,null,null,null,null,null,null,15.76,9.1999999999999998E-2,0,{"$error":"#DIV/0!"},{"$error":"#DIV/0!"}]
[null,null,null,null,null,789,15.780000000000001,-24.171800000000001,19.2626953125,{"$f":"FOURIER!M791","v":0},{"$f":"FOURIER!N791","v":0},null,null,121.03108416417709,null,null,null,null,0,0,null,null,null,null,null,null,0,-24.171800000000001,null,null,null,null,null,null,null,null,null,null,null,null,null,15.780000000000001,-0.626,0,{"$error":"#DIV/0!"},{"$error":"#DIV/0!"}]
[null,null,null,null,null,790,15.8,-17.361999999999998,19.287109375,{"$f":"FOURIER!M792","v":0},{"$f":"FOURIER!N792","v":0},null,null,121.18448224296566,null,null,null,null,0,0,null,null,null,null,null,null,0,-17.361999999999998,null,null,null,null,null,null,null,null,null,null,null,null,null,15.8,-1.349,0,{"$error":"#DIV/0!"},{"$error":"#DIV/0!"}]
[null,null,null,null,null,791,15.82,-14.481999999999999,19.3115234375,{"$f":"FOURIER!M793","v":0},{"$f":"FOURIER!N793","v":0},null,null,121.33788032175423,null,null,null,null,0,0,null,null,null,null,null,null,0,-14.481999999999999,null,null,null,null,null,null,null,null,null,null,null,null,null,15.82,-2.073,0,{"$error":"#DIV/0!"},{"$error":"#DIV/0!"}]
[null,null,null,null,null,792,15.84,-21.8918,19.3359375,{"$f":"FOURIER!M794","v":0},{"$f":"FOURIER!N794","v":0},null,null,121.49127840054278,null,null,null,null,0,0,null,null,null,null,null,null,0,-21.8918,null,null,null,null,null,null,null,null,null,null,null,null,null,15.84,-2.7970000000000002,0,{"$error":"#DIV/0!"},{"$error":"#DIV/0!"}]
[null,null,null,null,null,793,15.860000000000001,-33.141500000000001,19.3603515625,{"$f":"FOURIER!M795","v":0},{"$f":"FOURIER!N795","v":0},null,null,121.64467647933135,null,null,null,null,0,0,null,null,null,null,null,null,0,-33.141500000000001,null,null,null,null,null,null,null,null,null,null,null,null,null,15.860000000000001,-3.5209999999999999,0,{"$error":"#DIV/0!"},{"$error":"#DIV/0!"}]
[null,null,null,null,null,794,15.88,-30.711500000000001,19.384765625,{"$f":"FOURIER!M796","v":0},{"$f":"FOURIER!N796","v":0},null,null,121.79807455811991,null,null,null,null,0,0,null,null,null,null,null,null,0,-30.711500000000001,null,null,null,null,null,null,null,null,null,null,null,null,null,15.88,-4.2469999999999999,0,{"$error":"#DIV/0!"},{"$error":"#DIV/0!"}]
[null,null,null,null,null,795,15.9,-16.251999999999999,19.4091796875,{"$f":"FOURIER!M797","v":0},{"$f":"FOURIER!N797","v":0},null,null,121.95147263690848,null,null,null,null,0,0,null,null,null,null,null,null,0,-16.251999999999999,null,null,null,null,null,null,null,null,null,null,null,null,null,15.9,-4.9749999999999996,0,{"$error":"#DIV/0!"},{"$error":"#DIV/0!"}]
[null,null,null,null,null,796,15.92,0.27750000000000002,19.43359375,{"$f":"FOURIER!M798","v":0},{"$f":"FOURIER!N798","v":0},null,null,122.10487071569705,null,null,null,null,0,0,null,null,null,null,null,null,0,0.27750000000000002,null,null,null,null,null,null,null,null,null,null,null,null,null,15.92,-5.6950000000000003,0,{"$error":"#DIV/0!"},{"$error":"#DIV/0!"}]
[null,null,null,null,null,797,15.94,17.856999999999999,19.4580078125,{"$f":"FOURIER!M799","v":0},{"$f":"FOURIER!N799","v":0},null,null,122.2582687944856,null,null,null,null,0,0,null,null,null,null,null,null,0,17.856999999999999,null,null,null,null,null,null,null,null,null,null,null,null,null,15.94,-6.4020000000000001,0,{"$error":"#DIV/0!"},{"$error":"#DIV/0!"}]
[null,null,null,null,null,798,15.96,28.0867,19.482421875,{"$f":"FOURIER!M800","v":0},{"$f":"FOURIER!N800","v":0},null,null,122.41166687327417,null,null,null,null,0,0,null,null,null,null,null,null,0,28.0867,null,null,null,null,null,null,null,null,null,null,null,null,null,15.96,-7.0860000000000003,0,{"$error":"#DIV/0!"},{"$error":"#DIV/0!"}]
[null,null,null,null,null,799,15.98,27.816700000000001,19.5068359375,{"$f":"FOURIER!M801","v":0},{"$f":"FOURIER!N801","v":0},null,null,122.56506495206274,null,null,null,null,0,0,null,null,null,null,null,null,0,27.816700000000001,null,null,null,null,null,null,null,null,null,null,null,null,null,15.98,-7.742,0,{"$error":"#DIV/0!"},{"$error":"#DIV/0!"}]
[null,null,null,null,null,800,16,27.6067,19.53125,{"$f":"FOURIER!M802","v":0},{"$f":"FOURIER!N802","v":0},null,null,122.7184630308513,null,null,null,null,0,0,null,null,null,null,null,null,0,27.6067,null,null,null,null,null,null,null,null,null,null,null,null,null,16,-8.3689999999999998,0,{"$error":"#DIV/0!"},{"$error":"#DIV/0!"}]
[null,null,null,null,null,801,16.02,25.326799999999999,19.5556640625,{"$f":"FOURIER!M803","v":0},{"$f":"FOURIER!N803","v":0},null,null,122.87186110963987,null,null,null,null,0,0,null,null,null,null,null,null,0,25.326799999999999,null,null,null,null,null,null,null,null,null,null,null,null,null,16.02,-8.9659999999999993,0,{"$error":"#DIV/0!"},{"$error":"#DIV/0!"}]
[null,null,null,null,null,802,16.04,14.677099999999999,19.580078125,{"$f":"FOURIER!M804","v":0},{"$f":"FOURIER!N804","v":0},null,null,123.02525918842842,null,null,null,null,0,0,null,null,null,null,null,null,0,14.677099999999999,null,null,null,null,null,null,null,null,null,null,null,null,null,16.04,-9.532,0,{"$error":"#DIV/0!"},{"$error":"#DIV/0!"}]
[null,null,null,null,null,803,16.059999999999999,3.6074999999999999,19.6044921875,{"$f":"FOURIER!M805","v":0},{"$f":"FOURIER!N805","v":0},null,null,123.17865726721699,null,null,null,null,0,0,null,null,null,null,null,null,0,3.6074999999999999,null,null,null,null,null,null,null,null,null,null,null,null,null,16.059999999999999,-10.071999999999999,0,{"$error":"#DIV/0!"},{"$error":"#DIV/0!"}]
[null,null,null,null,null,804,16.080000000000002,-1.6424000000000001,19.62890625,{"$f":"FOURIER!M806","v":0},{"$f":"FOURIER!N806","v":0},null,null,123.33205534600556,null,null,null,null,0,0,null,null,null,null,null,null,0,-1.6424000000000001,null,null,null,null,null,null,null,null,null,null,null,null,null,16.080000000000002,-10.587,0,{"$error":"#DIV/0!"},{"$error":"#DIV/0!"}]
[null,null,null,null,null,805,16.100000000000001,-9.8920999999999992,19.6533203125,{"$f":"FOURIER!M807","v":0},{"$f":"FOURIER!N807","v":0},null,null,123.48545342479412,null,null,null,null,0,0,null,null,null,null,null,null,0,-9.8920999999999992,null,null,null,null,null,null,null,null,null,null,null,null,null,16.100000000000001,-11.081,0,{"$error":"#DIV/0!"},{"$error":"#DIV/0!"}]
[null,null,null,null,null,806,16.12,-21.741800000000001,19.677734375,{"$f":"FOURIER!M808","v":0},{"$f":"FOURIER!N808","v":0},null,null,123.63885150358269,null,null,null,null,0,0,null,null,null,null,null,null,0,-21.741800000000001,null,null,null,null,null,null,null,null,null,null,null,null,null,16.12,-11.554,0,{"$error":"#DIV/0!"},{"$error":"#DIV/0!"}]
[null,null,null,null,null,807,16.14,-21.831700000000001,19.7021484375,{"$f":"FOURIER!M809","v":0},{"$f":"FOURIER!N809","v":0},null,null,123.79224958237124,null,null,null,null,0,0,null,null,null,null,null,null,0,-21.831700000000001,null,null,null,null,null,null,null,null,null,null,null,null,null,16.14,-12.01,0,{"$error":"#DIV/0!"},{"$error":"#DIV/0!"}]
[null,null,null,null,null,808,16.16,-14.242000000000001,19.7265625,{"$f":"FOURIER!M810","v":0},{"$f":"FOURIER!N810","v":0},null,null,123.94564766115981,null,null,null,null,0,0,null,null,null,null,null,null,0,-14.242000000000001,null,null,null,null,null,null,null,null,null,null,null,null,null,16.16,-12.449,0,{"$error":"#DIV/0!"},{"$error":"#DIV/0!"}]
[null,null,null,null,null,809,16.18,-9.5921000000000003,19.7509765625,{"$f":"FOURIER!M811","v":0},{"$f":"FOURIER!N811","v":0},null,null,124.09904573994838,null,null,null,null,0,0,null,null,null,null,null,null,0,-9.5921000000000003,null,null,null,null,null,null,null,null,null,null,null,null,null,16.18,-12.867000000000001,0,{"$error":"#DIV/0!"},{"$error":"#DIV/0!"}]
[null,null,null,null,null,810,16.2,-4.7023000000000001,19.775390625,{"$f":"FOURIER!M812","v":0},{"$f":"FOURIER!N812","v":0},null,null,124.25244381873694,null,null,null,null,0,0,null,null,null,null,null,null,0,-4.7023000000000001,null,null,null,null,null,null,null,null,null,null,null,null,null,16.2,-13.262,0,{"$error":"#DIV/0!"},{"$error":"#DIV/0!"}]
[null,null,null,null,null,811,16.22,0.78759999999999997,19.7998046875,{"$f":"FOURIER!M813","v":0},{"$f":"FOURIER!N813","v":0},null,null,124.40584189752551,null,null,null,null,0,0,null,null,null,null,null,null,0,0.78759999999999997,null,null,null,null,null,null,null,null,null,null,null,null,null,16.22,-13.631,0,{"$error":"#DIV/0!"},{"$error":"#DIV/0!"}]
[null,null,null,null,null,812,16.240000000000002,10.657299999999999,19.82421875,{"$f":"FOURIER!M814","v":0},{"$f":"FOURIER!N814","v":0},null,null,124.55923997631407,null,null,null,null,0,0,null,null,null,null,null,null,0,10.657299999999999,null,null,null,null,null,null,null,null,null,null,null,null,null,16.240000000000002,-13.97,0,{"$error":"#DIV/0!"},{"$error":"#DIV/0!"}]
[null,null,null,null,null,813,16.260000000000002,24.486899999999999,19.8486328125,{"$f":"FOURIER!M815","v":0},{"$f":"FOURIER!N815","v":0},null,null,124.71263805510263,null,null,null,null,0,0,null,null,null,null,null,null,0,24.486899999999999,null,null,null,null,null,null,null,null,null,null,null,null,null,16.260000000000002,-14.275,0,{"$error":"#DIV/0!"},{"$error":"#DIV/0!"}]
[null,null,null,null,null,814,16.28,31.746600000000001,19.873046875,{"$f":"FOURIER!M816","v":0},{"$f":"FOURIER!N816","v":0},null,null,124.8660361338912,null,null,null,null,0,0,null,null,null,null,null,null,0,31.746600000000001,null,null,null,null,null,null,null,null,null,null,null,null,null,16.28,-14.542,0,{"$error":"#DIV/0!"},{"$error":"#DIV/0!"}]
[null,null,null,null,null,815,16.3,32.046599999999998,19.8974609375,{"$f":"FOURIER!M817","v":0},{"$f":"FOURIER!N817","v":0},null,null,125.01943421267976,null,null,null,null,0,0,null,null,null,null,null,null,0,32.046599999999998,null,null,null,null,null,null,null,null,null,null,null,null,null,16.3,-14.766,0,{"$error":"#DIV/0!"},{"$error":"#DIV/0!"}]
[null,null,null,null,null,816,16.32,28.416799999999999,19.921875,{"$f":"FOURIER!M818","v":0},{"$f":"FOURIER!N818","v":0},null,null,125.17283229146832,null,null,null,null,0,0,null,null,null,null,null,null,0,28.416799999999999,null,null,null,null,null,null,null,null,null,null,null,null,null,16.32,-14.946,0,{"$error":"#DIV/0!"},{"$error":"#DIV/0!"}]
[null,null,null,null,null,817,16.34,14.347200000000001,19.9462890625,{"$f":"FOURIER!M819","v":0},{"$f":"FOURIER!N819","v":0},null,null,125.32623037025689,null,null,null,null,0,0,null,null,null,null,null,null,0,14.347200000000001,null,null,null,null,null,null,null,null,null,null,null,null,null,16.34,-15.085000000000001,0,{"$error":"#DIV/0!"},{"$error":"#DIV/0!"}]
[null,null,null,null,null,818,16.36,-2.6922999999999999,19.970703125,{"$f":"FOURIER!M820","v":0},{"$f":"FOURIER!N820","v":0},null,null,125.47962844904545,null,null,null,null,0,0,null,null,null,null,null,null,0,-2.6922999999999999,null,null,null,null,null,null,null,null,null,null,null,null,null,16.36,-15.188000000000001,0,{"$error":"#DIV/0!"},{"$error":"#DIV/0!"}]
[null,null,null,null,null,819,16.38,-11.992000000000001,19.9951171875,{"$f":"FOURIER!M821","v":0},{"$f":"FOURIER!N821","v":0},null,null,125.63302652783402,null,null,null,null,0,0,null,null,null,null,null,null,0,-11.992000000000001,null,null,null,null,null,null,null,null,null,null,null,null,null,16.38,-15.260999999999999,0,{"$error":"#DIV/0!"},{"$error":"#DIV/0!"}]
[null,null,null,null,null,820,16.399999999999999,-20.5717,20.01953125,{"$f":"FOURIER!M822","v":0},{"$f":"FOURIER!N822","v":0},null,null,125.78642460662257,null,null,null,null,0,0,null,null,null,null,null,null,0,-20.5717,null,null,null,null,null,null,null,null,null,null,null,null,null,16.399999999999999,-15.308,0,{"$error":"#DIV/0!"},{"$error":"#DIV/0!"}]
[null,null,null,null,null,821,16.420000000000002,-27.261500000000002,20.0439453125,{"$f":"FOURIER!M823","v":0},{"$f":"FOURIER!N823","v":0},null,null,125.93982268541114,null,null,null,null,0,0,null,null,null,null,null,null,0,-27.261500000000002,null,null,null,null,null,null,null,null,null,null,null,null,null,16.420000000000002,-15.332000000000001,0,{"$error":"#DIV/0!"},{"$error":"#DIV/0!"}]
[null,null,null,null,null,822,16.440000000000001,-25.371600000000001,20.068359375,{"$f":"FOURIER!M824","v":0},{"$f":"FOURIER!N824","v":0},null,null,126.09322076419971,null,null,null,null,0,0,null,null,null,null,null,null,0,-25.371600000000001,null,null,null,null,null,null,null,null,null,null,null,null,null,16.440000000000001,-15.336,0,{"$error":"#DIV/0!"},{"$error":"#DIV/0!"}]
[null,null,null,null,null,823,16.46,-25.401599999999998,20.0927734375,{"$f":"FOURIER!M825","v":0},{"$f":"FOURIER!N825","v":0},null,null,126.24661884298827,null,null,null,null,0,0,null,null,null,null,null,null,0,-25.401599999999998,null,null,null,null,null,null,null,null,null,null,null,null,null,16.46,-15.32,0,{"$error":"#DIV/0!"},{"$error":"#DIV/0!"}]
[null,null,null,null,null,824,16.48,-30.171399999999998,20.1171875,{"$f":"FOURIER!M826","v":0},{"$f":"FOURIER!N826","v":0},null,null,126.40001692177684,null,null,null,null,0,0,null,null,null,null,null,null,0,-30.171399999999998,null,null,null,null,null,null,null,null,null,null,null,null,null,16.48,-15.284000000000001,0,{"$error":"#DIV/0!"},{"$error":"#DIV/0!"}]
[null,null,null,null,null,825,16.5,-29.301400000000001,20.1416015625,{"$f":"FOURIER!M827","v":0},{"$f":"FOURIER!N827","v":0},null,null,126.55341500056541,null,null,null,null,0,0,null,null,null,null,null,null,0,-29.301400000000001,null,null,null,null,null,null,null,null,null,null,null,null,null,16.5,-15.228999999999999,0,{"$error":"#DIV/0!"},{"$error":"#DIV/0!"}]
[null,null,null,null,null,826,16.52,-21.8017,20.166015625,{"$f":"FOURIER!M828","v":0},{"$f":"FOURIER!N828","v":0},null,null,126.70681307935396,null,null,null,null,0,0,null,null,null,null,null,null,0,-21.8017,null,null,null,null,null,null,null,null,null,null,null,null,null,16.52,-15.154999999999999,0,{"$error":"#DIV/0!"},{"$error":"#DIV/0!"}]
[null,null,null,null,null,827,16.54,-17.631799999999998,20.1904296875,{"$f":"FOURIER!M829","v":0},{"$f":"FOURIER!N829","v":0},null,null,126.86021115814253,null,null,null,null,0,0,null,null,null,null,null,null,0,-17.631799999999998,null,null,null,null,null,null,null,null,null,null,null,null,null,16.54,-15.06,0,{"$error":"#DIV/0!"},{"$error":"#DIV/0!"}]
[null,null,null,null,null,828,16.559999999999999,-17.691800000000001,20.21484375,{"$f":"FOURIER!M830","v":0},{"$f":"FOURIER!N830","v":0},null,null,127.01360923693109,null,null,null,null,0,0,null,null,null,null,null,null,0,-17.691800000000001,null,null,null,null,null,null,null,null,null,null,null,null,null,16.559999999999999,-14.942,0,{"$error":"#DIV/0!"},{"$error":"#DIV/0!"}]
[null,null,null,null,null,829,16.580000000000002,-14.8719,20.2392578125,{"$f":"FOURIER!M831","v":0},{"$f":"FOURIER!N831","v":0},null,null,127.16700731571966,null,null,null,null,0,0,null,null,null,null,null,null,0,-14.8719,null,null,null,null,null,null,null,null,null,null,null,null,null,16.580000000000002,-14.802,0,{"$error":"#DIV/0!"},{"$error":"#DIV/0!"}]
[null,null,null,null,null,830,16.600000000000001,-6.4420999999999999,20.263671875,{"$f":"FOURIER!M832","v":0},{"$f":"FOURIER!N832","v":0},null,null,127.32040539450823,null,null,null,null,0,0,null,null,null,null,null,null,0,-6.4420999999999999,null,null,null,null,null,null,null,null,null,null,null,null,null,16.600000000000001,-14.638999999999999,0,{"$error":"#DIV/0!"},{"$error":"#DIV/0!"}]
[null,null,null,null,null,831,16.62,-0.80230000000000001,20.2880859375,{"$f":"FOURIER!M833","v":0},{"$f":"FOURIER!N833","v":0},null,null,127.47380347329678,null,null,null,null,0,0,null,null,null,null,null,null,0,-0.80230000000000001,null,null,null,null,null,null,null,null,null,null,null,null,null,16.62,-14.45,0,{"$error":"#DIV/0!"},{"$error":"#DIV/0!"}]
[null,null,null,null,null,832,16.64,-2.0322,20.3125,{"$f":"FOURIER!M834","v":0},{"$f":"FOURIER!N834","v":0},null,null,{"$f":"2*PI()/B$9/B$6*F834","v":127.62720155208535},null,null,null,null,{"$f":"J834*O834-K834*P834","v":0},{"$f":"J834*P834+K834*O834","v":0},null,null,null,null,null,null,0,-2.0322,null,null,null,null,null,null,null,null,null,null,null,null,null,{"$f":"G834","v":16.64},-14.234,0,{"$error":"#DIV/0!"},{"$error":"#DIV/0!"}]
[null,null,null,null,null,833,{"$f":"B$6*F835","v":16.66},-2.0022000000000002,{"$f":"F835/B$9/B$6","v":20.3369140625},{"$f":"FOURIER!M835","v":0},{"$f":"FOURIER!N835","v":0},null,null,127.78059963087391,null,null,null,null,0,0,null,null,null,null,null,null,{"$f":"(Y835-Y834)/B$6","v":0},{"$f":"(AA835-AA834)/B$6+H835","v":-2.0022000000000002},null,null,null,null,null,null,null,null,null,null,null,null,null,16.66,-13.99,0,{"$f":"(AQ835-AQ834)/O$6","v":{"$error":"#DIV/0!"}},{"$f":"(AS835-AS834)/O$6+S835","v":{"$error":"#DIV/0!"}}]
[null,null,null,null,null,834,16.68,-0.32229999999999998,20.361328125,{"$f":"FOURIER!M836","v":0},{"$f":"FOURIER!N836","v":0},null,null,127.93399770966248,null,null,null,null,0,0,null,null,null,null,null,null,0,-0.32229999999999998,null,null,null,null,null,null,null,null,null,null,null,null,null,16.68,-13.721,0,{"$error":"#DIV/0!"},{"$error":"#DIV/0!"}]
[null,null,null,null,null,835,16.7,-0.98219999999999996,20.3857421875,{"$f":"FOURIER!M837","v":0},{"$f":"FOURIER!N837","v":0},null,null,128.08739578845103,null,null,null,null,0,0,null,null,null,null,null,null,0,-0.98219999999999996,null,null,null,null,null,null,null,null,null,null,null,null,null,16.7,-13.425000000000001,0,{"$error":"#DIV/0!"},{"$error":"#DIV/0!"}]
[null,null,null,null,null,836,16.72,-1.1022000000000001,20.41015625,{"$f":"FOURIER!M838","v":0},{"$f":"FOURIER!N838","v":0},null,null,128.2407938672396,null,null,null,null,0,0,null,null,null,null,null,null,0,-1.1022000000000001,null,null,null,null,null,null,null,null,null,null,null,null,null,16.72,-13.103999999999999,0,{"$error":"#DIV/0!"},{"$error":"#DIV/0!"}]
[null,null,null,null,null,837,16.740000000000002,-0.95220000000000005,20.4345703125,{"$f":"FOURIER!M839","v":0},{"$f":"FOURIER!N839","v":0},null,null,128.39419194602817,null,null,null,null,0,0,null,null,null,null,null,null,0,-0.95220000000000005,null,null,null,null,null,null,null,null,null,null,null,null,null,16.740000000000002,-12.757999999999999,0,{"$error":"#DIV/0!"},{"$error":"#DIV/0!"}]
[null,null,null,null,null,838,16.760000000000002,-5.3320999999999996,20.458984375,{"$f":"FOURIER!M840","v":0},{"$f":"FOURIER!N840","v":0},null,null,128.54759002481674,null,null,null,null,0,0,null,null,null,null,null,null,0,-5.3320999999999996,null,null,null,null,null,null,null,null,null,null,null,null,null,16.760000000000002,-12.388999999999999,0,{"$error":"#DIV/0!"},{"$error":"#DIV/0!"}]
[null,null,null,null,null,839,16.78,-14.4818,20.4833984375,{"$f":"FOURIER!M841","v":0},{"$f":"FOURIER!N841","v":0},null,null,128.70098810360531,null,null,null,null,0,0,null,null,null,null,null,null,0,-14.4818,null,null,null,null,null,null,null,null,null,null,null,null,null,16.78,-11.999000000000001,0,{"$error":"#DIV/0!"},{"$error":"#DIV/0!"}]
[null,null,null,null,null,840,16.8,-23.8415,20.5078125,{"$f":"FOURIER!M842","v":0},{"$f":"FOURIER!N842","v":0},null,null,128.85438618239385,null,null,null,null,0,0,null,null,null,null,null,null,0,-23.8415,null,null,null,null,null,null,null,null,null,null,null,null,null,16.8,-11.593,0,{"$error":"#DIV/0!"},{"$error":"#DIV/0!"}]
[null,null,null,null,null,841,16.82,-28.941400000000002,20.5322265625,{"$f":"FOURIER!M843","v":0},{"$f":"FOURIER!N843","v":0},null,null,129.00778426118242,null,null,null,null,0,0,null,null,null,null,null,null,0,-28.941400000000002,null,null,null,null,null,null,null,null,null,null,null,null,null,16.82,-11.173999999999999,0,{"$error":"#DIV/0!"},{"$error":"#DIV/0!"}]
[null,null,null,null,null,842,16.84,-32.391300000000001,20.556640625,{"$f":"FOURIER!M844","v":0},{"$f":"FOURIER!N844","v":0},null,null,129.16118233997099,null,null,null,null,0,0,null,null,null,null,null,null,0,-32.391300000000001,null,null,null,null,null,null,null,null,null,null,null,null,null,16.84,-10.746,0,{"$error":"#DIV/0!"},{"$error":"#DIV/0!"}]
[null,null,null,null,null,843,16.86,-34.431199999999997,20.5810546875,{"$f":"FOURIER!M845","v":0},{"$f":"FOURIER!N845","v":0},null,null,129.31458041875956,null,null,null,null,0,0,null,null,null,null,null,null,0,-34.431199999999997,null,null,null,null,null,null,null,null,null,null,null,null,null,16.86,-10.311,0,{"$error":"#DIV/0!"},{"$error":"#DIV/0!"}]
[null,null,null,null,null,844,16.88,-26.3614,20.60546875,{"$f":"FOURIER!M846","v":0},{"$f":"FOURIER!N846","v":0},null,null,129.46797849754813,null,null,null,null,0,0,null,null,null,null,null,null,0,-26.3614,null,null,null,null,null,null,null,null,null,null,null,null,null,16.88,-9.8710000000000004,0,{"$error":"#DIV/0!"},{"$error":"#DIV/0!"}]
[null,null,null,null,null,845,16.899999999999999,-6.4119999999999999,20.6298828125,{"$f":"FOURIER!M847","v":0},{"$f":"FOURIER!N847","v":0},null,null,129.62137657633667,null,null,null,null,0,0,null,null,null,null,null,null,0,-6.4119999999999999,null,null,null,null,null,null,null,null,null,null,null,null,null,16.899999999999999,-9.4220000000000006,0,{"$error":"#DIV/0!"},{"$error":"#DIV/0!"}]
[null,null,null,null,null,846,16.920000000000002,15.3673,20.654296875,{"$f":"FOURIER!M848","v":0},{"$f":"FOURIER!N848","v":0},null,null,129.77477465512524,null,null,null,null,0,0,null,null,null,null,null,null,0,15.3673,null,null,null,null,null,null,null,null,null,null,null,null,null,16.920000000000002,-8.9600000000000009,0,{"$error":"#DIV/0!"},{"$error":"#DIV/0!"}]
[null,null,null,null,null,847,16.940000000000001,30.276800000000001,20.6787109375,{"$f":"FOURIER!M849","v":0},{"$f":"FOURIER!N849","v":0},null,null,129.92817273391381,null,null,null,null,0,0,null,null,null,null,null,null,0,30.276800000000001,null,null,null,null,null,null,null,null,null,null,null,null,null,16.940000000000001,-8.4749999999999996,0,{"$error":"#DIV/0!"},{"$error":"#DIV/0!"}]
[null,null,null,null,null,848,16.96,33.396799999999999,20.703125,{"$f":"FOURIER!M850","v":0},{"$f":"FOURIER!N850","v":0},null,null,130.08157081270238,null,null,null,null,0,0,null,null,null,null,null,null,0,33.396799999999999,null,null,null,null,null,null,null,null,null,null,null,null,null,16.96,-7.9640000000000004,0,{"$error":"#DIV/0!"},{"$error":"#DIV/0!"}]
[null,null,null,null,null,849,16.98,21.457100000000001,20.7275390625,{"$f":"FOURIER!M851","v":0},{"$f":"FOURIER!N851","v":0},null,null,130.23496889149095,null,null,null,null,0,0,null,null,null,null,null,null,0,21.457100000000001,null,null,null,null,null,null,null,null,null,null,null,null,null,16.98,-7.4260000000000002,0,{"$error":"#DIV/0!"},{"$error":"#DIV/0!"}]
[null,null,null,null,null,850,17,0.51780000000000004,20.751953125,{"$f":"FOURIER!M852","v":0},{"$f":"FOURIER!N852","v":0},null,null,130.38836697027949,null,null,null,null,0,0,null,null,null,null,null,null,0,0.51780000000000004,null,null,null,null,null,null,null,null,null,null,null,null,null,17,-6.867,0,{"$error":"#DIV/0!"},{"$error":"#DIV/0!"}]
[null,null,null,null,null,851,17.02,-21.081600000000002,20.7763671875,{"$f":"FOURIER!M853","v":0},{"$f":"FOURIER!N853","v":0},null,null,130.54176504906806,null,null,null,null,0,0,null,null,null,null,null,null,0,-21.081600000000002,null,null,null,null,null,null,null,null,null,null,null,null,null,17.02,-6.2960000000000003,0,{"$error":"#DIV/0!"},{"$error":"#DIV/0!"}]
[null,null,null,null,null,852,17.04,-38.871000000000002,20.80078125,{"$f":"FOURIER!M854","v":0},{"$f":"FOURIER!N854","v":0},null,null,130.69516312785663,null,null,null,null,0,0,null,null,null,null,null,null,0,-38.871000000000002,null,null,null,null,null,null,null,null,null,null,null,null,null,17.04,-5.7240000000000002,0,{"$error":"#DIV/0!"},{"$error":"#DIV/0!"}]
[null,null,null,null,null,853,17.059999999999999,-50.930599999999998,20.8251953125,{"$f":"FOURIER!M855","v":0},{"$f":"FOURIER!N855","v":0},null,null,130.8485612066452,null,null,null,null,0,0,null,null,null,null,null,null,0,-50.930599999999998,null,null,null,null,null,null,null,null,null,null,null,null,null,17.059999999999999,-5.157,0,{"$error":"#DIV/0!"},{"$error":"#DIV/0!"}]
[null,null,null,null,null,854,17.080000000000002,-59.690399999999997,20.849609375,{"$f":"FOURIER!M856","v":0},{"$f":"FOURIER!N856","v":0},null,null,131.00195928543377,null,null,null,null,0,0,null,null,null,null,null,null,0,-59.690399999999997,null,null,null,null,null,null,null,null,null,null,null,null,null,17.080000000000002,-4.6029999999999998,0,{"$error":"#DIV/0!"},{"$error":"#DIV/0!"}]
[null,null,null,null,null,855,17.100000000000001,-62.510300000000001,20.8740234375,{"$f":"FOURIER!M857","v":0},{"$f":"FOURIER!N857","v":0},null,null,131.15535736422234,null,null,null,null,0,0,null,null,null,null,null,null,0,-62.510300000000001,null,null,null,null,null,null,null,null,null,null,null,null,null,17.100000000000001,-4.0659999999999998,0,{"$error":"#DIV/0!"},{"$error":"#DIV/0!"}]
[null,null,null,null,null,856,17.12,-51.590600000000002,20.8984375,{"$f":"FOURIER!M858","v":0},{"$f":"FOURIER!N858","v":0},null,null,131.30875544301088,null,null,null,null,0,0,null,null,null,null,null,null,0,-51.590600000000002,null,null,null,null,null,null,null,null,null,null,null,null,null,17.12,-3.5459999999999998,0,{"$error":"#DIV/0!"},{"$error":"#DIV/0!"}]
[null,null,null,null,null,857,17.14,-28.7013,20.9228515625,{"$f":"FOURIER!M859","v":0},{"$f":"FOURIER!N859","v":0},null,null,131.46215352179945,null,null,null,null,0,0,null,null,null,null,null,null,0,-28.7013,null,null,null,null,null,null,null,null,null,null,null,null,null,17.14,-3.0430000000000001,0,{"$error":"#DIV/0!"},{"$error":"#DIV/0!"}]
[null,null,null,null,null,858,17.16,-1.5521,20.947265625,{"$f":"FOURIER!M860","v":0},{"$f":"FOURIER!N860","v":0},null,null,131.61555160058802,null,null,null,null,0,0,null,null,null,null,null,null,0,-1.5521,null,null,null,null,null,null,null,null,null,null,null,null,null,17.16,-2.5459999999999998,0,{"$error":"#DIV/0!"},{"$error":"#DIV/0!"}]
[null,null,null,null,null,859,17.18,30.456900000000001,20.9716796875,{"$f":"FOURIER!M861","v":0},{"$f":"FOURIER!N861","v":0},null,null,131.76894967937659,null,null,null,null,0,0,null,null,null,null,null,null,0,30.456900000000001,null,null,null,null,null,null,null,null,null,null,null,null,null,17.18,-2.0470000000000002,0,{"$error":"#DIV/0!"},{"$error":"#DIV/0!"}]
[null,null,null,null,null,860,17.2,69.095699999999994,20.99609375,{"$f":"FOURIER!M862","v":0},{"$f":"FOURIER!N862","v":0},null,null,131.92234775816516,null,null,null,null,0,0,null,null,null,null,null,null,0,69.095699999999994,null,null,null,null,null,null,null,null,null,null,null,null,null,17.2,-1.5329999999999999,0,{"$error":"#DIV/0!"},{"$error":"#DIV/0!"}]
[null,null,null,null,null,861,17.22,104.94459999999999,21.0205078125,{"$f":"FOURIER!M863","v":0},{"$f":"FOURIER!N863","v":0},null,null,132.0757458369537,null,null,null,null,0,0,null,null,null,null,null,null,0,104.94459999999999,null,null,null,null,null,null,null,null,null,null,null,null,null,17.22,-0.99099999999999999,0,{"$error":"#DIV/0!"},{"$error":"#DIV/0!"}]
[null,null,null,null,null,862,17.240000000000002,130.9838,21.044921875,{"$f":"FOURIER!M864","v":0},{"$f":"FOURIER!N864","v":0},null,null,132.22914391574227,null,null,null,null,0,0,null,null,null,null,null,null,0,130.9838,null,null,null,null,null,null,null,null,null,null,null,null,null,17.240000000000002,-0.40699999999999997,0,{"$error":"#DIV/0!"},{"$error":"#DIV/0!"}]
[null,null,null,null,null,863,17.260000000000002,146.67339999999999,21.0693359375,{"$f":"FOURIER!M865","v":0},{"$f":"FOURIER!N865","v":0},null,null,132.38254199453084,null,null,null,null,0,0,null,null,null,null,null,null,0,146.67339999999999,null,null,null,null,null,null,null,null,null,null,null,null,null,17.260000000000002,0.22700000000000001,0,{"$error":"#DIV/0!"},{"$error":"#DIV/0!"}]
[null,null,null,null,null,864,17.28,151.50319999999999,21.09375,{"$f":"FOURIER!M866","v":0},{"$f":"FOURIER!N866","v":0},null,null,132.53594007331941,null,null,null,null,0,0,null,null,null,null,null,null,0,151.50319999999999,null,null,null,null,null,null,null,null,null,null,null,null,null,17.28,0.91600000000000004,0,{"$error":"#DIV/0!"},{"$error":"#DIV/0!"}]
[null,null,null,null,null,865,17.3,147.27330000000001,21.1181640625,{"$f":"FOURIER!M867","v":0},{"$f":"FOURIER!N867","v":0},null,null,132.68933815210798,null,null,null,null,0,0,null,null,null,null,null,null,0,147.27330000000001,null,null,null,null,null,null,null,null,null,null,null,null,null,17.3,1.661,0,{"$error":"#DIV/0!"},{"$error":"#DIV/0!"}]
[null,null,null,null,null,866,17.32,135.4537,21.142578125,{"$f":"FOURIER!M868","v":0},{"$f":"FOURIER!N868","v":0},null,null,132.84273623089652,null,null,null,null,0,0,null,null,null,null,null,null,0,135.4537,null,null,null,null,null,null,null,null,null,null,null,null,null,17.32,2.4590000000000001,0,{"$error":"#DIV/0!"},{"$error":"#DIV/0!"}]
[null,null,null,null,null,867,17.34,112.59439999999999,21.1669921875,{"$f":"FOURIER!M869","v":0},{"$f":"FOURIER!N869","v":0},null,null,132.99613430968509,null,null,null,null,0,0,null,null,null,null,null,null,0,112.59439999999999,null,null,null,null,null,null,null,null,null,null,null,null,null,17.34,3.302,0,{"$error":"#DIV/0!"},{"$error":"#DIV/0!"}]
[null,null,null,null,null,868,17.36,78.785499999999999,21.19140625,{"$f":"FOURIER!M870","v":0},{"$f":"FOURIER!N870","v":0},null,null,133.14953238847366,null,null,null,null,0,0,null,null,null,null,null,null,0,78.785499999999999,null,null,null,null,null,null,null,null,null,null,null,null,null,17.36,4.1790000000000003,0,{"$error":"#DIV/0!"},{"$error":"#DIV/0!"}]
[null,null,null,null,null,869,17.38,41.526600000000002,21.2158203125,{"$f":"FOURIER!M871","v":0},{"$f":"FOURIER!N871","v":0},null,null,133.30293046726223,null,null,null,null,0,0,null,null,null,null,null,null,0,41.526600000000002,null,null,null,null,null,null,null,null,null,null,null,null,null,17.38,5.0759999999999996,0,{"$error":"#DIV/0!"},{"$error":"#DIV/0!"}]
[null,null,null,null,null,870,17.400000000000002,1.8378000000000001,21.240234375,{"$f":"FOURIER!M872","v":0},{"$f":"FOURIER!N872","v":0},null,null,133.4563285460508,null,null,null,null,0,0,null,null,null,null,null,null,0,1.8378000000000001,null,null,null,null,null,null,null,null,null,null,null,null,null,17.400000000000002,5.976,0,{"$error":"#DIV/0!"},{"$error":"#DIV/0!"}]
[null,null,null,null,null,871,17.420000000000002,-39.380899999999997,21.2646484375,{"$f":"FOURIER!M873","v":0},{"$f":"FOURIER!N873","v":0},null,null,133.60972662483934,null,null,null,null,0,0,null,null,null,null,null,null,0,-39.380899999999997,null,null,null,null,null,null,null,null,null,null,null,null,null,17.420000000000002,6.8609999999999998,0,{"$error":"#DIV/0!"},{"$error":"#DIV/0!"}]
[null,null,null,null,null,872,17.440000000000001,-73.729799999999997,21.2890625,{"$f":"FOURIER!M874","v":0},{"$f":"FOURIER!N874","v":0},null,null,133.76312470362791,null,null,null,null,0,0,null,null,null,null,null,null,0,-73.729799999999997,null,null,null,null,null,null,null,null,null,null,null,null,null,17.440000000000001,7.7140000000000004,0,{"$error":"#DIV/0!"},{"$error":"#DIV/0!"}]
[null,null,null,null,null,873,17.46,-100.429,21.3134765625,{"$f":"FOURIER!M875","v":0},{"$f":"FOURIER!N875","v":0},null,null,133.91652278241648,null,null,null,null,0,0,null,null,null,null,null,null,0,-100.429,null,null,null,null,null,null,null,null,null,null,null,null,null,17.46,8.5180000000000007,0,{"$error":"#DIV/0!"},{"$error":"#DIV/0!"}]
[null,null,null,null,null,874,17.48,-121.878,21.337890625,{"$f":"FOURIER!M876","v":0},{"$f":"FOURIER!N876","v":0},null,null,134.06992086120505,null,null,null,null,0,0,null,null,null,null,null,null,0,-121.878,null,null,null,null,null,null,null,null,null,null,null,null,null,17.48,9.2620000000000005,0,{"$error":"#DIV/0!"},{"$error":"#DIV/0!"}]
[null,null,null,null,null,875,17.5,-128.238,21.3623046875,{"$f":"FOURIER!M877","v":0},{"$f":"FOURIER!N877","v":0},null,null,134.22331893999362,null,null,null,null,0,0,null,null,null,null,null,null,0,-128.238,null,null,null,null,null,null,null,null,null,null,null,null,null,17.5,9.9359999999999999,0,{"$error":"#DIV/0!"},{"$error":"#DIV/0!"}]
[null,null,null,null,null,876,17.52,-113.779,21.38671875,{"$f":"FOURIER!M878","v":0},{"$f":"FOURIER!N878","v":0},null,null,134.37671701878216,null,null,null,null,0,0,null,null,null,null,null,null,0,-113.779,null,null,null,null,null,null,null,null,null,null,null,null,null,17.52,10.538,0,{"$error":"#DIV/0!"},{"$error":"#DIV/0!"}]
[null,null,null,null,null,877,17.54,-89.809299999999993,21.4111328125,{"$f":"FOURIER!M879","v":0},{"$f":"FOURIER!N879","v":0},null,null,134.53011509757073,null,null,null,null,0,0,null,null,null,null,null,null,0,-89.809299999999993,null,null,null,null,null,null,null,null,null,null,null,null,null,17.54,11.071,0,{"$error":"#DIV/0!"},{"$error":"#DIV/0!"}]
[null,null,null,null,null,878,17.559999999999999,-66.83,21.435546875,{"$f":"FOURIER!M880","v":0},{"$f":"FOURIER!N880","v":0},null,null,134.6835131763593,null,null,null,null,0,0,null,null,null,null,null,null,0,-66.83,null,null,null,null,null,null,null,null,null,null,null,null,null,17.559999999999999,11.542999999999999,0,{"$error":"#DIV/0!"},{"$error":"#DIV/0!"}]
[null,null,null,null,null,879,17.580000000000002,-48.290599999999998,21.4599609375,{"$f":"FOURIER!M881","v":0},{"$f":"FOURIER!N881","v":0},null,null,134.83691125514787,null,null,null,null,0,0,null,null,null,null,null,null,0,-48.290599999999998,null,null,null,null,null,null,null,null,null,null,null,null,null,17.580000000000002,11.964,0,{"$error":"#DIV/0!"},{"$error":"#DIV/0!"}]
[null,null,null,null,null,880,17.600000000000001,-22.2514,21.484375,{"$f":"FOURIER!M882","v":0},{"$f":"FOURIER!N882","v":0},null,null,134.99030933393644,null,null,null,null,0,0,null,null,null,null,null,null,0,-22.2514,null,null,null,null,null,null,null,null,null,null,null,null,null,17.600000000000001,12.34,0,{"$error":"#DIV/0!"},{"$error":"#DIV/0!"}]
[null,null,null,null,null,881,17.62,14.6175,21.5087890625,{"$f":"FOURIER!M883","v":0},{"$f":"FOURIER!N883","v":0},null,null,135.14370741272501,null,null,null,null,0,0,null,null,null,null,null,null,0,14.6175,null,null,null,null,null,null,null,null,null,null,null,null,null,17.62,12.682,0,{"$error":"#DIV/0!"},{"$error":"#DIV/0!"}]
[null,null,null,null,null,882,17.64,46.746499999999997,21.533203125,{"$f":"FOURIER!M884","v":0},{"$f":"FOURIER!N884","v":0},null,null,135.29710549151355,null,null,null,null,0,0,null,null,null,null,null,null,0,46.746499999999997,null,null,null,null,null,null,null,null,null,null,null,null,null,17.64,13.002000000000001,0,{"$error":"#DIV/0!"},{"$error":"#DIV/0!"}]
[null,null,null,null,null,883,17.66,66.395899999999997,21.5576171875,{"$f":"FOURIER!M885","v":0},{"$f":"FOURIER!N885","v":0},null,null,135.45050357030212,null,null,null,null,0,0,null,null,null,null,null,null,0,66.395899999999997,null,null,null,null,null,null,null,null,null,null,null,null,null,17.66,13.314,0,{"$error":"#DIV/0!"},{"$error":"#DIV/0!"}]
[null,null,null,null,null,884,17.68,76.625600000000006,21.58203125,{"$f":"FOURIER!M886","v":0},{"$f":"FOURIER!N886","v":0},null,null,135.60390164909069,null,null,null,null,0,0,null,null,null,null,null,null,0,76.625600000000006,null,null,null,null,null,null,null,null,null,null,null,null,null,17.68,13.624000000000001,0,{"$error":"#DIV/0!"},{"$error":"#DIV/0!"}]
[null,null,null,null,null,885,17.7,69.725800000000007,21.6064453125,{"$f":"FOURIER!M887","v":0},{"$f":"FOURIER!N887","v":0},null,null,135.75729972787926,null,null,null,null,0,0,null,null,null,null,null,null,0,69.725800000000007,null,null,null,null,null,null,null,null,null,null,null,null,null,17.7,13.935,0,{"$error":"#DIV/0!"},{"$error":"#DIV/0!"}]
[null,null,null,null,null,886,17.72,41.346699999999998,21.630859375,{"$f":"FOURIER!M888","v":0},{"$f":"FOURIER!N888","v":0},null,null,135.91069780666783,null,null,null,null,0,0,null,null,null,null,null,null,0,41.346699999999998,null,null,null,null,null,null,null,null,null,null,null,null,null,17.72,14.244999999999999,0,{"$error":"#DIV/0!"},{"$error":"#DIV/0!"}]
[null,null,null,null,null,887,17.740000000000002,8.0176999999999996,21.6552734375,{"$f":"FOURIER!M889","v":0},{"$f":"FOURIER!N889","v":0},null,null,136.06409588545637,null,null,null,null,0,0,null,null,null,null,null,null,0,8.0176999999999996,null,null,null,null,null,null,null,null,null,null,null,null,null,17.740000000000002,14.541,0,{"$error":"#DIV/0!"},{"$error":"#DIV/0!"}]
[null,null,null,null,null,888,17.760000000000002,-20.4514,21.6796875,{"$f":"FOURIER!M890","v":0},{"$f":"FOURIER!N890","v":0},null,null,136.21749396424494,null,null,null,null,0,0,null,null,null,null,null,null,0,-20.4514,null,null,null,null,null,null,null,null,null,null,null,null,null,17.760000000000002,14.81,0,{"$error":"#DIV/0!"},{"$error":"#DIV/0!"}]
[null,null,null,null,null,889,17.78,-46.160600000000002,21.7041015625,{"$f":"FOURIER!M891","v":0},{"$f":"FOURIER!N891","v":0},null,null,136.37089204303351,null,null,null,null,0,0,null,null,null,null,null,null,0,-46.160600000000002,null,null,null,null,null,null,null,null,null,null,null,null,null,17.78,15.041,0,{"$error":"#DIV/0!"},{"$error":"#DIV/0!"}]
[null,null,null,null,null,890,17.8,-66.05,21.728515625,{"$f":"FOURIER!M892","v":0},{"$f":"FOURIER!N892","v":0},null,null,136.52429012182208,null,null,null,null,0,0,null,null,null,null,null,null,0,-66.05,null,null,null,null,null,null,null,null,null,null,null,null,null,17.8,15.222,0,{"$error":"#DIV/0!"},{"$error":"#DIV/0!"}]
[null,null,null,null,null,891,17.82,-81.319500000000005,21.7529296875,{"$f":"FOURIER!M893","v":0},{"$f":"FOURIER!N893","v":0},null,null,136.67768820061065,null,null,null,null,0,0,null,null,null,null,null,null,0,-81.319500000000005,null,null,null,null,null,null,null,null,null,null,null,null,null,17.82,15.346,0,{"$error":"#DIV/0!"},{"$error":"#DIV/0!"}]
[null,null,null,null,null,892,17.84,-95.7791,21.77734375,{"$f":"FOURIER!M894","v":0},{"$f":"FOURIER!N894","v":0},null,null,136.83108627939919,null,null,null,null,0,0,null,null,null,null,null,null,0,-95.7791,null,null,null,null,null,null,null,null,null,null,null,null,null,17.84,15.406000000000001,0,{"$error":"#DIV/0!"},{"$error":"#DIV/0!"}]
[null,null,null,null,null,893,17.86,-101.599,21.8017578125,{"$f":"FOURIER!M895","v":0},{"$f":"FOURIER!N895","v":0},null,null,136.98448435818776,null,null,null,null,0,0,null,null,null,null,null,null,0,-101.599,null,null,null,null,null,null,null,null,null,null,null,null,null,17.86,15.398,0,{"$error":"#DIV/0!"},{"$error":"#DIV/0!"}]
[null,null,null,null,null,894,17.88,-92.179199999999994,21.826171875,{"$f":"FOURIER!M896","v":0},{"$f":"FOURIER!N896","v":0},null,null,137.13788243697633,null,null,null,null,0,0,null,null,null,null,null,null,0,-92.179199999999994,null,null,null,null,null,null,null,null,null,null,null,null,null,17.88,15.318,0,{"$error":"#DIV/0!"},{"$error":"#DIV/0!"}]
[null,null,null,null,null,895,17.900000000000002,-70.0398,21.8505859375,{"$f":"FOURIER!M897","v":0},{"$f":"FOURIER!N897","v":0},null,null,137.2912805157649,null,null,null,null,0,0,null,null,null,null,null,null,0,-70.0398,null,null,null,null,null,null,null,null,null,null,null,null,null,17.900000000000002,15.172000000000001,0,{"$error":"#DIV/0!"},{"$error":"#DIV/0!"}]
[null,null,null,null,null,896,17.920000000000002,-39.020800000000001,21.875,{"$f":"FOURIER!M898","v":0},{"$f":"FOURIER!N898","v":0},null,null,{"$f":"2*PI()/B$9/B$6*F898","v":137.44467859455347},null,null,null,null,{"$f":"J898*O898-K898*P898","v":0},{"$f":"J898*P898+K898*O898","v":0},null,null,null,null,null,null,0,-39.020800000000001,null,null,null,null,null,null,null,null,null,null,null,null,null,{"$f":"G898","v":17.920000000000002},14.968999999999999,0,{"$error":"#DIV/0!"},{"$error":"#DIV/0!"}]
[null,null,null,null,null,897,{"$f":"B$6*F899","v":17.940000000000001},-4.8517999999999999,{"$f":"F899/B$9/B$6","v":21.8994140625},{"$f":"FOURIER!M899","v":0},{"$f":"FOURIER!N899","v":0},null,null,137.59807667334201,null,null,null,null,0,0,null,null,null,null,null,null,{"$f":"(Y899-Y898)/B$6","v":0},{"$f":"(AA899-AA898)/B$6+H899","v":-4.8517999999999999},null,null,null,null,null,null,null,null,null,null,null,null,null,17.940000000000001,14.721,0,{"$f":"(AQ899-AQ898)/O$6","v":{"$error":"#DIV/0!"}},{"$f":"(AS899-AS898)/O$6+S899","v":{"$error":"#DIV/0!"}}]
[null,null,null,null,null,898,17.96,23.467300000000002,21.923828125,{"$f":"FOURIER!M900","v":0},{"$f":"FOURIER!N900","v":0},null,null,137.75147475213058,null,null,null,null,0,0,null,null,null,null,null,null,0,23.467300000000002,null,null,null,null,null,null,null,null,null,null,null,null,null,17.96,14.442,0,{"$error":"#DIV/0!"},{"$error":"#DIV/0!"}]
[null,null,null,null,null,899,17.98,43.356699999999996,21.9482421875,{"$f":"FOURIER!M901","v":0},{"$f":"FOURIER!N901","v":0},null,null,137.90487283091915,null,null,null,null,0,0,null,null,null,null,null,null,0,43.356699999999996,null,null,null,null,null,null,null,null,null,null,null,null,null,17.98,14.145,0,{"$error":"#DIV/0!"},{"$error":"#DIV/0!"}]
[null,null,null,null,null,900,18,56.076300000000003,21.97265625,{"$f":"FOURIER!M902","v":0},{"$f":"FOURIER!N902","v":0},null,null,138.05827090970772,null,null,null,null,0,0,null,null,null,null,null,null,0,56.076300000000003,null,null,null,null,null,null,null,null,null,null,null,null,null,18,13.837,0,{"$error":"#DIV/0!"},{"$error":"#DIV/0!"}]
[null,null,null,null,null,901,18.02,59.196199999999997,21.9970703125,{"$f":"FOURIER!M903","v":0},{"$f":"FOURIER!N903","v":0},null,null,138.21166898849629,null,null,null,null,0,0,null,null,null,null,null,null,0,59.196199999999997,null,null,null,null,null,null,null,null,null,null,null,null,null,18.02,13.526,0,{"$error":"#DIV/0!"},{"$error":"#DIV/0!"}]
[null,null,null,null,null,902,18.04,51.786499999999997,22.021484375,{"$f":"FOURIER!M904","v":0},{"$f":"FOURIER!N904","v":0},null,null,138.36506706728483,null,null,null,null,0,0,null,null,null,null,null,null,0,51.786499999999997,null,null,null,null,null,null,null,null,null,null,null,null,null,18.04,13.212,0,{"$error":"#DIV/0!"},{"$error":"#DIV/0!"}]
[null,null,null,null,null,903,18.059999999999999,41.976799999999997,22.0458984375,{"$f":"FOURIER!M905","v":0},{"$f":"FOURIER!N905","v":0},null,null,138.5184651460734,null,null,null,null,0,0,null,null,null,null,null,null,0,41.976799999999997,null,null,null,null,null,null,null,null,null,null,null,null,null,18.059999999999999,12.893000000000001,0,{"$error":"#DIV/0!"},{"$error":"#DIV/0!"}]
[null,null,null,null,null,904,18.080000000000002,30.847100000000001,22.0703125,{"$f":"FOURIER!M906","v":0},{"$f":"FOURIER!N906","v":0},null,null,138.67186322486197,null,null,null,null,0,0,null,null,null,null,null,null,0,30.847100000000001,null,null,null,null,null,null,null,null,null,null,null,null,null,18.080000000000002,12.567,0,{"$error":"#DIV/0!"},{"$error":"#DIV/0!"}]
[null,null,null,null,null,905,18.100000000000001,12.8177,22.0947265625,{"$f":"FOURIER!M907","v":0},{"$f":"FOURIER!N907","v":0},null,null,138.82526130365054,null,null,null,null,0,0,null,null,null,null,null,null,0,12.8177,null,null,null,null,null,null,null,null,null,null,null,null,null,18.100000000000001,12.228999999999999,0,{"$error":"#DIV/0!"},{"$error":"#DIV/0!"}]
[null,null,null,null,null,906,18.12,-6.3517000000000001,22.119140625,{"$f":"FOURIER!M908","v":0},{"$f":"FOURIER!N908","v":0},null,null,138.9786593824391,null,null,null,null,0,0,null,null,null,null,null,null,0,-6.3517000000000001,null,null,null,null,null,null,null,null,null,null,null,null,null,18.12,11.872,0,{"$error":"#DIV/0!"},{"$error":"#DIV/0!"}]
[null,null,null,null,null,907,18.14,-16.6114,22.1435546875,{"$f":"FOURIER!M909","v":0},{"$f":"FOURIER!N909","v":0},null,null,139.13205746122767,null,null,null,null,0,0,null,null,null,null,null,null,0,-16.6114,null,null,null,null,null,null,null,null,null,null,null,null,null,18.14,11.492000000000001,0,{"$error":"#DIV/0!"},{"$error":"#DIV/0!"}]
[null,null,null,null,null,908,18.16,-19.011299999999999,22.16796875,{"$f":"FOURIER!M910","v":0},{"$f":"FOURIER!N910","v":0},null,null,139.28545554001622,null,null,null,null,0,0,null,null,null,null,null,null,0,-19.011299999999999,null,null,null,null,null,null,null,null,null,null,null,null,null,18.16,11.083,0,{"$error":"#DIV/0!"},{"$error":"#DIV/0!"}]
[null,null,null,null,null,909,18.18,-20.511299999999999,22.1923828125,{"$f":"FOURIER!M911","v":0},{"$f":"FOURIER!N911","v":0},null,null,139.43885361880479,null,null,null,null,0,0,null,null,null,null,null,null,0,-20.511299999999999,null,null,null,null,null,null,null,null,null,null,null,null,null,18.18,10.647,0,{"$error":"#DIV/0!"},{"$error":"#DIV/0!"}]
[null,null,null,null,null,910,18.2,-18.351400000000002,22.216796875,{"$f":"FOURIER!M912","v":0},{"$f":"FOURIER!N912","v":0},null,null,139.59225169759335,null,null,null,null,0,0,null,null,null,null,null,null,0,-18.351400000000002,null,null,null,null,null,null,null,null,null,null,null,null,null,18.2,10.183,0,{"$error":"#DIV/0!"},{"$error":"#DIV/0!"}]
[null,null,null,null,null,911,18.22,-4.8517999999999999,22.2412109375,{"$f":"FOURIER!M913","v":0},{"$f":"FOURIER!N913","v":0},null,null,139.74564977638192,null,null,null,null,0,0,null,null,null,null,null,null,0,-4.8517999999999999,null,null,null,null,null,null,null,null,null,null,null,null,null,18.22,9.6929999999999996,0,{"$error":"#DIV/0!"},{"$error":"#DIV/0!"}]
[null,null,null,null,null,912,18.240000000000002,14.4976,22.265625,{"$f":"FOURIER!M914","v":0},{"$f":"FOURIER!N914","v":0},null,null,139.89904785517049,null,null,null,null,0,0,null,null,null,null,null,null,0,14.4976,null,null,null,null,null,null,null,null,null,null,null,null,null,18.240000000000002,9.1850000000000005,0,{"$error":"#DIV/0!"},{"$error":"#DIV/0!"}]
[null,null,null,null,null,913,18.260000000000002,28.417200000000001,22.2900390625,{"$f":"FOURIER!M915","v":0},{"$f":"FOURIER!N915","v":0},null,null,140.05244593395904,null,null,null,null,0,0,null,null,null,null,null,null,0,28.417200000000001,null,null,null,null,null,null,null,null,null,null,null,null,null,18.260000000000002,8.6649999999999991,0,{"$error":"#DIV/0!"},{"$error":"#DIV/0!"}]
[null,null,null,null,null,914,18.28,32.377099999999999,22.314453125,{"$f":"FOURIER!M916","v":0},{"$f":"FOURIER!N916","v":0},null,null,140.2058440127476,null,null,null,null,0,0,null,null,null,null,null,null,0,32.377099999999999,null,null,null,null,null,null,null,null,null,null,null,null,null,18.28,8.1419999999999995,0,{"$error":"#DIV/0!"},{"$error":"#DIV/0!"}]
[null,null,null,null,null,915,18.3,30.9072,22.3388671875,{"$f":"FOURIER!M917","v":0},{"$f":"FOURIER!N917","v":0},null,null,140.35924209153617,null,null,null,null,0,0,null,null,null,null,null,null,0,30.9072,null,null,null,null,null,null,null,null,null,null,null,null,null,18.3,7.617,0,{"$error":"#DIV/0!"},{"$error":"#DIV/0!"}]
[null,null,null,null,null,916,18.32,27.3673,22.36328125,{"$f":"FOURIER!M918","v":0},{"$f":"FOURIER!N918","v":0},null,null,140.51264017032474,null,null,null,null,0,0,null,null,null,null,null,null,0,27.3673,null,null,null,null,null,null,null,null,null,null,null,null,null,18.32,7.0910000000000002,0,{"$error":"#DIV/0!"},{"$error":"#DIV/0!"}]
[null,null,null,null,null,917,18.34,16.867599999999999,22.3876953125,{"$f":"FOURIER!M919","v":0},{"$f":"FOURIER!N919","v":0},null,null,140.66603824911331,null,null,null,null,0,0,null,null,null,null,null,null,0,16.867599999999999,null,null,null,null,null,null,null,null,null,null,null,null,null,18.34,6.5629999999999997,0,{"$error":"#DIV/0!"},{"$error":"#DIV/0!"}]
[null,null,null,null,null,918,18.36,-1.6718,22.412109375,{"$f":"FOURIER!M920","v":0},{"$f":"FOURIER!N920","v":0},null,null,140.81943632790185,null,null,null,null,0,0,null,null,null,null,null,null,0,-1.6718,null,null,null,null,null,null,null,null,null,null,null,null,null,18.36,6.032,0,{"$error":"#DIV/0!"},{"$error":"#DIV/0!"}]
[null,null,null,null,null,919,18.38,-22.851199999999999,22.4365234375,{"$f":"FOURIER!M921","v":0},{"$f":"FOURIER!N921","v":0},null,null,140.97283440669042,null,null,null,null,0,0,null,null,null,null,null,null,0,-22.851199999999999,null,null,null,null,null,null,null,null,null,null,null,null,null,18.38,5.4889999999999999,0,{"$error":"#DIV/0!"},{"$error":"#DIV/0!"}]
[null,null,null,null,null,920,18.400000000000002,-41.360599999999998,22.4609375,{"$f":"FOURIER!M922","v":0},{"$f":"FOURIER!N922","v":0},null,null,141.12623248547899,null,null,null,null,0,0,null,null,null,null,null,null,0,-41.360599999999998,null,null,null,null,null,null,null,null,null,null,null,null,null,18.400000000000002,4.9290000000000003,0,{"$error":"#DIV/0!"},{"$error":"#DIV/0!"}]
[null,null,null,null,null,921,18.420000000000002,-52.940199999999997,22.4853515625,{"$f":"FOURIER!M923","v":0},{"$f":"FOURIER!N923","v":0},null,null,141.27963056426756,null,null,null,null,0,0,null,null,null,null,null,null,0,-52.940199999999997,null,null,null,null,null,null,null,null,null,null,null,null,null,18.420000000000002,4.3449999999999998,0,{"$error":"#DIV/0!"},{"$error":"#DIV/0!"}]
[null,null,null,null,null,922,18.440000000000001,-49.580300000000001,22.509765625,{"$f":"FOURIER!M924","v":0},{"$f":"FOURIER!N924","v":0},null,null,141.43302864305613,null,null,null,null,0,0,null,null,null,null,null,null,0,-49.580300000000001,null,null,null,null,null,null,null,null,null,null,null,null,null,18.440000000000001,3.734,0,{"$error":"#DIV/0!"},{"$error":"#DIV/0!"}]
[null,null,null,null,null,923,18.46,-28.280999999999999,22.5341796875,{"$f":"FOURIER!M925","v":0},{"$f":"FOURIER!N925","v":0},null,null,141.58642672184467,null,null,null,null,0,0,null,null,null,null,null,null,0,-28.280999999999999,null,null,null,null,null,null,null,null,null,null,null,null,null,18.46,3.0979999999999999,0,{"$error":"#DIV/0!"},{"$error":"#DIV/0!"}]
[null,null,null,null,null,924,18.48,-3.8016999999999999,22.55859375,{"$f":"FOURIER!M926","v":0},{"$f":"FOURIER!N926","v":0},null,null,141.73982480063324,null,null,null,null,0,0,null,null,null,null,null,null,0,-3.8016999999999999,null,null,null,null,null,null,null,null,null,null,null,null,null,18.48,2.448,0,{"$error":"#DIV/0!"},{"$error":"#DIV/0!"}]
[null,null,null,null,null,925,18.5,5.4980000000000002,22.5830078125,{"$f":"FOURIER!M927","v":0},{"$f":"FOURIER!N927","v":0},null,null,141.89322287942181,null,null,null,null,0,0,null,null,null,null,null,null,0,5.4980000000000002,null,null,null,null,null,null,null,null,null,null,null,null,null,18.5,1.7929999999999999,0,{"$error":"#DIV/0!"},{"$error":"#DIV/0!"}]
[null,null,null,null,null,926,18.52,10.957800000000001,22.607421875,{"$f":"FOURIER!M928","v":0},{"$f":"FOURIER!N928","v":0},null,null,142.04662095821038,null,null,null,null,0,0,null,null,null,null,null,null,0,10.957800000000001,null,null,null,null,null,null,null,null,null,null,null,null,null,18.52,1.1399999999999999,0,{"$error":"#DIV/0!"},{"$error":"#DIV/0!"}]
[null,null,null,null,null,927,18.54,28.657299999999999,22.6318359375,{"$f":"FOURIER!M929","v":0},{"$f":"FOURIER!N929","v":0},null,null,142.20001903699895,null,null,null,null,0,0,null,null,null,null,null,null,0,28.657299999999999,null,null,null,null,null,null,null,null,null,null,null,null,null,18.54,0.49099999999999999,0,{"$error":"#DIV/0!"},{"$error":"#DIV/0!"}]
[null,null,null,null,null,928,18.559999999999999,47.526699999999998,22.65625,{"$f":"FOURIER!M930","v":0},{"$f":"FOURIER!N930","v":0},null,null,142.35341711578749,null,null,null,null,0,0,null,null,null,null,null,null,0,47.526699999999998,null,null,null,null,null,null,null,null,null,null,null,null,null,18.559999999999999,-0.14399999999999999,0,{"$error":"#DIV/0!"},{"$error":"#DIV/0!"}]
[null,null,null,null,null,929,18.580000000000002,54.366500000000002,22.6806640625,{"$f":"FOURIER!M931","v":0},{"$f":"FOURIER!N931","v":0},null,null,142.50681519457606,null,null,null,null,0,0,null,null,null,null,null,null,0,54.366500000000002,null,null,null,null,null,null,null,null,null,null,null,null,null,18.580000000000002,-0.75800000000000001,0,{"$error":"#DIV/0!"},{"$error":"#DIV/0!"}]
[null,null,null,null,null,930,18.600000000000001,46.806699999999999,22.705078125,{"$f":"FOURIER!M932","v":0},{"$f":"FOURIER!N932","v":0},null,null,142.66021327336463,null,null,null,null,0,0,null,null,null,null,null,null,0,46.806699999999999,null,null,null,null,null,null,null,null,null,null,null,null,null,18.600000000000001,-1.3460000000000001,0,{"$error":"#DIV/0!"},{"$error":"#DIV/0!"}]
[null,null,null,null,null,931,18.62,30.607199999999999,22.7294921875,{"$f":"FOURIER!M933","v":0},{"$f":"FOURIER!N933","v":0},null,null,142.8136113521532,null,null,null,null,0,0,null,null,null,null,null,null,0,30.607199999999999,null,null,null,null,null,null,null,null,null,null,null,null,null,18.62,-1.9119999999999999,0,{"$error":"#DIV/0!"},{"$error":"#DIV/0!"}]
[null,null,null,null,null,932,18.64,13.297800000000001,22.75390625,{"$f":"FOURIER!M934","v":0},{"$f":"FOURIER!N934","v":0},null,null,142.96700943094177,null,null,null,null,0,0,null,null,null,null,null,null,0,13.297800000000001,null,null,null,null,null,null,null,null,null,null,null,null,null,18.64,-2.4580000000000002,0,{"$error":"#DIV/0!"},{"$error":"#DIV/0!"}]
[null,null,null,null,null,933,18.66,3.2780999999999998,22.7783203125,{"$f":"FOURIER!M935","v":0},{"$f":"FOURIER!N935","v":0},null,null,143.12040750973034,null,null,null,null,0,0,null,null,null,null,null,null,0,3.2780999999999998,null,null,null,null,null,null,null,null,null,null,null,null,null,18.66,-2.9929999999999999,0,{"$error":"#DIV/0!"},{"$error":"#DIV/0!"}]
[null,null,null,null,null,934,18.68,3.7281,22.802734375,{"$f":"FOURIER!M936","v":0},{"$f":"FOURIER!N936","v":0},null,null,143.27380558851888,null,null,null,null,0,0,null,null,null,null,null,null,0,3.7281,null,null,null,null,null,null,null,null,null,null,null,null,null,18.68,-3.5169999999999999,0,{"$error":"#DIV/0!"},{"$error":"#DIV/0!"}]
[null,null,null,null,null,935,18.7,7.0279999999999996,22.8271484375,{"$f":"FOURIER!M937","v":0},{"$f":"FOURIER!N937","v":0},null,null,143.42720366730745,null,null,null,null,0,0,null,null,null,null,null,null,0,7.0279999999999996,null,null,null,null,null,null,null,null,null,null,null,null,null,18.7,-4.0309999999999997,0,{"$error":"#DIV/0!"},{"$error":"#DIV/0!"}]
[null,null,null,null,null,936,18.72,10.2979,22.8515625,{"$f":"FOURIER!M938","v":0},{"$f":"FOURIER!N938","v":0},null,null,143.58060174609602,null,null,null,null,0,0,null,null,null,null,null,null,0,10.2979,null,null,null,null,null,null,null,null,null,null,null,null,null,18.72,-4.532,0,{"$error":"#DIV/0!"},{"$error":"#DIV/0!"}]
[null,null,null,null,null,937,18.740000000000002,16.087700000000002,22.8759765625,{"$f":"FOURIER!M939","v":0},{"$f":"FOURIER!N939","v":0},null,null,143.73399982488459,null,null,null,null,0,0,null,null,null,null,null,null,0,16.087700000000002,null,null,null,null,null,null,null,null,null,null,null,null,null,18.740000000000002,-5.0179999999999998,0,{"$error":"#DIV/0!"},{"$error":"#DIV/0!"}]
[null,null,null,null,null,938,18.760000000000002,19.357600000000001,22.900390625,{"$f":"FOURIER!M940","v":0},{"$f":"FOURIER!N940","v":0},null,null,143.88739790367316,null,null,null,null,0,0,null,null,null,null,null,null,0,19.357600000000001,null,null,null,null,null,null,null,null,null,null,null,null,null,18.760000000000002,-5.4850000000000003,0,{"$error":"#DIV/0!"},{"$error":"#DIV/0!"}]
[null,null,null,null,null,939,18.78,12.7578,22.9248046875,{"$f":"FOURIER!M941","v":0},{"$f":"FOURIER!N941","v":0},null,null,144.0407959824617,null,null,null,null,0,0,null,null,null,null,null,null,0,12.7578,null,null,null,null,null,null,null,null,null,null,null,null,null,18.78,-5.9320000000000004,0,{"$error":"#DIV/0!"},{"$error":"#DIV/0!"}]
[null,null,null,null,null,940,18.8,1.0582,22.94921875,{"$f":"FOURIER!M942","v":0},{"$f":"FOURIER!N942","v":0},null,null,144.19419406125027,null,null,null,null,0,0,null,null,null,null,null,null,0,1.0582,null,null,null,null,null,null,null,null,null,null,null,null,null,18.8,-6.3609999999999998,0,{"$error":"#DIV/0!"},{"$error":"#DIV/0!"}]
[null,null,null,null,null,941,18.82,-8.3015000000000008,22.9736328125,{"$f":"FOURIER!M943","v":0},{"$f":"FOURIER!N943","v":0},null,null,144.34759214003884,null,null,null,null,0,0,null,null,null,null,null,null,0,-8.3015000000000008,null,null,null,null,null,null,null,null,null,null,null,null,null,18.82,-6.774,0,{"$error":"#DIV/0!"},{"$error":"#DIV/0!"}]
[null,null,null,null,null,942,18.84,-12.1114,22.998046875,{"$f":"FOURIER!M944","v":0},{"$f":"FOURIER!N944","v":0},null,null,144.50099021882741,null,null,null,null,0,0,null,null,null,null,null,null,0,-12.1114,null,null,null,null,null,null,null,null,null,null,null,null,null,18.84,-7.1760000000000002,0,{"$error":"#DIV/0!"},{"$error":"#DIV/0!"}]
[null,null,null,null,null,943,18.86,-10.1615,23.0224609375,{"$f":"FOURIER!M945","v":0},{"$f":"FOURIER!N945","v":0},null,null,144.65438829761598,null,null,null,null,0,0,null,null,null,null,null,null,0,-10.1615,null,null,null,null,null,null,null,null,null,null,null,null,null,18.86,-7.5659999999999998,0,{"$error":"#DIV/0!"},{"$error":"#DIV/0!"}]
[null,null,null,null,null,944,18.88,-12.1114,23.046875,{"$f":"FOURIER!M946","v":0},{"$f":"FOURIER!N946","v":0},null,null,144.80778637640452,null,null,null,null,0,0,null,null,null,null,null,null,0,-12.1114,null,null,null,null,null,null,null,null,null,null,null,null,null,18.88,-7.944,0,{"$error":"#DIV/0!"},{"$error":"#DIV/0!"}]
[null,null,null,null,null,945,18.900000000000002,-22.971,23.0712890625,{"$f":"FOURIER!M947","v":0},{"$f":"FOURIER!N947","v":0},null,null,144.96118445519309,null,null,null,null,0,0,null,null,null,null,null,null,0,-22.971,null,null,null,null,null,null,null,null,null,null,null,null,null,18.900000000000002,-8.3089999999999993,0,{"$error":"#DIV/0!"},{"$error":"#DIV/0!"}]
[null,null,null,null,null,946,18.920000000000002,-31.4908,23.095703125,{"$f":"FOURIER!M948","v":0},{"$f":"FOURIER!N948","v":0},null,null,145.11458253398166,null,null,null,null,0,0,null,null,null,null,null,null,0,-31.4908,null,null,null,null,null,null,null,null,null,null,null,null,null,18.920000000000002,-8.6660000000000004,0,{"$error":"#DIV/0!"},{"$error":"#DIV/0!"}]
[null,null,null,null,null,947,18.940000000000001,-30.500800000000002,23.1201171875,{"$f":"FOURIER!M949","v":0},{"$f":"FOURIER!N949","v":0},null,null,145.26798061277023,null,null,null,null,0,0,null,null,null,null,null,null,0,-30.500800000000002,null,null,null,null,null,null,null,null,null,null,null,null,null,18.940000000000001,-9.016,0,{"$error":"#DIV/0!"},{"$error":"#DIV/0!"}]
[null,null,null,null,null,948,18.96,-23.030999999999999,23.14453125,{"$f":"FOURIER!M950","v":0},{"$f":"FOURIER!N950","v":0},null,null,145.4213786915588,null,null,null,null,0,0,null,null,null,null,null,null,0,-23.030999999999999,null,null,null,null,null,null,null,null,null,null,null,null,null,18.96,-9.359,0,{"$error":"#DIV/0!"},{"$error":"#DIV/0!"}]
[null,null,null,null,null,949,18.98,-12.981299999999999,23.1689453125,{"$f":"FOURIER!M951","v":0},{"$f":"FOURIER!N951","v":0},null,null,145.57477677034734,null,null,null,null,0,0,null,null,null,null,null,null,0,-12.981299999999999,null,null,null,null,null,null,null,null,null,null,null,null,null,18.98,-9.69,0,{"$error":"#DIV/0!"},{"$error":"#DIV/0!"}]
[null,null,null,null,null,950,19,-5.1215999999999999,23.193359375,{"$f":"FOURIER!M952","v":0},{"$f":"FOURIER!N952","v":0},null,null,145.72817484913591,null,null,null,null,0,0,null,null,null,null,null,null,0,-5.1215999999999999,null,null,null,null,null,null,null,null,null,null,null,null,null,19,-10.007,0,{"$error":"#DIV/0!"},{"$error":"#DIV/0!"}]
[null,null,null,null,null,951,19.02,-2.7816000000000001,23.2177734375,{"$f":"FOURIER!M953","v":0},{"$f":"FOURIER!N953","v":0},null,null,145.88157292792448,null,null,null,null,0,0,null,null,null,null,null,null,0,-2.7816000000000001,null,null,null,null,null,null,null,null,null,null,null,null,null,19.02,-10.304,0,{"$error":"#DIV/0!"},{"$error":"#DIV/0!"}]
[null,null,null,null,null,952,19.04,0.42830000000000001,23.2421875,{"$f":"FOURIER!M954","v":0},{"$f":"FOURIER!N954","v":0},null,null,146.03497100671305,null,null,null,null,0,0,null,null,null,null,null,null,0,0.42830000000000001,null,null,null,null,null,null,null,null,null,null,null,null,null,19.04,-10.581,0,{"$error":"#DIV/0!"},{"$error":"#DIV/0!"}]
[null,null,null,null,null,953,19.059999999999999,9.218,23.2666015625,{"$f":"FOURIER!M955","v":0},{"$f":"FOURIER!N955","v":0},null,null,146.18836908550162,null,null,null,null,0,0,null,null,null,null,null,null,0,9.218,null,null,null,null,null,null,null,null,null,null,null,null,null,19.059999999999999,-10.835000000000001,0,{"$error":"#DIV/0!"},{"$error":"#DIV/0!"}]
[null,null,null,null,null,954,19.080000000000002,19.5077,23.291015625,{"$f":"FOURIER!M956","v":0},{"$f":"FOURIER!N956","v":0},null,null,146.34176716429016,null,null,null,null,0,0,null,null,null,null,null,null,0,19.5077,null,null,null,null,null,null,null,null,null,null,null,null,null,19.080000000000002,-11.061999999999999,0,{"$error":"#DIV/0!"},{"$error":"#DIV/0!"}]
[null,null,null,null,null,955,19.100000000000001,29.1374,23.3154296875,{"$f":"FOURIER!M957","v":0},{"$f":"FOURIER!N957","v":0},null,null,146.49516524307873,null,null,null,null,0,0,null,null,null,null,null,null,0,29.1374,null,null,null,null,null,null,null,null,null,null,null,null,null,19.100000000000001,-11.259,0,{"$error":"#DIV/0!"},{"$error":"#DIV/0!"}]
[null,null,null,null,null,956,19.12,36.8172,23.33984375,{"$f":"FOURIER!M958","v":0},{"$f":"FOURIER!N958","v":0},null,null,146.6485633218673,null,null,null,null,0,0,null,null,null,null,null,null,0,36.8172,null,null,null,null,null,null,null,null,null,null,null,null,null,19.12,-11.420999999999999,0,{"$error":"#DIV/0!"},{"$error":"#DIV/0!"}]
[null,null,null,null,null,957,19.14,38.887099999999997,23.3642578125,{"$f":"FOURIER!M959","v":0},{"$f":"FOURIER!N959","v":0},null,null,146.80196140065587,null,null,null,null,0,0,null,null,null,null,null,null,0,38.887099999999997,null,null,null,null,null,null,null,null,null,null,null,null,null,19.14,-11.545,0,{"$error":"#DIV/0!"},{"$error":"#DIV/0!"}]
[null,null,null,null,null,958,19.16,36.547199999999997,23.388671875,{"$f":"FOURIER!M960","v":0},{"$f":"FOURIER!N960","v":0},null,null,146.95535947944444,null,null,null,null,0,0,null,null,null,null,null,null,0,36.547199999999997,null,null,null,null,null,null,null,null,null,null,null,null,null,19.16,-11.63,0,{"$error":"#DIV/0!"},{"$error":"#DIV/0!"}]
[null,null,null,null,null,959,19.18,33.337299999999999,23.4130859375,{"$f":"FOURIER!M961","v":0},{"$f":"FOURIER!N961","v":0},null,null,147.10875755823301,null,null,null,null,0,0,null,null,null,null,null,null,0,33.337299999999999,null,null,null,null,null,null,null,null,null,null,null,null,null,19.18,-11.677,0,{"$error":"#DIV/0!"},{"$error":"#DIV/0!"}]
[null,null,null,null,null,960,19.2,28.5974,23.4375,{"$f":"FOURIER!M962","v":0},{"$f":"FOURIER!N962","v":0},null,null,{"$f":"2*PI()/B$9/B$6*F962","v":147.26215563702155},null,null,null,null,{"$f":"J962*O962-K962*P962","v":0},{"$f":"J962*P962+K962*O962","v":0},null,null,null,null,null,null,0,28.5974,null,null,null,null,null,null,null,null,null,null,null,null,null,{"$f":"G962","v":19.2},-11.686999999999999,0,{"$error":"#DIV/0!"},{"$error":"#DIV/0!"}]
[null,null,null,null,null,961,{"$f":"B$6*F963","v":19.22},18.727699999999999,{"$f":"F963/B$9/B$6","v":23.4619140625},{"$f":"FOURIER!M963","v":0},{"$f":"FOURIER!N963","v":0},null,null,147.41555371581012,null,null,null,null,0,0,null,null,null,null,null,null,{"$f":"(Y963-Y962)/B$6","v":0},{"$f":"(AA963-AA962)/B$6+H963","v":18.727699999999999},null,null,null,null,null,null,null,null,null,null,null,null,null,19.22,-11.662000000000001,0,{"$f":"(AQ963-AQ962)/O$6","v":{"$error":"#DIV/0!"}},{"$f":"(AS963-AS962)/O$6+S963","v":{"$error":"#DIV/0!"}}]
[null,null,null,null,null,962,19.240000000000002,4.5682,23.486328125,{"$f":"FOURIER!M964","v":0},{"$f":"FOURIER!N964","v":0},null,null,147.56895179459869,null,null,null,null,0,0,null,null,null,null,null,null,0,4.5682,null,null,null,null,null,null,null,null,null,null,null,null,null,19.240000000000002,-11.606999999999999,0,{"$error":"#DIV/0!"},{"$error":"#DIV/0!"}]
[null,null,null,null,null,963,19.260000000000002,-12.141299999999999,23.5107421875,{"$f":"FOURIER!M965","v":0},{"$f":"FOURIER!N965","v":0},null,null,147.72234987338726,null,null,null,null,0,0,null,null,null,null,null,null,0,-12.141299999999999,null,null,null,null,null,null,null,null,null,null,null,null,null,19.260000000000002,-11.528,0,{"$error":"#DIV/0!"},{"$error":"#DIV/0!"}]
[null,null,null,null,null,964,19.28,-30.1707,23.53515625,{"$f":"FOURIER!M966","v":0},{"$f":"FOURIER!N966","v":0},null,null,147.87574795217583,null,null,null,null,0,0,null,null,null,null,null,null,0,-30.1707,null,null,null,null,null,null,null,null,null,null,null,null,null,19.28,-11.43,0,{"$error":"#DIV/0!"},{"$error":"#DIV/0!"}]
[null,null,null,null,null,965,19.3,-39.290500000000002,23.5595703125,{"$f":"FOURIER!M967","v":0},{"$f":"FOURIER!N967","v":0},null,null,148.02914603096437,null,null,null,null,0,0,null,null,null,null,null,null,0,-39.290500000000002,null,null,null,null,null,null,null,null,null,null,null,null,null,19.3,-11.321999999999999,0,{"$error":"#DIV/0!"},{"$error":"#DIV/0!"}]
[null,null,null,null,null,966,19.32,-34.430599999999998,23.583984375,{"$f":"FOURIER!M968","v":0},{"$f":"FOURIER!N968","v":0},null,null,148.18254410975294,null,null,null,null,0,0,null,null,null,null,null,null,0,-34.430599999999998,null,null,null,null,null,null,null,null,null,null,null,null,null,19.32,-11.206,0,{"$error":"#DIV/0!"},{"$error":"#DIV/0!"}]
[null,null,null,null,null,967,19.34,-27.410799999999998,23.6083984375,{"$f":"FOURIER!M969","v":0},{"$f":"FOURIER!N969","v":0},null,null,148.33594218854151,null,null,null,null,0,0,null,null,null,null,null,null,0,-27.410799999999998,null,null,null,null,null,null,null,null,null,null,null,null,null,19.34,-11.083,0,{"$error":"#DIV/0!"},{"$error":"#DIV/0!"}]
[null,null,null,null,null,968,19.36,-29.030799999999999,23.6328125,{"$f":"FOURIER!M970","v":0},{"$f":"FOURIER!N970","v":0},null,null,148.48934026733008,null,null,null,null,0,0,null,null,null,null,null,null,0,-29.030799999999999,null,null,null,null,null,null,null,null,null,null,null,null,null,19.36,-10.949,0,{"$error":"#DIV/0!"},{"$error":"#DIV/0!"}]
[null,null,null,null,null,969,19.38,-36.4405,23.6572265625,{"$f":"FOURIER!M971","v":0},{"$f":"FOURIER!N971","v":0},null,null,148.64273834611865,null,null,null,null,0,0,null,null,null,null,null,null,0,-36.4405,null,null,null,null,null,null,null,null,null,null,null,null,null,19.38,-10.805999999999999,0,{"$error":"#DIV/0!"},{"$error":"#DIV/0!"}]
[null,null,null,null,null,970,19.400000000000002,-39.500399999999999,23.681640625,{"$f":"FOURIER!M972","v":0},{"$f":"FOURIER!N972","v":0},null,null,148.79613642490719,null,null,null,null,0,0,null,null,null,null,null,null,0,-39.500399999999999,null,null,null,null,null,null,null,null,null,null,null,null,null,19.400000000000002,-10.656000000000001,0,{"$error":"#DIV/0!"},{"$error":"#DIV/0!"}]
[null,null,null,null,null,971,19.420000000000002,-34.220599999999997,23.7060546875,{"$f":"FOURIER!M973","v":0},{"$f":"FOURIER!N973","v":0},null,null,148.94953450369576,null,null,null,null,0,0,null,null,null,null,null,null,0,-34.220599999999997,null,null,null,null,null,null,null,null,null,null,null,null,null,19.420000000000002,-10.5,0,{"$error":"#DIV/0!"},{"$error":"#DIV/0!"}]
[null,null,null,null,null,972,19.440000000000001,-23.930900000000001,23.73046875,{"$f":"FOURIER!M974","v":0},{"$f":"FOURIER!N974","v":0},null,null,149.10293258248433,null,null,null,null,0,0,null,null,null,null,null,null,0,-23.930900000000001,null,null,null,null,null,null,null,null,null,null,null,null,null,19.440000000000001,-10.337999999999999,0,{"$error":"#DIV/0!"},{"$error":"#DIV/0!"}]
[null,null,null,null,null,973,19.46,-10.821300000000001,23.7548828125,{"$f":"FOURIER!M975","v":0},{"$f":"FOURIER!N975","v":0},null,null,149.2563306612729,null,null,null,null,0,0,null,null,null,null,null,null,0,-10.821300000000001,null,null,null,null,null,null,null,null,null,null,null,null,null,19.46,-10.166,0,{"$error":"#DIV/0!"},{"$error":"#DIV/0!"}]
[null,null,null,null,null,974,19.48,4.6882000000000001,23.779296875,{"$f":"FOURIER!M976","v":0},{"$f":"FOURIER!N976","v":0},null,null,149.40972874006147,null,null,null,null,0,0,null,null,null,null,null,null,0,4.6882000000000001,null,null,null,null,null,null,null,null,null,null,null,null,null,19.48,-9.9779999999999998,0,{"$error":"#DIV/0!"},{"$error":"#DIV/0!"}]
[null,null,null,null,null,975,19.5,17.047899999999998,23.8037109375,{"$f":"FOURIER!M977","v":0},{"$f":"FOURIER!N977","v":0},null,null,149.56312681885001,null,null,null,null,0,0,null,null,null,null,null,null,0,17.047899999999998,null,null,null,null,null,null,null,null,null,null,null,null,null,19.5,-9.7690000000000001,0,{"$error":"#DIV/0!"},{"$error":"#DIV/0!"}]
[null,null,null,null,null,976,19.52,24.787600000000001,23.828125,{"$f":"FOURIER!M978","v":0},{"$f":"FOURIER!N978","v":0},null,null,149.71652489763858,null,null,null,null,0,0,null,null,null,null,null,null,0,24.787600000000001,null,null,null,null,null,null,null,null,null,null,null,null,null,19.52,-9.5350000000000001,0,{"$error":"#DIV/0!"},{"$error":"#DIV/0!"}]
[null,null,null,null,null,977,19.54,29.7075,23.8525390625,{"$f":"FOURIER!M979","v":0},{"$f":"FOURIER!N979","v":0},null,null,149.86992297642715,null,null,null,null,0,0,null,null,null,null,null,null,0,29.7075,null,null,null,null,null,null,null,null,null,null,null,null,null,19.54,-9.2720000000000002,0,{"$error":"#DIV/0!"},{"$error":"#DIV/0!"}]
[null,null,null,null,null,978,19.559999999999999,31.3874,23.876953125,{"$f":"FOURIER!M980","v":0},{"$f":"FOURIER!N980","v":0},null,null,150.02332105521572,null,null,null,null,0,0,null,null,null,null,null,null,0,31.3874,null,null,null,null,null,null,null,null,null,null,null,null,null,19.559999999999999,-8.9809999999999999,0,{"$error":"#DIV/0!"},{"$error":"#DIV/0!"}]
[null,null,null,null,null,979,19.580000000000002,30.307500000000001,23.9013671875,{"$f":"FOURIER!M981","v":0},{"$f":"FOURIER!N981","v":0},null,null,150.17671913400429,null,null,null,null,0,0,null,null,null,null,null,null,0,30.307500000000001,null,null,null,null,null,null,null,null,null,null,null,null,null,19.580000000000002,-8.66,0,{"$error":"#DIV/0!"},{"$error":"#DIV/0!"}]
[null,null,null,null,null,980,19.600000000000001,25.087599999999998,23.92578125,{"$f":"FOURIER!M982","v":0},{"$f":"FOURIER!N982","v":0},null,null,150.33011721279283,null,null,null,null,0,0,null,null,null,null,null,null,0,25.087599999999998,null,null,null,null,null,null,null,null,null,null,null,null,null,19.600000000000001,-8.3119999999999994,0,{"$error":"#DIV/0!"},{"$error":"#DIV/0!"}]
[null,null,null,null,null,981,19.62,16.357900000000001,23.9501953125,{"$f":"FOURIER!M983","v":0},{"$f":"FOURIER!N983","v":0},null,null,150.4835152915814,null,null,null,null,0,0,null,null,null,null,null,null,0,16.357900000000001,null,null,null,null,null,null,null,null,null,null,null,null,null,19.62,-7.9379999999999997,0,{"$error":"#DIV/0!"},{"$error":"#DIV/0!"}]
[null,null,null,null,null,982,19.64,12.938000000000001,23.974609375,{"$f":"FOURIER!M984","v":0},{"$f":"FOURIER!N984","v":0},null,null,150.63691337036997,null,null,null,null,0,0,null,null,null,null,null,null,0,12.938000000000001,null,null,null,null,null,null,null,null,null,null,null,null,null,19.64,-7.5430000000000001,0,{"$error":"#DIV/0!"},{"$error":"#DIV/0!"}]
[null,null,null,null,null,983,19.66,15.278,23.9990234375,{"$f":"FOURIER!M985","v":0},{"$f":"FOURIER!N985","v":0},null,null,150.79031144915854,null,null,null,null,0,0,null,null,null,null,null,null,0,15.278,null,null,null,null,null,null,null,null,null,null,null,null,null,19.66,-7.1289999999999996,0,{"$error":"#DIV/0!"},{"$error":"#DIV/0!"}]
[null,null,null,null,null,984,19.68,13.718,24.0234375,{"$f":"FOURIER!M986","v":0},{"$f":"FOURIER!N986","v":0},null,null,150.94370952794711,null,null,null,null,0,0,null,null,null,null,null,null,0,13.718,null,null,null,null,null,null,null,null,null,null,null,null,null,19.68,-6.6970000000000001,0,{"$error":"#DIV/0!"},{"$error":"#DIV/0!"}]
[null,null,null,null,null,985,19.7,11.7081,24.0478515625,{"$f":"FOURIER!M987","v":0},{"$f":"FOURIER!N987","v":0},null,null,151.09710760673568,null,null,null,null,0,0,null,null,null,null,null,null,0,11.7081,null,null,null,null,null,null,null,null,null,null,null,null,null,19.7,-6.2480000000000002,0,{"$error":"#DIV/0!"},{"$error":"#DIV/0!"}]
[null,null,null,null,null,986,19.72,14.378,24.072265625,{"$f":"FOURIER!M988","v":0},{"$f":"FOURIER!N988","v":0},null,null,151.25050568552422,null,null,null,null,0,0,null,null,null,null,null,null,0,14.378,null,null,null,null,null,null,null,null,null,null,null,null,null,19.72,-5.7830000000000004,0,{"$error":"#DIV/0!"},{"$error":"#DIV/0!"}]
[null,null,null,null,null,987,19.740000000000002,14.917999999999999,24.0966796875,{"$f":"FOURIER!M989","v":0},{"$f":"FOURIER!N989","v":0},null,null,151.40390376431279,null,null,null,null,0,0,null,null,null,null,null,null,0,14.917999999999999,null,null,null,null,null,null,null,null,null,null,null,null,null,19.740000000000002,-5.3019999999999996,0,{"$error":"#DIV/0!"},{"$error":"#DIV/0!"}]
[null,null,null,null,null,988,19.760000000000002,10.598100000000001,24.12109375,{"$f":"FOURIER!M990","v":0},{"$f":"FOURIER!N990","v":0},null,null,151.55730184310136,null,null,null,null,0,0,null,null,null,null,null,null,0,10.598100000000001,null,null,null,null,null,null,null,null,null,null,null,null,null,19.760000000000002,-4.8079999999999998,0,{"$error":"#DIV/0!"},{"$error":"#DIV/0!"}]
[null,null,null,null,null,989,19.78,7.2081999999999997,24.1455078125,{"$f":"FOURIER!M991","v":0},{"$f":"FOURIER!N991","v":0},null,null,151.71069992188993,null,null,null,null,0,0,null,null,null,null,null,null,0,7.2081999999999997,null,null,null,null,null,null,null,null,null,null,null,null,null,19.78,-4.3010000000000002,0,{"$error":"#DIV/0!"},{"$error":"#DIV/0!"}]
[null,null,null,null,null,990,19.8,9.5782000000000007,24.169921875,{"$f":"FOURIER!M992","v":0},{"$f":"FOURIER!N992","v":0},null,null,151.8640980006785,null,null,null,null,0,0,null,null,null,null,null,null,0,9.5782000000000007,null,null,null,null,null,null,null,null,null,null,null,null,null,19.8,-3.7850000000000001,0,{"$error":"#DIV/0!"},{"$error":"#DIV/0!"}]
[null,null,null,null,null,991,19.82,10.7781,24.1943359375,{"$f":"FOURIER!M993","v":0},{"$f":"FOURIER!N993","v":0},null,null,152.01749607946704,null,null,null,null,0,0,null,null,null,null,null,null,0,10.7781,null,null,null,null,null,null,null,null,null,null,null,null,null,19.82,-3.2589999999999999,0,{"$error":"#DIV/0!"},{"$error":"#DIV/0!"}]
[null,null,null,null,null,992,19.84,9.0381999999999998,24.21875,{"$f":"FOURIER!M994","v":0},{"$f":"FOURIER!N994","v":0},null,null,152.17089415825561,null,null,null,null,0,0,null,null,null,null,null,null,0,9.0381999999999998,null,null,null,null,null,null,null,null,null,null,null,null,null,19.84,-2.7250000000000001,0,{"$error":"#DIV/0!"},{"$error":"#DIV/0!"}]
[null,null,null,null,null,993,19.86,10.2082,24.2431640625,{"$f":"FOURIER!M995","v":0},{"$f":"FOURIER!N995","v":0},null,null,152.32429223704418,null,null,null,null,0,0,null,null,null,null,null,null,0,10.2082,null,null,null,null,null,null,null,null,null,null,null,null,null,19.86,-2.1840000000000002,0,{"$error":"#DIV/0!"},{"$error":"#DIV/0!"}]
[null,null,null,null,null,994,19.88,6.9983000000000004,24.267578125,{"$f":"FOURIER!M996","v":0},{"$f":"FOURIER!N996","v":0},null,null,152.47769031583275,null,null,null,null,0,0,null,null,null,null,null,null,0,6.9983000000000004,null,null,null,null,null,null,null,null,null,null,null,null,null,19.88,-1.637,0,{"$error":"#DIV/0!"},{"$error":"#DIV/0!"}]
[null,null,null,null,null,995,19.900000000000002,-4.2813999999999997,24.2919921875,{"$f":"FOURIER!M997","v":0},{"$f":"FOURIER!N997","v":0},null,null,152.63108839462132,null,null,null,null,0,0,null,null,null,null,null,null,0,-4.2813999999999997,null,null,null,null,null,null,null,null,null,null,null,null,null,19.900000000000002,-1.0860000000000001,0,{"$error":"#DIV/0!"},{"$error":"#DIV/0!"}]
[null,null,null,null,null,996,19.920000000000002,-12.2011,24.31640625,{"$f":"FOURIER!M998","v":0},{"$f":"FOURIER!N998","v":0},null,null,152.78448647340986,null,null,null,null,0,0,null,null,null,null,null,null,0,-12.2011,null,null,null,null,null,null,null,null,null,null,null,null,null,19.920000000000002,-0.53600000000000003,0,{"$error":"#DIV/0!"},{"$error":"#DIV/0!"}]
[null,null,null,null,null,997,19.940000000000001,-13.671099999999999,24.3408203125,{"$f":"FOURIER!M999","v":0},{"$f":"FOURIER!N999","v":0},null,null,152.93788455219843,null,null,null,null,0,0,null,null,null,null,null,null,0,-13.671099999999999,null,null,null,null,null,null,null,null,null,null,null,null,null,19.940000000000001,7.0000000000000001E-3,0,{"$error":"#DIV/0!"},{"$error":"#DIV/0!"}]
[null,null,null,null,null,998,19.96,-12.8611,24.365234375,{"$f":"FOURIER!M1000","v":0},{"$f":"FOURIER!N1000","v":0},null,null,153.091282630987,null,null,null,null,0,0,null,null,null,null,null,null,0,-12.8611,null,null,null,null,null,null,null,null,null,null,null,null,null,19.96,0.54300000000000004,0,{"$error":"#DIV/0!"},{"$error":"#DIV/0!"}]
[null,null,null,null,null,999,19.98,-10.761200000000001,24.3896484375,{"$f":"FOURIER!M1001","v":0},{"$f":"FOURIER!N1001","v":0},null,null,153.24468070977557,null,null,null,null,0,0,null,null,null,null,null,null,0,-10.761200000000001,null,null,null,null,null,null,null,null,null,null,null,null,null,19.98,1.071,0,{"$error":"#DIV/0!"},{"$error":"#DIV/0!"}]
[null,null,null,null,null,1000,20,-4.7613000000000003,24.4140625,{"$f":"FOURIER!M1002","v":0},{"$f":"FOURIER!N1002","v":0},null,null,153.39807878856413,null,null,null,null,0,0,null,null,null,null,null,null,0,-4.7613000000000003,null,null,null,null,null,null,null,null,null,null,null,null,null,20,1.59,0,{"$error":"#DIV/0!"},{"$error":"#DIV/0!"}]
[null,null,null,null,null,1001,20.02,0.45850000000000002,24.4384765625,{"$f":"FOURIER!M1003","v":0},{"$f":"FOURIER!N1003","v":0},null,null,153.55147686735268,null,null,null,null,0,0,null,null,null,null,null,null,0,0.45850000000000002,null,null,null,null,null,null,null,null,null,null,null,null,null,20.02,2.1019999999999999,0,{"$error":"#DIV/0!"},{"$error":"#DIV/0!"}]
[null,null,null,null,null,1002,20.04,-1.9114,24.462890625,{"$f":"FOURIER!M1004","v":0},{"$f":"FOURIER!N1004","v":0},null,null,153.70487494614125,null,null,null,null,0,0,null,null,null,null,null,null,0,-1.9114,null,null,null,null,null,null,null,null,null,null,null,null,null,20.04,2.6080000000000001,0,{"$error":"#DIV/0!"},{"$error":"#DIV/0!"}]
[null,null,null,null,null,1003,20.059999999999999,-7.0113000000000003,24.4873046875,{"$f":"FOURIER!M1005","v":0},{"$f":"FOURIER!N1005","v":0},null,null,153.85827302492982,null,null,null,null,0,0,null,null,null,null,null,null,0,-7.0113000000000003,null,null,null,null,null,null,null,null,null,null,null,null,null,20.059999999999999,3.105,0,{"$error":"#DIV/0!"},{"$error":"#DIV/0!"}]
[null,null,null,null,null,1004,20.080000000000002,-8.5112000000000005,24.51171875,{"$f":"FOURIER!M1006","v":0},{"$f":"FOURIER!N1006","v":0},null,null,154.01167110371838,null,null,null,null,0,0,null,null,null,null,null,null,0,-8.5112000000000005,null,null,null,null,null,null,null,null,null,null,null,null,null,20.080000000000002,3.5920000000000001,0,{"$error":"#DIV/0!"},{"$error":"#DIV/0!"}]
[null,null,null,null,null,1005,20.100000000000001,-8.4811999999999994,24.5361328125,{"$f":"FOURIER!M1007","v":0},{"$f":"FOURIER!N1007","v":0},null,null,154.16506918250695,null,null,null,null,0,0,null,null,null,null,null,null,0,-8.4811999999999994,null,null,null,null,null,null,null,null,null,null,null,null,null,20.100000000000001,4.0659999999999998,0,{"$error":"#DIV/0!"},{"$error":"#DIV/0!"}]
[null,null,null,null,null,1006,20.12,-8.8412000000000006,24.560546875,{"$f":"FOURIER!M1008","v":0},{"$f":"FOURIER!N1008","v":0},null,null,154.3184672612955,null,null,null,null,0,0,null,null,null,null,null,null,0,-8.8412000000000006,null,null,null,null,null,null,null,null,null,null,null,null,null,20.12,4.5270000000000001,0,{"$error":"#DIV/0!"},{"$error":"#DIV/0!"}]
[null,null,null,null,null,1007,20.14,-7.3411999999999997,24.5849609375,{"$f":"FOURIER!M1009","v":0},{"$f":"FOURIER!N1009","v":0},null,null,154.47186534008407,null,null,null,null,0,0,null,null,null,null,null,null,0,-7.3411999999999997,null,null,null,null,null,null,null,null,null,null,null,null,null,20.14,4.9740000000000002,0,{"$error":"#DIV/0!"},{"$error":"#DIV/0!"}]
[null,null,null,null,null,1008,20.16,-7.4912000000000001,24.609375,{"$f":"FOURIER!M1010","v":0},{"$f":"FOURIER!N1010","v":0},null,null,154.62526341887263,null,null,null,null,0,0,null,null,null,null,null,null,0,-7.4912000000000001,null,null,null,null,null,null,null,null,null,null,null,null,null,20.16,5.4059999999999997,0,{"$error":"#DIV/0!"},{"$error":"#DIV/0!"}]
[null,null,null,null,null,1009,20.18,-9.8611000000000004,24.6337890625,{"$f":"FOURIER!M1011","v":0},{"$f":"FOURIER!N1011","v":0},null,null,154.7786614976612,null,null,null,null,0,0,null,null,null,null,null,null,0,-9.8611000000000004,null,null,null,null,null,null,null,null,null,null,null,null,null,20.18,5.8220000000000001,0,{"$error":"#DIV/0!"},{"$error":"#DIV/0!"}]
[null,null,null,null,null,1010,20.2,-8.0312000000000001,24.658203125,{"$f":"FOURIER!M1012","v":0},{"$f":"FOURIER!N1012","v":0},null,null,154.93205957644977,null,null,null,null,0,0,null,null,null,null,null,null,0,-8.0312000000000001,null,null,null,null,null,null,null,null,null,null,null,null,null,20.2,6.2210000000000001,0,{"$error":"#DIV/0!"},{"$error":"#DIV/0!"}]
[null,null,null,null,null,1011,20.22,-5.8712999999999997,24.6826171875,{"$f":"FOURIER!M1013","v":0},{"$f":"FOURIER!N1013","v":0},null,null,155.08545765523834,null,null,null,null,0,0,null,null,null,null,null,null,0,-5.8712999999999997,null,null,null,null,null,null,null,null,null,null,null,null,null,20.22,6.6029999999999998,0,{"$error":"#DIV/0!"},{"$error":"#DIV/0!"}]
[null,null,null,null,null,1012,20.240000000000002,-6.2611999999999997,24.70703125,{"$f":"FOURIER!M1014","v":0},{"$f":"FOURIER!N1014","v":0},null,null,155.23885573402688,null,null,null,null,0,0,null,null,null,null,null,null,0,-6.2611999999999997,null,null,null,null,null,null,null,null,null,null,null,null,null,20.240000000000002,6.968,0,{"$error":"#DIV/0!"},{"$error":"#DIV/0!"}]
[null,null,null,null,null,1013,20.260000000000002,-3.6513,24.7314453125,{"$f":"FOURIER!M1015","v":0},{"$f":"FOURIER!N1015","v":0},null,null,155.39225381281545,null,null,null,null,0,0,null,null,null,null,null,null,0,-3.6513,null,null,null,null,null,null,null,null,null,null,null,null,null,20.260000000000002,7.3150000000000004,0,{"$error":"#DIV/0!"},{"$error":"#DIV/0!"}]
[null,null,null,null,null,1014,20.28,-2.5112999999999999,24.755859375,{"$f":"FOURIER!M1016","v":0},{"$f":"FOURIER!N1016","v":0},null,null,155.54565189160402,null,null,null,null,0,0,null,null,null,null,null,null,0,-2.5112999999999999,null,null,null,null,null,null,null,null,null,null,null,null,null,20.28,7.6440000000000001,0,{"$error":"#DIV/0!"},{"$error":"#DIV/0!"}]
[null,null,null,null,null,1015,20.3,-3.5613000000000001,24.7802734375,{"$f":"FOURIER!M1017","v":0},{"$f":"FOURIER!N1017","v":0},null,null,155.69904997039259,null,null,null,null,0,0,null,null,null,null,null,null,0,-3.5613000000000001,null,null,null,null,null,null,null,null,null,null,null,null,null,20.3,7.9560000000000004,0,{"$error":"#DIV/0!"},{"$error":"#DIV/0!"}]
[null,null,null,null,null,1016,20.32,-2.6913,24.8046875,{"$f":"FOURIER!M1018","v":0},{"$f":"FOURIER!N1018","v":0},null,null,155.85244804918116,null,null,null,null,0,0,null,null,null,null,null,null,0,-2.6913,null,null,null,null,null,null,null,null,null,null,null,null,null,20.32,8.2490000000000006,0,{"$error":"#DIV/0!"},{"$error":"#DIV/0!"}]
[null,null,null,null,null,1017,20.34,-4.4612999999999996,24.8291015625,{"$f":"FOURIER!M1019","v":0},{"$f":"FOURIER!N1019","v":0},null,null,156.0058461279697,null,null,null,null,0,0,null,null,null,null,null,null,0,-4.4612999999999996,null,null,null,null,null,null,null,null,null,null,null,null,null,20.34,8.5239999999999991,0,{"$error":"#DIV/0!"},{"$error":"#DIV/0!"}]
[null,null,null,null,null,1018,20.36,-11.4511,24.853515625,{"$f":"FOURIER!M1020","v":0},{"$f":"FOURIER!N1020","v":0},null,null,156.15924420675827,null,null,null,null,0,0,null,null,null,null,null,null,0,-11.4511,null,null,null,null,null,null,null,null,null,null,null,null,null,20.36,8.7780000000000005,0,{"$error":"#DIV/0!"},{"$error":"#DIV/0!"}]
[null,null,null,null,null,1019,20.38,-18.710799999999999,24.8779296875,{"$f":"FOURIER!M1021","v":0},{"$f":"FOURIER!N1021","v":0},null,null,156.31264228554684,null,null,null,null,0,0,null,null,null,null,null,null,0,-18.710799999999999,null,null,null,null,null,null,null,null,null,null,null,null,null,20.38,9.01,0,{"$error":"#DIV/0!"},{"$error":"#DIV/0!"}]
[null,null,null,null,null,1020,20.400000000000002,-21.8307,24.90234375,{"$f":"FOURIER!M1022","v":0},{"$f":"FOURIER!N1022","v":0},null,null,156.46604036433541,null,null,null,null,0,0,null,null,null,null,null,null,0,-21.8307,null,null,null,null,null,null,null,null,null,null,null,null,null,20.400000000000002,9.2149999999999999,0,{"$error":"#DIV/0!"},{"$error":"#DIV/0!"}]
[null,null,null,null,null,1021,20.420000000000002,-20.6008,24.9267578125,{"$f":"FOURIER!M1023","v":0},{"$f":"FOURIER!N1023","v":0},null,null,156.61943844312398,null,null,null,null,0,0,null,null,null,null,null,null,0,-20.6008,null,null,null,null,null,null,null,null,null,null,null,null,null,20.420000000000002,9.3919999999999995,0,{"$error":"#DIV/0!"},{"$error":"#DIV/0!"}]
[null,null,null,null,null,1022,20.440000000000001,-15.350899999999999,24.951171875,{"$f":"FOURIER!M1024","v":0},{"$f":"FOURIER!N1024","v":0},null,null,156.77283652191252,null,null,null,null,0,0,null,null,null,null,null,null,0,-15.350899999999999,null,null,null,null,null,null,null,null,null,null,null,null,null,20.440000000000001,9.5419999999999998,0,{"$error":"#DIV/0!"},{"$error":"#DIV/0!"}]
[null,null,null,null,null,1023,20.46,-6.5312000000000001,24.9755859375,{"$f":"FOURIER!M1025","v":0},{"$f":"FOURIER!N1025","v":0},null,null,156.92623460070109,null,null,null,null,0,0,null,null,null,null,null,null,0,-6.5312000000000001,null,null,null,null,null,null,null,null,null,null,null,null,null,20.46,9.6649999999999991,0,{"$error":"#DIV/0!"},{"$error":"#DIV/0!"}]
[null,null,null,null,null,1024,20.48,6.2484000000000002,25,{"$f":"FOURIER!M1026","v":0},{"$f":"FOURIER!N1026","v":0},null,null,{"$f":"2*PI()/B$9/B$6*F1026","v":157.07963267948966},null,null,null,null,{"$f":"J1026*O1026-K1026*P1026","v":0},{"$f":"J1026*P1026+K1026*O1026","v":0},null,null,null,null,null,null,0,6.2484000000000002,null,null,null,null,null,null,null,null,null,null,null,null,null,{"$f":"G1026","v":20.48},9.7669999999999995,0,{"$error":"#DIV/0!"},{"$error":"#DIV/0!"}]
[null,null,null,null,null,1025,{"$f":"B$6*F1027","v":20.5},20.558,{"$f":"F1027/B$9/B$6","v":25.0244140625},{"$f":"FOURIER!M1027","v":0},{"$f":"FOURIER!N1027","v":0},null,null,157.23303075827823,null,null,null,null,0,0,null,null,null,null,null,null,{"$f":"(Y1027-Y1026)/B$6","v":0},{"$f":"(AA1027-AA1026)/B$6+H1027","v":20.558},null,null,null,null,null,null,null,null,null,null,null,null,null,20.5,9.8520000000000003,0,{"$f":"(AQ1027-AQ1026)/O$6","v":{"$error":"#DIV/0!"}},{"$f":"(AS1027-AS1026)/O$6+S1027","v":{"$error":"#DIV/0!"}}]
[null,null,null,null,null,1026,20.52,31.957699999999999,25.048828125,{"$f":"FOURIER!M1028","v":0},{"$f":"FOURIER!N1028","v":0},null,null,157.3864288370668,null,null,null,null,0,0,null,null,null,null,null,null,0,31.957699999999999,null,null,null,null,null,null,null,null,null,null,null,null,null,20.52,9.9239999999999995,0,{"$error":"#DIV/0!"},{"$error":"#DIV/0!"}]
[null,null,null,null,null,1027,20.54,37.6875,25.0732421875,{"$f":"FOURIER!M1029","v":0},{"$f":"FOURIER!N1029","v":0},null,null,157.53982691585534,null,null,null,null,0,0,null,null,null,null,null,null,0,37.6875,null,null,null,null,null,null,null,null,null,null,null,null,null,20.54,9.9890000000000008,0,{"$error":"#DIV/0!"},{"$error":"#DIV/0!"}]
[null,null,null,null,null,1028,20.56,38.287500000000001,25.09765625,{"$f":"FOURIER!M1030","v":0},{"$f":"FOURIER!N1030","v":0},null,null,157.69322499464391,null,null,null,null,0,0,null,null,null,null,null,null,0,38.287500000000001,null,null,null,null,null,null,null,null,null,null,null,null,null,20.56,10.048,0,{"$error":"#DIV/0!"},{"$error":"#DIV/0!"}]
[null,null,null,null,null,1029,20.580000000000002,31.837700000000002,25.1220703125,{"$f":"FOURIER!M1031","v":0},{"$f":"FOURIER!N1031","v":0},null,null,157.84662307343248,null,null,null,null,0,0,null,null,null,null,null,null,0,31.837700000000002,null,null,null,null,null,null,null,null,null,null,null,null,null,20.580000000000002,10.103,0,{"$error":"#DIV/0!"},{"$error":"#DIV/0!"}]
[null,null,null,null,null,1030,20.6,19.118099999999998,25.146484375,{"$f":"FOURIER!M1032","v":0},{"$f":"FOURIER!N1032","v":0},null,null,158.00002115222105,null,null,null,null,0,0,null,null,null,null,null,null,0,19.118099999999998,null,null,null,null,null,null,null,null,null,null,null,null,null,20.6,10.148999999999999,0,{"$error":"#DIV/0!"},{"$error":"#DIV/0!"}]
[null,null,null,null,null,1031,20.62,5.6784999999999997,25.1708984375,{"$f":"FOURIER!M1033","v":0},{"$f":"FOURIER!N1033","v":0},null,null,158.15341923100962,null,null,null,null,0,0,null,null,null,null,null,null,0,5.6784999999999997,null,null,null,null,null,null,null,null,null,null,null,null,null,20.62,10.183,0,{"$error":"#DIV/0!"},{"$error":"#DIV/0!"}]
[null,null,null,null,null,1032,20.64,-7.5510999999999999,25.1953125,{"$f":"FOURIER!M1034","v":0},{"$f":"FOURIER!N1034","v":0},null,null,158.30681730979816,null,null,null,null,0,0,null,null,null,null,null,null,0,-7.5510999999999999,null,null,null,null,null,null,null,null,null,null,null,null,null,20.64,10.198,0,{"$error":"#DIV/0!"},{"$error":"#DIV/0!"}]
[null,null,null,null,null,1033,20.66,-22.340599999999998,25.2197265625,{"$f":"FOURIER!M1035","v":0},{"$f":"FOURIER!N1035","v":0},null,null,158.46021538858673,null,null,null,null,0,0,null,null,null,null,null,null,0,-22.340599999999998,null,null,null,null,null,null,null,null,null,null,null,null,null,20.66,10.19,0,{"$error":"#DIV/0!"},{"$error":"#DIV/0!"}]
[null,null,null,null,null,1034,20.68,-34.970300000000002,25.244140625,{"$f":"FOURIER!M1036","v":0},{"$f":"FOURIER!N1036","v":0},null,null,158.6136134673753,null,null,null,null,0,0,null,null,null,null,null,null,0,-34.970300000000002,null,null,null,null,null,null,null,null,null,null,null,null,null,20.68,10.153,0,{"$error":"#DIV/0!"},{"$error":"#DIV/0!"}]
[null,null,null,null,null,1035,20.7,-42.92,25.2685546875,{"$f":"FOURIER!M1037","v":0},{"$f":"FOURIER!N1037","v":0},null,null,158.76701154616387,null,null,null,null,0,0,null,null,null,null,null,null,0,-42.92,null,null,null,null,null,null,null,null,null,null,null,null,null,20.7,10.082000000000001,0,{"$error":"#DIV/0!"},{"$error":"#DIV/0!"}]
[null,null,null,null,null,1036,20.72,-43.85,25.29296875,{"$f":"FOURIER!M1038","v":0},{"$f":"FOURIER!N1038","v":0},null,null,158.92040962495244,null,null,null,null,0,0,null,null,null,null,null,null,0,-43.85,null,null,null,null,null,null,null,null,null,null,null,null,null,20.72,9.9740000000000002,0,{"$error":"#DIV/0!"},{"$error":"#DIV/0!"}]
[null,null,null,null,null,1037,20.740000000000002,-36.380200000000002,25.3173828125,{"$f":"FOURIER!M1039","v":0},{"$f":"FOURIER!N1039","v":0},null,null,159.07380770374098,null,null,null,null,0,0,null,null,null,null,null,null,0,-36.380200000000002,null,null,null,null,null,null,null,null,null,null,null,null,null,20.740000000000002,9.8290000000000006,0,{"$error":"#DIV/0!"},{"$error":"#DIV/0!"}]
[null,null,null,null,null,1038,20.76,-26.5105,25.341796875,{"$f":"FOURIER!M1040","v":0},{"$f":"FOURIER!N1040","v":0},null,null,159.22720578252955,null,null,null,null,0,0,null,null,null,null,null,null,0,-26.5105,null,null,null,null,null,null,null,null,null,null,null,null,null,20.76,9.6509999999999998,0,{"$error":"#DIV/0!"},{"$error":"#DIV/0!"}]
[null,null,null,null,null,1039,20.78,-18.140699999999999,25.3662109375,{"$f":"FOURIER!M1041","v":0},{"$f":"FOURIER!N1041","v":0},null,null,159.38060386131812,null,null,null,null,0,0,null,null,null,null,null,null,0,-18.140699999999999,null,null,null,null,null,null,null,null,null,null,null,null,null,20.78,9.4429999999999996,0,{"$error":"#DIV/0!"},{"$error":"#DIV/0!"}]
[null,null,null,null,null,1040,20.8,-8.4209999999999994,25.390625,{"$f":"FOURIER!M1042","v":0},{"$f":"FOURIER!N1042","v":0},null,null,159.53400194010669,null,null,null,null,0,0,null,null,null,null,null,null,0,-8.4209999999999994,null,null,null,null,null,null,null,null,null,null,null,null,null,20.8,9.2100000000000009,0,{"$error":"#DIV/0!"},{"$error":"#DIV/0!"}]
[null,null,null,null,null,1041,20.82,2.6486000000000001,25.4150390625,{"$f":"FOURIER!M1043","v":0},{"$f":"FOURIER!N1043","v":0},null,null,159.68740001889526,null,null,null,null,0,0,null,null,null,null,null,null,0,2.6486000000000001,null,null,null,null,null,null,null,null,null,null,null,null,null,20.82,8.9570000000000007,0,{"$error":"#DIV/0!"},{"$error":"#DIV/0!"}]
[null,null,null,null,null,1042,20.84,11.2584,25.439453125,{"$f":"FOURIER!M1044","v":0},{"$f":"FOURIER!N1044","v":0},null,null,159.84079809768383,null,null,null,null,0,0,null,null,null,null,null,null,0,11.2584,null,null,null,null,null,null,null,null,null,null,null,null,null,20.84,8.6869999999999994,0,{"$error":"#DIV/0!"},{"$error":"#DIV/0!"}]
[null,null,null,null,null,1043,20.86,16.058199999999999,25.4638671875,{"$f":"FOURIER!M1045","v":0},{"$f":"FOURIER!N1045","v":0},null,null,159.99419617647237,null,null,null,null,0,0,null,null,null,null,null,null,0,16.058199999999999,null,null,null,null,null,null,null,null,null,null,null,null,null,20.86,8.4060000000000006,0,{"$error":"#DIV/0!"},{"$error":"#DIV/0!"}]
[null,null,null,null,null,1044,20.88,18.578099999999999,25.48828125,{"$f":"FOURIER!M1046","v":0},{"$f":"FOURIER!N1046","v":0},null,null,160.14759425526094,null,null,null,null,0,0,null,null,null,null,null,null,0,18.578099999999999,null,null,null,null,null,null,null,null,null,null,null,null,null,20.88,8.1159999999999997,0,{"$error":"#DIV/0!"},{"$error":"#DIV/0!"}]
[null,null,null,null,null,1045,20.900000000000002,18.7881,25.5126953125,{"$f":"FOURIER!M1047","v":0},{"$f":"FOURIER!N1047","v":0},null,null,160.30099233404951,null,null,null,null,0,0,null,null,null,null,null,null,0,18.7881,null,null,null,null,null,null,null,null,null,null,null,null,null,20.900000000000002,7.8170000000000002,0,{"$error":"#DIV/0!"},{"$error":"#DIV/0!"}]
[null,null,null,null,null,1046,20.92,16.2682,25.537109375,{"$f":"FOURIER!M1048","v":0},{"$f":"FOURIER!N1048","v":0},null,null,160.45439041283808,null,null,null,null,0,0,null,null,null,null,null,null,0,16.2682,null,null,null,null,null,null,null,null,null,null,null,null,null,20.92,7.5119999999999996,0,{"$error":"#DIV/0!"},{"$error":"#DIV/0!"}]
[null,null,null,null,null,1047,20.94,9.3084000000000007,25.5615234375,{"$f":"FOURIER!M1049","v":0},{"$f":"FOURIER!N1049","v":0},null,null,160.60778849162665,null,null,null,null,0,0,null,null,null,null,null,null,0,9.3084000000000007,null,null,null,null,null,null,null,null,null,null,null,null,null,20.94,7.1989999999999998,0,{"$error":"#DIV/0!"},{"$error":"#DIV/0!"}]
[null,null,null,null,null,1048,20.96,-0.86119999999999997,25.5859375,{"$f":"FOURIER!M1050","v":0},{"$f":"FOURIER!N1050","v":0},null,null,160.76118657041519,null,null,null,null,0,0,null,null,null,null,null,null,0,-0.86119999999999997,null,null,null,null,null,null,null,null,null,null,null,null,null,20.96,6.8769999999999998,0,{"$error":"#DIV/0!"},{"$error":"#DIV/0!"}]
[null,null,null,null,null,1049,20.98,-7.641,25.6103515625,{"$f":"FOURIER!M1051","v":0},{"$f":"FOURIER!N1051","v":0},null,null,160.91458464920376,null,null,null,null,0,0,null,null,null,null,null,null,0,-7.641,null,null,null,null,null,null,null,null,null,null,null,null,null,20.98,6.5419999999999998,0,{"$error":"#DIV/0!"},{"$error":"#DIV/0!"}]
[null,null,null,null,null,1050,21,-10.790900000000001,25.634765625,{"$f":"FOURIER!M1052","v":0},{"$f":"FOURIER!N1052","v":0},null,null,161.06798272799233,null,null,null,null,0,0,null,null,null,null,null,null,0,-10.790900000000001,null,null,null,null,null,null,null,null,null,null,null,null,null,21,6.1920000000000002,0,{"$error":"#DIV/0!"},{"$error":"#DIV/0!"}]
[null,null,null,null,null,1051,21.02,-14.7508,25.6591796875,{"$f":"FOURIER!M1053","v":0},{"$f":"FOURIER!N1053","v":0},null,null,161.2213808067809,null,null,null,null,0,0,null,null,null,null,null,null,0,-14.7508,null,null,null,null,null,null,null,null,null,null,null,null,null,21.02,5.827,0,{"$error":"#DIV/0!"},{"$error":"#DIV/0!"}]
[null,null,null,null,null,1052,21.04,-17.090699999999998,25.68359375,{"$f":"FOURIER!M1054","v":0},{"$f":"FOURIER!N1054","v":0},null,null,161.37477888556947,null,null,null,null,0,0,null,null,null,null,null,null,0,-17.090699999999998,null,null,null,null,null,null,null,null,null,null,null,null,null,21.04,5.4459999999999997,0,{"$error":"#DIV/0!"},{"$error":"#DIV/0!"}]
[null,null,null,null,null,1053,21.06,-15.1708,25.7080078125,{"$f":"FOURIER!M1055","v":0},{"$f":"FOURIER!N1055","v":0},null,null,161.52817696435801,null,null,null,null,0,0,null,null,null,null,null,null,0,-15.1708,null,null,null,null,null,null,null,null,null,null,null,null,null,21.06,5.0490000000000004,0,{"$error":"#DIV/0!"},{"$error":"#DIV/0!"}]
[null,null,null,null,null,1054,21.080000000000002,-11.4809,25.732421875,{"$f":"FOURIER!M1056","v":0},{"$f":"FOURIER!N1056","v":0},null,null,161.68157504314658,null,null,null,null,0,0,null,null,null,null,null,null,0,-11.4809,null,null,null,null,null,null,null,null,null,null,null,null,null,21.080000000000002,4.6379999999999999,0,{"$error":"#DIV/0!"},{"$error":"#DIV/0!"}]
[null,null,null,null,null,1055,21.1,-6.1710000000000003,25.7568359375,{"$f":"FOURIER!M1057","v":0},{"$f":"FOURIER!N1057","v":0},null,null,161.83497312193515,null,null,null,null,0,0,null,null,null,null,null,null,0,-6.1710000000000003,null,null,null,null,null,null,null,null,null,null,null,null,null,21.1,4.2140000000000004,0,{"$error":"#DIV/0!"},{"$error":"#DIV/0!"}]
[null,null,null,null,null,1056,21.12,1.1487000000000001,25.78125,{"$f":"FOURIER!M1058","v":0},{"$f":"FOURIER!N1058","v":0},null,null,161.98837120072372,null,null,null,null,0,0,null,null,null,null,null,null,0,1.1487000000000001,null,null,null,null,null,null,null,null,null,null,null,null,null,21.12,3.7810000000000001,0,{"$error":"#DIV/0!"},{"$error":"#DIV/0!"}]
[null,null,null,null,null,1057,21.14,4.5686,25.8056640625,{"$f":"FOURIER!M1059","v":0},{"$f":"FOURIER!N1059","v":0},null,null,162.14176927951229,null,null,null,null,0,0,null,null,null,null,null,null,0,4.5686,null,null,null,null,null,null,null,null,null,null,null,null,null,21.14,3.343,0,{"$error":"#DIV/0!"},{"$error":"#DIV/0!"}]
[null,null,null,null,null,1058,21.16,1.9587000000000001,25.830078125,{"$f":"FOURIER!M1060","v":0},{"$f":"FOURIER!N1060","v":0},null,null,162.29516735830083,null,null,null,null,0,0,null,null,null,null,null,null,0,1.9587000000000001,null,null,null,null,null,null,null,null,null,null,null,null,null,21.16,2.9009999999999998,0,{"$error":"#DIV/0!"},{"$error":"#DIV/0!"}]
[null,null,null,null,null,1059,21.18,-1.0711999999999999,25.8544921875,{"$f":"FOURIER!M1061","v":0},{"$f":"FOURIER!N1061","v":0},null,null,162.4485654370894,null,null,null,null,0,0,null,null,null,null,null,null,0,-1.0711999999999999,null,null,null,null,null,null,null,null,null,null,null,null,null,21.18,2.456,0,{"$error":"#DIV/0!"},{"$error":"#DIV/0!"}]
[null,null,null,null,null,1060,21.2,-2.6311,25.87890625,{"$f":"FOURIER!M1062","v":0},{"$f":"FOURIER!N1062","v":0},null,null,162.60196351587797,null,null,null,null,0,0,null,null,null,null,null,null,0,-2.6311,null,null,null,null,null,null,null,null,null,null,null,null,null,21.2,2.008,0,{"$error":"#DIV/0!"},{"$error":"#DIV/0!"}]
[null,null,null,null,null,1061,21.22,-2.3010999999999999,25.9033203125,{"$f":"FOURIER!M1063","v":0},{"$f":"FOURIER!N1063","v":0},null,null,162.75536159466654,null,null,null,null,0,0,null,null,null,null,null,null,0,-2.3010999999999999,null,null,null,null,null,null,null,null,null,null,null,null,null,21.22,1.556,0,{"$error":"#DIV/0!"},{"$error":"#DIV/0!"}]
[null,null,null,null,null,1062,21.240000000000002,-1.0711999999999999,25.927734375,{"$f":"FOURIER!M1064","v":0},{"$f":"FOURIER!N1064","v":0},null,null,162.90875967345511,null,null,null,null,0,0,null,null,null,null,null,null,0,-1.0711999999999999,null,null,null,null,null,null,null,null,null,null,null,null,null,21.240000000000002,1.103,0,{"$error":"#DIV/0!"},{"$error":"#DIV/0!"}]
[null,null,null,null,null,1063,21.26,-2.3311000000000002,25.9521484375,{"$f":"FOURIER!M1065","v":0},{"$f":"FOURIER!N1065","v":0},null,null,163.06215775224365,null,null,null,null,0,0,null,null,null,null,null,null,0,-2.3311000000000002,null,null,null,null,null,null,null,null,null,null,null,null,null,21.26,0.64800000000000002,0,{"$error":"#DIV/0!"},{"$error":"#DIV/0!"}]
[null,null,null,null,null,1064,21.28,-5.5110000000000001,25.9765625,{"$f":"FOURIER!M1066","v":0},{"$f":"FOURIER!N1066","v":0},null,null,163.21555583103222,null,null,null,null,0,0,null,null,null,null,null,null,0,-5.5110000000000001,null,null,null,null,null,null,null,null,null,null,null,null,null,21.28,0.193,0,{"$error":"#DIV/0!"},{"$error":"#DIV/0!"}]
[null,null,null,null,null,1065,21.3,-8.1209000000000007,26.0009765625,{"$f":"FOURIER!M1067","v":0},{"$f":"FOURIER!N1067","v":0},null,null,163.36895390982079,null,null,null,null,0,0,null,null,null,null,null,null,0,-8.1209000000000007,null,null,null,null,null,null,null,null,null,null,null,null,null,21.3,-0.26300000000000001,0,{"$error":"#DIV/0!"},{"$error":"#DIV/0!"}]
[null,null,null,null,null,1066,21.32,-7.4908999999999999,26.025390625,{"$f":"FOURIER!M1068","v":0},{"$f":"FOURIER!N1068","v":0},null,null,163.52235198860936,null,null,null,null,0,0,null,null,null,null,null,null,0,-7.4908999999999999,null,null,null,null,null,null,null,null,null,null,null,null,null,21.32,-0.72,0,{"$error":"#DIV/0!"},{"$error":"#DIV/0!"}]
[null,null,null,null,null,1067,21.34,-2.7210999999999999,26.0498046875,{"$f":"FOURIER!M1069","v":0},{"$f":"FOURIER!N1069","v":0},null,null,163.67575006739793,null,null,null,null,0,0,null,null,null,null,null,null,0,-2.7210999999999999,null,null,null,null,null,null,null,null,null,null,null,null,null,21.34,-1.1759999999999999,0,{"$error":"#DIV/0!"},{"$error":"#DIV/0!"}]
[null,null,null,null,null,1068,21.36,3.7286999999999999,26.07421875,{"$f":"FOURIER!M1070","v":0},{"$f":"FOURIER!N1070","v":0},null,null,163.8291481461865,null,null,null,null,0,0,null,null,null,null,null,null,0,3.7286999999999999,null,null,null,null,null,null,null,null,null,null,null,null,null,21.36,-1.629,0,{"$error":"#DIV/0!"},{"$error":"#DIV/0!"}]
[null,null,null,null,null,1069,21.38,10.5085,26.0986328125,{"$f":"FOURIER!M1071","v":0},{"$f":"FOURIER!N1071","v":0},null,null,163.98254622497504,null,null,null,null,0,0,null,null,null,null,null,null,0,10.5085,null,null,null,null,null,null,null,null,null,null,null,null,null,21.38,-2.0760000000000001,0,{"$error":"#DIV/0!"},{"$error":"#DIV/0!"}]
[null,null,null,null,null,1070,21.400000000000002,18.548300000000001,26.123046875,{"$f":"FOURIER!M1072","v":0},{"$f":"FOURIER!N1072","v":0},null,null,164.13594430376361,null,null,null,null,0,0,null,null,null,null,null,null,0,18.548300000000001,null,null,null,null,null,null,null,null,null,null,null,null,null,21.400000000000002,-2.512,0,{"$error":"#DIV/0!"},{"$error":"#DIV/0!"}]
[null,null,null,null,null,1071,21.42,26.437999999999999,26.1474609375,{"$f":"FOURIER!M1073","v":0},{"$f":"FOURIER!N1073","v":0},null,null,164.28934238255218,null,null,null,null,0,0,null,null,null,null,null,null,0,26.437999999999999,null,null,null,null,null,null,null,null,null,null,null,null,null,21.42,-2.9350000000000001,0,{"$error":"#DIV/0!"},{"$error":"#DIV/0!"}]
[null,null,null,null,null,1072,21.44,31.177900000000001,26.171875,{"$f":"FOURIER!M1074","v":0},{"$f":"FOURIER!N1074","v":0},null,null,164.44274046134075,null,null,null,null,0,0,null,null,null,null,null,null,0,31.177900000000001,null,null,null,null,null,null,null,null,null,null,null,null,null,21.44,-3.339,0,{"$error":"#DIV/0!"},{"$error":"#DIV/0!"}]
[null,null,null,null,null,1073,21.46,35.017800000000001,26.1962890625,{"$f":"FOURIER!M1075","v":0},{"$f":"FOURIER!N1075","v":0},null,null,164.59613854012932,null,null,null,null,0,0,null,null,null,null,null,null,0,35.017800000000001,null,null,null,null,null,null,null,null,null,null,null,null,null,21.46,-3.722,0,{"$error":"#DIV/0!"},{"$error":"#DIV/0!"}]
[null,null,null,null,null,1074,21.48,37.807699999999997,26.220703125,{"$f":"FOURIER!M1076","v":0},{"$f":"FOURIER!N1076","v":0},null,null,164.74953661891786,null,null,null,null,0,0,null,null,null,null,null,null,0,37.807699999999997,null,null,null,null,null,null,null,null,null,null,null,null,null,21.48,-4.0830000000000002,0,{"$error":"#DIV/0!"},{"$error":"#DIV/0!"}]
[null,null,null,null,null,1075,21.5,35.857799999999997,26.2451171875,{"$f":"FOURIER!M1077","v":0},{"$f":"FOURIER!N1077","v":0},null,null,164.90293469770643,null,null,null,null,0,0,null,null,null,null,null,null,0,35.857799999999997,null,null,null,null,null,null,null,null,null,null,null,null,null,21.5,-4.4189999999999996,0,{"$error":"#DIV/0!"},{"$error":"#DIV/0!"}]
[null,null,null,null,null,1076,21.52,27.398,26.26953125,{"$f":"FOURIER!M1078","v":0},{"$f":"FOURIER!N1078","v":0},null,null,165.056332776495,null,null,null,null,0,0,null,null,null,null,null,null,0,27.398,null,null,null,null,null,null,null,null,null,null,null,null,null,21.52,-4.7309999999999999,0,{"$error":"#DIV/0!"},{"$error":"#DIV/0!"}]
[null,null,null,null,null,1077,21.54,14.888400000000001,26.2939453125,{"$f":"FOURIER!M1079","v":0},{"$f":"FOURIER!N1079","v":0},null,null,165.20973085528357,null,null,null,null,0,0,null,null,null,null,null,null,0,14.888400000000001,null,null,null,null,null,null,null,null,null,null,null,null,null,21.54,-5.0209999999999999,0,{"$error":"#DIV/0!"},{"$error":"#DIV/0!"}]
[null,null,null,null,null,1078,21.56,4.4486999999999997,26.318359375,{"$f":"FOURIER!M1080","v":0},{"$f":"FOURIER!N1080","v":0},null,null,165.36312893407214,null,null,null,null,0,0,null,null,null,null,null,null,0,4.4486999999999997,null,null,null,null,null,null,null,null,null,null,null,null,null,21.56,-5.2939999999999996,0,{"$error":"#DIV/0!"},{"$error":"#DIV/0!"}]
[null,null,null,null,null,1079,21.580000000000002,-3.0510000000000002,26.3427734375,{"$f":"FOURIER!M1081","v":0},{"$f":"FOURIER!N1081","v":0},null,null,165.51652701286068,null,null,null,null,0,0,null,null,null,null,null,null,0,-3.0510000000000002,null,null,null,null,null,null,null,null,null,null,null,null,null,21.580000000000002,-5.5540000000000003,0,{"$error":"#DIV/0!"},{"$error":"#DIV/0!"}]
[null,null,null,null,null,1080,21.6,-9.9808000000000003,26.3671875,{"$f":"FOURIER!M1082","v":0},{"$f":"FOURIER!N1082","v":0},null,null,165.66992509164925,null,null,null,null,0,0,null,null,null,null,null,null,0,-9.9808000000000003,null,null,null,null,null,null,null,null,null,null,null,null,null,21.6,-5.8019999999999996,0,{"$error":"#DIV/0!"},{"$error":"#DIV/0!"}]
[null,null,null,null,null,1081,21.62,-15.710599999999999,26.3916015625,{"$f":"FOURIER!M1083","v":0},{"$f":"FOURIER!N1083","v":0},null,null,165.82332317043782,null,null,null,null,0,0,null,null,null,null,null,null,0,-15.710599999999999,null,null,null,null,null,null,null,null,null,null,null,null,null,21.62,-6.0419999999999998,0,{"$error":"#DIV/0!"},{"$error":"#DIV/0!"}]
[null,null,null,null,null,1082,21.64,-18.020499999999998,26.416015625,{"$f":"FOURIER!M1084","v":0},{"$f":"FOURIER!N1084","v":0},null,null,165.97672124922639,null,null,null,null,0,0,null,null,null,null,null,null,0,-18.020499999999998,null,null,null,null,null,null,null,null,null,null,null,null,null,21.64,-6.2750000000000004,0,{"$error":"#DIV/0!"},{"$error":"#DIV/0!"}]
[null,null,null,null,null,1083,21.66,-16.460599999999999,26.4404296875,{"$f":"FOURIER!M1085","v":0},{"$f":"FOURIER!N1085","v":0},null,null,166.13011932801496,null,null,null,null,0,0,null,null,null,null,null,null,0,-16.460599999999999,null,null,null,null,null,null,null,null,null,null,null,null,null,21.66,-6.5019999999999998,0,{"$error":"#DIV/0!"},{"$error":"#DIV/0!"}]
[null,null,null,null,null,1084,21.68,-12.4107,26.46484375,{"$f":"FOURIER!M1086","v":0},{"$f":"FOURIER!N1086","v":0},null,null,166.2835174068035,null,null,null,null,0,0,null,null,null,null,null,null,0,-12.4107,null,null,null,null,null,null,null,null,null,null,null,null,null,21.68,-6.7210000000000001,0,{"$error":"#DIV/0!"},{"$error":"#DIV/0!"}]
[null,null,null,null,null,1085,21.7,-7.6407999999999996,26.4892578125,{"$f":"FOURIER!M1087","v":0},{"$f":"FOURIER!N1087","v":0},null,null,166.43691548559207,null,null,null,null,0,0,null,null,null,null,null,null,0,-7.6407999999999996,null,null,null,null,null,null,null,null,null,null,null,null,null,21.7,-6.931,0,{"$error":"#DIV/0!"},{"$error":"#DIV/0!"}]
[null,null,null,null,null,1086,21.72,-3.351,26.513671875,{"$f":"FOURIER!M1088","v":0},{"$f":"FOURIER!N1088","v":0},null,null,166.59031356438064,null,null,null,null,0,0,null,null,null,null,null,null,0,-3.351,null,null,null,null,null,null,null,null,null,null,null,null,null,21.72,-7.1289999999999996,0,{"$error":"#DIV/0!"},{"$error":"#DIV/0!"}]
[null,null,null,null,null,1087,21.740000000000002,1.9888999999999999,26.5380859375,{"$f":"FOURIER!M1089","v":0},{"$f":"FOURIER!N1089","v":0},null,null,166.74371164316921,null,null,null,null,0,0,null,null,null,null,null,null,0,1.9888999999999999,null,null,null,null,null,null,null,null,null,null,null,null,null,21.740000000000002,-7.3140000000000001,0,{"$error":"#DIV/0!"},{"$error":"#DIV/0!"}]
[null,null,null,null,null,1088,21.76,9.8186,26.5625,{"$f":"FOURIER!M1090","v":0},{"$f":"FOURIER!N1090","v":0},null,null,{"$f":"2*PI()/B$9/B$6*F1090","v":166.89710972195778},null,null,null,null,{"$f":"J1090*O1090-K1090*P1090","v":0},{"$f":"J1090*P1090+K1090*O1090","v":0},null,null,null,null,null,null,0,9.8186,null,null,null,null,null,null,null,null,null,null,null,null,null,{"$f":"G1090","v":21.76},-7.4820000000000002,0,{"$error":"#DIV/0!"},{"$error":"#DIV/0!"}]
[null,null,null,null,null,1089,{"$f":"B$6*F1091","v":21.78},15.188499999999999,{"$f":"F1091/B$9/B$6","v":26.5869140625},{"$f":"FOURIER!M1091","v":0},{"$f":"FOURIER!N1091","v":0},null,null,167.05050780074632,null,null,null,null,0,0,null,null,null,null,null,null,{"$f":"(Y1091-Y1090)/B$6","v":0},{"$f":"(AA1091-AA1090)/B$6+H1091","v":15.188499999999999},null,null,null,null,null,null,null,null,null,null,null,null,null,21.78,-7.6310000000000002,0,{"$f":"(AQ1091-AQ1090)/O$6","v":{"$error":"#DIV/0!"}},{"$f":"(AS1091-AS1090)/O$6+S1091","v":{"$error":"#DIV/0!"}}]
[null,null,null,null,null,1090,21.8,11.7386,26.611328125,{"$f":"FOURIER!M1092","v":0},{"$f":"FOURIER!N1092","v":0},null,null,167.20390587953489,null,null,null,null,0,0,null,null,null,null,null,null,0,11.7386,null,null,null,null,null,null,null,null,null,null,null,null,null,21.8,-7.7590000000000003,0,{"$error":"#DIV/0!"},{"$error":"#DIV/0!"}]
[null,null,null,null,null,1091,21.82,1.5388999999999999,26.6357421875,{"$f":"FOURIER!M1093","v":0},{"$f":"FOURIER!N1093","v":0},null,null,167.35730395832346,null,null,null,null,0,0,null,null,null,null,null,null,0,1.5388999999999999,null,null,null,null,null,null,null,null,null,null,null,null,null,21.82,-7.8650000000000002,0,{"$error":"#DIV/0!"},{"$error":"#DIV/0!"}]
[null,null,null,null,null,1092,21.84,-9.2607999999999997,26.66015625,{"$f":"FOURIER!M1094","v":0},{"$f":"FOURIER!N1094","v":0},null,null,167.51070203711203,null,null,null,null,0,0,null,null,null,null,null,null,0,-9.2607999999999997,null,null,null,null,null,null,null,null,null,null,null,null,null,21.84,-7.9550000000000001,0,{"$error":"#DIV/0!"},{"$error":"#DIV/0!"}]
[null,null,null,null,null,1093,21.86,-17.5105,26.6845703125,{"$f":"FOURIER!M1095","v":0},{"$f":"FOURIER!N1095","v":0},null,null,167.6641001159006,null,null,null,null,0,0,null,null,null,null,null,null,0,-17.5105,null,null,null,null,null,null,null,null,null,null,null,null,null,21.86,-8.0329999999999995,0,{"$error":"#DIV/0!"},{"$error":"#DIV/0!"}]
[null,null,null,null,null,1094,21.88,-18.860499999999998,26.708984375,{"$f":"FOURIER!M1096","v":0},{"$f":"FOURIER!N1096","v":0},null,null,167.81749819468916,null,null,null,null,0,0,null,null,null,null,null,null,0,-18.860499999999998,null,null,null,null,null,null,null,null,null,null,null,null,null,21.88,-8.1010000000000009,0,{"$error":"#DIV/0!"},{"$error":"#DIV/0!"}]
[null,null,null,null,null,1095,21.900000000000002,-14.960599999999999,26.7333984375,{"$f":"FOURIER!M1097","v":0},{"$f":"FOURIER!N1097","v":0},null,null,167.97089627347771,null,null,null,null,0,0,null,null,null,null,null,null,0,-14.960599999999999,null,null,null,null,null,null,null,null,null,null,null,null,null,21.900000000000002,-8.1590000000000007,0,{"$error":"#DIV/0!"},{"$error":"#DIV/0!"}]
[null,null,null,null,null,1096,21.92,-11.960699999999999,26.7578125,{"$f":"FOURIER!M1098","v":0},{"$f":"FOURIER!N1098","v":0},null,null,168.12429435226628,null,null,null,null,0,0,null,null,null,null,null,null,0,-11.960699999999999,null,null,null,null,null,null,null,null,null,null,null,null,null,21.92,-8.2080000000000002,0,{"$error":"#DIV/0!"},{"$error":"#DIV/0!"}]
[null,null,null,null,null,1097,21.94,-8.7807999999999993,26.7822265625,{"$f":"FOURIER!M1099","v":0},{"$f":"FOURIER!N1099","v":0},null,null,168.27769243105485,null,null,null,null,0,0,null,null,null,null,null,null,0,-8.7807999999999993,null,null,null,null,null,null,null,null,null,null,null,null,null,21.94,-8.2439999999999998,0,{"$error":"#DIV/0!"},{"$error":"#DIV/0!"}]
[null,null,null,null,null,1098,21.96,-2.5108999999999999,26.806640625,{"$f":"FOURIER!M1100","v":0},{"$f":"FOURIER!N1100","v":0},null,null,168.43109050984341,null,null,null,null,0,0,null,null,null,null,null,null,0,-2.5108999999999999,null,null,null,null,null,null,null,null,null,null,null,null,null,21.96,-8.2669999999999995,0,{"$error":"#DIV/0!"},{"$error":"#DIV/0!"}]
[null,null,null,null,null,1099,21.98,4.5987999999999998,26.8310546875,{"$f":"FOURIER!M1101","v":0},{"$f":"FOURIER!N1101","v":0},null,null,168.58448858863198,null,null,null,null,0,0,null,null,null,null,null,null,0,4.5987999999999998,null,null,null,null,null,null,null,null,null,null,null,null,null,21.98,-8.2750000000000004,0,{"$error":"#DIV/0!"},{"$error":"#DIV/0!"}]
[null,null,null,null,null,1100,22,9.2187000000000001,26.85546875,{"$f":"FOURIER!M1102","v":0},{"$f":"FOURIER!N1102","v":0},null,null,168.73788666742053,null,null,null,null,0,0,null,null,null,null,null,null,0,9.2187000000000001,null,null,null,null,null,null,null,null,null,null,null,null,null,22,-8.2639999999999993,0,{"$error":"#DIV/0!"},{"$error":"#DIV/0!"}]
[null,null,null,null,null,1101,22.02,10.2387,26.8798828125,{"$f":"FOURIER!M1103","v":0},{"$f":"FOURIER!N1103","v":0},null,null,168.8912847462091,null,null,null,null,0,0,null,null,null,null,null,null,0,10.2387,null,null,null,null,null,null,null,null,null,null,null,null,null,22.02,-8.2330000000000005,0,{"$error":"#DIV/0!"},{"$error":"#DIV/0!"}]
[null,null,null,null,null,1102,22.04,9.7286999999999999,26.904296875,{"$f":"FOURIER!M1104","v":0},{"$f":"FOURIER!N1104","v":0},null,null,169.04468282499766,null,null,null,null,0,0,null,null,null,null,null,null,0,9.7286999999999999,null,null,null,null,null,null,null,null,null,null,null,null,null,22.04,-8.1820000000000004,0,{"$error":"#DIV/0!"},{"$error":"#DIV/0!"}]
[null,null,null,null,null,1103,22.06,6.8487999999999998,26.9287109375,{"$f":"FOURIER!M1105","v":0},{"$f":"FOURIER!N1105","v":0},null,null,169.19808090378623,null,null,null,null,0,0,null,null,null,null,null,null,0,6.8487999999999998,null,null,null,null,null,null,null,null,null,null,null,null,null,22.06,-8.1110000000000007,0,{"$error":"#DIV/0!"},{"$error":"#DIV/0!"}]
[null,null,null,null,null,1104,22.080000000000002,-0.80100000000000005,26.953125,{"$f":"FOURIER!M1106","v":0},{"$f":"FOURIER!N1106","v":0},null,null,169.3514789825748,null,null,null,null,0,0,null,null,null,null,null,null,0,-0.80100000000000005,null,null,null,null,null,null,null,null,null,null,null,null,null,22.080000000000002,-8.0220000000000002,0,{"$error":"#DIV/0!"},{"$error":"#DIV/0!"}]
[null,null,null,null,null,1105,22.1,-7.3108000000000004,26.9775390625,{"$f":"FOURIER!M1107","v":0},{"$f":"FOURIER!N1107","v":0},null,null,169.50487706136335,null,null,null,null,0,0,null,null,null,null,null,null,0,-7.3108000000000004,null,null,null,null,null,null,null,null,null,null,null,null,null,22.1,-7.9169999999999998,0,{"$error":"#DIV/0!"},{"$error":"#DIV/0!"}]
[null,null,null,null,null,1106,22.12,-8.3606999999999996,27.001953125,{"$f":"FOURIER!M1108","v":0},{"$f":"FOURIER!N1108","v":0},null,null,169.65827514015191,null,null,null,null,0,0,null,null,null,null,null,null,0,-8.3606999999999996,null,null,null,null,null,null,null,null,null,null,null,null,null,22.12,-7.7990000000000004,0,{"$error":"#DIV/0!"},{"$error":"#DIV/0!"}]
[null,null,null,null,null,1107,22.14,-7.1608000000000001,27.0263671875,{"$f":"FOURIER!M1109","v":0},{"$f":"FOURIER!N1109","v":0},null,null,169.81167321894048,null,null,null,null,0,0,null,null,null,null,null,null,0,-7.1608000000000001,null,null,null,null,null,null,null,null,null,null,null,null,null,22.14,-7.6689999999999996,0,{"$error":"#DIV/0!"},{"$error":"#DIV/0!"}]
[null,null,null,null,null,1108,22.16,-6.1407999999999996,27.05078125,{"$f":"FOURIER!M1110","v":0},{"$f":"FOURIER!N1110","v":0},null,null,169.96507129772905,null,null,null,null,0,0,null,null,null,null,null,null,0,-6.1407999999999996,null,null,null,null,null,null,null,null,null,null,null,null,null,22.16,-7.5279999999999996,0,{"$error":"#DIV/0!"},{"$error":"#DIV/0!"}]
[null,null,null,null,null,1109,22.18,-3.2608999999999999,27.0751953125,{"$f":"FOURIER!M1111","v":0},{"$f":"FOURIER!N1111","v":0},null,null,170.11846937651762,null,null,null,null,0,0,null,null,null,null,null,null,0,-3.2608999999999999,null,null,null,null,null,null,null,null,null,null,null,null,null,22.18,-7.375,0,{"$error":"#DIV/0!"},{"$error":"#DIV/0!"}]
[null,null,null,null,null,1110,22.2,0.45900000000000002,27.099609375,{"$f":"FOURIER!M1112","v":0},{"$f":"FOURIER!N1112","v":0},null,null,170.27186745530616,null,null,null,null,0,0,null,null,null,null,null,null,0,0.45900000000000002,null,null,null,null,null,null,null,null,null,null,null,null,null,22.2,-7.2080000000000002,0,{"$error":"#DIV/0!"},{"$error":"#DIV/0!"}]
[null,null,null,null,null,1111,22.22,1.8089999999999999,27.1240234375,{"$f":"FOURIER!M1113","v":0},{"$f":"FOURIER!N1113","v":0},null,null,170.42526553409473,null,null,null,null,0,0,null,null,null,null,null,null,0,1.8089999999999999,null,null,null,null,null,null,null,null,null,null,null,null,null,22.22,-7.0279999999999996,0,{"$error":"#DIV/0!"},{"$error":"#DIV/0!"}]
[null,null,null,null,null,1112,22.240000000000002,3.3389000000000002,27.1484375,{"$f":"FOURIER!M1114","v":0},{"$f":"FOURIER!N1114","v":0},null,null,170.5786636128833,null,null,null,null,0,0,null,null,null,null,null,null,0,3.3389000000000002,null,null,null,null,null,null,null,null,null,null,null,null,null,22.240000000000002,-6.8339999999999996,0,{"$error":"#DIV/0!"},{"$error":"#DIV/0!"}]
[null,null,null,null,null,1113,22.26,5.6189,27.1728515625,{"$f":"FOURIER!M1115","v":0},{"$f":"FOURIER!N1115","v":0},null,null,170.73206169167187,null,null,null,null,0,0,null,null,null,null,null,null,0,5.6189,null,null,null,null,null,null,null,null,null,null,null,null,null,22.26,-6.625,0,{"$error":"#DIV/0!"},{"$error":"#DIV/0!"}]
[null,null,null,null,null,1114,22.28,5.8589000000000002,27.197265625,{"$f":"FOURIER!M1116","v":0},{"$f":"FOURIER!N1116","v":0},null,null,170.88545977046044,null,null,null,null,0,0,null,null,null,null,null,null,0,5.8589000000000002,null,null,null,null,null,null,null,null,null,null,null,null,null,22.28,-6.4020000000000001,0,{"$error":"#DIV/0!"},{"$error":"#DIV/0!"}]
[null,null,null,null,null,1115,22.3,2.4990000000000001,27.2216796875,{"$f":"FOURIER!M1117","v":0},{"$f":"FOURIER!N1117","v":0},null,null,171.03885784924898,null,null,null,null,0,0,null,null,null,null,null,null,0,2.4990000000000001,null,null,null,null,null,null,null,null,null,null,null,null,null,22.3,-6.165,0,{"$error":"#DIV/0!"},{"$error":"#DIV/0!"}]
[null,null,null,null,null,1116,22.32,-2.5409000000000002,27.24609375,{"$f":"FOURIER!M1118","v":0},{"$f":"FOURIER!N1118","v":0},null,null,171.19225592803755,null,null,null,null,0,0,null,null,null,null,null,null,0,-2.5409000000000002,null,null,null,null,null,null,null,null,null,null,null,null,null,22.32,-5.9160000000000004,0,{"$error":"#DIV/0!"},{"$error":"#DIV/0!"}]
[null,null,null,null,null,1117,22.34,-4.4307999999999996,27.2705078125,{"$f":"FOURIER!M1119","v":0},{"$f":"FOURIER!N1119","v":0},null,null,171.34565400682612,null,null,null,null,0,0,null,null,null,null,null,null,0,-4.4307999999999996,null,null,null,null,null,null,null,null,null,null,null,null,null,22.34,-5.6559999999999997,0,{"$error":"#DIV/0!"},{"$error":"#DIV/0!"}]
[null,null,null,null,null,1118,22.36,-4.2507999999999999,27.294921875,{"$f":"FOURIER!M1120","v":0},{"$f":"FOURIER!N1120","v":0},null,null,171.49905208561469,null,null,null,null,0,0,null,null,null,null,null,null,0,-4.2507999999999999,null,null,null,null,null,null,null,null,null,null,null,null,null,22.36,-5.3879999999999999,0,{"$error":"#DIV/0!"},{"$error":"#DIV/0!"}]
[null,null,null,null,null,1119,22.38,-2.3008999999999999,27.3193359375,{"$f":"FOURIER!M1121","v":0},{"$f":"FOURIER!N1121","v":0},null,null,171.65245016440326,null,null,null,null,0,0,null,null,null,null,null,null,0,-2.3008999999999999,null,null,null,null,null,null,null,null,null,null,null,null,null,22.38,-5.1120000000000001,0,{"$error":"#DIV/0!"},{"$error":"#DIV/0!"}]
[null,null,null,null,null,1120,22.400000000000002,3.7890000000000001,27.34375,{"$f":"FOURIER!M1122","v":0},{"$f":"FOURIER!N1122","v":0},null,null,171.80584824319183,null,null,null,null,0,0,null,null,null,null,null,null,0,3.7890000000000001,null,null,null,null,null,null,null,null,null,null,null,null,null,22.400000000000002,-4.8280000000000003,0,{"$error":"#DIV/0!"},{"$error":"#DIV/0!"}]
[null,null,null,null,null,1121,22.42,8.8887999999999998,27.3681640625,{"$f":"FOURIER!M1123","v":0},{"$f":"FOURIER!N1123","v":0},null,null,171.95924632198037,null,null,null,null,0,0,null,null,null,null,null,null,0,8.8887999999999998,null,null,null,null,null,null,null,null,null,null,null,null,null,22.42,-4.5339999999999998,0,{"$error":"#DIV/0!"},{"$error":"#DIV/0!"}]
[null,null,null,null,null,1122,22.44,9.7588000000000008,27.392578125,{"$f":"FOURIER!M1124","v":0},{"$f":"FOURIER!N1124","v":0},null,null,172.11264440076894,null,null,null,null,0,0,null,null,null,null,null,null,0,9.7588000000000008,null,null,null,null,null,null,null,null,null,null,null,null,null,22.44,-4.2279999999999998,0,{"$error":"#DIV/0!"},{"$error":"#DIV/0!"}]
[null,null,null,null,null,1123,22.46,7.0589000000000004,27.4169921875,{"$f":"FOURIER!M1125","v":0},{"$f":"FOURIER!N1125","v":0},null,null,172.26604247955751,null,null,null,null,0,0,null,null,null,null,null,null,0,7.0589000000000004,null,null,null,null,null,null,null,null,null,null,null,null,null,22.46,-3.911,0,{"$error":"#DIV/0!"},{"$error":"#DIV/0!"}]
[null,null,null,null,null,1124,22.48,4.359,27.44140625,{"$f":"FOURIER!M1126","v":0},{"$f":"FOURIER!N1126","v":0},null,null,172.41944055834608,null,null,null,null,0,0,null,null,null,null,null,null,0,4.359,null,null,null,null,null,null,null,null,null,null,null,null,null,22.48,-3.585,0,{"$error":"#DIV/0!"},{"$error":"#DIV/0!"}]
[null,null,null,null,null,1125,22.5,3.2789999999999999,27.4658203125,{"$f":"FOURIER!M1127","v":0},{"$f":"FOURIER!N1127","v":0},null,null,172.57283863713465,null,null,null,null,0,0,null,null,null,null,null,null,0,3.2789999999999999,null,null,null,null,null,null,null,null,null,null,null,null,null,22.5,-3.2519999999999998,0,{"$error":"#DIV/0!"},{"$error":"#DIV/0!"}]
[null,null,null,null,null,1126,22.52,2.8290000000000002,27.490234375,{"$f":"FOURIER!M1128","v":0},{"$f":"FOURIER!N1128","v":0},null,null,172.72623671592319,null,null,null,null,0,0,null,null,null,null,null,null,0,2.8290000000000002,null,null,null,null,null,null,null,null,null,null,null,null,null,22.52,-2.9119999999999999,0,{"$error":"#DIV/0!"},{"$error":"#DIV/0!"}]
[null,null,null,null,null,1127,22.54,4.0590000000000002,27.5146484375,{"$f":"FOURIER!M1129","v":0},{"$f":"FOURIER!N1129","v":0},null,null,172.87963479471176,null,null,null,null,0,0,null,null,null,null,null,null,0,4.0590000000000002,null,null,null,null,null,null,null,null,null,null,null,null,null,22.54,-2.5659999999999998,0,{"$error":"#DIV/0!"},{"$error":"#DIV/0!"}]
[null,null,null,null,null,1128,22.56,6.3989000000000003,27.5390625,{"$f":"FOURIER!M1130","v":0},{"$f":"FOURIER!N1130","v":0},null,null,173.03303287350033,null,null,null,null,0,0,null,null,null,null,null,null,0,6.3989000000000003,null,null,null,null,null,null,null,null,null,null,null,null,null,22.56,-2.2149999999999999,0,{"$error":"#DIV/0!"},{"$error":"#DIV/0!"}]
[null,null,null,null,null,1129,22.580000000000002,10.418799999999999,27.5634765625,{"$f":"FOURIER!M1131","v":0},{"$f":"FOURIER!N1131","v":0},null,null,173.1864309522889,null,null,null,null,0,0,null,null,null,null,null,null,0,10.418799999999999,null,null,null,null,null,null,null,null,null,null,null,null,null,22.580000000000002,-1.8580000000000001,0,{"$error":"#DIV/0!"},{"$error":"#DIV/0!"}]
[null,null,null,null,null,1130,22.6,16.808599999999998,27.587890625,{"$f":"FOURIER!M1132","v":0},{"$f":"FOURIER!N1132","v":0},null,null,173.33982903107747,null,null,null,null,0,0,null,null,null,null,null,null,0,16.808599999999998,null,null,null,null,null,null,null,null,null,null,null,null,null,22.6,-1.494,0,{"$error":"#DIV/0!"},{"$error":"#DIV/0!"}]
[null,null,null,null,null,1131,22.62,22.778400000000001,27.6123046875,{"$f":"FOURIER!M1133","v":0},{"$f":"FOURIER!N1133","v":0},null,null,173.49322710986601,null,null,null,null,0,0,null,null,null,null,null,null,0,22.778400000000001,null,null,null,null,null,null,null,null,null,null,null,null,null,22.62,-1.123,0,{"$error":"#DIV/0!"},{"$error":"#DIV/0!"}]
[null,null,null,null,null,1132,22.64,26.4983,27.63671875,{"$f":"FOURIER!M1134","v":0},{"$f":"FOURIER!N1134","v":0},null,null,173.64662518865458,null,null,null,null,0,0,null,null,null,null,null,null,0,26.4983,null,null,null,null,null,null,null,null,null,null,null,null,null,22.64,-0.74099999999999999,0,{"$error":"#DIV/0!"},{"$error":"#DIV/0!"}]
[null,null,null,null,null,1133,22.66,28.418299999999999,27.6611328125,{"$f":"FOURIER!M1135","v":0},{"$f":"FOURIER!N1135","v":0},null,null,173.80002326744315,null,null,null,null,0,0,null,null,null,null,null,null,0,28.418299999999999,null,null,null,null,null,null,null,null,null,null,null,null,null,22.66,-0.35,0,{"$error":"#DIV/0!"},{"$error":"#DIV/0!"}]
[null,null,null,null,null,1134,22.68,25.5684,27.685546875,{"$f":"FOURIER!M1136","v":0},{"$f":"FOURIER!N1136","v":0},null,null,173.95342134623172,null,null,null,null,0,0,null,null,null,null,null,null,0,25.5684,null,null,null,null,null,null,null,null,null,null,null,null,null,22.68,5.2999999999999999E-2,0,{"$error":"#DIV/0!"},{"$error":"#DIV/0!"}]
[null,null,null,null,null,1135,22.7,15.8787,27.7099609375,{"$f":"FOURIER!M1137","v":0},{"$f":"FOURIER!N1137","v":0},null,null,174.10681942502029,null,null,null,null,0,0,null,null,null,null,null,null,0,15.8787,null,null,null,null,null,null,null,null,null,null,null,null,null,22.7,0.46300000000000002,0,{"$error":"#DIV/0!"},{"$error":"#DIV/0!"}]
[null,null,null,null,null,1136,22.72,2.7991000000000001,27.734375,{"$f":"FOURIER!M1138","v":0},{"$f":"FOURIER!N1138","v":0},null,null,174.26021750380883,null,null,null,null,0,0,null,null,null,null,null,null,0,2.7991000000000001,null,null,null,null,null,null,null,null,null,null,null,null,null,22.72,0.877,0,{"$error":"#DIV/0!"},{"$error":"#DIV/0!"}]
[null,null,null,null,null,1137,22.740000000000002,-10.640499999999999,27.7587890625,{"$f":"FOURIER!M1139","v":0},{"$f":"FOURIER!N1139","v":0},null,null,174.4136155825974,null,null,null,null,0,0,null,null,null,null,null,null,0,-10.640499999999999,null,null,null,null,null,null,null,null,null,null,null,null,null,22.740000000000002,1.2889999999999999,0,{"$error":"#DIV/0!"},{"$error":"#DIV/0!"}]
[null,null,null,null,null,1138,22.76,-23.240100000000002,27.783203125,{"$f":"FOURIER!M1140","v":0},{"$f":"FOURIER!N1140","v":0},null,null,174.56701366138597,null,null,null,null,0,0,null,null,null,null,null,null,0,-23.240100000000002,null,null,null,null,null,null,null,null,null,null,null,null,null,22.76,1.6919999999999999,0,{"$error":"#DIV/0!"},{"$error":"#DIV/0!"}]
[null,null,null,null,null,1139,22.78,-32.329799999999999,27.8076171875,{"$f":"FOURIER!M1141","v":0},{"$f":"FOURIER!N1141","v":0},null,null,174.72041174017454,null,null,null,null,0,0,null,null,null,null,null,null,0,-32.329799999999999,null,null,null,null,null,null,null,null,null,null,null,null,null,22.78,2.0819999999999999,0,{"$error":"#DIV/0!"},{"$error":"#DIV/0!"}]
[null,null,null,null,null,1140,22.8,-37.729700000000001,27.83203125,{"$f":"FOURIER!M1142","v":0},{"$f":"FOURIER!N1142","v":0},null,null,174.87380981896311,null,null,null,null,0,0,null,null,null,null,null,null,0,-37.729700000000001,null,null,null,null,null,null,null,null,null,null,null,null,null,22.8,2.452,0,{"$error":"#DIV/0!"},{"$error":"#DIV/0!"}]
[null,null,null,null,null,1141,22.82,-44.659399999999998,27.8564453125,{"$f":"FOURIER!M1143","v":0},{"$f":"FOURIER!N1143","v":0},null,null,175.02720789775165,null,null,null,null,0,0,null,null,null,null,null,null,0,-44.659399999999998,null,null,null,null,null,null,null,null,null,null,null,null,null,22.82,2.802,0,{"$error":"#DIV/0!"},{"$error":"#DIV/0!"}]
[null,null,null,null,null,1142,22.84,-52.789200000000001,27.880859375,{"$f":"FOURIER!M1144","v":0},{"$f":"FOURIER!N1144","v":0},null,null,175.18060597654022,null,null,null,null,0,0,null,null,null,null,null,null,0,-52.789200000000001,null,null,null,null,null,null,null,null,null,null,null,null,null,22.84,3.1259999999999999,0,{"$error":"#DIV/0!"},{"$error":"#DIV/0!"}]
[null,null,null,null,null,1143,22.86,-54.889099999999999,27.9052734375,{"$f":"FOURIER!M1145","v":0},{"$f":"FOURIER!N1145","v":0},null,null,175.33400405532879,null,null,null,null,0,0,null,null,null,null,null,null,0,-54.889099999999999,null,null,null,null,null,null,null,null,null,null,null,null,null,22.86,3.4220000000000002,0,{"$error":"#DIV/0!"},{"$error":"#DIV/0!"}]
[null,null,null,null,null,1144,22.88,-48.319299999999998,27.9296875,{"$f":"FOURIER!M1146","v":0},{"$f":"FOURIER!N1146","v":0},null,null,175.48740213411736,null,null,null,null,0,0,null,null,null,null,null,null,0,-48.319299999999998,null,null,null,null,null,null,null,null,null,null,null,null,null,22.88,3.6880000000000002,0,{"$error":"#DIV/0!"},{"$error":"#DIV/0!"}]
[null,null,null,null,null,1145,22.900000000000002,-35.929699999999997,27.9541015625,{"$f":"FOURIER!M1147","v":0},{"$f":"FOURIER!N1147","v":0},null,null,175.64080021290593,null,null,null,null,0,0,null,null,null,null,null,null,0,-35.929699999999997,null,null,null,null,null,null,null,null,null,null,null,null,null,22.900000000000002,3.927,0,{"$error":"#DIV/0!"},{"$error":"#DIV/0!"}]
[null,null,null,null,null,1146,22.92,-23.7501,27.978515625,{"$f":"FOURIER!M1148","v":0},{"$f":"FOURIER!N1148","v":0},null,null,175.7941982916945,null,null,null,null,0,0,null,null,null,null,null,null,0,-23.7501,null,null,null,null,null,null,null,null,null,null,null,null,null,22.92,4.1420000000000003,0,{"$error":"#DIV/0!"},{"$error":"#DIV/0!"}]
[null,null,null,null,null,1147,22.94,-13.1304,28.0029296875,{"$f":"FOURIER!M1149","v":0},{"$f":"FOURIER!N1149","v":0},null,null,175.94759637048304,null,null,null,null,0,0,null,null,null,null,null,null,0,-13.1304,null,null,null,null,null,null,null,null,null,null,null,null,null,22.94,4.3390000000000004,0,{"$error":"#DIV/0!"},{"$error":"#DIV/0!"}]
[null,null,null,null,null,1148,22.96,-1.5507,28.02734375,{"$f":"FOURIER!M1150","v":0},{"$f":"FOURIER!N1150","v":0},null,null,176.10099444927161,null,null,null,null,0,0,null,null,null,null,null,null,0,-1.5507,null,null,null,null,null,null,null,null,null,null,null,null,null,22.96,4.5209999999999999,0,{"$error":"#DIV/0!"},{"$error":"#DIV/0!"}]
[null,null,null,null,null,1149,22.98,8.9489000000000001,28.0517578125,{"$f":"FOURIER!M1151","v":0},{"$f":"FOURIER!N1151","v":0},null,null,176.25439252806018,null,null,null,null,0,0,null,null,null,null,null,null,0,8.9489000000000001,null,null,null,null,null,null,null,null,null,null,null,null,null,22.98,4.6929999999999996,0,{"$error":"#DIV/0!"},{"$error":"#DIV/0!"}]
[null,null,null,null,null,1150,23,17.768699999999999,28.076171875,{"$f":"FOURIER!M1152","v":0},{"$f":"FOURIER!N1152","v":0},null,null,176.40779060684875,null,null,null,null,0,0,null,null,null,null,null,null,0,17.768699999999999,null,null,null,null,null,null,null,null,null,null,null,null,null,23,4.8579999999999997,0,{"$error":"#DIV/0!"},{"$error":"#DIV/0!"}]
[null,null,null,null,null,1151,23.02,25.238499999999998,28.1005859375,{"$f":"FOURIER!M1153","v":0},{"$f":"FOURIER!N1153","v":0},null,null,176.56118868563732,null,null,null,null,0,0,null,null,null,null,null,null,0,25.238499999999998,null,null,null,null,null,null,null,null,null,null,null,null,null,23.02,5.0199999999999996,0,{"$error":"#DIV/0!"},{"$error":"#DIV/0!"}]
[null,null,null,null,null,1152,23.04,29.2883,28.125,{"$f":"FOURIER!M1154","v":0},{"$f":"FOURIER!N1154","v":0},null,null,{"$f":"2*PI()/B$9/B$6*F1154","v":176.71458676442586},null,null,null,null,{"$f":"J1154*O1154-K1154*P1154","v":0},{"$f":"J1154*P1154+K1154*O1154","v":0},null,null,null,null,null,null,0,29.2883,null,null,null,null,null,null,null,null,null,null,null,null,null,{"$f":"G1154","v":23.04},5.181,0,{"$error":"#DIV/0!"},{"$error":"#DIV/0!"}]
[null,null,null,null,null,1153,{"$f":"B$6*F1155","v":23.06},27.938400000000001,{"$f":"F1155/B$9/B$6","v":28.1494140625},{"$f":"FOURIER!M1155","v":0},{"$f":"FOURIER!N1155","v":0},null,null,176.86798484321443,null,null,null,null,0,0,null,null,null,null,null,null,{"$f":"(Y1155-Y1154)/B$6","v":0},{"$f":"(AA1155-AA1154)/B$6+H1155","v":27.938400000000001},null,null,null,null,null,null,null,null,null,null,null,null,null,23.06,5.343,0,{"$f":"(AQ1155-AQ1154)/O$6","v":{"$error":"#DIV/0!"}},{"$f":"(AS1155-AS1154)/O$6+S1155","v":{"$error":"#DIV/0!"}}]
[null,null,null,null,null,1154,23.080000000000002,22.508600000000001,28.173828125,{"$f":"FOURIER!M1156","v":0},{"$f":"FOURIER!N1156","v":0},null,null,177.021382922003,null,null,null,null,0,0,null,null,null,null,null,null,0,22.508600000000001,null,null,null,null,null,null,null,null,null,null,null,null,null,23.080000000000002,5.5049999999999999,0,{"$error":"#DIV/0!"},{"$error":"#DIV/0!"}]
[null,null,null,null,null,1155,23.1,15.1288,28.1982421875,{"$f":"FOURIER!M1157","v":0},{"$f":"FOURIER!N1157","v":0},null,null,177.17478100079157,null,null,null,null,0,0,null,null,null,null,null,null,0,15.1288,null,null,null,null,null,null,null,null,null,null,null,null,null,23.1,5.6630000000000003,0,{"$error":"#DIV/0!"},{"$error":"#DIV/0!"}]
[null,null,null,null,null,1156,23.12,7.1790000000000003,28.22265625,{"$f":"FOURIER!M1158","v":0},{"$f":"FOURIER!N1158","v":0},null,null,177.32817907958014,null,null,null,null,0,0,null,null,null,null,null,null,0,7.1790000000000003,null,null,null,null,null,null,null,null,null,null,null,null,null,23.12,5.8159999999999998,0,{"$error":"#DIV/0!"},{"$error":"#DIV/0!"}]
[null,null,null,null,null,1157,23.14,-0.23069999999999999,28.2470703125,{"$f":"FOURIER!M1159","v":0},{"$f":"FOURIER!N1159","v":0},null,null,177.48157715836868,null,null,null,null,0,0,null,null,null,null,null,null,0,-0.23069999999999999,null,null,null,null,null,null,null,null,null,null,null,null,null,23.14,5.96,0,{"$error":"#DIV/0!"},{"$error":"#DIV/0!"}]
[null,null,null,null,null,1158,23.16,-7.1304999999999996,28.271484375,{"$f":"FOURIER!M1160","v":0},{"$f":"FOURIER!N1160","v":0},null,null,177.63497523715725,null,null,null,null,0,0,null,null,null,null,null,null,0,-7.1304999999999996,null,null,null,null,null,null,null,null,null,null,null,null,null,23.16,6.0910000000000002,0,{"$error":"#DIV/0!"},{"$error":"#DIV/0!"}]
[null,null,null,null,null,1159,23.18,-10.820399999999999,28.2958984375,{"$f":"FOURIER!M1161","v":0},{"$f":"FOURIER!N1161","v":0},null,null,177.78837331594582,null,null,null,null,0,0,null,null,null,null,null,null,0,-10.820399999999999,null,null,null,null,null,null,null,null,null,null,null,null,null,23.18,6.2060000000000004,0,{"$error":"#DIV/0!"},{"$error":"#DIV/0!"}]
[null,null,null,null,null,1160,23.2,-9.3203999999999994,28.3203125,{"$f":"FOURIER!M1162","v":0},{"$f":"FOURIER!N1162","v":0},null,null,177.94177139473439,null,null,null,null,0,0,null,null,null,null,null,null,0,-9.3203999999999994,null,null,null,null,null,null,null,null,null,null,null,null,null,23.2,6.3049999999999997,0,{"$error":"#DIV/0!"},{"$error":"#DIV/0!"}]
[null,null,null,null,null,1161,23.22,-4.3406000000000002,28.3447265625,{"$f":"FOURIER!M1163","v":0},{"$f":"FOURIER!N1163","v":0},null,null,178.09516947352296,null,null,null,null,0,0,null,null,null,null,null,null,0,-4.3406000000000002,null,null,null,null,null,null,null,null,null,null,null,null,null,23.22,6.3869999999999996,0,{"$error":"#DIV/0!"},{"$error":"#DIV/0!"}]
[null,null,null,null,null,1162,23.240000000000002,3.8792,28.369140625,{"$f":"FOURIER!M1164","v":0},{"$f":"FOURIER!N1164","v":0},null,null,178.2485675523115,null,null,null,null,0,0,null,null,null,null,null,null,0,3.8792,null,null,null,null,null,null,null,null,null,null,null,null,null,23.240000000000002,6.4539999999999997,0,{"$error":"#DIV/0!"},{"$error":"#DIV/0!"}]
[null,null,null,null,null,1163,23.26,12.578900000000001,28.3935546875,{"$f":"FOURIER!M1165","v":0},{"$f":"FOURIER!N1165","v":0},null,null,178.40196563110007,null,null,null,null,0,0,null,null,null,null,null,null,0,12.578900000000001,null,null,null,null,null,null,null,null,null,null,null,null,null,23.26,6.5090000000000003,0,{"$error":"#DIV/0!"},{"$error":"#DIV/0!"}]
[null,null,null,null,null,1164,23.28,15.3988,28.41796875,{"$f":"FOURIER!M1166","v":0},{"$f":"FOURIER!N1166","v":0},null,null,178.55536370988864,null,null,null,null,0,0,null,null,null,null,null,null,0,15.3988,null,null,null,null,null,null,null,null,null,null,null,null,null,23.28,6.556,0,{"$error":"#DIV/0!"},{"$error":"#DIV/0!"}]
[null,null,null,null,null,1165,23.3,14.5589,28.4423828125,{"$f":"FOURIER!M1167","v":0},{"$f":"FOURIER!N1167","v":0},null,null,178.70876178867721,null,null,null,null,0,0,null,null,null,null,null,null,0,14.5589,null,null,null,null,null,null,null,null,null,null,null,null,null,23.3,6.5960000000000001,0,{"$error":"#DIV/0!"},{"$error":"#DIV/0!"}]
[null,null,null,null,null,1166,23.32,14.3489,28.466796875,{"$f":"FOURIER!M1168","v":0},{"$f":"FOURIER!N1168","v":0},null,null,178.86215986746578,null,null,null,null,0,0,null,null,null,null,null,null,0,14.3489,null,null,null,null,null,null,null,null,null,null,null,null,null,23.32,6.6289999999999996,0,{"$error":"#DIV/0!"},{"$error":"#DIV/0!"}]
[null,null,null,null,null,1167,23.34,12.9689,28.4912109375,{"$f":"FOURIER!M1169","v":0},{"$f":"FOURIER!N1169","v":0},null,null,179.01555794625432,null,null,null,null,0,0,null,null,null,null,null,null,0,12.9689,null,null,null,null,null,null,null,null,null,null,null,null,null,23.34,6.6539999999999999,0,{"$error":"#DIV/0!"},{"$error":"#DIV/0!"}]
[null,null,null,null,null,1168,23.36,11.259,28.515625,{"$f":"FOURIER!M1170","v":0},{"$f":"FOURIER!N1170","v":0},null,null,179.16895602504289,null,null,null,null,0,0,null,null,null,null,null,null,0,11.259,null,null,null,null,null,null,null,null,null,null,null,null,null,23.36,6.67,0,{"$error":"#DIV/0!"},{"$error":"#DIV/0!"}]
[null,null,null,null,null,1169,23.38,9.7590000000000003,28.5400390625,{"$f":"FOURIER!M1171","v":0},{"$f":"FOURIER!N1171","v":0},null,null,179.32235410383146,null,null,null,null,0,0,null,null,null,null,null,null,0,9.7590000000000003,null,null,null,null,null,null,null,null,null,null,null,null,null,23.38,6.6779999999999999,0,{"$error":"#DIV/0!"},{"$error":"#DIV/0!"}]
[null,null,null,null,null,1170,23.400000000000002,5.8590999999999998,28.564453125,{"$f":"FOURIER!M1172","v":0},{"$f":"FOURIER!N1172","v":0},null,null,179.47575218262003,null,null,null,null,0,0,null,null,null,null,null,null,0,5.8590999999999998,null,null,null,null,null,null,null,null,null,null,null,null,null,23.400000000000002,6.6760000000000002,0,{"$error":"#DIV/0!"},{"$error":"#DIV/0!"}]
[null,null,null,null,null,1171,23.42,-5.0700000000000002E-2,28.5888671875,{"$f":"FOURIER!M1173","v":0},{"$f":"FOURIER!N1173","v":0},null,null,179.6291502614086,null,null,null,null,0,0,null,null,null,null,null,null,0,-5.0700000000000002E-2,null,null,null,null,null,null,null,null,null,null,null,null,null,23.42,6.6630000000000003,0,{"$error":"#DIV/0!"},{"$error":"#DIV/0!"}]
[null,null,null,null,null,1172,23.44,-5.2104999999999997,28.61328125,{"$f":"FOURIER!M1174","v":0},{"$f":"FOURIER!N1174","v":0},null,null,179.78254834019717,null,null,null,null,0,0,null,null,null,null,null,null,0,-5.2104999999999997,null,null,null,null,null,null,null,null,null,null,null,null,null,23.44,6.6369999999999996,0,{"$error":"#DIV/0!"},{"$error":"#DIV/0!"}]
[null,null,null,null,null,1173,23.46,-7.4004000000000003,28.6376953125,{"$f":"FOURIER!M1175","v":0},{"$f":"FOURIER!N1175","v":0},null,null,179.93594641898571,null,null,null,null,0,0,null,null,null,null,null,null,0,-7.4004000000000003,null,null,null,null,null,null,null,null,null,null,null,null,null,23.46,6.5949999999999998,0,{"$error":"#DIV/0!"},{"$error":"#DIV/0!"}]
[null,null,null,null,null,1174,23.48,-5.9305000000000003,28.662109375,{"$f":"FOURIER!M1176","v":0},{"$f":"FOURIER!N1176","v":0},null,null,180.08934449777428,null,null,null,null,0,0,null,null,null,null,null,null,0,-5.9305000000000003,null,null,null,null,null,null,null,null,null,null,null,null,null,23.48,6.5380000000000003,0,{"$error":"#DIV/0!"},{"$error":"#DIV/0!"}]
[null,null,null,null,null,1175,23.5,-2.2406000000000001,28.6865234375,{"$f":"FOURIER!M1177","v":0},{"$f":"FOURIER!N1177","v":0},null,null,180.24274257656285,null,null,null,null,0,0,null,null,null,null,null,null,0,-2.2406000000000001,null,null,null,null,null,null,null,null,null,null,null,null,null,23.5,6.4660000000000002,0,{"$error":"#DIV/0!"},{"$error":"#DIV/0!"}]
[null,null,null,null,null,1176,23.52,1.9893000000000001,28.7109375,{"$f":"FOURIER!M1178","v":0},{"$f":"FOURIER!N1178","v":0},null,null,180.39614065535142,null,null,null,null,0,0,null,null,null,null,null,null,0,1.9893000000000001,null,null,null,null,null,null,null,null,null,null,null,null,null,23.52,6.38,0,{"$error":"#DIV/0!"},{"$error":"#DIV/0!"}]
[null,null,null,null,null,1177,23.54,4.8692000000000002,28.7353515625,{"$f":"FOURIER!M1179","v":0},{"$f":"FOURIER!N1179","v":0},null,null,180.54953873413999,null,null,null,null,0,0,null,null,null,null,null,null,0,4.8692000000000002,null,null,null,null,null,null,null,null,null,null,null,null,null,23.54,6.2830000000000004,0,{"$error":"#DIV/0!"},{"$error":"#DIV/0!"}]
[null,null,null,null,null,1178,23.56,7.2690999999999999,28.759765625,{"$f":"FOURIER!M1180","v":0},{"$f":"FOURIER!N1180","v":0},null,null,180.70293681292853,null,null,null,null,0,0,null,null,null,null,null,null,0,7.2690999999999999,null,null,null,null,null,null,null,null,null,null,null,null,null,23.56,6.1749999999999998,0,{"$error":"#DIV/0!"},{"$error":"#DIV/0!"}]
[null,null,null,null,null,1179,23.580000000000002,10.419,28.7841796875,{"$f":"FOURIER!M1181","v":0},{"$f":"FOURIER!N1181","v":0},null,null,180.8563348917171,null,null,null,null,0,0,null,null,null,null,null,null,0,10.419,null,null,null,null,null,null,null,null,null,null,null,null,null,23.580000000000002,6.0579999999999998,0,{"$error":"#DIV/0!"},{"$error":"#DIV/0!"}]
[null,null,null,null,null,1180,23.6,10.149100000000001,28.80859375,{"$f":"FOURIER!M1182","v":0},{"$f":"FOURIER!N1182","v":0},null,null,181.00973297050567,null,null,null,null,0,0,null,null,null,null,null,null,0,10.149100000000001,null,null,null,null,null,null,null,null,null,null,null,null,null,23.6,5.9340000000000002,0,{"$error":"#DIV/0!"},{"$error":"#DIV/0!"}]
[null,null,null,null,null,1181,23.62,5.0191999999999997,28.8330078125,{"$f":"FOURIER!M1183","v":0},{"$f":"FOURIER!N1183","v":0},null,null,181.16313104929424,null,null,null,null,0,0,null,null,null,null,null,null,0,5.0191999999999997,null,null,null,null,null,null,null,null,null,null,null,null,null,23.62,5.8019999999999996,0,{"$error":"#DIV/0!"},{"$error":"#DIV/0!"}]
[null,null,null,null,null,1182,23.64,-2.1206,28.857421875,{"$f":"FOURIER!M1184","v":0},{"$f":"FOURIER!N1184","v":0},null,null,181.31652912808281,null,null,null,null,0,0,null,null,null,null,null,null,0,-2.1206,null,null,null,null,null,null,null,null,null,null,null,null,null,23.64,5.6609999999999996,0,{"$error":"#DIV/0!"},{"$error":"#DIV/0!"}]
[null,null,null,null,null,1183,23.66,-8.8402999999999992,28.8818359375,{"$f":"FOURIER!M1185","v":0},{"$f":"FOURIER!N1185","v":0},null,null,181.46992720687135,null,null,null,null,0,0,null,null,null,null,null,null,0,-8.8402999999999992,null,null,null,null,null,null,null,null,null,null,null,null,null,23.66,5.5090000000000003,0,{"$error":"#DIV/0!"},{"$error":"#DIV/0!"}]
[null,null,null,null,null,1184,23.68,-14.5402,28.90625,{"$f":"FOURIER!M1186","v":0},{"$f":"FOURIER!N1186","v":0},null,null,181.62332528565992,null,null,null,null,0,0,null,null,null,null,null,null,0,-14.5402,null,null,null,null,null,null,null,null,null,null,null,null,null,23.68,5.3419999999999996,0,{"$error":"#DIV/0!"},{"$error":"#DIV/0!"}]
[null,null,null,null,null,1185,23.7,-17.4801,28.9306640625,{"$f":"FOURIER!M1187","v":0},{"$f":"FOURIER!N1187","v":0},null,null,181.77672336444849,null,null,null,null,0,0,null,null,null,null,null,null,0,-17.4801,null,null,null,null,null,null,null,null,null,null,null,null,null,23.7,5.16,0,{"$error":"#DIV/0!"},{"$error":"#DIV/0!"}]
[null,null,null,null,null,1186,23.72,-14.4802,28.955078125,{"$f":"FOURIER!M1188","v":0},{"$f":"FOURIER!N1188","v":0},null,null,181.93012144323706,null,null,null,null,0,0,null,null,null,null,null,null,0,-14.4802,null,null,null,null,null,null,null,null,null,null,null,null,null,23.72,4.9619999999999997,0,{"$error":"#DIV/0!"},{"$error":"#DIV/0!"}]
[null,null,null,null,null,1187,23.740000000000002,-6.2004000000000001,28.9794921875,{"$f":"FOURIER!M1189","v":0},{"$f":"FOURIER!N1189","v":0},null,null,182.08351952202563,null,null,null,null,0,0,null,null,null,null,null,null,0,-6.2004000000000001,null,null,null,null,null,null,null,null,null,null,null,null,null,23.740000000000002,4.7489999999999997,0,{"$error":"#DIV/0!"},{"$error":"#DIV/0!"}]
[null,null,null,null,null,1188,23.76,3.9992999999999999,29.00390625,{"$f":"FOURIER!M1190","v":0},{"$f":"FOURIER!N1190","v":0},null,null,182.23691760081417,null,null,null,null,0,0,null,null,null,null,null,null,0,3.9992999999999999,null,null,null,null,null,null,null,null,null,null,null,null,null,23.76,4.5250000000000004,0,{"$error":"#DIV/0!"},{"$error":"#DIV/0!"}]
[null,null,null,null,null,1189,23.78,12.069000000000001,29.0283203125,{"$f":"FOURIER!M1191","v":0},{"$f":"FOURIER!N1191","v":0},null,null,182.39031567960274,null,null,null,null,0,0,null,null,null,null,null,null,0,12.069000000000001,null,null,null,null,null,null,null,null,null,null,null,null,null,23.78,4.2939999999999996,0,{"$error":"#DIV/0!"},{"$error":"#DIV/0!"}]
[null,null,null,null,null,1190,23.8,15.4589,29.052734375,{"$f":"FOURIER!M1192","v":0},{"$f":"FOURIER!N1192","v":0},null,null,182.54371375839131,null,null,null,null,0,0,null,null,null,null,null,null,0,15.4589,null,null,null,null,null,null,null,null,null,null,null,null,null,23.8,4.0599999999999996,0,{"$error":"#DIV/0!"},{"$error":"#DIV/0!"}]
[null,null,null,null,null,1191,23.82,13.779,29.0771484375,{"$f":"FOURIER!M1193","v":0},{"$f":"FOURIER!N1193","v":0},null,null,182.69711183717988,null,null,null,null,0,0,null,null,null,null,null,null,0,13.779,null,null,null,null,null,null,null,null,null,null,null,null,null,23.82,3.8250000000000002,0,{"$error":"#DIV/0!"},{"$error":"#DIV/0!"}]
[null,null,null,null,null,1192,23.84,7.6292,29.1015625,{"$f":"FOURIER!M1194","v":0},{"$f":"FOURIER!N1194","v":0},null,null,182.85050991596844,null,null,null,null,0,0,null,null,null,null,null,null,0,7.6292,null,null,null,null,null,null,null,null,null,null,null,null,null,23.84,3.589,0,{"$error":"#DIV/0!"},{"$error":"#DIV/0!"}]
[null,null,null,null,null,1193,23.86,-1.4305000000000001,29.1259765625,{"$f":"FOURIER!M1195","v":0},{"$f":"FOURIER!N1195","v":0},null,null,183.00390799475699,null,null,null,null,0,0,null,null,null,null,null,null,0,-1.4305000000000001,null,null,null,null,null,null,null,null,null,null,null,null,null,23.86,3.3490000000000002,0,{"$error":"#DIV/0!"},{"$error":"#DIV/0!"}]
[null,null,null,null,null,1194,23.88,-11.030200000000001,29.150390625,{"$f":"FOURIER!M1196","v":0},{"$f":"FOURIER!N1196","v":0},null,null,183.15730607354556,null,null,null,null,0,0,null,null,null,null,null,null,0,-11.030200000000001,null,null,null,null,null,null,null,null,null,null,null,null,null,23.88,3.1030000000000002,0,{"$error":"#DIV/0!"},{"$error":"#DIV/0!"}]
[null,null,null,null,null,1195,23.900000000000002,-19.579999999999998,29.1748046875,{"$f":"FOURIER!M1197","v":0},{"$f":"FOURIER!N1197","v":0},null,null,183.31070415233413,null,null,null,null,0,0,null,null,null,null,null,null,0,-19.579999999999998,null,null,null,null,null,null,null,null,null,null,null,null,null,23.900000000000002,2.8479999999999999,0,{"$error":"#DIV/0!"},{"$error":"#DIV/0!"}]
[null,null,null,null,null,1196,23.92,-26.389700000000001,29.19921875,{"$f":"FOURIER!M1198","v":0},{"$f":"FOURIER!N1198","v":0},null,null,183.46410223112269,null,null,null,null,0,0,null,null,null,null,null,null,0,-26.389700000000001,null,null,null,null,null,null,null,null,null,null,null,null,null,23.92,2.58,0,{"$error":"#DIV/0!"},{"$error":"#DIV/0!"}]
[null,null,null,null,null,1197,23.94,-29.8096,29.2236328125,{"$f":"FOURIER!M1199","v":0},{"$f":"FOURIER!N1199","v":0},null,null,183.61750030991126,null,null,null,null,0,0,null,null,null,null,null,null,0,-29.8096,null,null,null,null,null,null,null,null,null,null,null,null,null,23.94,2.2970000000000002,0,{"$error":"#DIV/0!"},{"$error":"#DIV/0!"}]
[null,null,null,null,null,1198,23.96,-29.059699999999999,29.248046875,{"$f":"FOURIER!M1200","v":0},{"$f":"FOURIER!N1200","v":0},null,null,183.77089838869983,null,null,null,null,0,0,null,null,null,null,null,null,0,-29.059699999999999,null,null,null,null,null,null,null,null,null,null,null,null,null,23.96,1.9990000000000001,0,{"$error":"#DIV/0!"},{"$error":"#DIV/0!"}]
[null,null,null,null,null,1199,23.98,-25.579799999999999,29.2724609375,{"$f":"FOURIER!M1201","v":0},{"$f":"FOURIER!N1201","v":0},null,null,183.92429646748838,null,null,null,null,0,0,null,null,null,null,null,null,0,-25.579799999999999,null,null,null,null,null,null,null,null,null,null,null,null,null,23.98,1.6870000000000001,0,{"$error":"#DIV/0!"},{"$error":"#DIV/0!"}]
[null,null,null,null,null,1200,24,-17.93,29.296875,{"$f":"FOURIER!M1202","v":0},{"$f":"FOURIER!N1202","v":0},null,null,184.07769454627694,null,null,null,null,0,0,null,null,null,null,null,null,0,-17.93,null,null,null,null,null,null,null,null,null,null,null,null,null,24,1.363,0,{"$error":"#DIV/0!"},{"$error":"#DIV/0!"}]
[null,null,null,null,null,1201,24.02,-5.8403999999999998,29.3212890625,{"$f":"FOURIER!M1203","v":0},{"$f":"FOURIER!N1203","v":0},null,null,184.23109262506551,null,null,null,null,0,0,null,null,null,null,null,null,0,-5.8403999999999998,null,null,null,null,null,null,null,null,null,null,null,null,null,24.02,1.0309999999999999,0,{"$error":"#DIV/0!"},{"$error":"#DIV/0!"}]
[null,null,null,null,null,1202,24.04,5.0792999999999999,29.345703125,{"$f":"FOURIER!M1204","v":0},{"$f":"FOURIER!N1204","v":0},null,null,184.38449070385408,null,null,null,null,0,0,null,null,null,null,null,null,0,5.0792999999999999,null,null,null,null,null,null,null,null,null,null,null,null,null,24.04,0.69499999999999995,0,{"$error":"#DIV/0!"},{"$error":"#DIV/0!"}]
[null,null,null,null,null,1203,24.060000000000002,12.459099999999999,29.3701171875,{"$f":"FOURIER!M1205","v":0},{"$f":"FOURIER!N1205","v":0},null,null,184.53788878264265,null,null,null,null,0,0,null,null,null,null,null,null,0,12.459099999999999,null,null,null,null,null,null,null,null,null,null,null,null,null,24.060000000000002,0.36099999999999999,0,{"$error":"#DIV/0!"},{"$error":"#DIV/0!"}]
[null,null,null,null,null,1204,24.080000000000002,18.698899999999998,29.39453125,{"$f":"FOURIER!M1206","v":0},{"$f":"FOURIER!N1206","v":0},null,null,184.69128686143119,null,null,null,null,0,0,null,null,null,null,null,null,0,18.698899999999998,null,null,null,null,null,null,null,null,null,null,null,null,null,24.080000000000002,3.2000000000000001E-2,0,{"$error":"#DIV/0!"},{"$error":"#DIV/0!"}]
[null,null,null,null,null,1205,24.1,22.598800000000001,29.4189453125,{"$f":"FOURIER!M1207","v":0},{"$f":"FOURIER!N1207","v":0},null,null,184.84468494021976,null,null,null,null,0,0,null,null,null,null,null,null,0,22.598800000000001,null,null,null,null,null,null,null,null,null,null,null,null,null,24.1,-0.28699999999999998,0,{"$error":"#DIV/0!"},{"$error":"#DIV/0!"}]
[null,null,null,null,null,1206,24.12,23.378799999999998,29.443359375,{"$f":"FOURIER!M1208","v":0},{"$f":"FOURIER!N1208","v":0},null,null,184.99808301900833,null,null,null,null,0,0,null,null,null,null,null,null,0,23.378799999999998,null,null,null,null,null,null,null,null,null,null,null,null,null,24.12,-0.59599999999999997,0,{"$error":"#DIV/0!"},{"$error":"#DIV/0!"}]
[null,null,null,null,null,1207,24.14,22.058800000000002,29.4677734375,{"$f":"FOURIER!M1209","v":0},{"$f":"FOURIER!N1209","v":0},null,null,185.1514810977969,null,null,null,null,0,0,null,null,null,null,null,null,0,22.058800000000002,null,null,null,null,null,null,null,null,null,null,null,null,null,24.14,-0.89300000000000002,0,{"$error":"#DIV/0!"},{"$error":"#DIV/0!"}]
[null,null,null,null,null,1208,24.16,17.498999999999999,29.4921875,{"$f":"FOURIER!M1210","v":0},{"$f":"FOURIER!N1210","v":0},null,null,185.30487917658547,null,null,null,null,0,0,null,null,null,null,null,null,0,17.498999999999999,null,null,null,null,null,null,null,null,null,null,null,null,null,24.16,-1.179,0,{"$error":"#DIV/0!"},{"$error":"#DIV/0!"}]
[null,null,null,null,null,1209,24.18,10.6892,29.5166015625,{"$f":"FOURIER!M1211","v":0},{"$f":"FOURIER!N1211","v":0},null,null,185.45827725537401,null,null,null,null,0,0,null,null,null,null,null,null,0,10.6892,null,null,null,null,null,null,null,null,null,null,null,null,null,24.18,-1.454,0,{"$error":"#DIV/0!"},{"$error":"#DIV/0!"}]
[null,null,null,null,null,1210,24.2,5.5293000000000001,29.541015625,{"$f":"FOURIER!M1212","v":0},{"$f":"FOURIER!N1212","v":0},null,null,185.61167533416258,null,null,null,null,0,0,null,null,null,null,null,null,0,5.5293000000000001,null,null,null,null,null,null,null,null,null,null,null,null,null,24.2,-1.7210000000000001,0,{"$error":"#DIV/0!"},{"$error":"#DIV/0!"}]
[null,null,null,null,null,1211,24.22,5.4093999999999998,29.5654296875,{"$f":"FOURIER!M1213","v":0},{"$f":"FOURIER!N1213","v":0},null,null,185.76507341295115,null,null,null,null,0,0,null,null,null,null,null,null,0,5.4093999999999998,null,null,null,null,null,null,null,null,null,null,null,null,null,24.22,-1.9810000000000001,0,{"$error":"#DIV/0!"},{"$error":"#DIV/0!"}]
[null,null,null,null,null,1212,24.240000000000002,7.6893000000000002,29.58984375,{"$f":"FOURIER!M1214","v":0},{"$f":"FOURIER!N1214","v":0},null,null,185.91847149173972,null,null,null,null,0,0,null,null,null,null,null,null,0,7.6893000000000002,null,null,null,null,null,null,null,null,null,null,null,null,null,24.240000000000002,-2.234,0,{"$error":"#DIV/0!"},{"$error":"#DIV/0!"}]
[null,null,null,null,null,1213,24.26,6.3993000000000002,29.6142578125,{"$f":"FOURIER!M1215","v":0},{"$f":"FOURIER!N1215","v":0},null,null,186.07186957052829,null,null,null,null,0,0,null,null,null,null,null,null,0,6.3993000000000002,null,null,null,null,null,null,null,null,null,null,null,null,null,24.26,-2.4780000000000002,0,{"$error":"#DIV/0!"},{"$error":"#DIV/0!"}]
[null,null,null,null,null,1214,24.28,1.2695000000000001,29.638671875,{"$f":"FOURIER!M1216","v":0},{"$f":"FOURIER!N1216","v":0},null,null,186.22526764931683,null,null,null,null,0,0,null,null,null,null,null,null,0,1.2695000000000001,null,null,null,null,null,null,null,null,null,null,null,null,null,24.28,-2.714,0,{"$error":"#DIV/0!"},{"$error":"#DIV/0!"}]
[null,null,null,null,null,1215,24.3,-4.1902999999999997,29.6630859375,{"$f":"FOURIER!M1217","v":0},{"$f":"FOURIER!N1217","v":0},null,null,186.3786657281054,null,null,null,null,0,0,null,null,null,null,null,null,0,-4.1902999999999997,null,null,null,null,null,null,null,null,null,null,null,null,null,24.3,-2.9430000000000001,0,{"$error":"#DIV/0!"},{"$error":"#DIV/0!"}]
[null,null,null,null,null,1216,24.32,-5.9603000000000002,29.6875,{"$f":"FOURIER!M1218","v":0},{"$f":"FOURIER!N1218","v":0},null,null,{"$f":"2*PI()/B$9/B$6*F1218","v":186.53206380689397},null,null,null,null,{"$f":"J1218*O1218-K1218*P1218","v":0},{"$f":"J1218*P1218+K1218*O1218","v":0},null,null,null,null,null,null,0,-5.9603000000000002,null,null,null,null,null,null,null,null,null,null,null,null,null,{"$f":"G1218","v":24.32},-3.1669999999999998,0,{"$error":"#DIV/0!"},{"$error":"#DIV/0!"}]
[null,null,null,null,null,1217,{"$f":"B$6*F1219","v":24.34},-3.5003000000000002,{"$f":"F1219/B$9/B$6","v":29.7119140625},{"$f":"FOURIER!M1219","v":0},{"$f":"FOURIER!N1219","v":0},null,null,186.68546188568254,null,null,null,null,0,0,null,null,null,null,null,null,{"$f":"(Y1219-Y1218)/B$6","v":0},{"$f":"(AA1219-AA1218)/B$6+H1219","v":-3.5003000000000002},null,null,null,null,null,null,null,null,null,null,null,null,null,24.34,-3.3860000000000001,0,{"$f":"(AQ1219-AQ1218)/O$6","v":{"$error":"#DIV/0!"}},{"$f":"(AS1219-AS1218)/O$6+S1219","v":{"$error":"#DIV/0!"}}]
[null,null,null,null,null,1218,24.36,-0.74039999999999995,29.736328125,{"$f":"FOURIER!M1220","v":0},{"$f":"FOURIER!N1220","v":0},null,null,186.83885996447111,null,null,null,null,0,0,null,null,null,null,null,null,0,-0.74039999999999995,null,null,null,null,null,null,null,null,null,null,null,null,null,24.36,-3.5979999999999999,0,{"$error":"#DIV/0!"},{"$error":"#DIV/0!"}]
[null,null,null,null,null,1219,24.38,0.45950000000000002,29.7607421875,{"$f":"FOURIER!M1221","v":0},{"$f":"FOURIER!N1221","v":0},null,null,186.99225804325965,null,null,null,null,0,0,null,null,null,null,null,null,0,0.45950000000000002,null,null,null,null,null,null,null,null,null,null,null,null,null,24.38,-3.8029999999999999,0,{"$error":"#DIV/0!"},{"$error":"#DIV/0!"}]
[null,null,null,null,null,1220,24.400000000000002,-5.04E-2,29.78515625,{"$f":"FOURIER!M1222","v":0},{"$f":"FOURIER!N1222","v":0},null,null,187.14565612204822,null,null,null,null,0,0,null,null,null,null,null,null,0,-5.04E-2,null,null,null,null,null,null,null,null,null,null,null,null,null,24.400000000000002,-3.9990000000000001,0,{"$error":"#DIV/0!"},{"$error":"#DIV/0!"}]
[null,null,null,null,null,1221,24.42,0.57950000000000002,29.8095703125,{"$f":"FOURIER!M1223","v":0},{"$f":"FOURIER!N1223","v":0},null,null,187.29905420083679,null,null,null,null,0,0,null,null,null,null,null,null,0,0.57950000000000002,null,null,null,null,null,null,null,null,null,null,null,null,null,24.42,-4.1870000000000003,0,{"$error":"#DIV/0!"},{"$error":"#DIV/0!"}]
[null,null,null,null,null,1222,24.44,3.8795000000000002,29.833984375,{"$f":"FOURIER!M1224","v":0},{"$f":"FOURIER!N1224","v":0},null,null,187.45245227962536,null,null,null,null,0,0,null,null,null,null,null,null,0,3.8795000000000002,null,null,null,null,null,null,null,null,null,null,null,null,null,24.44,-4.3650000000000002,0,{"$error":"#DIV/0!"},{"$error":"#DIV/0!"}]
[null,null,null,null,null,1223,24.46,6.4294000000000002,29.8583984375,{"$f":"FOURIER!M1225","v":0},{"$f":"FOURIER!N1225","v":0},null,null,187.60585035841393,null,null,null,null,0,0,null,null,null,null,null,null,0,6.4294000000000002,null,null,null,null,null,null,null,null,null,null,null,null,null,24.46,-4.532,0,{"$error":"#DIV/0!"},{"$error":"#DIV/0!"}]
[null,null,null,null,null,1224,24.48,6.8494000000000002,29.8828125,{"$f":"FOURIER!M1226","v":0},{"$f":"FOURIER!N1226","v":0},null,null,187.7592484372025,null,null,null,null,0,0,null,null,null,null,null,null,0,6.8494000000000002,null,null,null,null,null,null,null,null,null,null,null,null,null,24.48,-4.6870000000000003,0,{"$error":"#DIV/0!"},{"$error":"#DIV/0!"}]
[null,null,null,null,null,1225,24.5,6.6093999999999999,29.9072265625,{"$f":"FOURIER!M1227","v":0},{"$f":"FOURIER!N1227","v":0},null,null,187.91264651599104,null,null,null,null,0,0,null,null,null,null,null,null,0,6.6093999999999999,null,null,null,null,null,null,null,null,null,null,null,null,null,24.5,-4.83,0,{"$error":"#DIV/0!"},{"$error":"#DIV/0!"}]
[null,null,null,null,null,1226,24.52,6.4593999999999996,29.931640625,{"$f":"FOURIER!M1228","v":0},{"$f":"FOURIER!N1228","v":0},null,null,188.06604459477961,null,null,null,null,0,0,null,null,null,null,null,null,0,6.4593999999999996,null,null,null,null,null,null,null,null,null,null,null,null,null,24.52,-4.9589999999999996,0,{"$error":"#DIV/0!"},{"$error":"#DIV/0!"}]
[null,null,null,null,null,1227,24.54,6.0693999999999999,29.9560546875,{"$f":"FOURIER!M1229","v":0},{"$f":"FOURIER!N1229","v":0},null,null,188.21944267356818,null,null,null,null,0,0,null,null,null,null,null,null,0,6.0693999999999999,null,null,null,null,null,null,null,null,null,null,null,null,null,24.54,-5.0750000000000002,0,{"$error":"#DIV/0!"},{"$error":"#DIV/0!"}]
[null,null,null,null,null,1228,24.560000000000002,5.5594000000000001,29.98046875,{"$f":"FOURIER!M1230","v":0},{"$f":"FOURIER!N1230","v":0},null,null,188.37284075235675,null,null,null,null,0,0,null,null,null,null,null,null,0,5.5594000000000001,null,null,null,null,null,null,null,null,null,null,null,null,null,24.560000000000002,-5.1790000000000003,0,{"$error":"#DIV/0!"},{"$error":"#DIV/0!"}]
[null,null,null,null,null,1229,24.580000000000002,6.0393999999999997,30.0048828125,{"$f":"FOURIER!M1231","v":0},{"$f":"FOURIER!N1231","v":0},null,null,188.52623883114532,null,null,null,null,0,0,null,null,null,null,null,null,0,6.0393999999999997,null,null,null,null,null,null,null,null,null,null,null,null,null,24.580000000000002,-5.2690000000000001,0,{"$error":"#DIV/0!"},{"$error":"#DIV/0!"}]
[null,null,null,null,null,1230,24.6,6.3994,30.029296875,{"$f":"FOURIER!M1232","v":0},{"$f":"FOURIER!N1232","v":0},null,null,188.67963690993386,null,null,null,null,0,0,null,null,null,null,null,null,0,6.3994,null,null,null,null,null,null,null,null,null,null,null,null,null,24.6,-5.3460000000000001,0,{"$error":"#DIV/0!"},{"$error":"#DIV/0!"}]
[null,null,null,null,null,1231,24.62,5.6494,30.0537109375,{"$f":"FOURIER!M1233","v":0},{"$f":"FOURIER!N1233","v":0},null,null,188.83303498872243,null,null,null,null,0,0,null,null,null,null,null,null,0,5.6494,null,null,null,null,null,null,null,null,null,null,null,null,null,24.62,-5.41,0,{"$error":"#DIV/0!"},{"$error":"#DIV/0!"}]
[null,null,null,null,null,1232,24.64,1.9596,30.078125,{"$f":"FOURIER!M1234","v":0},{"$f":"FOURIER!N1234","v":0},null,null,188.986433067511,null,null,null,null,0,0,null,null,null,null,null,null,0,1.9596,null,null,null,null,null,null,null,null,null,null,null,null,null,24.64,-5.46,0,{"$error":"#DIV/0!"},{"$error":"#DIV/0!"}]
[null,null,null,null,null,1233,24.66,-7.1302000000000003,30.1025390625,{"$f":"FOURIER!M1235","v":0},{"$f":"FOURIER!N1235","v":0},null,null,189.13983114629957,null,null,null,null,0,0,null,null,null,null,null,null,0,-7.1302000000000003,null,null,null,null,null,null,null,null,null,null,null,null,null,24.66,-5.4989999999999997,0,{"$error":"#DIV/0!"},{"$error":"#DIV/0!"}]
[null,null,null,null,null,1234,24.68,-17.629799999999999,30.126953125,{"$f":"FOURIER!M1236","v":0},{"$f":"FOURIER!N1236","v":0},null,null,189.29322922508814,null,null,null,null,0,0,null,null,null,null,null,null,0,-17.629799999999999,null,null,null,null,null,null,null,null,null,null,null,null,null,24.68,-5.5289999999999999,0,{"$error":"#DIV/0!"},{"$error":"#DIV/0!"}]
[null,null,null,null,null,1235,24.7,-23.329699999999999,30.1513671875,{"$f":"FOURIER!M1237","v":0},{"$f":"FOURIER!N1237","v":0},null,null,189.44662730387668,null,null,null,null,0,0,null,null,null,null,null,null,0,-23.329699999999999,null,null,null,null,null,null,null,null,null,null,null,null,null,24.7,-5.5549999999999997,0,{"$error":"#DIV/0!"},{"$error":"#DIV/0!"}]
[null,null,null,null,null,1236,24.72,-22.6997,30.17578125,{"$f":"FOURIER!M1238","v":0},{"$f":"FOURIER!N1238","v":0},null,null,189.60002538266525,null,null,null,null,0,0,null,null,null,null,null,null,0,-22.6997,null,null,null,null,null,null,null,null,null,null,null,null,null,24.72,-5.5789999999999997,0,{"$error":"#DIV/0!"},{"$error":"#DIV/0!"}]
[null,null,null,null,null,1237,24.740000000000002,-19.6098,30.2001953125,{"$f":"FOURIER!M1239","v":0},{"$f":"FOURIER!N1239","v":0},null,null,189.75342346145382,null,null,null,null,0,0,null,null,null,null,null,null,0,-19.6098,null,null,null,null,null,null,null,null,null,null,null,null,null,24.740000000000002,-5.601,0,{"$error":"#DIV/0!"},{"$error":"#DIV/0!"}]
[null,null,null,null,null,1238,24.76,-19.129799999999999,30.224609375,{"$f":"FOURIER!M1240","v":0},{"$f":"FOURIER!N1240","v":0},null,null,189.90682154024239,null,null,null,null,0,0,null,null,null,null,null,null,0,-19.129799999999999,null,null,null,null,null,null,null,null,null,null,null,null,null,24.76,-5.6189999999999998,0,{"$error":"#DIV/0!"},{"$error":"#DIV/0!"}]
[null,null,null,null,null,1239,24.78,-20.059699999999999,30.2490234375,{"$f":"FOURIER!M1241","v":0},{"$f":"FOURIER!N1241","v":0},null,null,190.06021961903096,null,null,null,null,0,0,null,null,null,null,null,null,0,-20.059699999999999,null,null,null,null,null,null,null,null,null,null,null,null,null,24.78,-5.6340000000000003,0,{"$error":"#DIV/0!"},{"$error":"#DIV/0!"}]
[null,null,null,null,null,1240,24.8,-18.169799999999999,30.2734375,{"$f":"FOURIER!M1242","v":0},{"$f":"FOURIER!N1242","v":0},null,null,190.2136176978195,null,null,null,null,0,0,null,null,null,null,null,null,0,-18.169799999999999,null,null,null,null,null,null,null,null,null,null,null,null,null,24.8,-5.6459999999999999,0,{"$error":"#DIV/0!"},{"$error":"#DIV/0!"}]
[null,null,null,null,null,1241,24.82,-12.32,30.2978515625,{"$f":"FOURIER!M1243","v":0},{"$f":"FOURIER!N1243","v":0},null,null,190.36701577660807,null,null,null,null,0,0,null,null,null,null,null,null,0,-12.32,null,null,null,null,null,null,null,null,null,null,null,null,null,24.82,-5.6529999999999996,0,{"$error":"#DIV/0!"},{"$error":"#DIV/0!"}]
[null,null,null,null,null,1242,24.84,-3.1402000000000001,30.322265625,{"$f":"FOURIER!M1244","v":0},{"$f":"FOURIER!N1244","v":0},null,null,190.52041385539664,null,null,null,null,0,0,null,null,null,null,null,null,0,-3.1402000000000001,null,null,null,null,null,null,null,null,null,null,null,null,null,24.84,-5.6539999999999999,0,{"$error":"#DIV/0!"},{"$error":"#DIV/0!"}]
[null,null,null,null,null,1243,24.86,5.2895000000000003,30.3466796875,{"$f":"FOURIER!M1245","v":0},{"$f":"FOURIER!N1245","v":0},null,null,190.67381193418521,null,null,null,null,0,0,null,null,null,null,null,null,0,5.2895000000000003,null,null,null,null,null,null,null,null,null,null,null,null,null,24.86,-5.6440000000000001,0,{"$error":"#DIV/0!"},{"$error":"#DIV/0!"}]
[null,null,null,null,null,1244,24.88,10.269399999999999,30.37109375,{"$f":"FOURIER!M1246","v":0},{"$f":"FOURIER!N1246","v":0},null,null,190.82721001297378,null,null,null,null,0,0,null,null,null,null,null,null,0,10.269399999999999,null,null,null,null,null,null,null,null,null,null,null,null,null,24.88,-5.6219999999999999,0,{"$error":"#DIV/0!"},{"$error":"#DIV/0!"}]
[null,null,null,null,null,1245,24.900000000000002,14.4392,30.3955078125,{"$f":"FOURIER!M1247","v":0},{"$f":"FOURIER!N1247","v":0},null,null,190.98060809176232,null,null,null,null,0,0,null,null,null,null,null,null,0,14.4392,null,null,null,null,null,null,null,null,null,null,null,null,null,24.900000000000002,-5.5839999999999996,0,{"$error":"#DIV/0!"},{"$error":"#DIV/0!"}]
[null,null,null,null,null,1246,24.92,18.0991,30.419921875,{"$f":"FOURIER!M1248","v":0},{"$f":"FOURIER!N1248","v":0},null,null,191.13400617055089,null,null,null,null,0,0,null,null,null,null,null,null,0,18.0991,null,null,null,null,null,null,null,null,null,null,null,null,null,24.92,-5.5289999999999999,0,{"$error":"#DIV/0!"},{"$error":"#DIV/0!"}]
[null,null,null,null,null,1247,24.94,19.0291,30.4443359375,{"$f":"FOURIER!M1249","v":0},{"$f":"FOURIER!N1249","v":0},null,null,191.28740424933946,null,null,null,null,0,0,null,null,null,null,null,null,0,19.0291,null,null,null,null,null,null,null,null,null,null,null,null,null,24.94,-5.4569999999999999,0,{"$error":"#DIV/0!"},{"$error":"#DIV/0!"}]
[null,null,null,null,null,1248,24.96,17.109200000000001,30.46875,{"$f":"FOURIER!M1250","v":0},{"$f":"FOURIER!N1250","v":0},null,null,191.44080232812803,null,null,null,null,0,0,null,null,null,null,null,null,0,17.109200000000001,null,null,null,null,null,null,null,null,null,null,null,null,null,24.96,-5.3659999999999997,0,{"$error":"#DIV/0!"},{"$error":"#DIV/0!"}]
[null,null,null,null,null,1249,24.98,12.4893,30.4931640625,{"$f":"FOURIER!M1251","v":0},{"$f":"FOURIER!N1251","v":0},null,null,191.5942004069166,null,null,null,null,0,0,null,null,null,null,null,null,0,12.4893,null,null,null,null,null,null,null,null,null,null,null,null,null,24.98,-5.2590000000000003,0,{"$error":"#DIV/0!"},{"$error":"#DIV/0!"}]
[null,null,null,null,null,1250,25,8.1395,30.517578125,{"$f":"FOURIER!M1252","v":0},{"$f":"FOURIER!N1252","v":0},null,null,191.74759848570517,null,null,null,null,0,0,null,null,null,null,null,null,0,8.1395,null,null,null,null,null,null,null,null,null,null,null,null,null,25,-5.1360000000000001,0,{"$error":"#DIV/0!"},{"$error":"#DIV/0!"}]
[null,null,null,null,null,1251,25.02,4.4196,30.5419921875,{"$f":"FOURIER!M1253","v":0},{"$f":"FOURIER!N1253","v":0},null,null,191.90099656449371,null,null,null,null,0,0,null,null,null,null,null,null,0,4.4196,null,null,null,null,null,null,null,null,null,null,null,null,null,25.02,-5,0,{"$error":"#DIV/0!"},{"$error":"#DIV/0!"}]
[null,null,null,null,null,1252,25.04,0.18970000000000001,30.56640625,{"$f":"FOURIER!M1254","v":0},{"$f":"FOURIER!N1254","v":0},null,null,192.05439464328228,null,null,null,null,0,0,null,null,null,null,null,null,0,0.18970000000000001,null,null,null,null,null,null,null,null,null,null,null,null,null,25.04,-4.8529999999999998,0,{"$error":"#DIV/0!"},{"$error":"#DIV/0!"}]
[null,null,null,null,null,1253,25.060000000000002,-2.4502000000000002,30.5908203125,{"$f":"FOURIER!M1255","v":0},{"$f":"FOURIER!N1255","v":0},null,null,192.20779272207085,null,null,null,null,0,0,null,null,null,null,null,null,0,-2.4502000000000002,null,null,null,null,null,null,null,null,null,null,null,null,null,25.060000000000002,-4.6970000000000001,0,{"$error":"#DIV/0!"},{"$error":"#DIV/0!"}]
[null,null,null,null,null,1254,25.080000000000002,-3.0202,30.615234375,{"$f":"FOURIER!M1256","v":0},{"$f":"FOURIER!N1256","v":0},null,null,192.36119080085942,null,null,null,null,0,0,null,null,null,null,null,null,0,-3.0202,null,null,null,null,null,null,null,null,null,null,null,null,null,25.080000000000002,-4.5330000000000004,0,{"$error":"#DIV/0!"},{"$error":"#DIV/0!"}]
[null,null,null,null,null,1255,25.1,-1.8202,30.6396484375,{"$f":"FOURIER!M1257","v":0},{"$f":"FOURIER!N1257","v":0},null,null,192.51458887964799,null,null,null,null,0,0,null,null,null,null,null,null,0,-1.8202,null,null,null,null,null,null,null,null,null,null,null,null,null,25.1,-4.3609999999999998,0,{"$error":"#DIV/0!"},{"$error":"#DIV/0!"}]
[null,null,null,null,null,1256,25.12,0.96970000000000001,30.6640625,{"$f":"FOURIER!M1258","v":0},{"$f":"FOURIER!N1258","v":0},null,null,192.66798695843653,null,null,null,null,0,0,null,null,null,null,null,null,0,0.96970000000000001,null,null,null,null,null,null,null,null,null,null,null,null,null,25.12,-4.1820000000000004,0,{"$error":"#DIV/0!"},{"$error":"#DIV/0!"}]
[null,null,null,null,null,1257,25.14,4.3895999999999997,30.6884765625,{"$f":"FOURIER!M1259","v":0},{"$f":"FOURIER!N1259","v":0},null,null,192.8213850372251,null,null,null,null,0,0,null,null,null,null,null,null,0,4.3895999999999997,null,null,null,null,null,null,null,null,null,null,null,null,null,25.14,-3.996,0,{"$error":"#DIV/0!"},{"$error":"#DIV/0!"}]
[null,null,null,null,null,1258,25.16,7.5395000000000003,30.712890625,{"$f":"FOURIER!M1260","v":0},{"$f":"FOURIER!N1260","v":0},null,null,192.97478311601367,null,null,null,null,0,0,null,null,null,null,null,null,0,7.5395000000000003,null,null,null,null,null,null,null,null,null,null,null,null,null,25.16,-3.8,0,{"$error":"#DIV/0!"},{"$error":"#DIV/0!"}]
[null,null,null,null,null,1259,25.18,10.689399999999999,30.7373046875,{"$f":"FOURIER!M1261","v":0},{"$f":"FOURIER!N1261","v":0},null,null,193.12818119480224,null,null,null,null,0,0,null,null,null,null,null,null,0,10.689399999999999,null,null,null,null,null,null,null,null,null,null,null,null,null,25.18,-3.5939999999999999,0,{"$error":"#DIV/0!"},{"$error":"#DIV/0!"}]
[null,null,null,null,null,1260,25.2,13.299300000000001,30.76171875,{"$f":"FOURIER!M1262","v":0},{"$f":"FOURIER!N1262","v":0},null,null,193.28157927359081,null,null,null,null,0,0,null,null,null,null,null,null,0,13.299300000000001,null,null,null,null,null,null,null,null,null,null,null,null,null,25.2,-3.3780000000000001,0,{"$error":"#DIV/0!"},{"$error":"#DIV/0!"}]
[null,null,null,null,null,1261,25.22,12.339399999999999,30.7861328125,{"$f":"FOURIER!M1263","v":0},{"$f":"FOURIER!N1263","v":0},null,null,193.43497735237935,null,null,null,null,0,0,null,null,null,null,null,null,0,12.339399999999999,null,null,null,null,null,null,null,null,null,null,null,null,null,25.22,-3.1509999999999998,0,{"$error":"#DIV/0!"},{"$error":"#DIV/0!"}]
[null,null,null,null,null,1262,25.240000000000002,7.5095000000000001,30.810546875,{"$f":"FOURIER!M1264","v":0},{"$f":"FOURIER!N1264","v":0},null,null,193.58837543116792,null,null,null,null,0,0,null,null,null,null,null,null,0,7.5095000000000001,null,null,null,null,null,null,null,null,null,null,null,null,null,25.240000000000002,-2.9129999999999998,0,{"$error":"#DIV/0!"},{"$error":"#DIV/0!"}]
[null,null,null,null,null,1263,25.26,0.69969999999999999,30.8349609375,{"$f":"FOURIER!M1265","v":0},{"$f":"FOURIER!N1265","v":0},null,null,193.74177350995649,null,null,null,null,0,0,null,null,null,null,null,null,0,0.69969999999999999,null,null,null,null,null,null,null,null,null,null,null,null,null,25.26,-2.6680000000000001,0,{"$error":"#DIV/0!"},{"$error":"#DIV/0!"}]
[null,null,null,null,null,1264,25.28,-4.7900999999999998,30.859375,{"$f":"FOURIER!M1266","v":0},{"$f":"FOURIER!N1266","v":0},null,null,193.89517158874506,null,null,null,null,0,0,null,null,null,null,null,null,0,-4.7900999999999998,null,null,null,null,null,null,null,null,null,null,null,null,null,25.28,-2.4180000000000001,0,{"$error":"#DIV/0!"},{"$error":"#DIV/0!"}]
[null,null,null,null,null,1265,25.3,-7.01,30.8837890625,{"$f":"FOURIER!M1267","v":0},{"$f":"FOURIER!N1267","v":0},null,null,194.04856966753363,null,null,null,null,0,0,null,null,null,null,null,null,0,-7.01,null,null,null,null,null,null,null,null,null,null,null,null,null,25.3,-2.1659999999999999,0,{"$error":"#DIV/0!"},{"$error":"#DIV/0!"}]
[null,null,null,null,null,1266,25.32,-7.58,30.908203125,{"$f":"FOURIER!M1268","v":0},{"$f":"FOURIER!N1268","v":0},null,null,194.20196774632217,null,null,null,null,0,0,null,null,null,null,null,null,0,-7.58,null,null,null,null,null,null,null,null,null,null,null,null,null,25.32,-1.9139999999999999,0,{"$error":"#DIV/0!"},{"$error":"#DIV/0!"}]
[null,null,null,null,null,1267,25.34,-9.2599,30.9326171875,{"$f":"FOURIER!M1269","v":0},{"$f":"FOURIER!N1269","v":0},null,null,194.35536582511074,null,null,null,null,0,0,null,null,null,null,null,null,0,-9.2599,null,null,null,null,null,null,null,null,null,null,null,null,null,25.34,-1.661,0,{"$error":"#DIV/0!"},{"$error":"#DIV/0!"}]
[null,null,null,null,null,1268,25.36,-10.549899999999999,30.95703125,{"$f":"FOURIER!M1270","v":0},{"$f":"FOURIER!N1270","v":0},null,null,194.50876390389931,null,null,null,null,0,0,null,null,null,null,null,null,0,-10.549899999999999,null,null,null,null,null,null,null,null,null,null,null,null,null,25.36,-1.411,0,{"$error":"#DIV/0!"},{"$error":"#DIV/0!"}]
[null,null,null,null,null,1269,25.38,-9.4699000000000009,30.9814453125,{"$f":"FOURIER!M1271","v":0},{"$f":"FOURIER!N1271","v":0},null,null,194.66216198268788,null,null,null,null,0,0,null,null,null,null,null,null,0,-9.4699000000000009,null,null,null,null,null,null,null,null,null,null,null,null,null,25.38,-1.1619999999999999,0,{"$error":"#DIV/0!"},{"$error":"#DIV/0!"}]
[null,null,null,null,null,1270,25.400000000000002,-7.07,31.005859375,{"$f":"FOURIER!M1272","v":0},{"$f":"FOURIER!N1272","v":0},null,null,194.81556006147645,null,null,null,null,0,0,null,null,null,null,null,null,0,-7.07,null,null,null,null,null,null,null,null,null,null,null,null,null,25.400000000000002,-0.91600000000000004,0,{"$error":"#DIV/0!"},{"$error":"#DIV/0!"}]
[null,null,null,null,null,1271,25.42,-2.1200999999999999,31.0302734375,{"$f":"FOURIER!M1273","v":0},{"$f":"FOURIER!N1273","v":0},null,null,194.96895814026499,null,null,null,null,0,0,null,null,null,null,null,null,0,-2.1200999999999999,null,null,null,null,null,null,null,null,null,null,null,null,null,25.42,-0.67200000000000004,0,{"$error":"#DIV/0!"},{"$error":"#DIV/0!"}]
[null,null,null,null,null,1272,25.44,2.1997,31.0546875,{"$f":"FOURIER!M1274","v":0},{"$f":"FOURIER!N1274","v":0},null,null,195.12235621905356,null,null,null,null,0,0,null,null,null,null,null,null,0,2.1997,null,null,null,null,null,null,null,null,null,null,null,null,null,25.44,-0.42799999999999999,0,{"$error":"#DIV/0!"},{"$error":"#DIV/0!"}]
[null,null,null,null,null,1273,25.46,1.7198,31.0791015625,{"$f":"FOURIER!M1275","v":0},{"$f":"FOURIER!N1275","v":0},null,null,195.27575429784213,null,null,null,null,0,0,null,null,null,null,null,null,0,1.7198,null,null,null,null,null,null,null,null,null,null,null,null,null,25.46,-0.183,0,{"$error":"#DIV/0!"},{"$error":"#DIV/0!"}]
[null,null,null,null,null,1274,25.48,1.0598000000000001,31.103515625,{"$f":"FOURIER!M1276","v":0},{"$f":"FOURIER!N1276","v":0},null,null,195.4291523766307,null,null,null,null,0,0,null,null,null,null,null,null,0,1.0598000000000001,null,null,null,null,null,null,null,null,null,null,null,null,null,25.48,6.0999999999999999E-2,0,{"$error":"#DIV/0!"},{"$error":"#DIV/0!"}]
[null,null,null,null,null,1275,25.5,3.9697,31.1279296875,{"$f":"FOURIER!M1277","v":0},{"$f":"FOURIER!N1277","v":0},null,null,195.58255045541927,null,null,null,null,0,0,null,null,null,null,null,null,0,3.9697,null,null,null,null,null,null,null,null,null,null,null,null,null,25.5,0.30499999999999999,0,{"$error":"#DIV/0!"},{"$error":"#DIV/0!"}]
[null,null,null,null,null,1276,25.52,4.2397,31.15234375,{"$f":"FOURIER!M1278","v":0},{"$f":"FOURIER!N1278","v":0},null,null,195.73594853420784,null,null,null,null,0,0,null,null,null,null,null,null,0,4.2397,null,null,null,null,null,null,null,null,null,null,null,null,null,25.52,0.54900000000000004,0,{"$error":"#DIV/0!"},{"$error":"#DIV/0!"}]
[null,null,null,null,null,1277,25.54,2.8597000000000001,31.1767578125,{"$f":"FOURIER!M1279","v":0},{"$f":"FOURIER!N1279","v":0},null,null,195.88934661299638,null,null,null,null,0,0,null,null,null,null,null,null,0,2.8597000000000001,null,null,null,null,null,null,null,null,null,null,null,null,null,25.54,0.79200000000000004,0,{"$error":"#DIV/0!"},{"$error":"#DIV/0!"}]
[null,null,null,null,null,1278,25.560000000000002,3.4597000000000002,31.201171875,{"$f":"FOURIER!M1280","v":0},{"$f":"FOURIER!N1280","v":0},null,null,196.04274469178495,null,null,null,null,0,0,null,null,null,null,null,null,0,3.4597000000000002,null,null,null,null,null,null,null,null,null,null,null,null,null,25.560000000000002,1.034,0,{"$error":"#DIV/0!"},{"$error":"#DIV/0!"}]
[null,null,null,null,null,1279,25.580000000000002,3.6997,31.2255859375,{"$f":"FOURIER!M1281","v":0},{"$f":"FOURIER!N1281","v":0},null,null,196.19614277057352,null,null,null,null,0,0,null,null,null,null,null,null,0,3.6997,null,null,null,null,null,null,null,null,null,null,null,null,null,25.580000000000002,1.2749999999999999,0,{"$error":"#DIV/0!"},{"$error":"#DIV/0!"}]
[null,null,null,null,null,1280,25.6,2.3797999999999999,31.25,{"$f":"FOURIER!M1282","v":0},{"$f":"FOURIER!N1282","v":0},null,null,{"$f":"2*PI()/B$9/B$6*F1282","v":196.34954084936209},null,null,null,null,{"$f":"J1282*O1282-K1282*P1282","v":0},{"$f":"J1282*P1282+K1282*O1282","v":0},null,null,null,null,null,null,0,2.3797999999999999,null,null,null,null,null,null,null,null,null,null,null,null,null,{"$f":"G1282","v":25.6},1.5129999999999999,0,{"$error":"#DIV/0!"},{"$error":"#DIV/0!"}]
[null,null,null,null,null,1281,{"$f":"B$6*F1283","v":25.62},2.1698,{"$f":"F1283/B$9/B$6","v":31.2744140625},{"$f":"FOURIER!M1283","v":0},{"$f":"FOURIER!N1283","v":0},null,null,196.50293892815066,null,null,null,null,0,0,null,null,null,null,null,null,{"$f":"(Y1283-Y1282)/B$6","v":0},{"$f":"(AA1283-AA1282)/B$6+H1283","v":2.1698},null,null,null,null,null,null,null,null,null,null,null,null,null,25.62,1.748,0,{"$f":"(AQ1283-AQ1282)/O$6","v":{"$error":"#DIV/0!"}},{"$f":"(AS1283-AS1282)/O$6+S1283","v":{"$error":"#DIV/0!"}}]
[null,null,null,null,null,1282,25.64,3.3698000000000001,31.298828125,{"$f":"FOURIER!M1284","v":0},{"$f":"FOURIER!N1284","v":0},null,null,196.6563370069392,null,null,null,null,0,0,null,null,null,null,null,null,0,3.3698000000000001,null,null,null,null,null,null,null,null,null,null,null,null,null,25.64,1.98,0,{"$error":"#DIV/0!"},{"$error":"#DIV/0!"}]
[null,null,null,null,null,1283,25.66,4.7496999999999998,31.3232421875,{"$f":"FOURIER!M1285","v":0},{"$f":"FOURIER!N1285","v":0},null,null,196.80973508572777,null,null,null,null,0,0,null,null,null,null,null,null,0,4.7496999999999998,null,null,null,null,null,null,null,null,null,null,null,null,null,25.66,2.2080000000000002,0,{"$error":"#DIV/0!"},{"$error":"#DIV/0!"}]
[null,null,null,null,null,1284,25.68,6.1597,31.34765625,{"$f":"FOURIER!M1286","v":0},{"$f":"FOURIER!N1286","v":0},null,null,196.96313316451634,null,null,null,null,0,0,null,null,null,null,null,null,0,6.1597,null,null,null,null,null,null,null,null,null,null,null,null,null,25.68,2.4329999999999998,0,{"$error":"#DIV/0!"},{"$error":"#DIV/0!"}]
[null,null,null,null,null,1285,25.7,6.0396999999999998,31.3720703125,{"$f":"FOURIER!M1287","v":0},{"$f":"FOURIER!N1287","v":0},null,null,197.11653124330491,null,null,null,null,0,0,null,null,null,null,null,null,0,6.0396999999999998,null,null,null,null,null,null,null,null,null,null,null,null,null,25.7,2.6549999999999998,0,{"$error":"#DIV/0!"},{"$error":"#DIV/0!"}]
[null,null,null,null,null,1286,25.72,2.4698000000000002,31.396484375,{"$f":"FOURIER!M1288","v":0},{"$f":"FOURIER!N1288","v":0},null,null,197.26992932209347,null,null,null,null,0,0,null,null,null,null,null,null,0,2.4698000000000002,null,null,null,null,null,null,null,null,null,null,null,null,null,25.72,2.8719999999999999,0,{"$error":"#DIV/0!"},{"$error":"#DIV/0!"}]
[null,null,null,null,null,1287,25.740000000000002,-3.95,31.4208984375,{"$f":"FOURIER!M1289","v":0},{"$f":"FOURIER!N1289","v":0},null,null,197.42332740088202,null,null,null,null,0,0,null,null,null,null,null,null,0,-3.95,null,null,null,null,null,null,null,null,null,null,null,null,null,25.740000000000002,3.0840000000000001,0,{"$error":"#DIV/0!"},{"$error":"#DIV/0!"}]
[null,null,null,null,null,1288,25.76,-8.1798999999999999,31.4453125,{"$f":"FOURIER!M1290","v":0},{"$f":"FOURIER!N1290","v":0},null,null,197.57672547967059,null,null,null,null,0,0,null,null,null,null,null,null,0,-8.1798999999999999,null,null,null,null,null,null,null,null,null,null,null,null,null,25.76,3.2869999999999999,0,{"$error":"#DIV/0!"},{"$error":"#DIV/0!"}]
[null,null,null,null,null,1289,25.78,-6.8598999999999997,31.4697265625,{"$f":"FOURIER!M1291","v":0},{"$f":"FOURIER!N1291","v":0},null,null,197.73012355845916,null,null,null,null,0,0,null,null,null,null,null,null,0,-6.8598999999999997,null,null,null,null,null,null,null,null,null,null,null,null,null,25.78,3.48,0,{"$error":"#DIV/0!"},{"$error":"#DIV/0!"}]
[null,null,null,null,null,1290,25.8,-4.7,31.494140625,{"$f":"FOURIER!M1292","v":0},{"$f":"FOURIER!N1292","v":0},null,null,197.88352163724772,null,null,null,null,0,0,null,null,null,null,null,null,0,-4.7,null,null,null,null,null,null,null,null,null,null,null,null,null,25.8,3.6629999999999998,0,{"$error":"#DIV/0!"},{"$error":"#DIV/0!"}]
[null,null,null,null,null,1291,25.82,-4.6100000000000003,31.5185546875,{"$f":"FOURIER!M1293","v":0},{"$f":"FOURIER!N1293","v":0},null,null,198.03691971603629,null,null,null,null,0,0,null,null,null,null,null,null,0,-4.6100000000000003,null,null,null,null,null,null,null,null,null,null,null,null,null,25.82,3.835,0,{"$error":"#DIV/0!"},{"$error":"#DIV/0!"}]
[null,null,null,null,null,1292,25.84,-4.43,31.54296875,{"$f":"FOURIER!M1294","v":0},{"$f":"FOURIER!N1294","v":0},null,null,198.19031779482484,null,null,null,null,0,0,null,null,null,null,null,null,0,-4.43,null,null,null,null,null,null,null,null,null,null,null,null,null,25.84,3.9980000000000002,0,{"$error":"#DIV/0!"},{"$error":"#DIV/0!"}]
[null,null,null,null,null,1293,25.86,-2.81,31.5673828125,{"$f":"FOURIER!M1295","v":0},{"$f":"FOURIER!N1295","v":0},null,null,198.34371587361341,null,null,null,null,0,0,null,null,null,null,null,null,0,-2.81,null,null,null,null,null,null,null,null,null,null,null,null,null,25.86,4.1500000000000004,0,{"$error":"#DIV/0!"},{"$error":"#DIV/0!"}]
[null,null,null,null,null,1294,25.88,-0.56010000000000004,31.591796875,{"$f":"FOURIER!M1296","v":0},{"$f":"FOURIER!N1296","v":0},null,null,198.49711395240197,null,null,null,null,0,0,null,null,null,null,null,null,0,-0.56010000000000004,null,null,null,null,null,null,null,null,null,null,null,null,null,25.88,4.2910000000000004,0,{"$error":"#DIV/0!"},{"$error":"#DIV/0!"}]
[null,null,null,null,null,1295,25.900000000000002,0.81989999999999996,31.6162109375,{"$f":"FOURIER!M1297","v":0},{"$f":"FOURIER!N1297","v":0},null,null,198.65051203119054,null,null,null,null,0,0,null,null,null,null,null,null,0,0.81989999999999996,null,null,null,null,null,null,null,null,null,null,null,null,null,25.900000000000002,4.4240000000000004,0,{"$error":"#DIV/0!"},{"$error":"#DIV/0!"}]
[null,null,null,null,null,1296,25.92,0.45989999999999998,31.640625,{"$f":"FOURIER!M1298","v":0},{"$f":"FOURIER!N1298","v":0},null,null,198.80391010997911,null,null,null,null,0,0,null,null,null,null,null,null,0,0.45989999999999998,null,null,null,null,null,null,null,null,null,null,null,null,null,25.92,4.5469999999999997,0,{"$error":"#DIV/0!"},{"$error":"#DIV/0!"}]
[null,null,null,null,null,1297,25.94,-4.0099,31.6650390625,{"$f":"FOURIER!M1299","v":0},{"$f":"FOURIER!N1299","v":0},null,null,198.95730818876766,null,null,null,null,0,0,null,null,null,null,null,null,0,-4.0099,null,null,null,null,null,null,null,null,null,null,null,null,null,25.94,4.6609999999999996,0,{"$error":"#DIV/0!"},{"$error":"#DIV/0!"}]
[null,null,null,null,null,1298,25.96,-10.669700000000001,31.689453125,{"$f":"FOURIER!M1300","v":0},{"$f":"FOURIER!N1300","v":0},null,null,199.11070626755622,null,null,null,null,0,0,null,null,null,null,null,null,0,-10.669700000000001,null,null,null,null,null,null,null,null,null,null,null,null,null,25.96,4.7640000000000002,0,{"$error":"#DIV/0!"},{"$error":"#DIV/0!"}]
[null,null,null,null,null,1299,25.98,-13.6096,31.7138671875,{"$f":"FOURIER!M1301","v":0},{"$f":"FOURIER!N1301","v":0},null,null,199.26410434634479,null,null,null,null,0,0,null,null,null,null,null,null,0,-13.6096,null,null,null,null,null,null,null,null,null,null,null,null,null,25.98,4.8520000000000003,0,{"$error":"#DIV/0!"},{"$error":"#DIV/0!"}]
[null,null,null,null,null,1300,26,-12.919700000000001,31.73828125,{"$f":"FOURIER!M1302","v":0},{"$f":"FOURIER!N1302","v":0},null,null,199.41750242513336,null,null,null,null,0,0,null,null,null,null,null,null,0,-12.919700000000001,null,null,null,null,null,null,null,null,null,null,null,null,null,26,4.9249999999999998,0,{"$error":"#DIV/0!"},{"$error":"#DIV/0!"}]
[null,null,null,null,null,1301,26.02,-11.1797,31.7626953125,{"$f":"FOURIER!M1303","v":0},{"$f":"FOURIER!N1303","v":0},null,null,199.57090050392193,null,null,null,null,0,0,null,null,null,null,null,null,0,-11.1797,null,null,null,null,null,null,null,null,null,null,null,null,null,26.02,4.9829999999999997,0,{"$error":"#DIV/0!"},{"$error":"#DIV/0!"}]
[null,null,null,null,null,1302,26.04,-7.5797999999999996,31.787109375,{"$f":"FOURIER!M1304","v":0},{"$f":"FOURIER!N1304","v":0},null,null,199.7242985827105,null,null,null,null,0,0,null,null,null,null,null,null,0,-7.5797999999999996,null,null,null,null,null,null,null,null,null,null,null,null,null,26.04,5.0259999999999998,0,{"$error":"#DIV/0!"},{"$error":"#DIV/0!"}]
[null,null,null,null,null,1303,26.060000000000002,-3.2898999999999998,31.8115234375,{"$f":"FOURIER!M1305","v":0},{"$f":"FOURIER!N1305","v":0},null,null,199.87769666149904,null,null,null,null,0,0,null,null,null,null,null,null,0,-3.2898999999999998,null,null,null,null,null,null,null,null,null,null,null,null,null,26.060000000000002,5.056,0,{"$error":"#DIV/0!"},{"$error":"#DIV/0!"}]
[null,null,null,null,null,1304,26.080000000000002,-0.5,31.8359375,{"$f":"FOURIER!M1306","v":0},{"$f":"FOURIER!N1306","v":0},null,null,200.03109474028761,null,null,null,null,0,0,null,null,null,null,null,null,0,-0.5,null,null,null,null,null,null,null,null,null,null,null,null,null,26.080000000000002,5.0750000000000002,0,{"$error":"#DIV/0!"},{"$error":"#DIV/0!"}]
[null,null,null,null,null,1305,26.1,1.8099000000000001,31.8603515625,{"$f":"FOURIER!M1307","v":0},{"$f":"FOURIER!N1307","v":0},null,null,200.18449281907618,null,null,null,null,0,0,null,null,null,null,null,null,0,1.8099000000000001,null,null,null,null,null,null,null,null,null,null,null,null,null,26.1,5.0830000000000002,0,{"$error":"#DIV/0!"},{"$error":"#DIV/0!"}]
[null,null,null,null,null,1306,26.12,4.9598000000000004,31.884765625,{"$f":"FOURIER!M1308","v":0},{"$f":"FOURIER!N1308","v":0},null,null,200.33789089786475,null,null,null,null,0,0,null,null,null,null,null,null,0,4.9598000000000004,null,null,null,null,null,null,null,null,null,null,null,null,null,26.12,5.0810000000000004,0,{"$error":"#DIV/0!"},{"$error":"#DIV/0!"}]
[null,null,null,null,null,1307,26.14,4.8098000000000001,31.9091796875,{"$f":"FOURIER!M1309","v":0},{"$f":"FOURIER!N1309","v":0},null,null,200.49128897665332,null,null,null,null,0,0,null,null,null,null,null,null,0,4.8098000000000001,null,null,null,null,null,null,null,null,null,null,null,null,null,26.14,5.0709999999999997,0,{"$error":"#DIV/0!"},{"$error":"#DIV/0!"}]
[null,null,null,null,null,1308,26.16,1.4198999999999999,31.93359375,{"$f":"FOURIER!M1310","v":0},{"$f":"FOURIER!N1310","v":0},null,null,200.64468705544186,null,null,null,null,0,0,null,null,null,null,null,null,0,1.4198999999999999,null,null,null,null,null,null,null,null,null,null,null,null,null,26.16,5.0529999999999999,0,{"$error":"#DIV/0!"},{"$error":"#DIV/0!"}]
[null,null,null,null,null,1309,26.18,1.5099,31.9580078125,{"$f":"FOURIER!M1311","v":0},{"$f":"FOURIER!N1311","v":0},null,null,200.79808513423043,null,null,null,null,0,0,null,null,null,null,null,null,0,1.5099,null,null,null,null,null,null,null,null,null,null,null,null,null,26.18,5.0259999999999998,0,{"$error":"#DIV/0!"},{"$error":"#DIV/0!"}]
[null,null,null,null,null,1310,26.2,4.4499000000000004,31.982421875,{"$f":"FOURIER!M1312","v":0},{"$f":"FOURIER!N1312","v":0},null,null,200.951483213019,null,null,null,null,0,0,null,null,null,null,null,null,0,4.4499000000000004,null,null,null,null,null,null,null,null,null,null,null,null,null,26.2,4.9889999999999999,0,{"$error":"#DIV/0!"},{"$error":"#DIV/0!"}]
[null,null,null,null,null,1311,26.22,3.9699,32.0068359375,{"$f":"FOURIER!M1313","v":0},{"$f":"FOURIER!N1313","v":0},null,null,201.10488129180757,null,null,null,null,0,0,null,null,null,null,null,null,0,3.9699,null,null,null,null,null,null,null,null,null,null,null,null,null,26.22,4.9450000000000003,0,{"$error":"#DIV/0!"},{"$error":"#DIV/0!"}]
[null,null,null,null,null,1312,26.240000000000002,-2.4799000000000002,32.03125,{"$f":"FOURIER!M1314","v":0},{"$f":"FOURIER!N1314","v":0},null,null,201.25827937059614,null,null,null,null,0,0,null,null,null,null,null,null,0,-2.4799000000000002,null,null,null,null,null,null,null,null,null,null,null,null,null,26.240000000000002,4.8920000000000003,0,{"$error":"#DIV/0!"},{"$error":"#DIV/0!"}]
[null,null,null,null,null,1313,26.26,-8.2697000000000003,32.0556640625,{"$f":"FOURIER!M1315","v":0},{"$f":"FOURIER!N1315","v":0},null,null,201.41167744938468,null,null,null,null,0,0,null,null,null,null,null,null,0,-8.2697000000000003,null,null,null,null,null,null,null,null,null,null,null,null,null,26.26,4.8280000000000003,0,{"$error":"#DIV/0!"},{"$error":"#DIV/0!"}]
[null,null,null,null,null,1314,26.28,-8.2996999999999996,32.080078125,{"$f":"FOURIER!M1316","v":0},{"$f":"FOURIER!N1316","v":0},null,null,201.56507552817325,null,null,null,null,0,0,null,null,null,null,null,null,0,-8.2996999999999996,null,null,null,null,null,null,null,null,null,null,null,null,null,26.28,4.7519999999999998,0,{"$error":"#DIV/0!"},{"$error":"#DIV/0!"}]
[null,null,null,null,null,1315,26.3,-5.6597999999999997,32.1044921875,{"$f":"FOURIER!M1317","v":0},{"$f":"FOURIER!N1317","v":0},null,null,201.71847360696182,null,null,null,null,0,0,null,null,null,null,null,null,0,-5.6597999999999997,null,null,null,null,null,null,null,null,null,null,null,null,null,26.3,4.6630000000000003,0,{"$error":"#DIV/0!"},{"$error":"#DIV/0!"}]
[null,null,null,null,null,1316,26.32,-2.4199000000000002,32.12890625,{"$f":"FOURIER!M1318","v":0},{"$f":"FOURIER!N1318","v":0},null,null,201.87187168575039,null,null,null,null,0,0,null,null,null,null,null,null,0,-2.4199000000000002,null,null,null,null,null,null,null,null,null,null,null,null,null,26.32,4.5640000000000001,0,{"$error":"#DIV/0!"},{"$error":"#DIV/0!"}]
[null,null,null,null,null,1317,26.34,-0.17,32.1533203125,{"$f":"FOURIER!M1319","v":0},{"$f":"FOURIER!N1319","v":0},null,null,202.02526976453896,null,null,null,null,0,0,null,null,null,null,null,null,0,-0.17,null,null,null,null,null,null,null,null,null,null,null,null,null,26.34,4.4539999999999997,0,{"$error":"#DIV/0!"},{"$error":"#DIV/0!"}]
[null,null,null,null,null,1318,26.36,0.16,32.177734375,{"$f":"FOURIER!M1320","v":0},{"$f":"FOURIER!N1320","v":0},null,null,202.1786678433275,null,null,null,null,0,0,null,null,null,null,null,null,0,0.16,null,null,null,null,null,null,null,null,null,null,null,null,null,26.36,4.3360000000000003,0,{"$error":"#DIV/0!"},{"$error":"#DIV/0!"}]
[null,null,null,null,null,1319,26.38,0.97,32.2021484375,{"$f":"FOURIER!M1321","v":0},{"$f":"FOURIER!N1321","v":0},null,null,202.33206592211607,null,null,null,null,0,0,null,null,null,null,null,null,0,0.97,null,null,null,null,null,null,null,null,null,null,null,null,null,26.38,4.21,0,{"$error":"#DIV/0!"},{"$error":"#DIV/0!"}]
[null,null,null,null,null,1320,26.400000000000002,4.3299000000000003,32.2265625,{"$f":"FOURIER!M1322","v":0},{"$f":"FOURIER!N1322","v":0},null,null,202.48546400090464,null,null,null,null,0,0,null,null,null,null,null,null,0,4.3299000000000003,null,null,null,null,null,null,null,null,null,null,null,null,null,26.400000000000002,4.077,0,{"$error":"#DIV/0!"},{"$error":"#DIV/0!"}]
[null,null,null,null,null,1321,26.42,7.2397999999999998,32.2509765625,{"$f":"FOURIER!M1323","v":0},{"$f":"FOURIER!N1323","v":0},null,null,202.63886207969321,null,null,null,null,0,0,null,null,null,null,null,null,0,7.2397999999999998,null,null,null,null,null,null,null,null,null,null,null,null,null,26.42,3.9369999999999998,0,{"$error":"#DIV/0!"},{"$error":"#DIV/0!"}]
[null,null,null,null,null,1322,26.44,7.4497999999999998,32.275390625,{"$f":"FOURIER!M1324","v":0},{"$f":"FOURIER!N1324","v":0},null,null,202.79226015848178,null,null,null,null,0,0,null,null,null,null,null,null,0,7.4497999999999998,null,null,null,null,null,null,null,null,null,null,null,null,null,26.44,3.7930000000000001,0,{"$error":"#DIV/0!"},{"$error":"#DIV/0!"}]
[null,null,null,null,null,1323,26.46,6.5499000000000001,32.2998046875,{"$f":"FOURIER!M1325","v":0},{"$f":"FOURIER!N1325","v":0},null,null,202.94565823727032,null,null,null,null,0,0,null,null,null,null,null,null,0,6.5499000000000001,null,null,null,null,null,null,null,null,null,null,null,null,null,26.46,3.645,0,{"$error":"#DIV/0!"},{"$error":"#DIV/0!"}]
[null,null,null,null,null,1324,26.48,5.1398999999999999,32.32421875,{"$f":"FOURIER!M1326","v":0},{"$f":"FOURIER!N1326","v":0},null,null,203.09905631605889,null,null,null,null,0,0,null,null,null,null,null,null,0,5.1398999999999999,null,null,null,null,null,null,null,null,null,null,null,null,null,26.48,3.4929999999999999,0,{"$error":"#DIV/0!"},{"$error":"#DIV/0!"}]
[null,null,null,null,null,1325,26.5,2.17,32.3486328125,{"$f":"FOURIER!M1327","v":0},{"$f":"FOURIER!N1327","v":0},null,null,203.25245439484746,null,null,null,null,0,0,null,null,null,null,null,null,0,2.17,null,null,null,null,null,null,null,null,null,null,null,null,null,26.5,3.3359999999999999,0,{"$error":"#DIV/0!"},{"$error":"#DIV/0!"}]
[null,null,null,null,null,1326,26.52,-1.2199,32.373046875,{"$f":"FOURIER!M1328","v":0},{"$f":"FOURIER!N1328","v":0},null,null,203.40585247363603,null,null,null,null,0,0,null,null,null,null,null,null,0,-1.2199,null,null,null,null,null,null,null,null,null,null,null,null,null,26.52,3.1749999999999998,0,{"$error":"#DIV/0!"},{"$error":"#DIV/0!"}]
[null,null,null,null,null,1327,26.54,-0.79990000000000006,32.3974609375,{"$f":"FOURIER!M1329","v":0},{"$f":"FOURIER!N1329","v":0},null,null,203.5592505524246,null,null,null,null,0,0,null,null,null,null,null,null,0,-0.79990000000000006,null,null,null,null,null,null,null,null,null,null,null,null,null,26.54,3.0070000000000001,0,{"$error":"#DIV/0!"},{"$error":"#DIV/0!"}]
[null,null,null,null,null,1328,26.560000000000002,1.87,32.421875,{"$f":"FOURIER!M1330","v":0},{"$f":"FOURIER!N1330","v":0},null,null,203.71264863121317,null,null,null,null,0,0,null,null,null,null,null,null,0,1.87,null,null,null,null,null,null,null,null,null,null,null,null,null,26.560000000000002,2.8340000000000001,0,{"$error":"#DIV/0!"},{"$error":"#DIV/0!"}]
[null,null,null,null,null,1329,26.580000000000002,2.86,32.4462890625,{"$f":"FOURIER!M1331","v":0},{"$f":"FOURIER!N1331","v":0},null,null,203.86604671000171,null,null,null,null,0,0,null,null,null,null,null,null,0,2.86,null,null,null,null,null,null,null,null,null,null,null,null,null,26.580000000000002,2.6560000000000001,0,{"$error":"#DIV/0!"},{"$error":"#DIV/0!"}]
[null,null,null,null,null,1330,26.6,3.28,32.470703125,{"$f":"FOURIER!M1332","v":0},{"$f":"FOURIER!N1332","v":0},null,null,204.01944478879028,null,null,null,null,0,0,null,null,null,null,null,null,0,3.28,null,null,null,null,null,null,null,null,null,null,null,null,null,26.6,2.4750000000000001,0,{"$error":"#DIV/0!"},{"$error":"#DIV/0!"}]
[null,null,null,null,null,1331,26.62,4.51,32.4951171875,{"$f":"FOURIER!M1333","v":0},{"$f":"FOURIER!N1333","v":0},null,null,204.17284286757885,null,null,null,null,0,0,null,null,null,null,null,null,0,4.51,null,null,null,null,null,null,null,null,null,null,null,null,null,26.62,2.2909999999999999,0,{"$error":"#DIV/0!"},{"$error":"#DIV/0!"}]
[null,null,null,null,null,1332,26.64,5.9798999999999998,32.51953125,{"$f":"FOURIER!M1334","v":0},{"$f":"FOURIER!N1334","v":0},null,null,204.32624094636742,null,null,null,null,0,0,null,null,null,null,null,null,0,5.9798999999999998,null,null,null,null,null,null,null,null,null,null,null,null,null,26.64,2.105,0,{"$error":"#DIV/0!"},{"$error":"#DIV/0!"}]
[null,null,null,null,null,1333,26.66,8.0799000000000003,32.5439453125,{"$f":"FOURIER!M1335","v":0},{"$f":"FOURIER!N1335","v":0},null,null,204.47963902515599,null,null,null,null,0,0,null,null,null,null,null,null,0,8.0799000000000003,null,null,null,null,null,null,null,null,null,null,null,null,null,26.66,1.9179999999999999,0,{"$error":"#DIV/0!"},{"$error":"#DIV/0!"}]
[null,null,null,null,null,1334,26.68,9.6698000000000004,32.568359375,{"$f":"FOURIER!M1336","v":0},{"$f":"FOURIER!N1336","v":0},null,null,204.63303710394453,null,null,null,null,0,0,null,null,null,null,null,null,0,9.6698000000000004,null,null,null,null,null,null,null,null,null,null,null,null,null,26.68,1.7310000000000001,0,{"$error":"#DIV/0!"},{"$error":"#DIV/0!"}]
[null,null,null,null,null,1335,26.7,8.1998999999999995,32.5927734375,{"$f":"FOURIER!M1337","v":0},{"$f":"FOURIER!N1337","v":0},null,null,204.7864351827331,null,null,null,null,0,0,null,null,null,null,null,null,0,8.1998999999999995,null,null,null,null,null,null,null,null,null,null,null,null,null,26.7,1.5449999999999999,0,{"$error":"#DIV/0!"},{"$error":"#DIV/0!"}]
[null,null,null,null,null,1336,26.72,4.33,32.6171875,{"$f":"FOURIER!M1338","v":0},{"$f":"FOURIER!N1338","v":0},null,null,204.93983326152167,null,null,null,null,0,0,null,null,null,null,null,null,0,4.33,null,null,null,null,null,null,null,null,null,null,null,null,null,26.72,1.36,0,{"$error":"#DIV/0!"},{"$error":"#DIV/0!"}]
[null,null,null,null,null,1337,26.740000000000002,0.58009999999999995,32.6416015625,{"$f":"FOURIER!M1339","v":0},{"$f":"FOURIER!N1339","v":0},null,null,205.09323134031024,null,null,null,null,0,0,null,null,null,null,null,null,0,0.58009999999999995,null,null,null,null,null,null,null,null,null,null,null,null,null,26.740000000000002,1.175,0,{"$error":"#DIV/0!"},{"$error":"#DIV/0!"}]
[null,null,null,null,null,1338,26.76,-3.0198,32.666015625,{"$f":"FOURIER!M1340","v":0},{"$f":"FOURIER!N1340","v":0},null,null,205.24662941909881,null,null,null,null,0,0,null,null,null,null,null,null,0,-3.0198,null,null,null,null,null,null,null,null,null,null,null,null,null,26.76,0.98799999999999999,0,{"$error":"#DIV/0!"},{"$error":"#DIV/0!"}]
[null,null,null,null,null,1339,26.78,-7.0697000000000001,32.6904296875,{"$f":"FOURIER!M1341","v":0},{"$f":"FOURIER!N1341","v":0},null,null,205.40002749788735,null,null,null,null,0,0,null,null,null,null,null,null,0,-7.0697000000000001,null,null,null,null,null,null,null,null,null,null,null,null,null,26.78,0.79900000000000004,0,{"$error":"#DIV/0!"},{"$error":"#DIV/0!"}]
[null,null,null,null,null,1340,26.8,-9.3496000000000006,32.71484375,{"$f":"FOURIER!M1342","v":0},{"$f":"FOURIER!N1342","v":0},null,null,205.55342557667592,null,null,null,null,0,0,null,null,null,null,null,null,0,-9.3496000000000006,null,null,null,null,null,null,null,null,null,null,null,null,null,26.8,0.60699999999999998,0,{"$error":"#DIV/0!"},{"$error":"#DIV/0!"}]
[null,null,null,null,null,1341,26.82,-8.3895999999999997,32.7392578125,{"$f":"FOURIER!M1343","v":0},{"$f":"FOURIER!N1343","v":0},null,null,205.70682365546449,null,null,null,null,0,0,null,null,null,null,null,null,0,-8.3895999999999997,null,null,null,null,null,null,null,null,null,null,null,null,null,26.82,0.41,0,{"$error":"#DIV/0!"},{"$error":"#DIV/0!"}]
[null,null,null,null,null,1342,26.84,-5.1196999999999999,32.763671875,{"$f":"FOURIER!M1344","v":0},{"$f":"FOURIER!N1344","v":0},null,null,205.86022173425306,null,null,null,null,0,0,null,null,null,null,null,null,0,-5.1196999999999999,null,null,null,null,null,null,null,null,null,null,null,null,null,26.84,0.21,0,{"$error":"#DIV/0!"},{"$error":"#DIV/0!"}]
[null,null,null,null,null,1343,26.86,-1.4598,32.7880859375,{"$f":"FOURIER!M1345","v":0},{"$f":"FOURIER!N1345","v":0},null,null,206.01361981304163,null,null,null,null,0,0,null,null,null,null,null,null,0,-1.4598,null,null,null,null,null,null,null,null,null,null,null,null,null,26.86,8.0000000000000002E-3,0,{"$error":"#DIV/0!"},{"$error":"#DIV/0!"}]
[null,null,null,null,null,1344,26.88,0.91010000000000002,32.8125,{"$f":"FOURIER!M1346","v":0},{"$f":"FOURIER!N1346","v":0},null,null,{"$f":"2*PI()/B$9/B$6*F1346","v":206.16701789183017},null,null,null,null,{"$f":"J1346*O1346-K1346*P1346","v":0},{"$f":"J1346*P1346+K1346*O1346","v":0},null,null,null,null,null,null,0,0.91010000000000002,null,null,null,null,null,null,null,null,null,null,null,null,null,{"$f":"G1346","v":26.88},-0.193,0,{"$error":"#DIV/0!"},{"$error":"#DIV/0!"}]
[null,null,null,null,null,1345,{"$f":"B$6*F1347","v":26.900000000000002},2.2601,{"$f":"F1347/B$9/B$6","v":32.8369140625},{"$f":"FOURIER!M1347","v":0},{"$f":"FOURIER!N1347","v":0},null,null,206.32041597061874,null,null,null,null,0,0,null,null,null,null,null,null,{"$f":"(Y1347-Y1346)/B$6","v":0},{"$f":"(AA1347-AA1346)/B$6+H1347","v":2.2601},null,null,null,null,null,null,null,null,null,null,null,null,null,26.900000000000002,-0.39300000000000002,0,{"$f":"(AQ1347-AQ1346)/O$6","v":{"$error":"#DIV/0!"}},{"$f":"(AS1347-AS1346)/O$6+S1347","v":{"$error":"#DIV/0!"}}]
[null,null,null,null,null,1346,26.92,2.6501000000000001,32.861328125,{"$f":"FOURIER!M1348","v":0},{"$f":"FOURIER!N1348","v":0},null,null,206.47381404940731,null,null,null,null,0,0,null,null,null,null,null,null,0,2.6501000000000001,null,null,null,null,null,null,null,null,null,null,null,null,null,26.92,-0.59099999999999997,0,{"$error":"#DIV/0!"},{"$error":"#DIV/0!"}]
[null,null,null,null,null,1347,26.94,0.31019999999999998,32.8857421875,{"$f":"FOURIER!M1349","v":0},{"$f":"FOURIER!N1349","v":0},null,null,206.62721212819588,null,null,null,null,0,0,null,null,null,null,null,null,0,0.31019999999999998,null,null,null,null,null,null,null,null,null,null,null,null,null,26.94,-0.78600000000000003,0,{"$error":"#DIV/0!"},{"$error":"#DIV/0!"}]
[null,null,null,null,null,1348,26.96,-2.8397000000000001,32.91015625,{"$f":"FOURIER!M1350","v":0},{"$f":"FOURIER!N1350","v":0},null,null,206.78061020698445,null,null,null,null,0,0,null,null,null,null,null,null,0,-2.8397000000000001,null,null,null,null,null,null,null,null,null,null,null,null,null,26.96,-0.97799999999999998,0,{"$error":"#DIV/0!"},{"$error":"#DIV/0!"}]
[null,null,null,null,null,1349,26.98,-4.6696999999999997,32.9345703125,{"$f":"FOURIER!M1351","v":0},{"$f":"FOURIER!N1351","v":0},null,null,206.93400828577299,null,null,null,null,0,0,null,null,null,null,null,null,0,-4.6696999999999997,null,null,null,null,null,null,null,null,null,null,null,null,null,26.98,-1.1679999999999999,0,{"$error":"#DIV/0!"},{"$error":"#DIV/0!"}]
[null,null,null,null,null,1350,27,-6.3795999999999999,32.958984375,{"$f":"FOURIER!M1352","v":0},{"$f":"FOURIER!N1352","v":0},null,null,207.08740636456156,null,null,null,null,0,0,null,null,null,null,null,null,0,-6.3795999999999999,null,null,null,null,null,null,null,null,null,null,null,null,null,27,-1.3580000000000001,0,{"$error":"#DIV/0!"},{"$error":"#DIV/0!"}]
[null,null,null,null,null,1351,27.02,-7.0396000000000001,32.9833984375,{"$f":"FOURIER!M1353","v":0},{"$f":"FOURIER!N1353","v":0},null,null,207.24080444335013,null,null,null,null,0,0,null,null,null,null,null,null,0,-7.0396000000000001,null,null,null,null,null,null,null,null,null,null,null,null,null,27.02,-1.546,0,{"$error":"#DIV/0!"},{"$error":"#DIV/0!"}]
[null,null,null,null,null,1352,27.04,-6.6196000000000002,33.0078125,{"$f":"FOURIER!M1354","v":0},{"$f":"FOURIER!N1354","v":0},null,null,207.3942025221387,null,null,null,null,0,0,null,null,null,null,null,null,0,-6.6196000000000002,null,null,null,null,null,null,null,null,null,null,null,null,null,27.04,-1.7330000000000001,0,{"$error":"#DIV/0!"},{"$error":"#DIV/0!"}]
[null,null,null,null,null,1353,27.060000000000002,-8.9894999999999996,33.0322265625,{"$f":"FOURIER!M1355","v":0},{"$f":"FOURIER!N1355","v":0},null,null,207.54760060092727,null,null,null,null,0,0,null,null,null,null,null,null,0,-8.9894999999999996,null,null,null,null,null,null,null,null,null,null,null,null,null,27.060000000000002,-1.919,0,{"$error":"#DIV/0!"},{"$error":"#DIV/0!"}]
[null,null,null,null,null,1354,27.080000000000002,-13.279400000000001,33.056640625,{"$f":"FOURIER!M1356","v":0},{"$f":"FOURIER!N1356","v":0},null,null,207.70099867971584,null,null,null,null,0,0,null,null,null,null,null,null,0,-13.279400000000001,null,null,null,null,null,null,null,null,null,null,null,null,null,27.080000000000002,-2.1040000000000001,0,{"$error":"#DIV/0!"},{"$error":"#DIV/0!"}]
[null,null,null,null,null,1355,27.1,-15.6493,33.0810546875,{"$f":"FOURIER!M1357","v":0},{"$f":"FOURIER!N1357","v":0},null,null,207.85439675850438,null,null,null,null,0,0,null,null,null,null,null,null,0,-15.6493,null,null,null,null,null,null,null,null,null,null,null,null,null,27.1,-2.2890000000000001,0,{"$error":"#DIV/0!"},{"$error":"#DIV/0!"}]
[null,null,null,null,null,1356,27.12,-15.9793,33.10546875,{"$f":"FOURIER!M1358","v":0},{"$f":"FOURIER!N1358","v":0},null,null,208.00779483729295,null,null,null,null,0,0,null,null,null,null,null,null,0,-15.9793,null,null,null,null,null,null,null,null,null,null,null,null,null,27.12,-2.4750000000000001,0,{"$error":"#DIV/0!"},{"$error":"#DIV/0!"}]
[null,null,null,null,null,1357,27.14,-15.6493,33.1298828125,{"$f":"FOURIER!M1359","v":0},{"$f":"FOURIER!N1359","v":0},null,null,208.16119291608152,null,null,null,null,0,0,null,null,null,null,null,null,0,-15.6493,null,null,null,null,null,null,null,null,null,null,null,null,null,27.14,-2.6619999999999999,0,{"$error":"#DIV/0!"},{"$error":"#DIV/0!"}]
[null,null,null,null,null,1358,27.16,-14.449299999999999,33.154296875,{"$f":"FOURIER!M1360","v":0},{"$f":"FOURIER!N1360","v":0},null,null,208.31459099487009,null,null,null,null,0,0,null,null,null,null,null,null,0,-14.449299999999999,null,null,null,null,null,null,null,null,null,null,null,null,null,27.16,-2.8490000000000002,0,{"$error":"#DIV/0!"},{"$error":"#DIV/0!"}]
[null,null,null,null,null,1359,27.18,-12.109400000000001,33.1787109375,{"$f":"FOURIER!M1361","v":0},{"$f":"FOURIER!N1361","v":0},null,null,208.46798907365866,null,null,null,null,0,0,null,null,null,null,null,null,0,-12.109400000000001,null,null,null,null,null,null,null,null,null,null,null,null,null,27.18,-3.0350000000000001,0,{"$error":"#DIV/0!"},{"$error":"#DIV/0!"}]
[null,null,null,null,null,1360,27.2,-9.4994999999999994,33.203125,{"$f":"FOURIER!M1362","v":0},{"$f":"FOURIER!N1362","v":0},null,null,208.6213871524472,null,null,null,null,0,0,null,null,null,null,null,null,0,-9.4994999999999994,null,null,null,null,null,null,null,null,null,null,null,null,null,27.2,-3.22,0,{"$error":"#DIV/0!"},{"$error":"#DIV/0!"}]
[null,null,null,null,null,1361,27.22,-5.2695999999999996,33.2275390625,{"$f":"FOURIER!M1363","v":0},{"$f":"FOURIER!N1363","v":0},null,null,208.77478523123577,null,null,null,null,0,0,null,null,null,null,null,null,0,-5.2695999999999996,null,null,null,null,null,null,null,null,null,null,null,null,null,27.22,-3.4,0,{"$error":"#DIV/0!"},{"$error":"#DIV/0!"}]
[null,null,null,null,null,1362,27.240000000000002,0.2802,33.251953125,{"$f":"FOURIER!M1364","v":0},{"$f":"FOURIER!N1364","v":0},null,null,208.92818331002434,null,null,null,null,0,0,null,null,null,null,null,null,0,0.2802,null,null,null,null,null,null,null,null,null,null,null,null,null,27.240000000000002,-3.5760000000000001,0,{"$error":"#DIV/0!"},{"$error":"#DIV/0!"}]
[null,null,null,null,null,1363,27.26,3.2801,33.2763671875,{"$f":"FOURIER!M1365","v":0},{"$f":"FOURIER!N1365","v":0},null,null,209.08158138881291,null,null,null,null,0,0,null,null,null,null,null,null,0,3.2801,null,null,null,null,null,null,null,null,null,null,null,null,null,27.26,-3.7429999999999999,0,{"$error":"#DIV/0!"},{"$error":"#DIV/0!"}]
[null,null,null,null,null,1364,27.28,3.7301000000000002,33.30078125,{"$f":"FOURIER!M1366","v":0},{"$f":"FOURIER!N1366","v":0},null,null,209.23497946760148,null,null,null,null,0,0,null,null,null,null,null,null,0,3.7301000000000002,null,null,null,null,null,null,null,null,null,null,null,null,null,27.28,-3.9009999999999998,0,{"$error":"#DIV/0!"},{"$error":"#DIV/0!"}]
[null,null,null,null,null,1365,27.3,5.7401,33.3251953125,{"$f":"FOURIER!M1367","v":0},{"$f":"FOURIER!N1367","v":0},null,null,209.38837754639002,null,null,null,null,0,0,null,null,null,null,null,null,0,5.7401,null,null,null,null,null,null,null,null,null,null,null,null,null,27.3,-4.05,0,{"$error":"#DIV/0!"},{"$error":"#DIV/0!"}]
[null,null,null,null,null,1366,27.32,9.3699999999999992,33.349609375,{"$f":"FOURIER!M1368","v":0},{"$f":"FOURIER!N1368","v":0},null,null,209.54177562517859,null,null,null,null,0,0,null,null,null,null,null,null,0,9.3699999999999992,null,null,null,null,null,null,null,null,null,null,null,null,null,27.32,-4.1870000000000003,0,{"$error":"#DIV/0!"},{"$error":"#DIV/0!"}]
[null,null,null,null,null,1367,27.34,13.149900000000001,33.3740234375,{"$f":"FOURIER!M1369","v":0},{"$f":"FOURIER!N1369","v":0},null,null,209.69517370396716,null,null,null,null,0,0,null,null,null,null,null,null,0,13.149900000000001,null,null,null,null,null,null,null,null,null,null,null,null,null,27.34,-4.3109999999999999,0,{"$error":"#DIV/0!"},{"$error":"#DIV/0!"}]
[null,null,null,null,null,1368,27.36,15.7898,33.3984375,{"$f":"FOURIER!M1370","v":0},{"$f":"FOURIER!N1370","v":0},null,null,209.84857178275573,null,null,null,null,0,0,null,null,null,null,null,null,0,15.7898,null,null,null,null,null,null,null,null,null,null,null,null,null,27.36,-4.4210000000000003,0,{"$error":"#DIV/0!"},{"$error":"#DIV/0!"}]
[null,null,null,null,null,1369,27.38,15.819800000000001,33.4228515625,{"$f":"FOURIER!M1371","v":0},{"$f":"FOURIER!N1371","v":0},null,null,210.0019698615443,null,null,null,null,0,0,null,null,null,null,null,null,0,15.819800000000001,null,null,null,null,null,null,null,null,null,null,null,null,null,27.38,-4.516,0,{"$error":"#DIV/0!"},{"$error":"#DIV/0!"}]
[null,null,null,null,null,1370,27.400000000000002,13.809900000000001,33.447265625,{"$f":"FOURIER!M1372","v":0},{"$f":"FOURIER!N1372","v":0},null,null,210.15536794033284,null,null,null,null,0,0,null,null,null,null,null,null,0,13.809900000000001,null,null,null,null,null,null,null,null,null,null,null,null,null,27.400000000000002,-4.5949999999999998,0,{"$error":"#DIV/0!"},{"$error":"#DIV/0!"}]
[null,null,null,null,null,1371,27.42,10.75,33.4716796875,{"$f":"FOURIER!M1373","v":0},{"$f":"FOURIER!N1373","v":0},null,null,210.30876601912141,null,null,null,null,0,0,null,null,null,null,null,null,0,10.75,null,null,null,null,null,null,null,null,null,null,null,null,null,27.42,-4.6589999999999998,0,{"$error":"#DIV/0!"},{"$error":"#DIV/0!"}]
[null,null,null,null,null,1372,27.44,6.5500999999999996,33.49609375,{"$f":"FOURIER!M1374","v":0},{"$f":"FOURIER!N1374","v":0},null,null,210.46216409790998,null,null,null,null,0,0,null,null,null,null,null,null,0,6.5500999999999996,null,null,null,null,null,null,null,null,null,null,null,null,null,27.44,-4.7089999999999996,0,{"$error":"#DIV/0!"},{"$error":"#DIV/0!"}]
[null,null,null,null,null,1373,27.46,0.64029999999999998,33.5205078125,{"$f":"FOURIER!M1375","v":0},{"$f":"FOURIER!N1375","v":0},null,null,210.61556217669855,null,null,null,null,0,0,null,null,null,null,null,null,0,0.64029999999999998,null,null,null,null,null,null,null,null,null,null,null,null,null,27.46,-4.7469999999999999,0,{"$error":"#DIV/0!"},{"$error":"#DIV/0!"}]
[null,null,null,null,null,1374,27.48,-6.1695000000000002,33.544921875,{"$f":"FOURIER!M1376","v":0},{"$f":"FOURIER!N1376","v":0},null,null,210.76896025548712,null,null,null,null,0,0,null,null,null,null,null,null,0,-6.1695000000000002,null,null,null,null,null,null,null,null,null,null,null,null,null,27.48,-4.7750000000000004,0,{"$error":"#DIV/0!"},{"$error":"#DIV/0!"}]
[null,null,null,null,null,1375,27.5,-9.8594000000000008,33.5693359375,{"$f":"FOURIER!M1377","v":0},{"$f":"FOURIER!N1377","v":0},null,null,210.92235833427566,null,null,null,null,0,0,null,null,null,null,null,null,0,-9.8594000000000008,null,null,null,null,null,null,null,null,null,null,null,null,null,27.5,-4.7960000000000003,0,{"$error":"#DIV/0!"},{"$error":"#DIV/0!"}]
[null,null,null,null,null,1376,27.52,-9.9193999999999996,33.59375,{"$f":"FOURIER!M1378","v":0},{"$f":"FOURIER!N1378","v":0},null,null,211.07575641306423,null,null,null,null,0,0,null,null,null,null,null,null,0,-9.9193999999999996,null,null,null,null,null,null,null,null,null,null,null,null,null,27.52,-4.8109999999999999,0,{"$error":"#DIV/0!"},{"$error":"#DIV/0!"}]
[null,null,null,null,null,1377,27.54,-8.6593999999999998,33.6181640625,{"$f":"FOURIER!M1379","v":0},{"$f":"FOURIER!N1379","v":0},null,null,211.2291544918528,null,null,null,null,0,0,null,null,null,null,null,null,0,-8.6593999999999998,null,null,null,null,null,null,null,null,null,null,null,null,null,27.54,-4.82,0,{"$error":"#DIV/0!"},{"$error":"#DIV/0!"}]
[null,null,null,null,null,1378,27.560000000000002,-5.4794999999999998,33.642578125,{"$f":"FOURIER!M1380","v":0},{"$f":"FOURIER!N1380","v":0},null,null,211.38255257064137,null,null,null,null,0,0,null,null,null,null,null,null,0,-5.4794999999999998,null,null,null,null,null,null,null,null,null,null,null,null,null,27.560000000000002,-4.8230000000000004,0,{"$error":"#DIV/0!"},{"$error":"#DIV/0!"}]
[null,null,null,null,null,1379,27.580000000000002,-1.9996,33.6669921875,{"$f":"FOURIER!M1381","v":0},{"$f":"FOURIER!N1381","v":0},null,null,211.53595064942994,null,null,null,null,0,0,null,null,null,null,null,null,0,-1.9996,null,null,null,null,null,null,null,null,null,null,null,null,null,27.580000000000002,-4.819,0,{"$error":"#DIV/0!"},{"$error":"#DIV/0!"}]
[null,null,null,null,null,1380,27.6,-0.67969999999999997,33.69140625,{"$f":"FOURIER!M1382","v":0},{"$f":"FOURIER!N1382","v":0},null,null,211.6893487282185,null,null,null,null,0,0,null,null,null,null,null,null,0,-0.67969999999999997,null,null,null,null,null,null,null,null,null,null,null,null,null,27.6,-4.806,0,{"$error":"#DIV/0!"},{"$error":"#DIV/0!"}]
[null,null,null,null,null,1381,27.62,1.0603,33.7158203125,{"$f":"FOURIER!M1383","v":0},{"$f":"FOURIER!N1383","v":0},null,null,211.84274680700705,null,null,null,null,0,0,null,null,null,null,null,null,0,1.0603,null,null,null,null,null,null,null,null,null,null,null,null,null,27.62,-4.7830000000000004,0,{"$error":"#DIV/0!"},{"$error":"#DIV/0!"}]
[null,null,null,null,null,1382,27.64,3.7302,33.740234375,{"$f":"FOURIER!M1384","v":0},{"$f":"FOURIER!N1384","v":0},null,null,211.99614488579562,null,null,null,null,0,0,null,null,null,null,null,null,0,3.7302,null,null,null,null,null,null,null,null,null,null,null,null,null,27.64,-4.7510000000000003,0,{"$error":"#DIV/0!"},{"$error":"#DIV/0!"}]
[null,null,null,null,null,1383,27.66,5.0202,33.7646484375,{"$f":"FOURIER!M1385","v":0},{"$f":"FOURIER!N1385","v":0},null,null,212.14954296458419,null,null,null,null,0,0,null,null,null,null,null,null,0,5.0202,null,null,null,null,null,null,null,null,null,null,null,null,null,27.66,-4.7080000000000002,0,{"$error":"#DIV/0!"},{"$error":"#DIV/0!"}]
[null,null,null,null,null,1384,27.68,4.6601999999999997,33.7890625,{"$f":"FOURIER!M1386","v":0},{"$f":"FOURIER!N1386","v":0},null,null,212.30294104337275,null,null,null,null,0,0,null,null,null,null,null,null,0,4.6601999999999997,null,null,null,null,null,null,null,null,null,null,null,null,null,27.68,-4.6529999999999996,0,{"$error":"#DIV/0!"},{"$error":"#DIV/0!"}]
[null,null,null,null,null,1385,27.7,3.7002000000000002,33.8134765625,{"$f":"FOURIER!M1387","v":0},{"$f":"FOURIER!N1387","v":0},null,null,212.45633912216132,null,null,null,null,0,0,null,null,null,null,null,null,0,3.7002000000000002,null,null,null,null,null,null,null,null,null,null,null,null,null,27.7,-4.5880000000000001,0,{"$error":"#DIV/0!"},{"$error":"#DIV/0!"}]
[null,null,null,null,null,1386,27.72,2.1703000000000001,33.837890625,{"$f":"FOURIER!M1388","v":0},{"$f":"FOURIER!N1388","v":0},null,null,212.60973720094987,null,null,null,null,0,0,null,null,null,null,null,null,0,2.1703000000000001,null,null,null,null,null,null,null,null,null,null,null,null,null,27.72,-4.5119999999999996,0,{"$error":"#DIV/0!"},{"$error":"#DIV/0!"}]
[null,null,null,null,null,1387,27.740000000000002,-0.91959999999999997,33.8623046875,{"$f":"FOURIER!M1389","v":0},{"$f":"FOURIER!N1389","v":0},null,null,212.76313527973844,null,null,null,null,0,0,null,null,null,null,null,null,0,-0.91959999999999997,null,null,null,null,null,null,null,null,null,null,null,null,null,27.740000000000002,-4.4269999999999996,0,{"$error":"#DIV/0!"},{"$error":"#DIV/0!"}]
[null,null,null,null,null,1388,27.76,-4.7294999999999998,33.88671875,{"$f":"FOURIER!M1390","v":0},{"$f":"FOURIER!N1390","v":0},null,null,212.916533358527,null,null,null,null,0,0,null,null,null,null,null,null,0,-4.7294999999999998,null,null,null,null,null,null,null,null,null,null,null,null,null,27.76,-4.3339999999999996,0,{"$error":"#DIV/0!"},{"$error":"#DIV/0!"}]
[null,null,null,null,null,1389,27.78,-7.4593999999999996,33.9111328125,{"$f":"FOURIER!M1391","v":0},{"$f":"FOURIER!N1391","v":0},null,null,213.06993143731557,null,null,null,null,0,0,null,null,null,null,null,null,0,-7.4593999999999996,null,null,null,null,null,null,null,null,null,null,null,null,null,27.78,-4.234,0,{"$error":"#DIV/0!"},{"$error":"#DIV/0!"}]
[null,null,null,null,null,1390,27.8,-8.6893999999999991,33.935546875,{"$f":"FOURIER!M1392","v":0},{"$f":"FOURIER!N1392","v":0},null,null,213.22332951610414,null,null,null,null,0,0,null,null,null,null,null,null,0,-8.6893999999999991,null,null,null,null,null,null,null,null,null,null,null,null,null,27.8,-4.1289999999999996,0,{"$error":"#DIV/0!"},{"$error":"#DIV/0!"}]
[null,null,null,null,null,1391,27.82,-7.3693999999999997,33.9599609375,{"$f":"FOURIER!M1393","v":0},{"$f":"FOURIER!N1393","v":0},null,null,213.37672759489269,null,null,null,null,0,0,null,null,null,null,null,null,0,-7.3693999999999997,null,null,null,null,null,null,null,null,null,null,null,null,null,27.82,-4.0199999999999996,0,{"$error":"#DIV/0!"},{"$error":"#DIV/0!"}]
[null,null,null,null,null,1392,27.84,-2.9295,33.984375,{"$f":"FOURIER!M1394","v":0},{"$f":"FOURIER!N1394","v":0},null,null,213.53012567368125,null,null,null,null,0,0,null,null,null,null,null,null,0,-2.9295,null,null,null,null,null,null,null,null,null,null,null,null,null,27.84,-3.9060000000000001,0,{"$error":"#DIV/0!"},{"$error":"#DIV/0!"}]
[null,null,null,null,null,1393,27.86,2.0503,34.0087890625,{"$f":"FOURIER!M1395","v":0},{"$f":"FOURIER!N1395","v":0},null,null,213.68352375246982,null,null,null,null,0,0,null,null,null,null,null,null,0,2.0503,null,null,null,null,null,null,null,null,null,null,null,null,null,27.86,-3.7850000000000001,0,{"$error":"#DIV/0!"},{"$error":"#DIV/0!"}]
[null,null,null,null,null,1394,27.88,7.3601999999999999,34.033203125,{"$f":"FOURIER!M1396","v":0},{"$f":"FOURIER!N1396","v":0},null,null,213.83692183125839,null,null,null,null,0,0,null,null,null,null,null,null,0,7.3601999999999999,null,null,null,null,null,null,null,null,null,null,null,null,null,27.88,-3.657,0,{"$error":"#DIV/0!"},{"$error":"#DIV/0!"}]
[null,null,null,null,null,1395,27.900000000000002,11.65,34.0576171875,{"$f":"FOURIER!M1397","v":0},{"$f":"FOURIER!N1397","v":0},null,null,213.99031991004696,null,null,null,null,0,0,null,null,null,null,null,null,0,11.65,null,null,null,null,null,null,null,null,null,null,null,null,null,27.900000000000002,-3.5190000000000001,0,{"$error":"#DIV/0!"},{"$error":"#DIV/0!"}]
[null,null,null,null,null,1396,27.92,12.61,34.08203125,{"$f":"FOURIER!M1398","v":0},{"$f":"FOURIER!N1398","v":0},null,null,214.1437179888355,null,null,null,null,0,0,null,null,null,null,null,null,0,12.61,null,null,null,null,null,null,null,null,null,null,null,null,null,27.92,-3.37,0,{"$error":"#DIV/0!"},{"$error":"#DIV/0!"}]
[null,null,null,null,null,1397,27.94,12.37,34.1064453125,{"$f":"FOURIER!M1399","v":0},{"$f":"FOURIER!N1399","v":0},null,null,214.29711606762407,null,null,null,null,0,0,null,null,null,null,null,null,0,12.37,null,null,null,null,null,null,null,null,null,null,null,null,null,27.94,-3.21,0,{"$error":"#DIV/0!"},{"$error":"#DIV/0!"}]
[null,null,null,null,null,1398,27.96,10.450100000000001,34.130859375,{"$f":"FOURIER!M1400","v":0},{"$f":"FOURIER!N1400","v":0},null,null,214.45051414641264,null,null,null,null,0,0,null,null,null,null,null,null,0,10.450100000000001,null,null,null,null,null,null,null,null,null,null,null,null,null,27.96,-3.04,0,{"$error":"#DIV/0!"},{"$error":"#DIV/0!"}]
[null,null,null,null,null,1399,27.98,6.3701999999999996,34.1552734375,{"$f":"FOURIER!M1401","v":0},{"$f":"FOURIER!N1401","v":0},null,null,214.60391222520121,null,null,null,null,0,0,null,null,null,null,null,null,0,6.3701999999999996,null,null,null,null,null,null,null,null,null,null,null,null,null,27.98,-2.859,0,{"$error":"#DIV/0!"},{"$error":"#DIV/0!"}]
[null,null,null,null,null,1400,28,3.1002999999999998,34.1796875,{"$f":"FOURIER!M1402","v":0},{"$f":"FOURIER!N1402","v":0},null,null,214.75731030398978,null,null,null,null,0,0,null,null,null,null,null,null,0,3.1002999999999998,null,null,null,null,null,null,null,null,null,null,null,null,null,28,-2.6720000000000002,0,{"$error":"#DIV/0!"},{"$error":"#DIV/0!"}]
[null,null,null,null,null,1401,28.02,0.6704,34.2041015625,{"$f":"FOURIER!M1403","v":0},{"$f":"FOURIER!N1403","v":0},null,null,214.91070838277832,null,null,null,null,0,0,null,null,null,null,null,null,0,0.6704,null,null,null,null,null,null,null,null,null,null,null,null,null,28.02,-2.4780000000000002,0,{"$error":"#DIV/0!"},{"$error":"#DIV/0!"}]
[null,null,null,null,null,1402,28.04,-0.70950000000000002,34.228515625,{"$f":"FOURIER!M1404","v":0},{"$f":"FOURIER!N1404","v":0},null,null,215.06410646156689,null,null,null,null,0,0,null,null,null,null,null,null,0,-0.70950000000000002,null,null,null,null,null,null,null,null,null,null,null,null,null,28.04,-2.2799999999999998,0,{"$error":"#DIV/0!"},{"$error":"#DIV/0!"}]
[null,null,null,null,null,1403,28.060000000000002,0.61040000000000005,34.2529296875,{"$f":"FOURIER!M1405","v":0},{"$f":"FOURIER!N1405","v":0},null,null,215.21750454035546,null,null,null,null,0,0,null,null,null,null,null,null,0,0.61040000000000005,null,null,null,null,null,null,null,null,null,null,null,null,null,28.060000000000002,-2.0779999999999998,0,{"$error":"#DIV/0!"},{"$error":"#DIV/0!"}]
[null,null,null,null,null,1404,28.080000000000002,3.6703000000000001,34.27734375,{"$f":"FOURIER!M1406","v":0},{"$f":"FOURIER!N1406","v":0},null,null,215.37090261914403,null,null,null,null,0,0,null,null,null,null,null,null,0,3.6703000000000001,null,null,null,null,null,null,null,null,null,null,null,null,null,28.080000000000002,-1.873,0,{"$error":"#DIV/0!"},{"$error":"#DIV/0!"}]
[null,null,null,null,null,1405,28.1,5.7103000000000002,34.3017578125,{"$f":"FOURIER!M1407","v":0},{"$f":"FOURIER!N1407","v":0},null,null,215.5243006979326,null,null,null,null,0,0,null,null,null,null,null,null,0,5.7103000000000002,null,null,null,null,null,null,null,null,null,null,null,null,null,28.1,-1.663,0,{"$error":"#DIV/0!"},{"$error":"#DIV/0!"}]
[null,null,null,null,null,1406,28.12,4.9903000000000004,34.326171875,{"$f":"FOURIER!M1408","v":0},{"$f":"FOURIER!N1408","v":0},null,null,215.67769877672117,null,null,null,null,0,0,null,null,null,null,null,null,0,4.9903000000000004,null,null,null,null,null,null,null,null,null,null,null,null,null,28.12,-1.4490000000000001,0,{"$error":"#DIV/0!"},{"$error":"#DIV/0!"}]
[null,null,null,null,null,1407,28.14,4.0303000000000004,34.3505859375,{"$f":"FOURIER!M1409","v":0},{"$f":"FOURIER!N1409","v":0},null,null,215.83109685550971,null,null,null,null,0,0,null,null,null,null,null,null,0,4.0303000000000004,null,null,null,null,null,null,null,null,null,null,null,null,null,28.14,-1.23,0,{"$error":"#DIV/0!"},{"$error":"#DIV/0!"}]
[null,null,null,null,null,1408,28.16,4.4503000000000004,34.375,{"$f":"FOURIER!M1410","v":0},{"$f":"FOURIER!N1410","v":0},null,null,{"$f":"2*PI()/B$9/B$6*F1410","v":215.98449493429828},null,null,null,null,{"$f":"J1410*O1410-K1410*P1410","v":0},{"$f":"J1410*P1410+K1410*O1410","v":0},null,null,null,null,null,null,0,4.4503000000000004,null,null,null,null,null,null,null,null,null,null,null,null,null,{"$f":"G1410","v":28.16},-1.0089999999999999,0,{"$error":"#DIV/0!"},{"$error":"#DIV/0!"}]
[null,null,null,null,null,1409,{"$f":"B$6*F1411","v":28.18},4.9903000000000004,{"$f":"F1411/B$9/B$6","v":34.3994140625},{"$f":"FOURIER!M1411","v":0},{"$f":"FOURIER!N1411","v":0},null,null,216.13789301308685,null,null,null,null,0,0,null,null,null,null,null,null,{"$f":"(Y1411-Y1410)/B$6","v":0},{"$f":"(AA1411-AA1410)/B$6+H1411","v":4.9903000000000004},null,null,null,null,null,null,null,null,null,null,null,null,null,28.18,-0.78400000000000003,0,{"$f":"(AQ1411-AQ1410)/O$6","v":{"$error":"#DIV/0!"}},{"$f":"(AS1411-AS1410)/O$6+S1411","v":{"$error":"#DIV/0!"}}]
[null,null,null,null,null,1410,28.2,4.5403000000000002,34.423828125,{"$f":"FOURIER!M1412","v":0},{"$f":"FOURIER!N1412","v":0},null,null,216.29129109187542,null,null,null,null,0,0,null,null,null,null,null,null,0,4.5403000000000002,null,null,null,null,null,null,null,null,null,null,null,null,null,28.2,-0.55700000000000005,0,{"$error":"#DIV/0!"},{"$error":"#DIV/0!"}]
[null,null,null,null,null,1411,28.22,3.9104000000000001,34.4482421875,{"$f":"FOURIER!M1413","v":0},{"$f":"FOURIER!N1413","v":0},null,null,216.44468917066399,null,null,null,null,0,0,null,null,null,null,null,null,0,3.9104000000000001,null,null,null,null,null,null,null,null,null,null,null,null,null,28.22,-0.32800000000000001,0,{"$error":"#DIV/0!"},{"$error":"#DIV/0!"}]
[null,null,null,null,null,1412,28.240000000000002,4.0903999999999998,34.47265625,{"$f":"FOURIER!M1414","v":0},{"$f":"FOURIER!N1414","v":0},null,null,216.59808724945253,null,null,null,null,0,0,null,null,null,null,null,null,0,4.0903999999999998,null,null,null,null,null,null,null,null,null,null,null,null,null,28.240000000000002,-9.8000000000000004E-2,0,{"$error":"#DIV/0!"},{"$error":"#DIV/0!"}]
[null,null,null,null,null,1413,28.26,3.3403999999999998,34.4970703125,{"$f":"FOURIER!M1415","v":0},{"$f":"FOURIER!N1415","v":0},null,null,216.7514853282411,null,null,null,null,0,0,null,null,null,null,null,null,0,3.3403999999999998,null,null,null,null,null,null,null,null,null,null,null,null,null,28.26,0.13400000000000001,0,{"$error":"#DIV/0!"},{"$error":"#DIV/0!"}]
[null,null,null,null,null,1414,28.28,1.9603999999999999,34.521484375,{"$f":"FOURIER!M1416","v":0},{"$f":"FOURIER!N1416","v":0},null,null,216.90488340702967,null,null,null,null,0,0,null,null,null,null,null,null,0,1.9603999999999999,null,null,null,null,null,null,null,null,null,null,null,null,null,28.28,0.36499999999999999,0,{"$error":"#DIV/0!"},{"$error":"#DIV/0!"}]
[null,null,null,null,null,1415,28.3,1.4205000000000001,34.5458984375,{"$f":"FOURIER!M1417","v":0},{"$f":"FOURIER!N1417","v":0},null,null,217.05828148581824,null,null,null,null,0,0,null,null,null,null,null,null,0,1.4205000000000001,null,null,null,null,null,null,null,null,null,null,null,null,null,28.3,0.59599999999999997,0,{"$error":"#DIV/0!"},{"$error":"#DIV/0!"}]
[null,null,null,null,null,1416,28.32,0.9405,34.5703125,{"$f":"FOURIER!M1418","v":0},{"$f":"FOURIER!N1418","v":0},null,null,217.21167956460681,null,null,null,null,0,0,null,null,null,null,null,null,0,0.9405,null,null,null,null,null,null,null,null,null,null,null,null,null,28.32,0.82499999999999996,0,{"$error":"#DIV/0!"},{"$error":"#DIV/0!"}]
[null,null,null,null,null,1417,28.34,-1.3095000000000001,34.5947265625,{"$f":"FOURIER!M1419","v":0},{"$f":"FOURIER!N1419","v":0},null,null,217.36507764339535,null,null,null,null,0,0,null,null,null,null,null,null,0,-1.3095000000000001,null,null,null,null,null,null,null,null,null,null,null,null,null,28.34,1.052,0,{"$error":"#DIV/0!"},{"$error":"#DIV/0!"}]
[null,null,null,null,null,1418,28.36,-3.5293999999999999,34.619140625,{"$f":"FOURIER!M1420","v":0},{"$f":"FOURIER!N1420","v":0},null,null,217.51847572218392,null,null,null,null,0,0,null,null,null,null,null,null,0,-3.5293999999999999,null,null,null,null,null,null,null,null,null,null,null,null,null,28.36,1.2749999999999999,0,{"$error":"#DIV/0!"},{"$error":"#DIV/0!"}]
[null,null,null,null,null,1419,28.38,-2.8994,34.6435546875,{"$f":"FOURIER!M1421","v":0},{"$f":"FOURIER!N1421","v":0},null,null,217.67187380097249,null,null,null,null,0,0,null,null,null,null,null,null,0,-2.8994,null,null,null,null,null,null,null,null,null,null,null,null,null,28.38,1.494,0,{"$error":"#DIV/0!"},{"$error":"#DIV/0!"}]
[null,null,null,null,null,1420,28.400000000000002,-1.6394,34.66796875,{"$f":"FOURIER!M1422","v":0},{"$f":"FOURIER!N1422","v":0},null,null,217.82527187976106,null,null,null,null,0,0,null,null,null,null,null,null,0,-1.6394,null,null,null,null,null,null,null,null,null,null,null,null,null,28.400000000000002,1.708,0,{"$error":"#DIV/0!"},{"$error":"#DIV/0!"}]
[null,null,null,null,null,1421,28.42,-0.73950000000000005,34.6923828125,{"$f":"FOURIER!M1423","v":0},{"$f":"FOURIER!N1423","v":0},null,null,217.97866995854963,null,null,null,null,0,0,null,null,null,null,null,null,0,-0.73950000000000005,null,null,null,null,null,null,null,null,null,null,null,null,null,28.42,1.9159999999999999,0,{"$error":"#DIV/0!"},{"$error":"#DIV/0!"}]
[null,null,null,null,null,1422,28.44,1.9604999999999999,34.716796875,{"$f":"FOURIER!M1424","v":0},{"$f":"FOURIER!N1424","v":0},null,null,218.13206803733817,null,null,null,null,0,0,null,null,null,null,null,null,0,1.9604999999999999,null,null,null,null,null,null,null,null,null,null,null,null,null,28.44,2.12,0,{"$error":"#DIV/0!"},{"$error":"#DIV/0!"}]
[null,null,null,null,null,1423,28.46,3.2504,34.7412109375,{"$f":"FOURIER!M1425","v":0},{"$f":"FOURIER!N1425","v":0},null,null,218.28546611612674,null,null,null,null,0,0,null,null,null,null,null,null,0,3.2504,null,null,null,null,null,null,null,null,null,null,null,null,null,28.46,2.319,0,{"$error":"#DIV/0!"},{"$error":"#DIV/0!"}]
[null,null,null,null,null,1424,28.48,0.10050000000000001,34.765625,{"$f":"FOURIER!M1426","v":0},{"$f":"FOURIER!N1426","v":0},null,null,218.43886419491531,null,null,null,null,0,0,null,null,null,null,null,null,0,0.10050000000000001,null,null,null,null,null,null,null,null,null,null,null,null,null,28.48,2.5150000000000001,0,{"$error":"#DIV/0!"},{"$error":"#DIV/0!"}]
[null,null,null,null,null,1425,28.5,-2.4493999999999998,34.7900390625,{"$f":"FOURIER!M1427","v":0},{"$f":"FOURIER!N1427","v":0},null,null,218.59226227370388,null,null,null,null,0,0,null,null,null,null,null,null,0,-2.4493999999999998,null,null,null,null,null,null,null,null,null,null,null,null,null,28.5,2.7040000000000002,0,{"$error":"#DIV/0!"},{"$error":"#DIV/0!"}]
[null,null,null,null,null,1426,28.52,-3.1093999999999999,34.814453125,{"$f":"FOURIER!M1428","v":0},{"$f":"FOURIER!N1428","v":0},null,null,218.74566035249245,null,null,null,null,0,0,null,null,null,null,null,null,0,-3.1093999999999999,null,null,null,null,null,null,null,null,null,null,null,null,null,28.52,2.8860000000000001,0,{"$error":"#DIV/0!"},{"$error":"#DIV/0!"}]
[null,null,null,null,null,1427,28.54,-3.9192999999999998,34.8388671875,{"$f":"FOURIER!M1429","v":0},{"$f":"FOURIER!N1429","v":0},null,null,218.89905843128099,null,null,null,null,0,0,null,null,null,null,null,null,0,-3.9192999999999998,null,null,null,null,null,null,null,null,null,null,null,null,null,28.54,3.0609999999999999,0,{"$error":"#DIV/0!"},{"$error":"#DIV/0!"}]
[null,null,null,null,null,1428,28.560000000000002,-4.8193000000000001,34.86328125,{"$f":"FOURIER!M1430","v":0},{"$f":"FOURIER!N1430","v":0},null,null,219.05245651006956,null,null,null,null,0,0,null,null,null,null,null,null,0,-4.8193000000000001,null,null,null,null,null,null,null,null,null,null,null,null,null,28.560000000000002,3.2269999999999999,0,{"$error":"#DIV/0!"},{"$error":"#DIV/0!"}]
[null,null,null,null,null,1429,28.580000000000002,-3.9493,34.8876953125,{"$f":"FOURIER!M1431","v":0},{"$f":"FOURIER!N1431","v":0},null,null,219.20585458885813,null,null,null,null,0,0,null,null,null,null,null,null,0,-3.9493,null,null,null,null,null,null,null,null,null,null,null,null,null,28.580000000000002,3.3839999999999999,0,{"$error":"#DIV/0!"},{"$error":"#DIV/0!"}]
[null,null,null,null,null,1430,28.6,-1.0394000000000001,34.912109375,{"$f":"FOURIER!M1432","v":0},{"$f":"FOURIER!N1432","v":0},null,null,219.3592526676467,null,null,null,null,0,0,null,null,null,null,null,null,0,-1.0394000000000001,null,null,null,null,null,null,null,null,null,null,null,null,null,28.6,3.5329999999999999,0,{"$error":"#DIV/0!"},{"$error":"#DIV/0!"}]
[null,null,null,null,null,1431,28.62,2.0804999999999998,34.9365234375,{"$f":"FOURIER!M1433","v":0},{"$f":"FOURIER!N1433","v":0},null,null,219.51265074643527,null,null,null,null,0,0,null,null,null,null,null,null,0,2.0804999999999998,null,null,null,null,null,null,null,null,null,null,null,null,null,28.62,3.673,0,{"$error":"#DIV/0!"},{"$error":"#DIV/0!"}]
[null,null,null,null,null,1432,28.64,3.9104999999999999,34.9609375,{"$f":"FOURIER!M1434","v":0},{"$f":"FOURIER!N1434","v":0},null,null,219.66604882522384,null,null,null,null,0,0,null,null,null,null,null,null,0,3.9104999999999999,null,null,null,null,null,null,null,null,null,null,null,null,null,28.64,3.806,0,{"$error":"#DIV/0!"},{"$error":"#DIV/0!"}]
[null,null,null,null,null,1433,28.66,4.1805000000000003,34.9853515625,{"$f":"FOURIER!M1435","v":0},{"$f":"FOURIER!N1435","v":0},null,null,219.81944690401238,null,null,null,null,0,0,null,null,null,null,null,null,0,4.1805000000000003,null,null,null,null,null,null,null,null,null,null,null,null,null,28.66,3.9329999999999998,0,{"$error":"#DIV/0!"},{"$error":"#DIV/0!"}]
[null,null,null,null,null,1434,28.68,3.6404999999999998,35.009765625,{"$f":"FOURIER!M1436","v":0},{"$f":"FOURIER!N1436","v":0},null,null,219.97284498280095,null,null,null,null,0,0,null,null,null,null,null,null,0,3.6404999999999998,null,null,null,null,null,null,null,null,null,null,null,null,null,28.68,4.0529999999999999,0,{"$error":"#DIV/0!"},{"$error":"#DIV/0!"}]
[null,null,null,null,null,1435,28.7,4.4204999999999997,35.0341796875,{"$f":"FOURIER!M1437","v":0},{"$f":"FOURIER!N1437","v":0},null,null,220.12624306158952,null,null,null,null,0,0,null,null,null,null,null,null,0,4.4204999999999997,null,null,null,null,null,null,null,null,null,null,null,null,null,28.7,4.165,0,{"$error":"#DIV/0!"},{"$error":"#DIV/0!"}]
[null,null,null,null,null,1436,28.72,5.6803999999999997,35.05859375,{"$f":"FOURIER!M1438","v":0},{"$f":"FOURIER!N1438","v":0},null,null,220.27964114037809,null,null,null,null,0,0,null,null,null,null,null,null,0,5.6803999999999997,null,null,null,null,null,null,null,null,null,null,null,null,null,28.72,4.2709999999999999,0,{"$error":"#DIV/0!"},{"$error":"#DIV/0!"}]
[null,null,null,null,null,1437,28.740000000000002,5.3503999999999996,35.0830078125,{"$f":"FOURIER!M1439","v":0},{"$f":"FOURIER!N1439","v":0},null,null,220.43303921916666,null,null,null,null,0,0,null,null,null,null,null,null,0,5.3503999999999996,null,null,null,null,null,null,null,null,null,null,null,null,null,28.740000000000002,4.37,0,{"$error":"#DIV/0!"},{"$error":"#DIV/0!"}]
[null,null,null,null,null,1438,28.76,4.6905000000000001,35.107421875,{"$f":"FOURIER!M1440","v":0},{"$f":"FOURIER!N1440","v":0},null,null,220.5864372979552,null,null,null,null,0,0,null,null,null,null,null,null,0,4.6905000000000001,null,null,null,null,null,null,null,null,null,null,null,null,null,28.76,4.4619999999999997,0,{"$error":"#DIV/0!"},{"$error":"#DIV/0!"}]
[null,null,null,null,null,1439,28.78,5.7404000000000002,35.1318359375,{"$f":"FOURIER!M1441","v":0},{"$f":"FOURIER!N1441","v":0},null,null,220.73983537674377,null,null,null,null,0,0,null,null,null,null,null,null,0,5.7404000000000002,null,null,null,null,null,null,null,null,null,null,null,null,null,28.78,4.5469999999999997,0,{"$error":"#DIV/0!"},{"$error":"#DIV/0!"}]
[null,null,null,null,null,1440,28.8,6.8503999999999996,35.15625,{"$f":"FOURIER!M1442","v":0},{"$f":"FOURIER!N1442","v":0},null,null,220.89323345553234,null,null,null,null,0,0,null,null,null,null,null,null,0,6.8503999999999996,null,null,null,null,null,null,null,null,null,null,null,null,null,28.8,4.6239999999999997,0,{"$error":"#DIV/0!"},{"$error":"#DIV/0!"}]
[null,null,null,null,null,1441,28.82,6.5804,35.1806640625,{"$f":"FOURIER!M1443","v":0},{"$f":"FOURIER!N1443","v":0},null,null,221.04663153432091,null,null,null,null,0,0,null,null,null,null,null,null,0,6.5804,null,null,null,null,null,null,null,null,null,null,null,null,null,28.82,4.6950000000000003,0,{"$error":"#DIV/0!"},{"$error":"#DIV/0!"}]
[null,null,null,null,null,1442,28.84,4.8404999999999996,35.205078125,{"$f":"FOURIER!M1444","v":0},{"$f":"FOURIER!N1444","v":0},null,null,221.20002961310948,null,null,null,null,0,0,null,null,null,null,null,null,0,4.8404999999999996,null,null,null,null,null,null,null,null,null,null,null,null,null,28.84,4.7590000000000003,0,{"$error":"#DIV/0!"},{"$error":"#DIV/0!"}]
[null,null,null,null,null,1443,28.86,3.7305000000000001,35.2294921875,{"$f":"FOURIER!M1445","v":0},{"$f":"FOURIER!N1445","v":0},null,null,221.35342769189802,null,null,null,null,0,0,null,null,null,null,null,null,0,3.7305000000000001,null,null,null,null,null,null,null,null,null,null,null,null,null,28.86,4.8150000000000004,0,{"$error":"#DIV/0!"},{"$error":"#DIV/0!"}]
[null,null,null,null,null,1444,28.88,3.7605,35.25390625,{"$f":"FOURIER!M1446","v":0},{"$f":"FOURIER!N1446","v":0},null,null,221.50682577068659,null,null,null,null,0,0,null,null,null,null,null,null,0,3.7605,null,null,null,null,null,null,null,null,null,null,null,null,null,28.88,4.8620000000000001,0,{"$error":"#DIV/0!"},{"$error":"#DIV/0!"}]
[null,null,null,null,null,1445,28.900000000000002,4.1204999999999998,35.2783203125,{"$f":"FOURIER!M1447","v":0},{"$f":"FOURIER!N1447","v":0},null,null,221.66022384947516,null,null,null,null,0,0,null,null,null,null,null,null,0,4.1204999999999998,null,null,null,null,null,null,null,null,null,null,null,null,null,28.900000000000002,4.9009999999999998,0,{"$error":"#DIV/0!"},{"$error":"#DIV/0!"}]
[null,null,null,null,null,1446,28.92,3.7605,35.302734375,{"$f":"FOURIER!M1448","v":0},{"$f":"FOURIER!N1448","v":0},null,null,221.81362192826373,null,null,null,null,0,0,null,null,null,null,null,null,0,3.7605,null,null,null,null,null,null,null,null,null,null,null,null,null,28.92,4.9320000000000004,0,{"$error":"#DIV/0!"},{"$error":"#DIV/0!"}]
[null,null,null,null,null,1447,28.94,1.7505999999999999,35.3271484375,{"$f":"FOURIER!M1449","v":0},{"$f":"FOURIER!N1449","v":0},null,null,221.9670200070523,null,null,null,null,0,0,null,null,null,null,null,null,0,1.7505999999999999,null,null,null,null,null,null,null,null,null,null,null,null,null,28.94,4.9539999999999997,0,{"$error":"#DIV/0!"},{"$error":"#DIV/0!"}]
[null,null,null,null,null,1448,28.96,-1.0992999999999999,35.3515625,{"$f":"FOURIER!M1450","v":0},{"$f":"FOURIER!N1450","v":0},null,null,222.12041808584084,null,null,null,null,0,0,null,null,null,null,null,null,0,-1.0992999999999999,null,null,null,null,null,null,null,null,null,null,null,null,null,28.96,4.9669999999999996,0,{"$error":"#DIV/0!"},{"$error":"#DIV/0!"}]
[null,null,null,null,null,1449,28.98,-5.3292000000000002,35.3759765625,{"$f":"FOURIER!M1451","v":0},{"$f":"FOURIER!N1451","v":0},null,null,222.27381616462941,null,null,null,null,0,0,null,null,null,null,null,null,0,-5.3292000000000002,null,null,null,null,null,null,null,null,null,null,null,null,null,28.98,4.97,0,{"$error":"#DIV/0!"},{"$error":"#DIV/0!"}]
[null,null,null,null,null,1450,29,-9.7089999999999996,35.400390625,{"$f":"FOURIER!M1452","v":0},{"$f":"FOURIER!N1452","v":0},null,null,222.42721424341798,null,null,null,null,0,0,null,null,null,null,null,null,0,-9.7089999999999996,null,null,null,null,null,null,null,null,null,null,null,null,null,29,4.96,0,{"$error":"#DIV/0!"},{"$error":"#DIV/0!"}]
[null,null,null,null,null,1451,29.02,-11.239000000000001,35.4248046875,{"$f":"FOURIER!M1453","v":0},{"$f":"FOURIER!N1453","v":0},null,null,222.58061232220655,null,null,null,null,0,0,null,null,null,null,null,null,0,-11.239000000000001,null,null,null,null,null,null,null,null,null,null,null,null,null,29.02,4.9370000000000003,0,{"$error":"#DIV/0!"},{"$error":"#DIV/0!"}]
[null,null,null,null,null,1452,29.04,-10.638999999999999,35.44921875,{"$f":"FOURIER!M1454","v":0},{"$f":"FOURIER!N1454","v":0},null,null,222.73401040099512,null,null,null,null,0,0,null,null,null,null,null,null,0,-10.638999999999999,null,null,null,null,null,null,null,null,null,null,null,null,null,29.04,4.899,0,{"$error":"#DIV/0!"},{"$error":"#DIV/0!"}]
[null,null,null,null,null,1453,29.060000000000002,-9.4390000000000001,35.4736328125,{"$f":"FOURIER!M1455","v":0},{"$f":"FOURIER!N1455","v":0},null,null,222.88740847978366,null,null,null,null,0,0,null,null,null,null,null,null,0,-9.4390000000000001,null,null,null,null,null,null,null,null,null,null,null,null,null,29.060000000000002,4.8479999999999999,0,{"$error":"#DIV/0!"},{"$error":"#DIV/0!"}]
[null,null,null,null,null,1454,29.080000000000002,-8.1791,35.498046875,{"$f":"FOURIER!M1456","v":0},{"$f":"FOURIER!N1456","v":0},null,null,223.04080655857223,null,null,null,null,0,0,null,null,null,null,null,null,0,-8.1791,null,null,null,null,null,null,null,null,null,null,null,null,null,29.080000000000002,4.7839999999999998,0,{"$error":"#DIV/0!"},{"$error":"#DIV/0!"}]
[null,null,null,null,null,1455,29.1,-8.1791,35.5224609375,{"$f":"FOURIER!M1457","v":0},{"$f":"FOURIER!N1457","v":0},null,null,223.1942046373608,null,null,null,null,0,0,null,null,null,null,null,null,0,-8.1791,null,null,null,null,null,null,null,null,null,null,null,null,null,29.1,4.7060000000000004,0,{"$error":"#DIV/0!"},{"$error":"#DIV/0!"}]
[null,null,null,null,null,1456,29.12,-8.5090000000000003,35.546875,{"$f":"FOURIER!M1458","v":0},{"$f":"FOURIER!N1458","v":0},null,null,223.34760271614937,null,null,null,null,0,0,null,null,null,null,null,null,0,-8.5090000000000003,null,null,null,null,null,null,null,null,null,null,null,null,null,29.12,4.617,0,{"$error":"#DIV/0!"},{"$error":"#DIV/0!"}]
[null,null,null,null,null,1457,29.14,-7.6090999999999998,35.5712890625,{"$f":"FOURIER!M1459","v":0},{"$f":"FOURIER!N1459","v":0},null,null,223.50100079493794,null,null,null,null,0,0,null,null,null,null,null,null,0,-7.6090999999999998,null,null,null,null,null,null,null,null,null,null,null,null,null,29.14,4.5149999999999997,0,{"$error":"#DIV/0!"},{"$error":"#DIV/0!"}]
[null,null,null,null,null,1458,29.16,-5.9591000000000003,35.595703125,{"$f":"FOURIER!M1460","v":0},{"$f":"FOURIER!N1460","v":0},null,null,223.65439887372651,null,null,null,null,0,0,null,null,null,null,null,null,0,-5.9591000000000003,null,null,null,null,null,null,null,null,null,null,null,null,null,29.16,4.4020000000000001,0,{"$error":"#DIV/0!"},{"$error":"#DIV/0!"}]
[null,null,null,null,null,1459,29.18,-5.4490999999999996,35.6201171875,{"$f":"FOURIER!M1461","v":0},{"$f":"FOURIER!N1461","v":0},null,null,223.80779695251505,null,null,null,null,0,0,null,null,null,null,null,null,0,-5.4490999999999996,null,null,null,null,null,null,null,null,null,null,null,null,null,29.18,4.2779999999999996,0,{"$error":"#DIV/0!"},{"$error":"#DIV/0!"}]
[null,null,null,null,null,1460,29.2,-7.1890999999999998,35.64453125,{"$f":"FOURIER!M1462","v":0},{"$f":"FOURIER!N1462","v":0},null,null,223.96119503130362,null,null,null,null,0,0,null,null,null,null,null,null,0,-7.1890999999999998,null,null,null,null,null,null,null,null,null,null,null,null,null,29.2,4.1429999999999998,0,{"$error":"#DIV/0!"},{"$error":"#DIV/0!"}]
[null,null,null,null,null,1461,29.22,-8.9589999999999996,35.6689453125,{"$f":"FOURIER!M1463","v":0},{"$f":"FOURIER!N1463","v":0},null,null,224.11459311009219,null,null,null,null,0,0,null,null,null,null,null,null,0,-8.9589999999999996,null,null,null,null,null,null,null,null,null,null,null,null,null,29.22,3.9980000000000002,0,{"$error":"#DIV/0!"},{"$error":"#DIV/0!"}]
[null,null,null,null,null,1462,29.240000000000002,-9.2289999999999992,35.693359375,{"$f":"FOURIER!M1464","v":0},{"$f":"FOURIER!N1464","v":0},null,null,224.26799118888076,null,null,null,null,0,0,null,null,null,null,null,null,0,-9.2289999999999992,null,null,null,null,null,null,null,null,null,null,null,null,null,29.240000000000002,3.8420000000000001,0,{"$error":"#DIV/0!"},{"$error":"#DIV/0!"}]
[null,null,null,null,null,1463,29.26,-9.5289999999999999,35.7177734375,{"$f":"FOURIER!M1465","v":0},{"$f":"FOURIER!N1465","v":0},null,null,224.42138926766933,null,null,null,null,0,0,null,null,null,null,null,null,0,-9.5289999999999999,null,null,null,null,null,null,null,null,null,null,null,null,null,29.26,3.6749999999999998,0,{"$error":"#DIV/0!"},{"$error":"#DIV/0!"}]
[null,null,null,null,null,1464,29.28,-9.5890000000000004,35.7421875,{"$f":"FOURIER!M1466","v":0},{"$f":"FOURIER!N1466","v":0},null,null,224.57478734645787,null,null,null,null,0,0,null,null,null,null,null,null,0,-9.5890000000000004,null,null,null,null,null,null,null,null,null,null,null,null,null,29.28,3.4980000000000002,0,{"$error":"#DIV/0!"},{"$error":"#DIV/0!"}]
[null,null,null,null,null,1465,29.3,-9.0790000000000006,35.7666015625,{"$f":"FOURIER!M1467","v":0},{"$f":"FOURIER!N1467","v":0},null,null,224.72818542524644,null,null,null,null,0,0,null,null,null,null,null,null,0,-9.0790000000000006,null,null,null,null,null,null,null,null,null,null,null,null,null,29.3,3.3109999999999999,0,{"$error":"#DIV/0!"},{"$error":"#DIV/0!"}]
[null,null,null,null,null,1466,29.32,-7.9390000000000001,35.791015625,{"$f":"FOURIER!M1468","v":0},{"$f":"FOURIER!N1468","v":0},null,null,224.88158350403501,null,null,null,null,0,0,null,null,null,null,null,null,0,-7.9390000000000001,null,null,null,null,null,null,null,null,null,null,null,null,null,29.32,3.1139999999999999,0,{"$error":"#DIV/0!"},{"$error":"#DIV/0!"}]
[null,null,null,null,null,1467,29.34,-5.0891000000000002,35.8154296875,{"$f":"FOURIER!M1469","v":0},{"$f":"FOURIER!N1469","v":0},null,null,225.03498158282358,null,null,null,null,0,0,null,null,null,null,null,null,0,-5.0891000000000002,null,null,null,null,null,null,null,null,null,null,null,null,null,29.34,2.9089999999999998,0,{"$error":"#DIV/0!"},{"$error":"#DIV/0!"}]
[null,null,null,null,null,1468,29.36,-1.0691999999999999,35.83984375,{"$f":"FOURIER!M1470","v":0},{"$f":"FOURIER!N1470","v":0},null,null,225.18837966161215,null,null,null,null,0,0,null,null,null,null,null,null,0,-1.0691999999999999,null,null,null,null,null,null,null,null,null,null,null,null,null,29.36,2.6960000000000002,0,{"$error":"#DIV/0!"},{"$error":"#DIV/0!"}]
[null,null,null,null,null,1469,29.38,3.2806999999999999,35.8642578125,{"$f":"FOURIER!M1471","v":0},{"$f":"FOURIER!N1471","v":0},null,null,225.34177774040069,null,null,null,null,0,0,null,null,null,null,null,null,0,3.2806999999999999,null,null,null,null,null,null,null,null,null,null,null,null,null,29.38,2.4790000000000001,0,{"$error":"#DIV/0!"},{"$error":"#DIV/0!"}]
[null,null,null,null,null,1470,29.400000000000002,6.9104999999999999,35.888671875,{"$f":"FOURIER!M1472","v":0},{"$f":"FOURIER!N1472","v":0},null,null,225.49517581918926,null,null,null,null,0,0,null,null,null,null,null,null,0,6.9104999999999999,null,null,null,null,null,null,null,null,null,null,null,null,null,29.400000000000002,2.2589999999999999,0,{"$error":"#DIV/0!"},{"$error":"#DIV/0!"}]
[null,null,null,null,null,1471,29.42,9.2204999999999995,35.9130859375,{"$f":"FOURIER!M1473","v":0},{"$f":"FOURIER!N1473","v":0},null,null,225.64857389797783,null,null,null,null,0,0,null,null,null,null,null,null,0,9.2204999999999995,null,null,null,null,null,null,null,null,null,null,null,null,null,29.42,2.0379999999999998,0,{"$error":"#DIV/0!"},{"$error":"#DIV/0!"}]
[null,null,null,null,null,1472,29.44,10.0905,35.9375,{"$f":"FOURIER!M1474","v":0},{"$f":"FOURIER!N1474","v":0},null,null,{"$f":"2*PI()/B$9/B$6*F1474","v":225.8019719767664},null,null,null,null,{"$f":"J1474*O1474-K1474*P1474","v":0},{"$f":"J1474*P1474+K1474*O1474","v":0},null,null,null,null,null,null,0,10.0905,null,null,null,null,null,null,null,null,null,null,null,null,null,{"$f":"G1474","v":29.44},1.8180000000000001,0,{"$error":"#DIV/0!"},{"$error":"#DIV/0!"}]
[null,null,null,null,null,1473,{"$f":"B$6*F1475","v":29.46},9.7904999999999998,{"$f":"F1475/B$9/B$6","v":35.9619140625},{"$f":"FOURIER!M1475","v":0},{"$f":"FOURIER!N1475","v":0},null,null,225.95537005555497,null,null,null,null,0,0,null,null,null,null,null,null,{"$f":"(Y1475-Y1474)/B$6","v":0},{"$f":"(AA1475-AA1474)/B$6+H1475","v":9.7904999999999998},null,null,null,null,null,null,null,null,null,null,null,null,null,29.46,1.5980000000000001,0,{"$f":"(AQ1475-AQ1474)/O$6","v":{"$error":"#DIV/0!"}},{"$f":"(AS1475-AS1474)/O$6+S1475","v":{"$error":"#DIV/0!"}}]
[null,null,null,null,null,1474,29.48,9.4905000000000008,35.986328125,{"$f":"FOURIER!M1476","v":0},{"$f":"FOURIER!N1476","v":0},null,null,226.10876813434351,null,null,null,null,0,0,null,null,null,null,null,null,0,9.4905000000000008,null,null,null,null,null,null,null,null,null,null,null,null,null,29.48,1.381,0,{"$error":"#DIV/0!"},{"$error":"#DIV/0!"}]
[null,null,null,null,null,1475,29.5,8.9804999999999993,36.0107421875,{"$f":"FOURIER!M1477","v":0},{"$f":"FOURIER!N1477","v":0},null,null,226.26216621313208,null,null,null,null,0,0,null,null,null,null,null,null,0,8.9804999999999993,null,null,null,null,null,null,null,null,null,null,null,null,null,29.5,1.165,0,{"$error":"#DIV/0!"},{"$error":"#DIV/0!"}]
[null,null,null,null,null,1476,29.52,7.1205999999999996,36.03515625,{"$f":"FOURIER!M1478","v":0},{"$f":"FOURIER!N1478","v":0},null,null,226.41556429192065,null,null,null,null,0,0,null,null,null,null,null,null,0,7.1205999999999996,null,null,null,null,null,null,null,null,null,null,null,null,null,29.52,0.95099999999999996,0,{"$error":"#DIV/0!"},{"$error":"#DIV/0!"}]
[null,null,null,null,null,1477,29.54,3.1606999999999998,36.0595703125,{"$f":"FOURIER!M1479","v":0},{"$f":"FOURIER!N1479","v":0},null,null,226.56896237070922,null,null,null,null,0,0,null,null,null,null,null,null,0,3.1606999999999998,null,null,null,null,null,null,null,null,null,null,null,null,null,29.54,0.73899999999999999,0,{"$error":"#DIV/0!"},{"$error":"#DIV/0!"}]
[null,null,null,null,null,1478,29.560000000000002,-0.67920000000000003,36.083984375,{"$f":"FOURIER!M1480","v":0},{"$f":"FOURIER!N1480","v":0},null,null,226.72236044949778,null,null,null,null,0,0,null,null,null,null,null,null,0,-0.67920000000000003,null,null,null,null,null,null,null,null,null,null,null,null,null,29.560000000000002,0.52800000000000002,0,{"$error":"#DIV/0!"},{"$error":"#DIV/0!"}]
[null,null,null,null,null,1479,29.580000000000002,-2.3591000000000002,36.1083984375,{"$f":"FOURIER!M1481","v":0},{"$f":"FOURIER!N1481","v":0},null,null,226.87575852828633,null,null,null,null,0,0,null,null,null,null,null,null,0,-2.3591000000000002,null,null,null,null,null,null,null,null,null,null,null,null,null,29.580000000000002,0.316,0,{"$error":"#DIV/0!"},{"$error":"#DIV/0!"}]
[null,null,null,null,null,1480,29.6,-2.1191,36.1328125,{"$f":"FOURIER!M1482","v":0},{"$f":"FOURIER!N1482","v":0},null,null,227.0291566070749,null,null,null,null,0,0,null,null,null,null,null,null,0,-2.1191,null,null,null,null,null,null,null,null,null,null,null,null,null,29.6,0.104,0,{"$error":"#DIV/0!"},{"$error":"#DIV/0!"}]
[null,null,null,null,null,1481,29.62,-0.5292,36.1572265625,{"$f":"FOURIER!M1483","v":0},{"$f":"FOURIER!N1483","v":0},null,null,227.18255468586347,null,null,null,null,0,0,null,null,null,null,null,null,0,-0.5292,null,null,null,null,null,null,null,null,null,null,null,null,null,29.62,-0.109,0,{"$error":"#DIV/0!"},{"$error":"#DIV/0!"}]
[null,null,null,null,null,1482,29.64,1.1208,36.181640625,{"$f":"FOURIER!M1484","v":0},{"$f":"FOURIER!N1484","v":0},null,null,227.33595276465203,null,null,null,null,0,0,null,null,null,null,null,null,0,1.1208,null,null,null,null,null,null,null,null,null,null,null,null,null,29.64,-0.32100000000000001,0,{"$error":"#DIV/0!"},{"$error":"#DIV/0!"}]
[null,null,null,null,null,1483,29.66,0.28079999999999999,36.2060546875,{"$f":"FOURIER!M1485","v":0},{"$f":"FOURIER!N1485","v":0},null,null,227.4893508434406,null,null,null,null,0,0,null,null,null,null,null,null,0,0.28079999999999999,null,null,null,null,null,null,null,null,null,null,null,null,null,29.66,-0.53100000000000003,0,{"$error":"#DIV/0!"},{"$error":"#DIV/0!"}]
[null,null,null,null,null,1484,29.68,-1.3090999999999999,36.23046875,{"$f":"FOURIER!M1486","v":0},{"$f":"FOURIER!N1486","v":0},null,null,227.64274892222917,null,null,null,null,0,0,null,null,null,null,null,null,0,-1.3090999999999999,null,null,null,null,null,null,null,null,null,null,null,null,null,29.68,-0.73899999999999999,0,{"$error":"#DIV/0!"},{"$error":"#DIV/0!"}]
[null,null,null,null,null,1485,29.7,-0.55920000000000003,36.2548828125,{"$f":"FOURIER!M1487","v":0},{"$f":"FOURIER!N1487","v":0},null,null,227.79614700101772,null,null,null,null,0,0,null,null,null,null,null,null,0,-0.55920000000000003,null,null,null,null,null,null,null,null,null,null,null,null,null,29.7,-0.94499999999999995,0,{"$error":"#DIV/0!"},{"$error":"#DIV/0!"}]
[null,null,null,null,null,1486,29.72,0.49080000000000001,36.279296875,{"$f":"FOURIER!M1488","v":0},{"$f":"FOURIER!N1488","v":0},null,null,227.94954507980628,null,null,null,null,0,0,null,null,null,null,null,null,0,0.49080000000000001,null,null,null,null,null,null,null,null,null,null,null,null,null,29.72,-1.1479999999999999,0,{"$error":"#DIV/0!"},{"$error":"#DIV/0!"}]
[null,null,null,null,null,1487,29.740000000000002,-7.9200000000000007E-2,36.3037109375,{"$f":"FOURIER!M1489","v":0},{"$f":"FOURIER!N1489","v":0},null,null,228.10294315859485,null,null,null,null,0,0,null,null,null,null,null,null,0,-7.9200000000000007E-2,null,null,null,null,null,null,null,null,null,null,null,null,null,29.740000000000002,-1.3480000000000001,0,{"$error":"#DIV/0!"},{"$error":"#DIV/0!"}]
[null,null,null,null,null,1488,29.76,-1.2491000000000001,36.328125,{"$f":"FOURIER!M1490","v":0},{"$f":"FOURIER!N1490","v":0},null,null,228.25634123738342,null,null,null,null,0,0,null,null,null,null,null,null,0,-1.2491000000000001,null,null,null,null,null,null,null,null,null,null,null,null,null,29.76,-1.5449999999999999,0,{"$error":"#DIV/0!"},{"$error":"#DIV/0!"}]
[null,null,null,null,null,1489,29.78,-3.0790999999999999,36.3525390625,{"$f":"FOURIER!M1491","v":0},{"$f":"FOURIER!N1491","v":0},null,null,228.40973931617199,null,null,null,null,0,0,null,null,null,null,null,null,0,-3.0790999999999999,null,null,null,null,null,null,null,null,null,null,null,null,null,29.78,-1.7390000000000001,0,{"$error":"#DIV/0!"},{"$error":"#DIV/0!"}]
[null,null,null,null,null,1490,29.8,-3.379,36.376953125,{"$f":"FOURIER!M1492","v":0},{"$f":"FOURIER!N1492","v":0},null,null,228.56313739496053,null,null,null,null,0,0,null,null,null,null,null,null,0,-3.379,null,null,null,null,null,null,null,null,null,null,null,null,null,29.8,-1.929,0,{"$error":"#DIV/0!"},{"$error":"#DIV/0!"}]
[null,null,null,null,null,1491,29.82,-0.8891,36.4013671875,{"$f":"FOURIER!M1493","v":0},{"$f":"FOURIER!N1493","v":0},null,null,228.7165354737491,null,null,null,null,0,0,null,null,null,null,null,null,0,-0.8891,null,null,null,null,null,null,null,null,null,null,null,null,null,29.82,-2.1160000000000001,0,{"$error":"#DIV/0!"},{"$error":"#DIV/0!"}]
[null,null,null,null,null,1492,29.84,2.4108000000000001,36.42578125,{"$f":"FOURIER!M1494","v":0},{"$f":"FOURIER!N1494","v":0},null,null,228.86993355253767,null,null,null,null,0,0,null,null,null,null,null,null,0,2.4108000000000001,null,null,null,null,null,null,null,null,null,null,null,null,null,29.84,-2.2989999999999999,0,{"$error":"#DIV/0!"},{"$error":"#DIV/0!"}]
[null,null,null,null,null,1493,29.86,5.3207000000000004,36.4501953125,{"$f":"FOURIER!M1495","v":0},{"$f":"FOURIER!N1495","v":0},null,null,229.02333163132624,null,null,null,null,0,0,null,null,null,null,null,null,0,5.3207000000000004,null,null,null,null,null,null,null,null,null,null,null,null,null,29.86,-2.4750000000000001,0,{"$error":"#DIV/0!"},{"$error":"#DIV/0!"}]
[null,null,null,null,null,1494,29.88,7.0606999999999998,36.474609375,{"$f":"FOURIER!M1496","v":0},{"$f":"FOURIER!N1496","v":0},null,null,229.17672971011481,null,null,null,null,0,0,null,null,null,null,null,null,0,7.0606999999999998,null,null,null,null,null,null,null,null,null,null,null,null,null,29.88,-2.6429999999999998,0,{"$error":"#DIV/0!"},{"$error":"#DIV/0!"}]
[null,null,null,null,null,1495,29.900000000000002,6.8207000000000004,36.4990234375,{"$f":"FOURIER!M1497","v":0},{"$f":"FOURIER!N1497","v":0},null,null,229.33012778890335,null,null,null,null,0,0,null,null,null,null,null,null,0,6.8207000000000004,null,null,null,null,null,null,null,null,null,null,null,null,null,29.900000000000002,-2.8029999999999999,0,{"$error":"#DIV/0!"},{"$error":"#DIV/0!"}]
[null,null,null,null,null,1496,29.92,5.1406999999999998,36.5234375,{"$f":"FOURIER!M1498","v":0},{"$f":"FOURIER!N1498","v":0},null,null,229.48352586769192,null,null,null,null,0,0,null,null,null,null,null,null,0,5.1406999999999998,null,null,null,null,null,null,null,null,null,null,null,null,null,29.92,-2.9540000000000002,0,{"$error":"#DIV/0!"},{"$error":"#DIV/0!"}]
[null,null,null,null,null,1497,29.94,3.3708,36.5478515625,{"$f":"FOURIER!M1499","v":0},{"$f":"FOURIER!N1499","v":0},null,null,229.63692394648049,null,null,null,null,0,0,null,null,null,null,null,null,0,3.3708,null,null,null,null,null,null,null,null,null,null,null,null,null,29.94,-3.0960000000000001,0,{"$error":"#DIV/0!"},{"$error":"#DIV/0!"}]
[null,null,null,null,null,1498,29.96,0.85089999999999999,36.572265625,{"$f":"FOURIER!M1500","v":0},{"$f":"FOURIER!N1500","v":0},null,null,229.79032202526906,null,null,null,null,0,0,null,null,null,null,null,null,0,0.85089999999999999,null,null,null,null,null,null,null,null,null,null,null,null,null,29.96,-3.23,0,{"$error":"#DIV/0!"},{"$error":"#DIV/0!"}]
[null,null,null,null,null,1499,29.98,-4.3090000000000002,36.5966796875,{"$f":"FOURIER!M1501","v":0},{"$f":"FOURIER!N1501","v":0},null,null,229.94372010405763,null,null,null,null,0,0,null,null,null,null,null,null,0,-4.3090000000000002,null,null,null,null,null,null,null,null,null,null,null,null,null,29.98,-3.3570000000000002,0,{"$error":"#DIV/0!"},{"$error":"#DIV/0!"}]
[null,null,null,null,null,1500,30,-9.2287999999999997,36.62109375,{"$f":"FOURIER!M1502","v":0},{"$f":"FOURIER!N1502","v":0},null,null,230.09711818284617,null,null,null,null,0,0,null,null,null,null,null,null,0,-9.2287999999999997,null,null,null,null,null,null,null,null,null,null,null,null,null,30,-3.4790000000000001,0,{"$error":"#DIV/0!"},{"$error":"#DIV/0!"}]
[null,null,null,null,null,1501,30.02,0,36.6455078125,{"$f":"FOURIER!M1503","v":0},{"$f":"FOURIER!N1503","v":0},null,null,230.25051626163474,null,null,null,null,0,0,null,null,null,null,null,null,0,0,null,null,null,null,null,null,null,null,null,null,null,null,null,30.02,-3.5960000000000001,0,{"$error":"#DIV/0!"},{"$error":"#DIV/0!"}]
[null,null,null,null,null,1502,30.04,0,36.669921875,{"$f":"FOURIER!M1504","v":0},{"$f":"FOURIER!N1504","v":0},null,null,230.40391434042331,null,null,null,null,0,0,null,null,null,null,null,null,0,0,null,null,null,null,null,null,null,null,null,null,null,null,null,30.04,-3.706,0,{"$error":"#DIV/0!"},{"$error":"#DIV/0!"}]
[null,null,null,null,null,1503,30.060000000000002,0,36.6943359375,{"$f":"FOURIER!M1505","v":0},{"$f":"FOURIER!N1505","v":0},null,null,230.55731241921188,null,null,null,null,0,0,null,null,null,null,null,null,0,0,null,null,null,null,null,null,null,null,null,null,null,null,null,30.060000000000002,-3.8079999999999998,0,{"$error":"#DIV/0!"},{"$error":"#DIV/0!"}]
[null,null,null,null,null,1504,30.080000000000002,0,36.71875,{"$f":"FOURIER!M1506","v":0},{"$f":"FOURIER!N1506","v":0},null,null,230.71071049800045,null,null,null,null,0,0,null,null,null,null,null,null,0,0,null,null,null,null,null,null,null,null,null,null,null,null,null,30.080000000000002,-3.9020000000000001,0,{"$error":"#DIV/0!"},{"$error":"#DIV/0!"}]
[null,null,null,null,null,1505,30.1,0,36.7431640625,{"$f":"FOURIER!M1507","v":0},{"$f":"FOURIER!N1507","v":0},null,null,230.86410857678899,null,null,null,null,0,0,null,null,null,null,null,null,0,0,null,null,null,null,null,null,null,null,null,null,null,null,null,30.1,-3.9870000000000001,0,{"$error":"#DIV/0!"},{"$error":"#DIV/0!"}]
[null,null,null,null,null,1506,30.12,0,36.767578125,{"$f":"FOURIER!M1508","v":0},{"$f":"FOURIER!N1508","v":0},null,null,231.01750665557756,null,null,null,null,0,0,null,null,null,null,null,null,0,0,null,null,null,null,null,null,null,null,null,null,null,null,null,30.12,-4.0650000000000004,0,{"$error":"#DIV/0!"},{"$error":"#DIV/0!"}]
[null,null,null,null,null,1507,30.14,0,36.7919921875,{"$f":"FOURIER!M1509","v":0},{"$f":"FOURIER!N1509","v":0},null,null,231.17090473436613,null,null,null,null,0,0,null,null,null,null,null,null,0,0,null,null,null,null,null,null,null,null,null,null,null,null,null,30.14,-4.1340000000000003,0,{"$error":"#DIV/0!"},{"$error":"#DIV/0!"}]
[null,null,null,null,null,1508,30.16,0,36.81640625,{"$f":"FOURIER!M1510","v":0},{"$f":"FOURIER!N1510","v":0},null,null,231.3243028131547,null,null,null,null,0,0,null,null,null,null,null,null,0,0,null,null,null,null,null,null,null,null,null,null,null,null,null,30.16,-4.1950000000000003,0,{"$error":"#DIV/0!"},{"$error":"#DIV/0!"}]
[null,null,null,null,null,1509,30.18,0,36.8408203125,{"$f":"FOURIER!M1511","v":0},{"$f":"FOURIER!N1511","v":0},null,null,231.47770089194327,null,null,null,null,0,0,null,null,null,null,null,null,0,0,null,null,null,null,null,null,null,null,null,null,null,null,null,30.18,-4.2469999999999999,0,{"$error":"#DIV/0!"},{"$error":"#DIV/0!"}]
[null,null,null,null,null,1510,30.2,0,36.865234375,{"$f":"FOURIER!M1512","v":0},{"$f":"FOURIER!N1512","v":0},null,null,231.63109897073184,null,null,null,null,0,0,null,null,null,null,null,null,0,0,null,null,null,null,null,null,null,null,null,null,null,null,null,30.2,-4.29,0,{"$error":"#DIV/0!"},{"$error":"#DIV/0!"}]
[null,null,null,null,null,1511,30.22,0,36.8896484375,{"$f":"FOURIER!M1513","v":0},{"$f":"FOURIER!N1513","v":0},null,null,231.78449704952038,null,null,null,null,0,0,null,null,null,null,null,null,0,0,null,null,null,null,null,null,null,null,null,null,null,null,null,30.22,-4.3239999999999998,0,{"$error":"#DIV/0!"},{"$error":"#DIV/0!"}]
[null,null,null,null,null,1512,30.240000000000002,0,36.9140625,{"$f":"FOURIER!M1514","v":0},{"$f":"FOURIER!N1514","v":0},null,null,231.93789512830895,null,null,null,null,0,0,null,null,null,null,null,null,0,0,null,null,null,null,null,null,null,null,null,null,null,null,null,30.240000000000002,-4.3499999999999996,0,{"$error":"#DIV/0!"},{"$error":"#DIV/0!"}]
[null,null,null,null,null,1513,30.26,0,36.9384765625,{"$f":"FOURIER!M1515","v":0},{"$f":"FOURIER!N1515","v":0},null,null,232.09129320709752,null,null,null,null,0,0,null,null,null,null,null,null,0,0,null,null,null,null,null,null,null,null,null,null,null,null,null,30.26,-4.367,0,{"$error":"#DIV/0!"},{"$error":"#DIV/0!"}]
[null,null,null,null,null,1514,30.28,0,36.962890625,{"$f":"FOURIER!M1516","v":0},{"$f":"FOURIER!N1516","v":0},null,null,232.24469128588609,null,null,null,null,0,0,null,null,null,null,null,null,0,0,null,null,null,null,null,null,null,null,null,null,null,null,null,30.28,-4.375,0,{"$error":"#DIV/0!"},{"$error":"#DIV/0!"}]
[null,null,null,null,null,1515,30.3,0,36.9873046875,{"$f":"FOURIER!M1517","v":0},{"$f":"FOURIER!N1517","v":0},null,null,232.39808936467466,null,null,null,null,0,0,null,null,null,null,null,null,0,0,null,null,null,null,null,null,null,null,null,null,null,null,null,30.3,-4.375,0,{"$error":"#DIV/0!"},{"$error":"#DIV/0!"}]
[null,null,null,null,null,1516,30.32,0,37.01171875,{"$f":"FOURIER!M1518","v":0},{"$f":"FOURIER!N1518","v":0},null,null,232.5514874434632,null,null,null,null,0,0,null,null,null,null,null,null,0,0,null,null,null,null,null,null,null,null,null,null,null,null,null,30.32,-4.3650000000000002,0,{"$error":"#DIV/0!"},{"$error":"#DIV/0!"}]
[null,null,null,null,null,1517,30.34,0,37.0361328125,{"$f":"FOURIER!M1519","v":0},{"$f":"FOURIER!N1519","v":0},null,null,232.70488552225177,null,null,null,null,0,0,null,null,null,null,null,null,0,0,null,null,null,null,null,null,null,null,null,null,null,null,null,30.34,-4.3470000000000004,0,{"$error":"#DIV/0!"},{"$error":"#DIV/0!"}]
[null,null,null,null,null,1518,30.36,0,37.060546875,{"$f":"FOURIER!M1520","v":0},{"$f":"FOURIER!N1520","v":0},null,null,232.85828360104034,null,null,null,null,0,0,null,null,null,null,null,null,0,0,null,null,null,null,null,null,null,null,null,null,null,null,null,30.36,-4.3209999999999997,0,{"$error":"#DIV/0!"},{"$error":"#DIV/0!"}]
[null,null,null,null,null,1519,30.38,0,37.0849609375,{"$f":"FOURIER!M1521","v":0},{"$f":"FOURIER!N1521","v":0},null,null,233.01168167982891,null,null,null,null,0,0,null,null,null,null,null,null,0,0,null,null,null,null,null,null,null,null,null,null,null,null,null,30.38,-4.2850000000000001,0,{"$error":"#DIV/0!"},{"$error":"#DIV/0!"}]
[null,null,null,null,null,1520,30.400000000000002,0,37.109375,{"$f":"FOURIER!M1522","v":0},{"$f":"FOURIER!N1522","v":0},null,null,233.16507975861748,null,null,null,null,0,0,null,null,null,null,null,null,0,0,null,null,null,null,null,null,null,null,null,null,null,null,null,30.400000000000002,-4.242,0,{"$error":"#DIV/0!"},{"$error":"#DIV/0!"}]
[null,null,null,null,null,1521,30.42,0,37.1337890625,{"$f":"FOURIER!M1523","v":0},{"$f":"FOURIER!N1523","v":0},null,null,233.31847783740602,null,null,null,null,0,0,null,null,null,null,null,null,0,0,null,null,null,null,null,null,null,null,null,null,null,null,null,30.42,-4.1900000000000004,0,{"$error":"#DIV/0!"},{"$error":"#DIV/0!"}]
[null,null,null,null,null,1522,30.44,0,37.158203125,{"$f":"FOURIER!M1524","v":0},{"$f":"FOURIER!N1524","v":0},null,null,233.47187591619459,null,null,null,null,0,0,null,null,null,null,null,null,0,0,null,null,null,null,null,null,null,null,null,null,null,null,null,30.44,-4.13,0,{"$error":"#DIV/0!"},{"$error":"#DIV/0!"}]
[null,null,null,null,null,1523,30.46,0,37.1826171875,{"$f":"FOURIER!M1525","v":0},{"$f":"FOURIER!N1525","v":0},null,null,233.62527399498316,null,null,null,null,0,0,null,null,null,null,null,null,0,0,null,null,null,null,null,null,null,null,null,null,null,null,null,30.46,-4.0620000000000003,0,{"$error":"#DIV/0!"},{"$error":"#DIV/0!"}]
[null,null,null,null,null,1524,30.48,0,37.20703125,{"$f":"FOURIER!M1526","v":0},{"$f":"FOURIER!N1526","v":0},null,null,233.77867207377173,null,null,null,null,0,0,null,null,null,null,null,null,0,0,null,null,null,null,null,null,null,null,null,null,null,null,null,30.48,-3.9860000000000002,0,{"$error":"#DIV/0!"},{"$error":"#DIV/0!"}]
[null,null,null,null,null,1525,30.5,0,37.2314453125,{"$f":"FOURIER!M1527","v":0},{"$f":"FOURIER!N1527","v":0},null,null,233.9320701525603,null,null,null,null,0,0,null,null,null,null,null,null,0,0,null,null,null,null,null,null,null,null,null,null,null,null,null,30.5,-3.9020000000000001,0,{"$error":"#DIV/0!"},{"$error":"#DIV/0!"}]
[null,null,null,null,null,1526,30.52,0,37.255859375,{"$f":"FOURIER!M1528","v":0},{"$f":"FOURIER!N1528","v":0},null,null,234.08546823134884,null,null,null,null,0,0,null,null,null,null,null,null,0,0,null,null,null,null,null,null,null,null,null,null,null,null,null,30.52,-3.8109999999999999,0,{"$error":"#DIV/0!"},{"$error":"#DIV/0!"}]
[null,null,null,null,null,1527,30.54,0,37.2802734375,{"$f":"FOURIER!M1529","v":0},{"$f":"FOURIER!N1529","v":0},null,null,234.23886631013741,null,null,null,null,0,0,null,null,null,null,null,null,0,0,null,null,null,null,null,null,null,null,null,null,null,null,null,30.54,-3.7130000000000001,0,{"$error":"#DIV/0!"},{"$error":"#DIV/0!"}]
[null,null,null,null,null,1528,30.560000000000002,0,37.3046875,{"$f":"FOURIER!M1530","v":0},{"$f":"FOURIER!N1530","v":0},null,null,234.39226438892598,null,null,null,null,0,0,null,null,null,null,null,null,0,0,null,null,null,null,null,null,null,null,null,null,null,null,null,30.560000000000002,-3.6080000000000001,0,{"$error":"#DIV/0!"},{"$error":"#DIV/0!"}]
[null,null,null,null,null,1529,30.580000000000002,0,37.3291015625,{"$f":"FOURIER!M1531","v":0},{"$f":"FOURIER!N1531","v":0},null,null,234.54566246771455,null,null,null,null,0,0,null,null,null,null,null,null,0,0,null,null,null,null,null,null,null,null,null,null,null,null,null,30.580000000000002,-3.496,0,{"$error":"#DIV/0!"},{"$error":"#DIV/0!"}]
[null,null,null,null,null,1530,30.6,0,37.353515625,{"$f":"FOURIER!M1532","v":0},{"$f":"FOURIER!N1532","v":0},null,null,234.69906054650312,null,null,null,null,0,0,null,null,null,null,null,null,0,0,null,null,null,null,null,null,null,null,null,null,null,null,null,30.6,-3.3769999999999998,0,{"$error":"#DIV/0!"},{"$error":"#DIV/0!"}]
[null,null,null,null,null,1531,30.62,0,37.3779296875,{"$f":"FOURIER!M1533","v":0},{"$f":"FOURIER!N1533","v":0},null,null,234.85245862529166,null,null,null,null,0,0,null,null,null,null,null,null,0,0,null,null,null,null,null,null,null,null,null,null,null,null,null,30.62,-3.2519999999999998,0,{"$error":"#DIV/0!"},{"$error":"#DIV/0!"}]
[null,null,null,null,null,1532,30.64,0,37.40234375,{"$f":"FOURIER!M1534","v":0},{"$f":"FOURIER!N1534","v":0},null,null,235.00585670408023,null,null,null,null,0,0,null,null,null,null,null,null,0,0,null,null,null,null,null,null,null,null,null,null,null,null,null,30.64,-3.121,0,{"$error":"#DIV/0!"},{"$error":"#DIV/0!"}]
[null,null,null,null,null,1533,30.66,0,37.4267578125,{"$f":"FOURIER!M1535","v":0},{"$f":"FOURIER!N1535","v":0},null,null,235.1592547828688,null,null,null,null,0,0,null,null,null,null,null,null,0,0,null,null,null,null,null,null,null,null,null,null,null,null,null,30.66,-2.984,0,{"$error":"#DIV/0!"},{"$error":"#DIV/0!"}]
[null,null,null,null,null,1534,30.68,0,37.451171875,{"$f":"FOURIER!M1536","v":0},{"$f":"FOURIER!N1536","v":0},null,null,235.31265286165737,null,null,null,null,0,0,null,null,null,null,null,null,0,0,null,null,null,null,null,null,null,null,null,null,null,null,null,30.68,-2.8420000000000001,0,{"$error":"#DIV/0!"},{"$error":"#DIV/0!"}]
[null,null,null,null,null,1535,30.7,0,37.4755859375,{"$f":"FOURIER!M1537","v":0},{"$f":"FOURIER!N1537","v":0},null,null,235.46605094044594,null,null,null,null,0,0,null,null,null,null,null,null,0,0,null,null,null,null,null,null,null,null,null,null,null,null,null,30.7,-2.6949999999999998,0,{"$error":"#DIV/0!"},{"$error":"#DIV/0!"}]
[null,null,null,null,null,1536,30.72,0,37.5,{"$f":"FOURIER!M1538","v":0},{"$f":"FOURIER!N1538","v":0},null,null,{"$f":"2*PI()/B$9/B$6*F1538","v":235.61944901923448},null,null,null,null,{"$f":"J1538*O1538-K1538*P1538","v":0},{"$f":"J1538*P1538+K1538*O1538","v":0},null,null,null,null,null,null,0,0,null,null,null,null,null,null,null,null,null,null,null,null,null,{"$f":"G1538","v":30.72},-2.5430000000000001,0,{"$error":"#DIV/0!"},{"$error":"#DIV/0!"}]
[null,null,null,null,null,1537,{"$f":"B$6*F1539","v":30.740000000000002},0,{"$f":"F1539/B$9/B$6","v":37.5244140625},{"$f":"FOURIER!M1539","v":0},{"$f":"FOURIER!N1539","v":0},null,null,235.77284709802305,null,null,null,null,0,0,null,null,null,null,null,null,{"$f":"(Y1539-Y1538)/B$6","v":0},{"$f":"(AA1539-AA1538)/B$6+H1539","v":0},null,null,null,null,null,null,null,null,null,null,null,null,null,30.740000000000002,-2.387,0,{"$f":"(AQ1539-AQ1538)/O$6","v":{"$error":"#DIV/0!"}},{"$f":"(AS1539-AS1538)/O$6+S1539","v":{"$error":"#DIV/0!"}}]
[null,null,null,null,null,1538,30.76,0,37.548828125,{"$f":"FOURIER!M1540","v":0},{"$f":"FOURIER!N1540","v":0},null,null,235.92624517681162,null,null,null,null,0,0,null,null,null,null,null,null,0,0,null,null,null,null,null,null,null,null,null,null,null,null,null,30.76,-2.226,0,{"$error":"#DIV/0!"},{"$error":"#DIV/0!"}]
[null,null,null,null,null,1539,30.78,0,37.5732421875,{"$f":"FOURIER!M1541","v":0},{"$f":"FOURIER!N1541","v":0},null,null,236.07964325560019,null,null,null,null,0,0,null,null,null,null,null,null,0,0,null,null,null,null,null,null,null,null,null,null,null,null,null,30.78,-2.0619999999999998,0,{"$error":"#DIV/0!"},{"$error":"#DIV/0!"}]
[null,null,null,null,null,1540,30.8,0,37.59765625,{"$f":"FOURIER!M1542","v":0},{"$f":"FOURIER!N1542","v":0},null,null,236.23304133438876,null,null,null,null,0,0,null,null,null,null,null,null,0,0,null,null,null,null,null,null,null,null,null,null,null,null,null,30.8,-1.8939999999999999,0,{"$error":"#DIV/0!"},{"$error":"#DIV/0!"}]
[null,null,null,null,null,1541,30.82,0,37.6220703125,{"$f":"FOURIER!M1543","v":0},{"$f":"FOURIER!N1543","v":0},null,null,236.38643941317733,null,null,null,null,0,0,null,null,null,null,null,null,0,0,null,null,null,null,null,null,null,null,null,null,null,null,null,30.82,-1.7230000000000001,0,{"$error":"#DIV/0!"},{"$error":"#DIV/0!"}]
[null,null,null,null,null,1542,30.84,0,37.646484375,{"$f":"FOURIER!M1544","v":0},{"$f":"FOURIER!N1544","v":0},null,null,236.53983749196587,null,null,null,null,0,0,null,null,null,null,null,null,0,0,null,null,null,null,null,null,null,null,null,null,null,null,null,30.84,-1.55,0,{"$error":"#DIV/0!"},{"$error":"#DIV/0!"}]
[null,null,null,null,null,1543,30.86,0,37.6708984375,{"$f":"FOURIER!M1545","v":0},{"$f":"FOURIER!N1545","v":0},null,null,236.69323557075444,null,null,null,null,0,0,null,null,null,null,null,null,0,0,null,null,null,null,null,null,null,null,null,null,null,null,null,30.86,-1.373,0,{"$error":"#DIV/0!"},{"$error":"#DIV/0!"}]
[null,null,null,null,null,1544,30.88,0,37.6953125,{"$f":"FOURIER!M1546","v":0},{"$f":"FOURIER!N1546","v":0},null,null,236.84663364954301,null,null,null,null,0,0,null,null,null,null,null,null,0,0,null,null,null,null,null,null,null,null,null,null,null,null,null,30.88,-1.1950000000000001,0,{"$error":"#DIV/0!"},{"$error":"#DIV/0!"}]
[null,null,null,null,null,1545,30.900000000000002,0,37.7197265625,{"$f":"FOURIER!M1547","v":0},{"$f":"FOURIER!N1547","v":0},null,null,237.00003172833158,null,null,null,null,0,0,null,null,null,null,null,null,0,0,null,null,null,null,null,null,null,null,null,null,null,null,null,30.900000000000002,-1.016,0,{"$error":"#DIV/0!"},{"$error":"#DIV/0!"}]
[null,null,null,null,null,1546,30.92,0,37.744140625,{"$f":"FOURIER!M1548","v":0},{"$f":"FOURIER!N1548","v":0},null,null,237.15342980712015,null,null,null,null,0,0,null,null,null,null,null,null,0,0,null,null,null,null,null,null,null,null,null,null,null,null,null,30.92,-0.83399999999999996,0,{"$error":"#DIV/0!"},{"$error":"#DIV/0!"}]
[null,null,null,null,null,1547,30.94,0,37.7685546875,{"$f":"FOURIER!M1549","v":0},{"$f":"FOURIER!N1549","v":0},null,null,237.30682788590869,null,null,null,null,0,0,null,null,null,null,null,null,0,0,null,null,null,null,null,null,null,null,null,null,null,null,null,30.94,-0.65200000000000002,0,{"$error":"#DIV/0!"},{"$error":"#DIV/0!"}]
[null,null,null,null,null,1548,30.96,0,37.79296875,{"$f":"FOURIER!M1550","v":0},{"$f":"FOURIER!N1550","v":0},null,null,237.46022596469726,null,null,null,null,0,0,null,null,null,null,null,null,0,0,null,null,null,null,null,null,null,null,null,null,null,null,null,30.96,-0.47,0,{"$error":"#DIV/0!"},{"$error":"#DIV/0!"}]
[null,null,null,null,null,1549,30.98,0,37.8173828125,{"$f":"FOURIER!M1551","v":0},{"$f":"FOURIER!N1551","v":0},null,null,237.61362404348583,null,null,null,null,0,0,null,null,null,null,null,null,0,0,null,null,null,null,null,null,null,null,null,null,null,null,null,30.98,-0.28699999999999998,0,{"$error":"#DIV/0!"},{"$error":"#DIV/0!"}]
[null,null,null,null,null,1550,31,0,37.841796875,{"$f":"FOURIER!M1552","v":0},{"$f":"FOURIER!N1552","v":0},null,null,237.7670221222744,null,null,null,null,0,0,null,null,null,null,null,null,0,0,null,null,null,null,null,null,null,null,null,null,null,null,null,31,-0.104,0,{"$error":"#DIV/0!"},{"$error":"#DIV/0!"}]
[null,null,null,null,null,1551,31.02,0,37.8662109375,{"$f":"FOURIER!M1553","v":0},{"$f":"FOURIER!N1553","v":0},null,null,237.92042020106297,null,null,null,null,0,0,null,null,null,null,null,null,0,0,null,null,null,null,null,null,null,null,null,null,null,null,null,31.02,7.8E-2,0,{"$error":"#DIV/0!"},{"$error":"#DIV/0!"}]
[null,null,null,null,null,1552,31.04,0,37.890625,{"$f":"FOURIER!M1554","v":0},{"$f":"FOURIER!N1554","v":0},null,null,238.07381827985151,null,null,null,null,0,0,null,null,null,null,null,null,0,0,null,null,null,null,null,null,null,null,null,null,null,null,null,31.04,0.25900000000000001,0,{"$error":"#DIV/0!"},{"$error":"#DIV/0!"}]
[null,null,null,null,null,1553,31.060000000000002,0,37.9150390625,{"$f":"FOURIER!M1555","v":0},{"$f":"FOURIER!N1555","v":0},null,null,238.22721635864008,null,null,null,null,0,0,null,null,null,null,null,null,0,0,null,null,null,null,null,null,null,null,null,null,null,null,null,31.060000000000002,0.439,0,{"$error":"#DIV/0!"},{"$error":"#DIV/0!"}]
[null,null,null,null,null,1554,31.080000000000002,0,37.939453125,{"$f":"FOURIER!M1556","v":0},{"$f":"FOURIER!N1556","v":0},null,null,238.38061443742865,null,null,null,null,0,0,null,null,null,null,null,null,0,0,null,null,null,null,null,null,null,null,null,null,null,null,null,31.080000000000002,0.61799999999999999,0,{"$error":"#DIV/0!"},{"$error":"#DIV/0!"}]
[null,null,null,null,null,1555,31.1,0,37.9638671875,{"$f":"FOURIER!M1557","v":0},{"$f":"FOURIER!N1557","v":0},null,null,238.53401251621722,null,null,null,null,0,0,null,null,null,null,null,null,0,0,null,null,null,null,null,null,null,null,null,null,null,null,null,31.1,0.79400000000000004,0,{"$error":"#DIV/0!"},{"$error":"#DIV/0!"}]
[null,null,null,null,null,1556,31.12,0,37.98828125,{"$f":"FOURIER!M1558","v":0},{"$f":"FOURIER!N1558","v":0},null,null,238.68741059500579,null,null,null,null,0,0,null,null,null,null,null,null,0,0,null,null,null,null,null,null,null,null,null,null,null,null,null,31.12,0.96899999999999997,0,{"$error":"#DIV/0!"},{"$error":"#DIV/0!"}]
[null,null,null,null,null,1557,31.14,0,38.0126953125,{"$f":"FOURIER!M1559","v":0},{"$f":"FOURIER!N1559","v":0},null,null,238.84080867379433,null,null,null,null,0,0,null,null,null,null,null,null,0,0,null,null,null,null,null,null,null,null,null,null,null,null,null,31.14,1.1399999999999999,0,{"$error":"#DIV/0!"},{"$error":"#DIV/0!"}]
[null,null,null,null,null,1558,31.16,0,38.037109375,{"$f":"FOURIER!M1560","v":0},{"$f":"FOURIER!N1560","v":0},null,null,238.9942067525829,null,null,null,null,0,0,null,null,null,null,null,null,0,0,null,null,null,null,null,null,null,null,null,null,null,null,null,31.16,1.3089999999999999,0,{"$error":"#DIV/0!"},{"$error":"#DIV/0!"}]
[null,null,null,null,null,1559,31.18,0,38.0615234375,{"$f":"FOURIER!M1561","v":0},{"$f":"FOURIER!N1561","v":0},null,null,239.14760483137147,null,null,null,null,0,0,null,null,null,null,null,null,0,0,null,null,null,null,null,null,null,null,null,null,null,null,null,31.18,1.474,0,{"$error":"#DIV/0!"},{"$error":"#DIV/0!"}]
[null,null,null,null,null,1560,31.2,0,38.0859375,{"$f":"FOURIER!M1562","v":0},{"$f":"FOURIER!N1562","v":0},null,null,239.30100291016004,null,null,null,null,0,0,null,null,null,null,null,null,0,0,null,null,null,null,null,null,null,null,null,null,null,null,null,31.2,1.6359999999999999,0,{"$error":"#DIV/0!"},{"$error":"#DIV/0!"}]
[null,null,null,null,null,1561,31.220000000000002,0,38.1103515625,{"$f":"FOURIER!M1563","v":0},{"$f":"FOURIER!N1563","v":0},null,null,239.45440098894861,null,null,null,null,0,0,null,null,null,null,null,null,0,0,null,null,null,null,null,null,null,null,null,null,null,null,null,31.220000000000002,1.794,0,{"$error":"#DIV/0!"},{"$error":"#DIV/0!"}]
[null,null,null,null,null,1562,31.240000000000002,0,38.134765625,{"$f":"FOURIER!M1564","v":0},{"$f":"FOURIER!N1564","v":0},null,null,239.60779906773715,null,null,null,null,0,0,null,null,null,null,null,null,0,0,null,null,null,null,null,null,null,null,null,null,null,null,null,31.240000000000002,1.9470000000000001,0,{"$error":"#DIV/0!"},{"$error":"#DIV/0!"}]
[null,null,null,null,null,1563,31.26,0,38.1591796875,{"$f":"FOURIER!M1565","v":0},{"$f":"FOURIER!N1565","v":0},null,null,239.76119714652572,null,null,null,null,0,0,null,null,null,null,null,null,0,0,null,null,null,null,null,null,null,null,null,null,null,null,null,31.26,2.0960000000000001,0,{"$error":"#DIV/0!"},{"$error":"#DIV/0!"}]
[null,null,null,null,null,1564,31.28,0,38.18359375,{"$f":"FOURIER!M1566","v":0},{"$f":"FOURIER!N1566","v":0},null,null,239.91459522531429,null,null,null,null,0,0,null,null,null,null,null,null,0,0,null,null,null,null,null,null,null,null,null,null,null,null,null,31.28,2.2410000000000001,0,{"$error":"#DIV/0!"},{"$error":"#DIV/0!"}]
[null,null,null,null,null,1565,31.3,0,38.2080078125,{"$f":"FOURIER!M1567","v":0},{"$f":"FOURIER!N1567","v":0},null,null,240.06799330410286,null,null,null,null,0,0,null,null,null,null,null,null,0,0,null,null,null,null,null,null,null,null,null,null,null,null,null,31.3,2.38,0,{"$error":"#DIV/0!"},{"$error":"#DIV/0!"}]
[null,null,null,null,null,1566,31.32,0,38.232421875,{"$f":"FOURIER!M1568","v":0},{"$f":"FOURIER!N1568","v":0},null,null,240.22139138289143,null,null,null,null,0,0,null,null,null,null,null,null,0,0,null,null,null,null,null,null,null,null,null,null,null,null,null,31.32,2.5139999999999998,0,{"$error":"#DIV/0!"},{"$error":"#DIV/0!"}]
[null,null,null,null,null,1567,31.34,0,38.2568359375,{"$f":"FOURIER!M1569","v":0},{"$f":"FOURIER!N1569","v":0},null,null,240.37478946168,null,null,null,null,0,0,null,null,null,null,null,null,0,0,null,null,null,null,null,null,null,null,null,null,null,null,null,31.34,2.6419999999999999,0,{"$error":"#DIV/0!"},{"$error":"#DIV/0!"}]
[null,null,null,null,null,1568,31.36,0,38.28125,{"$f":"FOURIER!M1570","v":0},{"$f":"FOURIER!N1570","v":0},null,null,240.52818754046854,null,null,null,null,0,0,null,null,null,null,null,null,0,0,null,null,null,null,null,null,null,null,null,null,null,null,null,31.36,2.7650000000000001,0,{"$error":"#DIV/0!"},{"$error":"#DIV/0!"}]
[null,null,null,null,null,1569,31.38,0,38.3056640625,{"$f":"FOURIER!M1571","v":0},{"$f":"FOURIER!N1571","v":0},null,null,240.68158561925711,null,null,null,null,0,0,null,null,null,null,null,null,0,0,null,null,null,null,null,null,null,null,null,null,null,null,null,31.38,2.8809999999999998,0,{"$error":"#DIV/0!"},{"$error":"#DIV/0!"}]
[null,null,null,null,null,1570,31.400000000000002,0,38.330078125,{"$f":"FOURIER!M1572","v":0},{"$f":"FOURIER!N1572","v":0},null,null,240.83498369804568,null,null,null,null,0,0,null,null,null,null,null,null,0,0,null,null,null,null,null,null,null,null,null,null,null,null,null,31.400000000000002,2.992,0,{"$error":"#DIV/0!"},{"$error":"#DIV/0!"}]
[null,null,null,null,null,1571,31.42,0,38.3544921875,{"$f":"FOURIER!M1573","v":0},{"$f":"FOURIER!N1573","v":0},null,null,240.98838177683425,null,null,null,null,0,0,null,null,null,null,null,null,0,0,null,null,null,null,null,null,null,null,null,null,null,null,null,31.42,3.0960000000000001,0,{"$error":"#DIV/0!"},{"$error":"#DIV/0!"}]
[null,null,null,null,null,1572,31.44,0,38.37890625,{"$f":"FOURIER!M1574","v":0},{"$f":"FOURIER!N1574","v":0},null,null,241.14177985562281,null,null,null,null,0,0,null,null,null,null,null,null,0,0,null,null,null,null,null,null,null,null,null,null,null,null,null,31.44,3.1930000000000001,0,{"$error":"#DIV/0!"},{"$error":"#DIV/0!"}]
[null,null,null,null,null,1573,31.46,0,38.4033203125,{"$f":"FOURIER!M1575","v":0},{"$f":"FOURIER!N1575","v":0},null,null,241.29517793441136,null,null,null,null,0,0,null,null,null,null,null,null,0,0,null,null,null,null,null,null,null,null,null,null,null,null,null,31.46,3.2839999999999998,0,{"$error":"#DIV/0!"},{"$error":"#DIV/0!"}]
[null,null,null,null,null,1574,31.48,0,38.427734375,{"$f":"FOURIER!M1576","v":0},{"$f":"FOURIER!N1576","v":0},null,null,241.44857601319993,null,null,null,null,0,0,null,null,null,null,null,null,0,0,null,null,null,null,null,null,null,null,null,null,null,null,null,31.48,3.367,0,{"$error":"#DIV/0!"},{"$error":"#DIV/0!"}]
[null,null,null,null,null,1575,31.5,0,38.4521484375,{"$f":"FOURIER!M1577","v":0},{"$f":"FOURIER!N1577","v":0},null,null,241.6019740919885,null,null,null,null,0,0,null,null,null,null,null,null,0,0,null,null,null,null,null,null,null,null,null,null,null,null,null,31.5,3.444,0,{"$error":"#DIV/0!"},{"$error":"#DIV/0!"}]
[null,null,null,null,null,1576,31.52,0,38.4765625,{"$f":"FOURIER!M1578","v":0},{"$f":"FOURIER!N1578","v":0},null,null,241.75537217077706,null,null,null,null,0,0,null,null,null,null,null,null,0,0,null,null,null,null,null,null,null,null,null,null,null,null,null,31.52,3.5129999999999999,0,{"$error":"#DIV/0!"},{"$error":"#DIV/0!"}]
[null,null,null,null,null,1577,31.54,0,38.5009765625,{"$f":"FOURIER!M1579","v":0},{"$f":"FOURIER!N1579","v":0},null,null,241.90877024956563,null,null,null,null,0,0,null,null,null,null,null,null,0,0,null,null,null,null,null,null,null,null,null,null,null,null,null,31.54,3.5760000000000001,0,{"$error":"#DIV/0!"},{"$error":"#DIV/0!"}]
[null,null,null,null,null,1578,31.560000000000002,0,38.525390625,{"$f":"FOURIER!M1580","v":0},{"$f":"FOURIER!N1580","v":0},null,null,242.06216832835418,null,null,null,null,0,0,null,null,null,null,null,null,0,0,null,null,null,null,null,null,null,null,null,null,null,null,null,31.560000000000002,3.63,0,{"$error":"#DIV/0!"},{"$error":"#DIV/0!"}]
[null,null,null,null,null,1579,31.580000000000002,0,38.5498046875,{"$f":"FOURIER!M1581","v":0},{"$f":"FOURIER!N1581","v":0},null,null,242.21556640714275,null,null,null,null,0,0,null,null,null,null,null,null,0,0,null,null,null,null,null,null,null,null,null,null,null,null,null,31.580000000000002,3.677,0,{"$error":"#DIV/0!"},{"$error":"#DIV/0!"}]
[null,null,null,null,null,1580,31.6,0,38.57421875,{"$f":"FOURIER!M1582","v":0},{"$f":"FOURIER!N1582","v":0},null,null,242.36896448593131,null,null,null,null,0,0,null,null,null,null,null,null,0,0,null,null,null,null,null,null,null,null,null,null,null,null,null,31.6,3.7170000000000001,0,{"$error":"#DIV/0!"},{"$error":"#DIV/0!"}]
[null,null,null,null,null,1581,31.62,0,38.5986328125,{"$f":"FOURIER!M1583","v":0},{"$f":"FOURIER!N1583","v":0},null,null,242.52236256471988,null,null,null,null,0,0,null,null,null,null,null,null,0,0,null,null,null,null,null,null,null,null,null,null,null,null,null,31.62,3.7490000000000001,0,{"$error":"#DIV/0!"},{"$error":"#DIV/0!"}]
[null,null,null,null,null,1582,31.64,0,38.623046875,{"$f":"FOURIER!M1584","v":0},{"$f":"FOURIER!N1584","v":0},null,null,242.67576064350845,null,null,null,null,0,0,null,null,null,null,null,null,0,0,null,null,null,null,null,null,null,null,null,null,null,null,null,31.64,3.774,0,{"$error":"#DIV/0!"},{"$error":"#DIV/0!"}]
[null,null,null,null,null,1583,31.66,0,38.6474609375,{"$f":"FOURIER!M1585","v":0},{"$f":"FOURIER!N1585","v":0},null,null,242.829158722297,null,null,null,null,0,0,null,null,null,null,null,null,0,0,null,null,null,null,null,null,null,null,null,null,null,null,null,31.66,3.7909999999999999,0,{"$error":"#DIV/0!"},{"$error":"#DIV/0!"}]
[null,null,null,null,null,1584,31.68,0,38.671875,{"$f":"FOURIER!M1586","v":0},{"$f":"FOURIER!N1586","v":0},null,null,242.98255680108556,null,null,null,null,0,0,null,null,null,null,null,null,0,0,null,null,null,null,null,null,null,null,null,null,null,null,null,31.68,3.8,0,{"$error":"#DIV/0!"},{"$error":"#DIV/0!"}]
[null,null,null,null,null,1585,31.7,0,38.6962890625,{"$f":"FOURIER!M1587","v":0},{"$f":"FOURIER!N1587","v":0},null,null,243.13595487987413,null,null,null,null,0,0,null,null,null,null,null,null,0,0,null,null,null,null,null,null,null,null,null,null,null,null,null,31.7,3.802,0,{"$error":"#DIV/0!"},{"$error":"#DIV/0!"}]
[null,null,null,null,null,1586,31.720000000000002,0,38.720703125,{"$f":"FOURIER!M1588","v":0},{"$f":"FOURIER!N1588","v":0},null,null,243.2893529586627,null,null,null,null,0,0,null,null,null,null,null,null,0,0,null,null,null,null,null,null,null,null,null,null,null,null,null,31.720000000000002,3.7959999999999998,0,{"$error":"#DIV/0!"},{"$error":"#DIV/0!"}]
[null,null,null,null,null,1587,31.740000000000002,0,38.7451171875,{"$f":"FOURIER!M1589","v":0},{"$f":"FOURIER!N1589","v":0},null,null,243.44275103745127,null,null,null,null,0,0,null,null,null,null,null,null,0,0,null,null,null,null,null,null,null,null,null,null,null,null,null,31.740000000000002,3.782,0,{"$error":"#DIV/0!"},{"$error":"#DIV/0!"}]
[null,null,null,null,null,1588,31.76,0,38.76953125,{"$f":"FOURIER!M1590","v":0},{"$f":"FOURIER!N1590","v":0},null,null,243.59614911623981,null,null,null,null,0,0,null,null,null,null,null,null,0,0,null,null,null,null,null,null,null,null,null,null,null,null,null,31.76,3.7610000000000001,0,{"$error":"#DIV/0!"},{"$error":"#DIV/0!"}]
[null,null,null,null,null,1589,31.78,0,38.7939453125,{"$f":"FOURIER!M1591","v":0},{"$f":"FOURIER!N1591","v":0},null,null,243.74954719502838,null,null,null,null,0,0,null,null,null,null,null,null,0,0,null,null,null,null,null,null,null,null,null,null,null,null,null,31.78,3.7330000000000001,0,{"$error":"#DIV/0!"},{"$error":"#DIV/0!"}]
[null,null,null,null,null,1590,31.8,0,38.818359375,{"$f":"FOURIER!M1592","v":0},{"$f":"FOURIER!N1592","v":0},null,null,243.90294527381695,null,null,null,null,0,0,null,null,null,null,null,null,0,0,null,null,null,null,null,null,null,null,null,null,null,null,null,31.8,3.6970000000000001,0,{"$error":"#DIV/0!"},{"$error":"#DIV/0!"}]
[null,null,null,null,null,1591,31.82,0,38.8427734375,{"$f":"FOURIER!M1593","v":0},{"$f":"FOURIER!N1593","v":0},null,null,244.05634335260552,null,null,null,null,0,0,null,null,null,null,null,null,0,0,null,null,null,null,null,null,null,null,null,null,null,null,null,31.82,3.6539999999999999,0,{"$error":"#DIV/0!"},{"$error":"#DIV/0!"}]
[null,null,null,null,null,1592,31.84,0,38.8671875,{"$f":"FOURIER!M1594","v":0},{"$f":"FOURIER!N1594","v":0},null,null,244.20974143139409,null,null,null,null,0,0,null,null,null,null,null,null,0,0,null,null,null,null,null,null,null,null,null,null,null,null,null,31.84,3.6030000000000002,0,{"$error":"#DIV/0!"},{"$error":"#DIV/0!"}]
[null,null,null,null,null,1593,31.86,0,38.8916015625,{"$f":"FOURIER!M1595","v":0},{"$f":"FOURIER!N1595","v":0},null,null,244.36313951018266,null,null,null,null,0,0,null,null,null,null,null,null,0,0,null,null,null,null,null,null,null,null,null,null,null,null,null,31.86,3.5459999999999998,0,{"$error":"#DIV/0!"},{"$error":"#DIV/0!"}]
[null,null,null,null,null,1594,31.88,0,38.916015625,{"$f":"FOURIER!M1596","v":0},{"$f":"FOURIER!N1596","v":0},null,null,244.5165375889712,null,null,null,null,0,0,null,null,null,null,null,null,0,0,null,null,null,null,null,null,null,null,null,null,null,null,null,31.88,3.4820000000000002,0,{"$error":"#DIV/0!"},{"$error":"#DIV/0!"}]
[null,null,null,null,null,1595,31.900000000000002,0,38.9404296875,{"$f":"FOURIER!M1597","v":0},{"$f":"FOURIER!N1597","v":0},null,null,244.66993566775977,null,null,null,null,0,0,null,null,null,null,null,null,0,0,null,null,null,null,null,null,null,null,null,null,null,null,null,31.900000000000002,3.4119999999999999,0,{"$error":"#DIV/0!"},{"$error":"#DIV/0!"}]
[null,null,null,null,null,1596,31.92,0,38.96484375,{"$f":"FOURIER!M1598","v":0},{"$f":"FOURIER!N1598","v":0},null,null,244.82333374654834,null,null,null,null,0,0,null,null,null,null,null,null,0,0,null,null,null,null,null,null,null,null,null,null,null,null,null,31.92,3.3340000000000001,0,{"$error":"#DIV/0!"},{"$error":"#DIV/0!"}]
[null,null,null,null,null,1597,31.94,0,38.9892578125,{"$f":"FOURIER!M1599","v":0},{"$f":"FOURIER!N1599","v":0},null,null,244.97673182533691,null,null,null,null,0,0,null,null,null,null,null,null,0,0,null,null,null,null,null,null,null,null,null,null,null,null,null,31.94,3.2509999999999999,0,{"$error":"#DIV/0!"},{"$error":"#DIV/0!"}]
[null,null,null,null,null,1598,31.96,0,39.013671875,{"$f":"FOURIER!M1600","v":0},{"$f":"FOURIER!N1600","v":0},null,null,245.13012990412548,null,null,null,null,0,0,null,null,null,null,null,null,0,0,null,null,null,null,null,null,null,null,null,null,null,null,null,31.96,3.161,0,{"$error":"#DIV/0!"},{"$error":"#DIV/0!"}]
[null,null,null,null,null,1599,31.98,0,39.0380859375,{"$f":"FOURIER!M1601","v":0},{"$f":"FOURIER!N1601","v":0},null,null,245.28352798291402,null,null,null,null,0,0,null,null,null,null,null,null,0,0,null,null,null,null,null,null,null,null,null,null,null,null,null,31.98,3.0649999999999999,0,{"$error":"#DIV/0!"},{"$error":"#DIV/0!"}]
[null,null,null,null,null,1600,32,0,39.0625,{"$f":"FOURIER!M1602","v":0},{"$f":"FOURIER!N1602","v":0},null,null,{"$f":"2*PI()/B$9/B$6*F1602","v":245.43692606170259},null,null,null,null,{"$f":"J1602*O1602-K1602*P1602","v":0},{"$f":"J1602*P1602+K1602*O1602","v":0},null,null,null,null,null,null,0,0,null,null,null,null,null,null,null,null,null,null,null,null,null,{"$f":"G1602","v":32},2.964,0,{"$error":"#DIV/0!"},{"$error":"#DIV/0!"}]
[null,null,null,null,null,1601,{"$f":"B$6*F1603","v":32.020000000000003},0,{"$f":"F1603/B$9/B$6","v":39.0869140625},{"$f":"FOURIER!M1603","v":0},{"$f":"FOURIER!N1603","v":0},null,null,245.59032414049116,null,null,null,null,0,0,null,null,null,null,null,null,{"$f":"(Y1603-Y1602)/B$6","v":0},{"$f":"(AA1603-AA1602)/B$6+H1603","v":0},null,null,null,null,null,null,null,null,null,null,null,null,null,32.020000000000003,2.8570000000000002,0,{"$f":"(AQ1603-AQ1602)/O$6","v":{"$error":"#DIV/0!"}},{"$f":"(AS1603-AS1602)/O$6+S1603","v":{"$error":"#DIV/0!"}}]
[null,null,null,null,null,1602,32.04,0,39.111328125,{"$f":"FOURIER!M1604","v":0},{"$f":"FOURIER!N1604","v":0},null,null,245.74372221927973,null,null,null,null,0,0,null,null,null,null,null,null,0,0,null,null,null,null,null,null,null,null,null,null,null,null,null,32.04,2.7440000000000002,0,{"$error":"#DIV/0!"},{"$error":"#DIV/0!"}]
[null,null,null,null,null,1603,32.06,0,39.1357421875,{"$f":"FOURIER!M1605","v":0},{"$f":"FOURIER!N1605","v":0},null,null,245.8971202980683,null,null,null,null,0,0,null,null,null,null,null,null,0,0,null,null,null,null,null,null,null,null,null,null,null,null,null,32.06,2.6269999999999998,0,{"$error":"#DIV/0!"},{"$error":"#DIV/0!"}]
[null,null,null,null,null,1604,32.08,0,39.16015625,{"$f":"FOURIER!M1606","v":0},{"$f":"FOURIER!N1606","v":0},null,null,246.05051837685684,null,null,null,null,0,0,null,null,null,null,null,null,0,0,null,null,null,null,null,null,null,null,null,null,null,null,null,32.08,2.5049999999999999,0,{"$error":"#DIV/0!"},{"$error":"#DIV/0!"}]
[null,null,null,null,null,1605,32.1,0,39.1845703125,{"$f":"FOURIER!M1607","v":0},{"$f":"FOURIER!N1607","v":0},null,null,246.20391645564541,null,null,null,null,0,0,null,null,null,null,null,null,0,0,null,null,null,null,null,null,null,null,null,null,null,null,null,32.1,2.3780000000000001,0,{"$error":"#DIV/0!"},{"$error":"#DIV/0!"}]
[null,null,null,null,null,1606,32.119999999999997,0,39.208984375,{"$f":"FOURIER!M1608","v":0},{"$f":"FOURIER!N1608","v":0},null,null,246.35731453443398,null,null,null,null,0,0,null,null,null,null,null,null,0,0,null,null,null,null,null,null,null,null,null,null,null,null,null,32.119999999999997,2.2469999999999999,0,{"$error":"#DIV/0!"},{"$error":"#DIV/0!"}]
[null,null,null,null,null,1607,32.14,0,39.2333984375,{"$f":"FOURIER!M1609","v":0},{"$f":"FOURIER!N1609","v":0},null,null,246.51071261322255,null,null,null,null,0,0,null,null,null,null,null,null,0,0,null,null,null,null,null,null,null,null,null,null,null,null,null,32.14,2.113,0,{"$error":"#DIV/0!"},{"$error":"#DIV/0!"}]
[null,null,null,null,null,1608,32.160000000000004,0,39.2578125,{"$f":"FOURIER!M1610","v":0},{"$f":"FOURIER!N1610","v":0},null,null,246.66411069201112,null,null,null,null,0,0,null,null,null,null,null,null,0,0,null,null,null,null,null,null,null,null,null,null,null,null,null,32.160000000000004,1.974,0,{"$error":"#DIV/0!"},{"$error":"#DIV/0!"}]
[null,null,null,null,null,1609,32.18,0,39.2822265625,{"$f":"FOURIER!M1611","v":0},{"$f":"FOURIER!N1611","v":0},null,null,246.81750877079966,null,null,null,null,0,0,null,null,null,null,null,null,0,0,null,null,null,null,null,null,null,null,null,null,null,null,null,32.18,1.8320000000000001,0,{"$error":"#DIV/0!"},{"$error":"#DIV/0!"}]
[null,null,null,null,null,1610,32.200000000000003,0,39.306640625,{"$f":"FOURIER!M1612","v":0},{"$f":"FOURIER!N1612","v":0},null,null,246.97090684958823,null,null,null,null,0,0,null,null,null,null,null,null,0,0,null,null,null,null,null,null,null,null,null,null,null,null,null,32.200000000000003,1.6870000000000001,0,{"$error":"#DIV/0!"},{"$error":"#DIV/0!"}]
[null,null,null,null,null,1611,32.22,0,39.3310546875,{"$f":"FOURIER!M1613","v":0},{"$f":"FOURIER!N1613","v":0},null,null,247.1243049283768,null,null,null,null,0,0,null,null,null,null,null,null,0,0,null,null,null,null,null,null,null,null,null,null,null,null,null,32.22,1.5389999999999999,0,{"$error":"#DIV/0!"},{"$error":"#DIV/0!"}]
[null,null,null,null,null,1612,32.24,0,39.35546875,{"$f":"FOURIER!M1614","v":0},{"$f":"FOURIER!N1614","v":0},null,null,247.27770300716537,null,null,null,null,0,0,null,null,null,null,null,null,0,0,null,null,null,null,null,null,null,null,null,null,null,null,null,32.24,1.389,0,{"$error":"#DIV/0!"},{"$error":"#DIV/0!"}]
[null,null,null,null,null,1613,32.26,0,39.3798828125,{"$f":"FOURIER!M1615","v":0},{"$f":"FOURIER!N1615","v":0},null,null,247.43110108595394,null,null,null,null,0,0,null,null,null,null,null,null,0,0,null,null,null,null,null,null,null,null,null,null,null,null,null,32.26,1.2370000000000001,0,{"$error":"#DIV/0!"},{"$error":"#DIV/0!"}]
[null,null,null,null,null,1614,32.28,0,39.404296875,{"$f":"FOURIER!M1616","v":0},{"$f":"FOURIER!N1616","v":0},null,null,247.58449916474248,null,null,null,null,0,0,null,null,null,null,null,null,0,0,null,null,null,null,null,null,null,null,null,null,null,null,null,32.28,1.0820000000000001,0,{"$error":"#DIV/0!"},{"$error":"#DIV/0!"}]
[null,null,null,null,null,1615,32.299999999999997,0,39.4287109375,{"$f":"FOURIER!M1617","v":0},{"$f":"FOURIER!N1617","v":0},null,null,247.73789724353105,null,null,null,null,0,0,null,null,null,null,null,null,0,0,null,null,null,null,null,null,null,null,null,null,null,null,null,32.299999999999997,0.92700000000000005,0,{"$error":"#DIV/0!"},{"$error":"#DIV/0!"}]
[null,null,null,null,null,1616,32.32,0,39.453125,{"$f":"FOURIER!M1618","v":0},{"$f":"FOURIER!N1618","v":0},null,null,247.89129532231962,null,null,null,null,0,0,null,null,null,null,null,null,0,0,null,null,null,null,null,null,null,null,null,null,null,null,null,32.32,0.77,0,{"$error":"#DIV/0!"},{"$error":"#DIV/0!"}]
[null,null,null,null,null,1617,32.340000000000003,0,39.4775390625,{"$f":"FOURIER!M1619","v":0},{"$f":"FOURIER!N1619","v":0},null,null,248.04469340110819,null,null,null,null,0,0,null,null,null,null,null,null,0,0,null,null,null,null,null,null,null,null,null,null,null,null,null,32.340000000000003,0.61199999999999999,0,{"$error":"#DIV/0!"},{"$error":"#DIV/0!"}]
[null,null,null,null,null,1618,32.36,0,39.501953125,{"$f":"FOURIER!M1620","v":0},{"$f":"FOURIER!N1620","v":0},null,null,248.19809147989676,null,null,null,null,0,0,null,null,null,null,null,null,0,0,null,null,null,null,null,null,null,null,null,null,null,null,null,32.36,0.45300000000000001,0,{"$error":"#DIV/0!"},{"$error":"#DIV/0!"}]
[null,null,null,null,null,1619,32.380000000000003,0,39.5263671875,{"$f":"FOURIER!M1621","v":0},{"$f":"FOURIER!N1621","v":0},null,null,248.35148955868533,null,null,null,null,0,0,null,null,null,null,null,null,0,0,null,null,null,null,null,null,null,null,null,null,null,null,null,32.380000000000003,0.29399999999999998,0,{"$error":"#DIV/0!"},{"$error":"#DIV/0!"}]
[null,null,null,null,null,1620,32.4,0,39.55078125,{"$f":"FOURIER!M1622","v":0},{"$f":"FOURIER!N1622","v":0},null,null,248.50488763747387,null,null,null,null,0,0,null,null,null,null,null,null,0,0,null,null,null,null,null,null,null,null,null,null,null,null,null,32.4,0.13500000000000001,0,{"$error":"#DIV/0!"},{"$error":"#DIV/0!"}]
[null,null,null,null,null,1621,32.42,0,39.5751953125,{"$f":"FOURIER!M1623","v":0},{"$f":"FOURIER!N1623","v":0},null,null,248.65828571626244,null,null,null,null,0,0,null,null,null,null,null,null,0,0,null,null,null,null,null,null,null,null,null,null,null,null,null,32.42,-2.3E-2,0,{"$error":"#DIV/0!"},{"$error":"#DIV/0!"}]
[null,null,null,null,null,1622,32.44,0,39.599609375,{"$f":"FOURIER!M1624","v":0},{"$f":"FOURIER!N1624","v":0},null,null,248.81168379505101,null,null,null,null,0,0,null,null,null,null,null,null,0,0,null,null,null,null,null,null,null,null,null,null,null,null,null,32.44,-0.18099999999999999,0,{"$error":"#DIV/0!"},{"$error":"#DIV/0!"}]
[null,null,null,null,null,1623,32.46,0,39.6240234375,{"$f":"FOURIER!M1625","v":0},{"$f":"FOURIER!N1625","v":0},null,null,248.96508187383958,null,null,null,null,0,0,null,null,null,null,null,null,0,0,null,null,null,null,null,null,null,null,null,null,null,null,null,32.46,-0.33800000000000002,0,{"$error":"#DIV/0!"},{"$error":"#DIV/0!"}]
[null,null,null,null,null,1624,32.480000000000004,0,39.6484375,{"$f":"FOURIER!M1626","v":0},{"$f":"FOURIER!N1626","v":0},null,null,249.11847995262815,null,null,null,null,0,0,null,null,null,null,null,null,0,0,null,null,null,null,null,null,null,null,null,null,null,null,null,32.480000000000004,-0.49299999999999999,0,{"$error":"#DIV/0!"},{"$error":"#DIV/0!"}]
[null,null,null,null,null,1625,32.5,0,39.6728515625,{"$f":"FOURIER!M1627","v":0},{"$f":"FOURIER!N1627","v":0},null,null,249.27187803141669,null,null,null,null,0,0,null,null,null,null,null,null,0,0,null,null,null,null,null,null,null,null,null,null,null,null,null,32.5,-0.64700000000000002,0,{"$error":"#DIV/0!"},{"$error":"#DIV/0!"}]
[null,null,null,null,null,1626,32.520000000000003,0,39.697265625,{"$f":"FOURIER!M1628","v":0},{"$f":"FOURIER!N1628","v":0},null,null,249.42527611020526,null,null,null,null,0,0,null,null,null,null,null,null,0,0,null,null,null,null,null,null,null,null,null,null,null,null,null,32.520000000000003,-0.79900000000000004,0,{"$error":"#DIV/0!"},{"$error":"#DIV/0!"}]
[null,null,null,null,null,1627,32.54,0,39.7216796875,{"$f":"FOURIER!M1629","v":0},{"$f":"FOURIER!N1629","v":0},null,null,249.57867418899383,null,null,null,null,0,0,null,null,null,null,null,null,0,0,null,null,null,null,null,null,null,null,null,null,null,null,null,32.54,-0.94899999999999995,0,{"$error":"#DIV/0!"},{"$error":"#DIV/0!"}]
[null,null,null,null,null,1628,32.56,0,39.74609375,{"$f":"FOURIER!M1630","v":0},{"$f":"FOURIER!N1630","v":0},null,null,249.7320722677824,null,null,null,null,0,0,null,null,null,null,null,null,0,0,null,null,null,null,null,null,null,null,null,null,null,null,null,32.56,-1.0960000000000001,0,{"$error":"#DIV/0!"},{"$error":"#DIV/0!"}]
[null,null,null,null,null,1629,32.58,0,39.7705078125,{"$f":"FOURIER!M1631","v":0},{"$f":"FOURIER!N1631","v":0},null,null,249.88547034657097,null,null,null,null,0,0,null,null,null,null,null,null,0,0,null,null,null,null,null,null,null,null,null,null,null,null,null,32.58,-1.24,0,{"$error":"#DIV/0!"},{"$error":"#DIV/0!"}]
[null,null,null,null,null,1630,32.6,0,39.794921875,{"$f":"FOURIER!M1632","v":0},{"$f":"FOURIER!N1632","v":0},null,null,250.03886842535951,null,null,null,null,0,0,null,null,null,null,null,null,0,0,null,null,null,null,null,null,null,null,null,null,null,null,null,32.6,-1.3819999999999999,0,{"$error":"#DIV/0!"},{"$error":"#DIV/0!"}]
[null,null,null,null,null,1631,32.619999999999997,0,39.8193359375,{"$f":"FOURIER!M1633","v":0},{"$f":"FOURIER!N1633","v":0},null,null,250.19226650414808,null,null,null,null,0,0,null,null,null,null,null,null,0,0,null,null,null,null,null,null,null,null,null,null,null,null,null,32.619999999999997,-1.52,0,{"$error":"#DIV/0!"},{"$error":"#DIV/0!"}]
[null,null,null,null,null,1632,32.64,0,39.84375,{"$f":"FOURIER!M1634","v":0},{"$f":"FOURIER!N1634","v":0},null,null,250.34566458293665,null,null,null,null,0,0,null,null,null,null,null,null,0,0,null,null,null,null,null,null,null,null,null,null,null,null,null,32.64,-1.6539999999999999,0,{"$error":"#DIV/0!"},{"$error":"#DIV/0!"}]
[null,null,null,null,null,1633,32.660000000000004,0,39.8681640625,{"$f":"FOURIER!M1635","v":0},{"$f":"FOURIER!N1635","v":0},null,null,250.49906266172522,null,null,null,null,0,0,null,null,null,null,null,null,0,0,null,null,null,null,null,null,null,null,null,null,null,null,null,32.660000000000004,-1.7849999999999999,0,{"$error":"#DIV/0!"},{"$error":"#DIV/0!"}]
[null,null,null,null,null,1634,32.68,0,39.892578125,{"$f":"FOURIER!M1636","v":0},{"$f":"FOURIER!N1636","v":0},null,null,250.65246074051379,null,null,null,null,0,0,null,null,null,null,null,null,0,0,null,null,null,null,null,null,null,null,null,null,null,null,null,32.68,-1.9119999999999999,0,{"$error":"#DIV/0!"},{"$error":"#DIV/0!"}]
[null,null,null,null,null,1635,32.700000000000003,0,39.9169921875,{"$f":"FOURIER!M1637","v":0},{"$f":"FOURIER!N1637","v":0},null,null,250.80585881930233,null,null,null,null,0,0,null,null,null,null,null,null,0,0,null,null,null,null,null,null,null,null,null,null,null,null,null,32.700000000000003,-2.0339999999999998,0,{"$error":"#DIV/0!"},{"$error":"#DIV/0!"}]
[null,null,null,null,null,1636,32.72,0,39.94140625,{"$f":"FOURIER!M1638","v":0},{"$f":"FOURIER!N1638","v":0},null,null,250.9592568980909,null,null,null,null,0,0,null,null,null,null,null,null,0,0,null,null,null,null,null,null,null,null,null,null,null,null,null,32.72,-2.1520000000000001,0,{"$error":"#DIV/0!"},{"$error":"#DIV/0!"}]
[null,null,null,null,null,1637,32.74,0,39.9658203125,{"$f":"FOURIER!M1639","v":0},{"$f":"FOURIER!N1639","v":0},null,null,251.11265497687947,null,null,null,null,0,0,null,null,null,null,null,null,0,0,null,null,null,null,null,null,null,null,null,null,null,null,null,32.74,-2.2650000000000001,0,{"$error":"#DIV/0!"},{"$error":"#DIV/0!"}]
[null,null,null,null,null,1638,32.76,0,39.990234375,{"$f":"FOURIER!M1640","v":0},{"$f":"FOURIER!N1640","v":0},null,null,251.26605305566804,null,null,null,null,0,0,null,null,null,null,null,null,0,0,null,null,null,null,null,null,null,null,null,null,null,null,null,32.76,-2.3730000000000002,0,{"$error":"#DIV/0!"},{"$error":"#DIV/0!"}]
[null,null,null,null,null,1639,32.78,0,40.0146484375,{"$f":"FOURIER!M1641","v":0},{"$f":"FOURIER!N1641","v":0},null,null,251.41945113445661,null,null,null,null,0,0,null,null,null,null,null,null,0,0,null,null,null,null,null,null,null,null,null,null,null,null,null,32.78,-2.4750000000000001,0,{"$error":"#DIV/0!"},{"$error":"#DIV/0!"}]
[null,null,null,null,null,1640,32.799999999999997,0,40.0390625,{"$f":"FOURIER!M1642","v":0},{"$f":"FOURIER!N1642","v":0},null,null,251.57284921324515,null,null,null,null,0,0,null,null,null,null,null,null,0,0,null,null,null,null,null,null,null,null,null,null,null,null,null,32.799999999999997,-2.573,0,{"$error":"#DIV/0!"},{"$error":"#DIV/0!"}]
[null,null,null,null,null,1641,32.82,0,40.0634765625,{"$f":"FOURIER!M1643","v":0},{"$f":"FOURIER!N1643","v":0},null,null,251.72624729203372,null,null,null,null,0,0,null,null,null,null,null,null,0,0,null,null,null,null,null,null,null,null,null,null,null,null,null,32.82,-2.665,0,{"$error":"#DIV/0!"},{"$error":"#DIV/0!"}]
[null,null,null,null,null,1642,32.840000000000003,0,40.087890625,{"$f":"FOURIER!M1644","v":0},{"$f":"FOURIER!N1644","v":0},null,null,251.87964537082229,null,null,null,null,0,0,null,null,null,null,null,null,0,0,null,null,null,null,null,null,null,null,null,null,null,null,null,32.840000000000003,-2.7509999999999999,0,{"$error":"#DIV/0!"},{"$error":"#DIV/0!"}]
[null,null,null,null,null,1643,32.86,0,40.1123046875,{"$f":"FOURIER!M1645","v":0},{"$f":"FOURIER!N1645","v":0},null,null,252.03304344961086,null,null,null,null,0,0,null,null,null,null,null,null,0,0,null,null,null,null,null,null,null,null,null,null,null,null,null,32.86,-2.831,0,{"$error":"#DIV/0!"},{"$error":"#DIV/0!"}]
[null,null,null,null,null,1644,32.880000000000003,0,40.13671875,{"$f":"FOURIER!M1646","v":0},{"$f":"FOURIER!N1646","v":0},null,null,252.18644152839943,null,null,null,null,0,0,null,null,null,null,null,null,0,0,null,null,null,null,null,null,null,null,null,null,null,null,null,32.880000000000003,-2.9060000000000001,0,{"$error":"#DIV/0!"},{"$error":"#DIV/0!"}]
[null,null,null,null,null,1645,32.9,0,40.1611328125,{"$f":"FOURIER!M1647","v":0},{"$f":"FOURIER!N1647","v":0},null,null,252.339839607188,null,null,null,null,0,0,null,null,null,null,null,null,0,0,null,null,null,null,null,null,null,null,null,null,null,null,null,32.9,-2.9740000000000002,0,{"$error":"#DIV/0!"},{"$error":"#DIV/0!"}]
[null,null,null,null,null,1646,32.92,0,40.185546875,{"$f":"FOURIER!M1648","v":0},{"$f":"FOURIER!N1648","v":0},null,null,252.49323768597654,null,null,null,null,0,0,null,null,null,null,null,null,0,0,null,null,null,null,null,null,null,null,null,null,null,null,null,32.92,-3.036,0,{"$error":"#DIV/0!"},{"$error":"#DIV/0!"}]
[null,null,null,null,null,1647,32.94,0,40.2099609375,{"$f":"FOURIER!M1649","v":0},{"$f":"FOURIER!N1649","v":0},null,null,252.64663576476511,null,null,null,null,0,0,null,null,null,null,null,null,0,0,null,null,null,null,null,null,null,null,null,null,null,null,null,32.94,-3.0920000000000001,0,{"$error":"#DIV/0!"},{"$error":"#DIV/0!"}]
[null,null,null,null,null,1648,32.96,0,40.234375,{"$f":"FOURIER!M1650","v":0},{"$f":"FOURIER!N1650","v":0},null,null,252.80003384355368,null,null,null,null,0,0,null,null,null,null,null,null,0,0,null,null,null,null,null,null,null,null,null,null,null,null,null,32.96,-3.141,0,{"$error":"#DIV/0!"},{"$error":"#DIV/0!"}]
[null,null,null,null,null,1649,32.980000000000004,0,40.2587890625,{"$f":"FOURIER!M1651","v":0},{"$f":"FOURIER!N1651","v":0},null,null,252.95343192234225,null,null,null,null,0,0,null,null,null,null,null,null,0,0,null,null,null,null,null,null,null,null,null,null,null,null,null,32.980000000000004,-3.1840000000000002,0,{"$error":"#DIV/0!"},{"$error":"#DIV/0!"}]
[null,null,null,null,null,1650,33,0,40.283203125,{"$f":"FOURIER!M1652","v":0},{"$f":"FOURIER!N1652","v":0},null,null,253.10683000113082,null,null,null,null,0,0,null,null,null,null,null,null,0,0,null,null,null,null,null,null,null,null,null,null,null,null,null,33,-3.22,0,{"$error":"#DIV/0!"},{"$error":"#DIV/0!"}]
[null,null,null,null,null,1651,33.020000000000003,0,40.3076171875,{"$f":"FOURIER!M1653","v":0},{"$f":"FOURIER!N1653","v":0},null,null,253.26022807991936,null,null,null,null,0,0,null,null,null,null,null,null,0,0,null,null,null,null,null,null,null,null,null,null,null,null,null,33.020000000000003,-3.25,0,{"$error":"#DIV/0!"},{"$error":"#DIV/0!"}]
[null,null,null,null,null,1652,33.04,0,40.33203125,{"$f":"FOURIER!M1654","v":0},{"$f":"FOURIER!N1654","v":0},null,null,253.41362615870793,null,null,null,null,0,0,null,null,null,null,null,null,0,0,null,null,null,null,null,null,null,null,null,null,null,null,null,33.04,-3.2730000000000001,0,{"$error":"#DIV/0!"},{"$error":"#DIV/0!"}]
[null,null,null,null,null,1653,33.06,0,40.3564453125,{"$f":"FOURIER!M1655","v":0},{"$f":"FOURIER!N1655","v":0},null,null,253.5670242374965,null,null,null,null,0,0,null,null,null,null,null,null,0,0,null,null,null,null,null,null,null,null,null,null,null,null,null,33.06,-3.29,0,{"$error":"#DIV/0!"},{"$error":"#DIV/0!"}]
[null,null,null,null,null,1654,33.08,0,40.380859375,{"$f":"FOURIER!M1656","v":0},{"$f":"FOURIER!N1656","v":0},null,null,253.72042231628507,null,null,null,null,0,0,null,null,null,null,null,null,0,0,null,null,null,null,null,null,null,null,null,null,null,null,null,33.08,-3.3,0,{"$error":"#DIV/0!"},{"$error":"#DIV/0!"}]
[null,null,null,null,null,1655,33.1,0,40.4052734375,{"$f":"FOURIER!M1657","v":0},{"$f":"FOURIER!N1657","v":0},null,null,253.87382039507364,null,null,null,null,0,0,null,null,null,null,null,null,0,0,null,null,null,null,null,null,null,null,null,null,null,null,null,33.1,-3.3029999999999999,0,{"$error":"#DIV/0!"},{"$error":"#DIV/0!"}]
[null,null,null,null,null,1656,33.119999999999997,0,40.4296875,{"$f":"FOURIER!M1658","v":0},{"$f":"FOURIER!N1658","v":0},null,null,254.02721847386218,null,null,null,null,0,0,null,null,null,null,null,null,0,0,null,null,null,null,null,null,null,null,null,null,null,null,null,33.119999999999997,-3.3,0,{"$error":"#DIV/0!"},{"$error":"#DIV/0!"}]
[null,null,null,null,null,1657,33.14,0,40.4541015625,{"$f":"FOURIER!M1659","v":0},{"$f":"FOURIER!N1659","v":0},null,null,254.18061655265075,null,null,null,null,0,0,null,null,null,null,null,null,0,0,null,null,null,null,null,null,null,null,null,null,null,null,null,33.14,-3.29,0,{"$error":"#DIV/0!"},{"$error":"#DIV/0!"}]
[null,null,null,null,null,1658,33.160000000000004,0,40.478515625,{"$f":"FOURIER!M1660","v":0},{"$f":"FOURIER!N1660","v":0},null,null,254.33401463143932,null,null,null,null,0,0,null,null,null,null,null,null,0,0,null,null,null,null,null,null,null,null,null,null,null,null,null,33.160000000000004,-3.2730000000000001,0,{"$error":"#DIV/0!"},{"$error":"#DIV/0!"}]
[null,null,null,null,null,1659,33.18,0,40.5029296875,{"$f":"FOURIER!M1661","v":0},{"$f":"FOURIER!N1661","v":0},null,null,254.48741271022789,null,null,null,null,0,0,null,null,null,null,null,null,0,0,null,null,null,null,null,null,null,null,null,null,null,null,null,33.18,-3.2509999999999999,0,{"$error":"#DIV/0!"},{"$error":"#DIV/0!"}]
[null,null,null,null,null,1660,33.200000000000003,0,40.52734375,{"$f":"FOURIER!M1662","v":0},{"$f":"FOURIER!N1662","v":0},null,null,254.64081078901646,null,null,null,null,0,0,null,null,null,null,null,null,0,0,null,null,null,null,null,null,null,null,null,null,null,null,null,33.200000000000003,-3.2210000000000001,0,{"$error":"#DIV/0!"},{"$error":"#DIV/0!"}]
[null,null,null,null,null,1661,33.22,0,40.5517578125,{"$f":"FOURIER!M1663","v":0},{"$f":"FOURIER!N1663","v":0},null,null,254.794208867805,null,null,null,null,0,0,null,null,null,null,null,null,0,0,null,null,null,null,null,null,null,null,null,null,null,null,null,33.22,-3.1859999999999999,0,{"$error":"#DIV/0!"},{"$error":"#DIV/0!"}]
[null,null,null,null,null,1662,33.24,0,40.576171875,{"$f":"FOURIER!M1664","v":0},{"$f":"FOURIER!N1664","v":0},null,null,254.94760694659357,null,null,null,null,0,0,null,null,null,null,null,null,0,0,null,null,null,null,null,null,null,null,null,null,null,null,null,33.24,-3.1440000000000001,0,{"$error":"#DIV/0!"},{"$error":"#DIV/0!"}]
[null,null,null,null,null,1663,33.26,0,40.6005859375,{"$f":"FOURIER!M1665","v":0},{"$f":"FOURIER!N1665","v":0},null,null,255.10100502538214,null,null,null,null,0,0,null,null,null,null,null,null,0,0,null,null,null,null,null,null,null,null,null,null,null,null,null,33.26,-3.0960000000000001,0,{"$error":"#DIV/0!"},{"$error":"#DIV/0!"}]
[null,null,null,null,null,1664,33.28,0,40.625,{"$f":"FOURIER!M1666","v":0},{"$f":"FOURIER!N1666","v":0},null,null,{"$f":"2*PI()/B$9/B$6*F1666","v":255.25440310417071},null,null,null,null,{"$f":"J1666*O1666-K1666*P1666","v":0},{"$f":"J1666*P1666+K1666*O1666","v":0},null,null,null,null,null,null,0,0,null,null,null,null,null,null,null,null,null,null,null,null,null,{"$f":"G1666","v":33.28},-3.0419999999999998,0,{"$error":"#DIV/0!"},{"$error":"#DIV/0!"}]
[null,null,null,null,null,1665,{"$f":"B$6*F1667","v":33.299999999999997},0,{"$f":"F1667/B$9/B$6","v":40.6494140625},{"$f":"FOURIER!M1667","v":0},{"$f":"FOURIER!N1667","v":0},null,null,255.40780118295928,null,null,null,null,0,0,null,null,null,null,null,null,{"$f":"(Y1667-Y1666)/B$6","v":0},{"$f":"(AA1667-AA1666)/B$6+H1667","v":0},null,null,null,null,null,null,null,null,null,null,null,null,null,33.299999999999997,-2.9820000000000002,0,{"$f":"(AQ1667-AQ1666)/O$6","v":{"$error":"#DIV/0!"}},{"$f":"(AS1667-AS1666)/O$6+S1667","v":{"$error":"#DIV/0!"}}]
[null,null,null,null,null,1666,33.32,0,40.673828125,{"$f":"FOURIER!M1668","v":0},{"$f":"FOURIER!N1668","v":0},null,null,255.56119926174782,null,null,null,null,0,0,null,null,null,null,null,null,0,0,null,null,null,null,null,null,null,null,null,null,null,null,null,33.32,-2.9159999999999999,0,{"$error":"#DIV/0!"},{"$error":"#DIV/0!"}]
[null,null,null,null,null,1667,33.340000000000003,0,40.6982421875,{"$f":"FOURIER!M1669","v":0},{"$f":"FOURIER!N1669","v":0},null,null,255.71459734053639,null,null,null,null,0,0,null,null,null,null,null,null,0,0,null,null,null,null,null,null,null,null,null,null,null,null,null,33.340000000000003,-2.8450000000000002,0,{"$error":"#DIV/0!"},{"$error":"#DIV/0!"}]
[null,null,null,null,null,1668,33.36,0,40.72265625,{"$f":"FOURIER!M1670","v":0},{"$f":"FOURIER!N1670","v":0},null,null,255.86799541932496,null,null,null,null,0,0,null,null,null,null,null,null,0,0,null,null,null,null,null,null,null,null,null,null,null,null,null,33.36,-2.7690000000000001,0,{"$error":"#DIV/0!"},{"$error":"#DIV/0!"}]
[null,null,null,null,null,1669,33.380000000000003,0,40.7470703125,{"$f":"FOURIER!M1671","v":0},{"$f":"FOURIER!N1671","v":0},null,null,256.02139349811353,null,null,null,null,0,0,null,null,null,null,null,null,0,0,null,null,null,null,null,null,null,null,null,null,null,null,null,33.380000000000003,-2.6869999999999998,0,{"$error":"#DIV/0!"},{"$error":"#DIV/0!"}]
[null,null,null,null,null,1670,33.4,0,40.771484375,{"$f":"FOURIER!M1672","v":0},{"$f":"FOURIER!N1672","v":0},null,null,256.17479157690207,null,null,null,null,0,0,null,null,null,null,null,null,0,0,null,null,null,null,null,null,null,null,null,null,null,null,null,33.4,-2.6,0,{"$error":"#DIV/0!"},{"$error":"#DIV/0!"}]
[null,null,null,null,null,1671,33.42,0,40.7958984375,{"$f":"FOURIER!M1673","v":0},{"$f":"FOURIER!N1673","v":0},null,null,256.32818965569066,null,null,null,null,0,0,null,null,null,null,null,null,0,0,null,null,null,null,null,null,null,null,null,null,null,null,null,33.42,-2.5089999999999999,0,{"$error":"#DIV/0!"},{"$error":"#DIV/0!"}]
[null,null,null,null,null,1672,33.44,0,40.8203125,{"$f":"FOURIER!M1674","v":0},{"$f":"FOURIER!N1674","v":0},null,null,256.48158773447921,null,null,null,null,0,0,null,null,null,null,null,null,0,0,null,null,null,null,null,null,null,null,null,null,null,null,null,33.44,-2.4119999999999999,0,{"$error":"#DIV/0!"},{"$error":"#DIV/0!"}]
[null,null,null,null,null,1673,33.46,0,40.8447265625,{"$f":"FOURIER!M1675","v":0},{"$f":"FOURIER!N1675","v":0},null,null,256.6349858132678,null,null,null,null,0,0,null,null,null,null,null,null,0,0,null,null,null,null,null,null,null,null,null,null,null,null,null,33.46,-2.3119999999999998,0,{"$error":"#DIV/0!"},{"$error":"#DIV/0!"}]
[null,null,null,null,null,1674,33.480000000000004,0,40.869140625,{"$f":"FOURIER!M1676","v":0},{"$f":"FOURIER!N1676","v":0},null,null,256.78838389205634,null,null,null,null,0,0,null,null,null,null,null,null,0,0,null,null,null,null,null,null,null,null,null,null,null,null,null,33.480000000000004,-2.2069999999999999,0,{"$error":"#DIV/0!"},{"$error":"#DIV/0!"}]
[null,null,null,null,null,1675,33.5,0,40.8935546875,{"$f":"FOURIER!M1677","v":0},{"$f":"FOURIER!N1677","v":0},null,null,256.94178197084489,null,null,null,null,0,0,null,null,null,null,null,null,0,0,null,null,null,null,null,null,null,null,null,null,null,null,null,33.5,-2.0979999999999999,0,{"$error":"#DIV/0!"},{"$error":"#DIV/0!"}]
[null,null,null,null,null,1676,33.520000000000003,0,40.91796875,{"$f":"FOURIER!M1678","v":0},{"$f":"FOURIER!N1678","v":0},null,null,257.09518004963348,null,null,null,null,0,0,null,null,null,null,null,null,0,0,null,null,null,null,null,null,null,null,null,null,null,null,null,33.520000000000003,-1.9850000000000001,0,{"$error":"#DIV/0!"},{"$error":"#DIV/0!"}]
[null,null,null,null,null,1677,33.54,0,40.9423828125,{"$f":"FOURIER!M1679","v":0},{"$f":"FOURIER!N1679","v":0},null,null,257.24857812842203,null,null,null,null,0,0,null,null,null,null,null,null,0,0,null,null,null,null,null,null,null,null,null,null,null,null,null,33.54,-1.869,0,{"$error":"#DIV/0!"},{"$error":"#DIV/0!"}]
[null,null,null,null,null,1678,33.56,0,40.966796875,{"$f":"FOURIER!M1680","v":0},{"$f":"FOURIER!N1680","v":0},null,null,257.40197620721062,null,null,null,null,0,0,null,null,null,null,null,null,0,0,null,null,null,null,null,null,null,null,null,null,null,null,null,33.56,-1.7490000000000001,0,{"$error":"#DIV/0!"},{"$error":"#DIV/0!"}]
[null,null,null,null,null,1679,33.58,0,40.9912109375,{"$f":"FOURIER!M1681","v":0},{"$f":"FOURIER!N1681","v":0},null,null,257.55537428599916,null,null,null,null,0,0,null,null,null,null,null,null,0,0,null,null,null,null,null,null,null,null,null,null,null,null,null,33.58,-1.627,0,{"$error":"#DIV/0!"},{"$error":"#DIV/0!"}]
[null,null,null,null,null,1680,33.6,0,41.015625,{"$f":"FOURIER!M1682","v":0},{"$f":"FOURIER!N1682","v":0},null,null,257.70877236478771,null,null,null,null,0,0,null,null,null,null,null,null,0,0,null,null,null,null,null,null,null,null,null,null,null,null,null,33.6,-1.502,0,{"$error":"#DIV/0!"},{"$error":"#DIV/0!"}]
[null,null,null,null,null,1681,33.619999999999997,0,41.0400390625,{"$f":"FOURIER!M1683","v":0},{"$f":"FOURIER!N1683","v":0},null,null,257.8621704435763,null,null,null,null,0,0,null,null,null,null,null,null,0,0,null,null,null,null,null,null,null,null,null,null,null,null,null,33.619999999999997,-1.3740000000000001,0,{"$error":"#DIV/0!"},{"$error":"#DIV/0!"}]
[null,null,null,null,null,1682,33.64,0,41.064453125,{"$f":"FOURIER!M1684","v":0},{"$f":"FOURIER!N1684","v":0},null,null,258.01556852236484,null,null,null,null,0,0,null,null,null,null,null,null,0,0,null,null,null,null,null,null,null,null,null,null,null,null,null,33.64,-1.244,0,{"$error":"#DIV/0!"},{"$error":"#DIV/0!"}]
[null,null,null,null,null,1683,33.660000000000004,0,41.0888671875,{"$f":"FOURIER!M1685","v":0},{"$f":"FOURIER!N1685","v":0},null,null,258.16896660115344,null,null,null,null,0,0,null,null,null,null,null,null,0,0,null,null,null,null,null,null,null,null,null,null,null,null,null,33.660000000000004,-1.1120000000000001,0,{"$error":"#DIV/0!"},{"$error":"#DIV/0!"}]
[null,null,null,null,null,1684,33.68,0,41.11328125,{"$f":"FOURIER!M1686","v":0},{"$f":"FOURIER!N1686","v":0},null,null,258.32236467994198,null,null,null,null,0,0,null,null,null,null,null,null,0,0,null,null,null,null,null,null,null,null,null,null,null,null,null,33.68,-0.97899999999999998,0,{"$error":"#DIV/0!"},{"$error":"#DIV/0!"}]
[null,null,null,null,null,1685,33.700000000000003,0,41.1376953125,{"$f":"FOURIER!M1687","v":0},{"$f":"FOURIER!N1687","v":0},null,null,258.47576275873053,null,null,null,null,0,0,null,null,null,null,null,null,0,0,null,null,null,null,null,null,null,null,null,null,null,null,null,33.700000000000003,-0.84299999999999997,0,{"$error":"#DIV/0!"},{"$error":"#DIV/0!"}]
[null,null,null,null,null,1686,33.72,0,41.162109375,{"$f":"FOURIER!M1688","v":0},{"$f":"FOURIER!N1688","v":0},null,null,258.62916083751912,null,null,null,null,0,0,null,null,null,null,null,null,0,0,null,null,null,null,null,null,null,null,null,null,null,null,null,33.72,-0.70699999999999996,0,{"$error":"#DIV/0!"},{"$error":"#DIV/0!"}]
[null,null,null,null,null,1687,33.74,0,41.1865234375,{"$f":"FOURIER!M1689","v":0},{"$f":"FOURIER!N1689","v":0},null,null,258.78255891630766,null,null,null,null,0,0,null,null,null,null,null,null,0,0,null,null,null,null,null,null,null,null,null,null,null,null,null,33.74,-0.56999999999999995,0,{"$error":"#DIV/0!"},{"$error":"#DIV/0!"}]
[null,null,null,null,null,1688,33.76,0,41.2109375,{"$f":"FOURIER!M1690","v":0},{"$f":"FOURIER!N1690","v":0},null,null,258.93595699509626,null,null,null,null,0,0,null,null,null,null,null,null,0,0,null,null,null,null,null,null,null,null,null,null,null,null,null,33.76,-0.433,0,{"$error":"#DIV/0!"},{"$error":"#DIV/0!"}]
[null,null,null,null,null,1689,33.78,0,41.2353515625,{"$f":"FOURIER!M1691","v":0},{"$f":"FOURIER!N1691","v":0},null,null,259.0893550738848,null,null,null,null,0,0,null,null,null,null,null,null,0,0,null,null,null,null,null,null,null,null,null,null,null,null,null,33.78,-0.29499999999999998,0,{"$error":"#DIV/0!"},{"$error":"#DIV/0!"}]
[null,null,null,null,null,1690,33.799999999999997,0,41.259765625,{"$f":"FOURIER!M1692","v":0},{"$f":"FOURIER!N1692","v":0},null,null,259.24275315267334,null,null,null,null,0,0,null,null,null,null,null,null,0,0,null,null,null,null,null,null,null,null,null,null,null,null,null,33.799999999999997,-0.157,0,{"$error":"#DIV/0!"},{"$error":"#DIV/0!"}]
[null,null,null,null,null,1691,33.82,0,41.2841796875,{"$f":"FOURIER!M1693","v":0},{"$f":"FOURIER!N1693","v":0},null,null,259.39615123146194,null,null,null,null,0,0,null,null,null,null,null,null,0,0,null,null,null,null,null,null,null,null,null,null,null,null,null,33.82,-1.9E-2,0,{"$error":"#DIV/0!"},{"$error":"#DIV/0!"}]
[null,null,null,null,null,1692,33.840000000000003,0,41.30859375,{"$f":"FOURIER!M1694","v":0},{"$f":"FOURIER!N1694","v":0},null,null,259.54954931025048,null,null,null,null,0,0,null,null,null,null,null,null,0,0,null,null,null,null,null,null,null,null,null,null,null,null,null,33.840000000000003,0.11799999999999999,0,{"$error":"#DIV/0!"},{"$error":"#DIV/0!"}]
[null,null,null,null,null,1693,33.86,0,41.3330078125,{"$f":"FOURIER!M1695","v":0},{"$f":"FOURIER!N1695","v":0},null,null,259.70294738903908,null,null,null,null,0,0,null,null,null,null,null,null,0,0,null,null,null,null,null,null,null,null,null,null,null,null,null,33.86,0.255,0,{"$error":"#DIV/0!"},{"$error":"#DIV/0!"}]
[null,null,null,null,null,1694,33.880000000000003,0,41.357421875,{"$f":"FOURIER!M1696","v":0},{"$f":"FOURIER!N1696","v":0},null,null,259.85634546782762,null,null,null,null,0,0,null,null,null,null,null,null,0,0,null,null,null,null,null,null,null,null,null,null,null,null,null,33.880000000000003,0.39,0,{"$error":"#DIV/0!"},{"$error":"#DIV/0!"}]
[null,null,null,null,null,1695,33.9,0,41.3818359375,{"$f":"FOURIER!M1697","v":0},{"$f":"FOURIER!N1697","v":0},null,null,260.00974354661616,null,null,null,null,0,0,null,null,null,null,null,null,0,0,null,null,null,null,null,null,null,null,null,null,null,null,null,33.9,0.52400000000000002,0,{"$error":"#DIV/0!"},{"$error":"#DIV/0!"}]
[null,null,null,null,null,1696,33.92,0,41.40625,{"$f":"FOURIER!M1698","v":0},{"$f":"FOURIER!N1698","v":0},null,null,260.16314162540476,null,null,null,null,0,0,null,null,null,null,null,null,0,0,null,null,null,null,null,null,null,null,null,null,null,null,null,33.92,0.65700000000000003,0,{"$error":"#DIV/0!"},{"$error":"#DIV/0!"}]
[null,null,null,null,null,1697,33.94,0,41.4306640625,{"$f":"FOURIER!M1699","v":0},{"$f":"FOURIER!N1699","v":0},null,null,260.3165397041933,null,null,null,null,0,0,null,null,null,null,null,null,0,0,null,null,null,null,null,null,null,null,null,null,null,null,null,33.94,0.78800000000000003,0,{"$error":"#DIV/0!"},{"$error":"#DIV/0!"}]
[null,null,null,null,null,1698,33.96,0,41.455078125,{"$f":"FOURIER!M1700","v":0},{"$f":"FOURIER!N1700","v":0},null,null,260.4699377829819,null,null,null,null,0,0,null,null,null,null,null,null,0,0,null,null,null,null,null,null,null,null,null,null,null,null,null,33.96,0.91600000000000004,0,{"$error":"#DIV/0!"},{"$error":"#DIV/0!"}]
[null,null,null,null,null,1699,33.980000000000004,0,41.4794921875,{"$f":"FOURIER!M1701","v":0},{"$f":"FOURIER!N1701","v":0},null,null,260.62333586177044,null,null,null,null,0,0,null,null,null,null,null,null,0,0,null,null,null,null,null,null,null,null,null,null,null,null,null,33.980000000000004,1.042,0,{"$error":"#DIV/0!"},{"$error":"#DIV/0!"}]
[null,null,null,null,null,1700,34,0,41.50390625,{"$f":"FOURIER!M1702","v":0},{"$f":"FOURIER!N1702","v":0},null,null,260.77673394055898,null,null,null,null,0,0,null,null,null,null,null,null,0,0,null,null,null,null,null,null,null,null,null,null,null,null,null,34,1.1659999999999999,0,{"$error":"#DIV/0!"},{"$error":"#DIV/0!"}]
[null,null,null,null,null,1701,34.020000000000003,0,41.5283203125,{"$f":"FOURIER!M1703","v":0},{"$f":"FOURIER!N1703","v":0},null,null,260.93013201934758,null,null,null,null,0,0,null,null,null,null,null,null,0,0,null,null,null,null,null,null,null,null,null,null,null,null,null,34.020000000000003,1.2869999999999999,0,{"$error":"#DIV/0!"},{"$error":"#DIV/0!"}]
[null,null,null,null,null,1702,34.04,0,41.552734375,{"$f":"FOURIER!M1704","v":0},{"$f":"FOURIER!N1704","v":0},null,null,261.08353009813612,null,null,null,null,0,0,null,null,null,null,null,null,0,0,null,null,null,null,null,null,null,null,null,null,null,null,null,34.04,1.405,0,{"$error":"#DIV/0!"},{"$error":"#DIV/0!"}]
[null,null,null,null,null,1703,34.06,0,41.5771484375,{"$f":"FOURIER!M1705","v":0},{"$f":"FOURIER!N1705","v":0},null,null,261.23692817692472,null,null,null,null,0,0,null,null,null,null,null,null,0,0,null,null,null,null,null,null,null,null,null,null,null,null,null,34.06,1.5189999999999999,0,{"$error":"#DIV/0!"},{"$error":"#DIV/0!"}]
[null,null,null,null,null,1704,34.08,0,41.6015625,{"$f":"FOURIER!M1706","v":0},{"$f":"FOURIER!N1706","v":0},null,null,261.39032625571326,null,null,null,null,0,0,null,null,null,null,null,null,0,0,null,null,null,null,null,null,null,null,null,null,null,null,null,34.08,1.63,0,{"$error":"#DIV/0!"},{"$error":"#DIV/0!"}]
[null,null,null,null,null,1705,34.1,0,41.6259765625,{"$f":"FOURIER!M1707","v":0},{"$f":"FOURIER!N1707","v":0},null,null,261.5437243345018,null,null,null,null,0,0,null,null,null,null,null,null,0,0,null,null,null,null,null,null,null,null,null,null,null,null,null,34.1,1.7370000000000001,0,{"$error":"#DIV/0!"},{"$error":"#DIV/0!"}]
[null,null,null,null,null,1706,34.119999999999997,0,41.650390625,{"$f":"FOURIER!M1708","v":0},{"$f":"FOURIER!N1708","v":0},null,null,261.6971224132904,null,null,null,null,0,0,null,null,null,null,null,null,0,0,null,null,null,null,null,null,null,null,null,null,null,null,null,34.119999999999997,1.841,0,{"$error":"#DIV/0!"},{"$error":"#DIV/0!"}]
[null,null,null,null,null,1707,34.14,0,41.6748046875,{"$f":"FOURIER!M1709","v":0},{"$f":"FOURIER!N1709","v":0},null,null,261.85052049207894,null,null,null,null,0,0,null,null,null,null,null,null,0,0,null,null,null,null,null,null,null,null,null,null,null,null,null,34.14,1.94,0,{"$error":"#DIV/0!"},{"$error":"#DIV/0!"}]
[null,null,null,null,null,1708,34.160000000000004,0,41.69921875,{"$f":"FOURIER!M1710","v":0},{"$f":"FOURIER!N1710","v":0},null,null,262.00391857086754,null,null,null,null,0,0,null,null,null,null,null,null,0,0,null,null,null,null,null,null,null,null,null,null,null,null,null,34.160000000000004,2.0350000000000001,0,{"$error":"#DIV/0!"},{"$error":"#DIV/0!"}]
[null,null,null,null,null,1709,34.18,0,41.7236328125,{"$f":"FOURIER!M1711","v":0},{"$f":"FOURIER!N1711","v":0},null,null,262.15731664965608,null,null,null,null,0,0,null,null,null,null,null,null,0,0,null,null,null,null,null,null,null,null,null,null,null,null,null,34.18,2.1259999999999999,0,{"$error":"#DIV/0!"},{"$error":"#DIV/0!"}]
[null,null,null,null,null,1710,34.200000000000003,0,41.748046875,{"$f":"FOURIER!M1712","v":0},{"$f":"FOURIER!N1712","v":0},null,null,262.31071472844468,null,null,null,null,0,0,null,null,null,null,null,null,0,0,null,null,null,null,null,null,null,null,null,null,null,null,null,34.200000000000003,2.2120000000000002,0,{"$error":"#DIV/0!"},{"$error":"#DIV/0!"}]
[null,null,null,null,null,1711,34.22,0,41.7724609375,{"$f":"FOURIER!M1713","v":0},{"$f":"FOURIER!N1713","v":0},null,null,262.46411280723322,null,null,null,null,0,0,null,null,null,null,null,null,0,0,null,null,null,null,null,null,null,null,null,null,null,null,null,34.22,2.2930000000000001,0,{"$error":"#DIV/0!"},{"$error":"#DIV/0!"}]
[null,null,null,null,null,1712,34.24,0,41.796875,{"$f":"FOURIER!M1714","v":0},{"$f":"FOURIER!N1714","v":0},null,null,262.61751088602176,null,null,null,null,0,0,null,null,null,null,null,null,0,0,null,null,null,null,null,null,null,null,null,null,null,null,null,34.24,2.3690000000000002,0,{"$error":"#DIV/0!"},{"$error":"#DIV/0!"}]
[null,null,null,null,null,1713,34.26,0,41.8212890625,{"$f":"FOURIER!M1715","v":0},{"$f":"FOURIER!N1715","v":0},null,null,262.77090896481036,null,null,null,null,0,0,null,null,null,null,null,null,0,0,null,null,null,null,null,null,null,null,null,null,null,null,null,34.26,2.4409999999999998,0,{"$error":"#DIV/0!"},{"$error":"#DIV/0!"}]
[null,null,null,null,null,1714,34.28,0,41.845703125,{"$f":"FOURIER!M1716","v":0},{"$f":"FOURIER!N1716","v":0},null,null,262.9243070435989,null,null,null,null,0,0,null,null,null,null,null,null,0,0,null,null,null,null,null,null,null,null,null,null,null,null,null,34.28,2.5070000000000001,0,{"$error":"#DIV/0!"},{"$error":"#DIV/0!"}]
[null,null,null,null,null,1715,34.300000000000004,0,41.8701171875,{"$f":"FOURIER!M1717","v":0},{"$f":"FOURIER!N1717","v":0},null,null,263.0777051223875,null,null,null,null,0,0,null,null,null,null,null,null,0,0,null,null,null,null,null,null,null,null,null,null,null,null,null,34.300000000000004,2.5680000000000001,0,{"$error":"#DIV/0!"},{"$error":"#DIV/0!"}]
[null,null,null,null,null,1716,34.32,0,41.89453125,{"$f":"FOURIER!M1718","v":0},{"$f":"FOURIER!N1718","v":0},null,null,263.23110320117604,null,null,null,null,0,0,null,null,null,null,null,null,0,0,null,null,null,null,null,null,null,null,null,null,null,null,null,34.32,2.6230000000000002,0,{"$error":"#DIV/0!"},{"$error":"#DIV/0!"}]
[null,null,null,null,null,1717,34.340000000000003,0,41.9189453125,{"$f":"FOURIER!M1719","v":0},{"$f":"FOURIER!N1719","v":0},null,null,263.38450127996458,null,null,null,null,0,0,null,null,null,null,null,null,0,0,null,null,null,null,null,null,null,null,null,null,null,null,null,34.340000000000003,2.673,0,{"$error":"#DIV/0!"},{"$error":"#DIV/0!"}]
[null,null,null,null,null,1718,34.36,0,41.943359375,{"$f":"FOURIER!M1720","v":0},{"$f":"FOURIER!N1720","v":0},null,null,263.53789935875318,null,null,null,null,0,0,null,null,null,null,null,null,0,0,null,null,null,null,null,null,null,null,null,null,null,null,null,34.36,2.718,0,{"$error":"#DIV/0!"},{"$error":"#DIV/0!"}]
[null,null,null,null,null,1719,34.380000000000003,0,41.9677734375,{"$f":"FOURIER!M1721","v":0},{"$f":"FOURIER!N1721","v":0},null,null,263.69129743754172,null,null,null,null,0,0,null,null,null,null,null,null,0,0,null,null,null,null,null,null,null,null,null,null,null,null,null,34.380000000000003,2.7559999999999998,0,{"$error":"#DIV/0!"},{"$error":"#DIV/0!"}]
[null,null,null,null,null,1720,34.4,0,41.9921875,{"$f":"FOURIER!M1722","v":0},{"$f":"FOURIER!N1722","v":0},null,null,263.84469551633032,null,null,null,null,0,0,null,null,null,null,null,null,0,0,null,null,null,null,null,null,null,null,null,null,null,null,null,34.4,2.79,0,{"$error":"#DIV/0!"},{"$error":"#DIV/0!"}]
[null,null,null,null,null,1721,34.42,0,42.0166015625,{"$f":"FOURIER!M1723","v":0},{"$f":"FOURIER!N1723","v":0},null,null,263.99809359511886,null,null,null,null,0,0,null,null,null,null,null,null,0,0,null,null,null,null,null,null,null,null,null,null,null,null,null,34.42,2.8170000000000002,0,{"$error":"#DIV/0!"},{"$error":"#DIV/0!"}]
[null,null,null,null,null,1722,34.44,0,42.041015625,{"$f":"FOURIER!M1724","v":0},{"$f":"FOURIER!N1724","v":0},null,null,264.1514916739074,null,null,null,null,0,0,null,null,null,null,null,null,0,0,null,null,null,null,null,null,null,null,null,null,null,null,null,34.44,2.839,0,{"$error":"#DIV/0!"},{"$error":"#DIV/0!"}]
[null,null,null,null,null,1723,34.46,0,42.0654296875,{"$f":"FOURIER!M1725","v":0},{"$f":"FOURIER!N1725","v":0},null,null,264.304889752696,null,null,null,null,0,0,null,null,null,null,null,null,0,0,null,null,null,null,null,null,null,null,null,null,null,null,null,34.46,2.855,0,{"$error":"#DIV/0!"},{"$error":"#DIV/0!"}]
[null,null,null,null,null,1724,34.480000000000004,0,42.08984375,{"$f":"FOURIER!M1726","v":0},{"$f":"FOURIER!N1726","v":0},null,null,264.45828783148454,null,null,null,null,0,0,null,null,null,null,null,null,0,0,null,null,null,null,null,null,null,null,null,null,null,null,null,34.480000000000004,2.8650000000000002,0,{"$error":"#DIV/0!"},{"$error":"#DIV/0!"}]
[null,null,null,null,null,1725,34.5,0,42.1142578125,{"$f":"FOURIER!M1727","v":0},{"$f":"FOURIER!N1727","v":0},null,null,264.61168591027314,null,null,null,null,0,0,null,null,null,null,null,null,0,0,null,null,null,null,null,null,null,null,null,null,null,null,null,34.5,2.87,0,{"$error":"#DIV/0!"},{"$error":"#DIV/0!"}]
[null,null,null,null,null,1726,34.520000000000003,0,42.138671875,{"$f":"FOURIER!M1728","v":0},{"$f":"FOURIER!N1728","v":0},null,null,264.76508398906168,null,null,null,null,0,0,null,null,null,null,null,null,0,0,null,null,null,null,null,null,null,null,null,null,null,null,null,34.520000000000003,2.8679999999999999,0,{"$error":"#DIV/0!"},{"$error":"#DIV/0!"}]
[null,null,null,null,null,1727,34.54,0,42.1630859375,{"$f":"FOURIER!M1729","v":0},{"$f":"FOURIER!N1729","v":0},null,null,264.91848206785022,null,null,null,null,0,0,null,null,null,null,null,null,0,0,null,null,null,null,null,null,null,null,null,null,null,null,null,34.54,2.8610000000000002,0,{"$error":"#DIV/0!"},{"$error":"#DIV/0!"}]
[null,null,null,null,null,1728,34.56,0,42.1875,{"$f":"FOURIER!M1730","v":0},{"$f":"FOURIER!N1730","v":0},null,null,{"$f":"2*PI()/B$9/B$6*F1730","v":265.07188014663882},null,null,null,null,{"$f":"J1730*O1730-K1730*P1730","v":0},{"$f":"J1730*P1730+K1730*O1730","v":0},null,null,null,null,null,null,0,0,null,null,null,null,null,null,null,null,null,null,null,null,null,{"$f":"G1730","v":34.56},2.8490000000000002,0,{"$error":"#DIV/0!"},{"$error":"#DIV/0!"}]
[null,null,null,null,null,1729,{"$f":"B$6*F1731","v":34.58},0,{"$f":"F1731/B$9/B$6","v":42.2119140625},{"$f":"FOURIER!M1731","v":0},{"$f":"FOURIER!N1731","v":0},null,null,265.22527822542736,null,null,null,null,0,0,null,null,null,null,null,null,{"$f":"(Y1731-Y1730)/B$6","v":0},{"$f":"(AA1731-AA1730)/B$6+H1731","v":0},null,null,null,null,null,null,null,null,null,null,null,null,null,34.58,2.83,0,{"$f":"(AQ1731-AQ1730)/O$6","v":{"$error":"#DIV/0!"}},{"$f":"(AS1731-AS1730)/O$6+S1731","v":{"$error":"#DIV/0!"}}]
[null,null,null,null,null,1730,34.6,0,42.236328125,{"$f":"FOURIER!M1732","v":0},{"$f":"FOURIER!N1732","v":0},null,null,265.37867630421596,null,null,null,null,0,0,null,null,null,null,null,null,0,0,null,null,null,null,null,null,null,null,null,null,null,null,null,34.6,2.806,0,{"$error":"#DIV/0!"},{"$error":"#DIV/0!"}]
[null,null,null,null,null,1731,34.619999999999997,0,42.2607421875,{"$f":"FOURIER!M1733","v":0},{"$f":"FOURIER!N1733","v":0},null,null,265.5320743830045,null,null,null,null,0,0,null,null,null,null,null,null,0,0,null,null,null,null,null,null,null,null,null,null,null,null,null,34.619999999999997,2.7770000000000001,0,{"$error":"#DIV/0!"},{"$error":"#DIV/0!"}]
[null,null,null,null,null,1732,34.64,0,42.28515625,{"$f":"FOURIER!M1734","v":0},{"$f":"FOURIER!N1734","v":0},null,null,265.68547246179304,null,null,null,null,0,0,null,null,null,null,null,null,0,0,null,null,null,null,null,null,null,null,null,null,null,null,null,34.64,2.742,0,{"$error":"#DIV/0!"},{"$error":"#DIV/0!"}]
[null,null,null,null,null,1733,34.660000000000004,0,42.3095703125,{"$f":"FOURIER!M1735","v":0},{"$f":"FOURIER!N1735","v":0},null,null,265.83887054058164,null,null,null,null,0,0,null,null,null,null,null,null,0,0,null,null,null,null,null,null,null,null,null,null,null,null,null,34.660000000000004,2.702,0,{"$error":"#DIV/0!"},{"$error":"#DIV/0!"}]
[null,null,null,null,null,1734,34.68,0,42.333984375,{"$f":"FOURIER!M1736","v":0},{"$f":"FOURIER!N1736","v":0},null,null,265.99226861937018,null,null,null,null,0,0,null,null,null,null,null,null,0,0,null,null,null,null,null,null,null,null,null,null,null,null,null,34.68,2.6560000000000001,0,{"$error":"#DIV/0!"},{"$error":"#DIV/0!"}]
[null,null,null,null,null,1735,34.700000000000003,0,42.3583984375,{"$f":"FOURIER!M1737","v":0},{"$f":"FOURIER!N1737","v":0},null,null,266.14566669815878,null,null,null,null,0,0,null,null,null,null,null,null,0,0,null,null,null,null,null,null,null,null,null,null,null,null,null,34.700000000000003,2.6059999999999999,0,{"$error":"#DIV/0!"},{"$error":"#DIV/0!"}]
[null,null,null,null,null,1736,34.72,0,42.3828125,{"$f":"FOURIER!M1738","v":0},{"$f":"FOURIER!N1738","v":0},null,null,266.29906477694732,null,null,null,null,0,0,null,null,null,null,null,null,0,0,null,null,null,null,null,null,null,null,null,null,null,null,null,34.72,2.5499999999999998,0,{"$error":"#DIV/0!"},{"$error":"#DIV/0!"}]
[null,null,null,null,null,1737,34.74,0,42.4072265625,{"$f":"FOURIER!M1739","v":0},{"$f":"FOURIER!N1739","v":0},null,null,266.45246285573586,null,null,null,null,0,0,null,null,null,null,null,null,0,0,null,null,null,null,null,null,null,null,null,null,null,null,null,34.74,2.4900000000000002,0,{"$error":"#DIV/0!"},{"$error":"#DIV/0!"}]
[null,null,null,null,null,1738,34.76,0,42.431640625,{"$f":"FOURIER!M1740","v":0},{"$f":"FOURIER!N1740","v":0},null,null,266.60586093452446,null,null,null,null,0,0,null,null,null,null,null,null,0,0,null,null,null,null,null,null,null,null,null,null,null,null,null,34.76,2.4249999999999998,0,{"$error":"#DIV/0!"},{"$error":"#DIV/0!"}]
[null,null,null,null,null,1739,34.78,0,42.4560546875,{"$f":"FOURIER!M1741","v":0},{"$f":"FOURIER!N1741","v":0},null,null,266.759259013313,null,null,null,null,0,0,null,null,null,null,null,null,0,0,null,null,null,null,null,null,null,null,null,null,null,null,null,34.78,2.355,0,{"$error":"#DIV/0!"},{"$error":"#DIV/0!"}]
[null,null,null,null,null,1740,34.800000000000004,0,42.48046875,{"$f":"FOURIER!M1742","v":0},{"$f":"FOURIER!N1742","v":0},null,null,266.9126570921016,null,null,null,null,0,0,null,null,null,null,null,null,0,0,null,null,null,null,null,null,null,null,null,null,null,null,null,34.800000000000004,2.2810000000000001,0,{"$error":"#DIV/0!"},{"$error":"#DIV/0!"}]
[null,null,null,null,null,1741,34.82,0,42.5048828125,{"$f":"FOURIER!M1743","v":0},{"$f":"FOURIER!N1743","v":0},null,null,267.06605517089014,null,null,null,null,0,0,null,null,null,null,null,null,0,0,null,null,null,null,null,null,null,null,null,null,null,null,null,34.82,2.202,0,{"$error":"#DIV/0!"},{"$error":"#DIV/0!"}]
[null,null,null,null,null,1742,34.840000000000003,0,42.529296875,{"$f":"FOURIER!M1744","v":0},{"$f":"FOURIER!N1744","v":0},null,null,267.21945324967868,null,null,null,null,0,0,null,null,null,null,null,null,0,0,null,null,null,null,null,null,null,null,null,null,null,null,null,34.840000000000003,2.12,0,{"$error":"#DIV/0!"},{"$error":"#DIV/0!"}]
[null,null,null,null,null,1743,34.86,0,42.5537109375,{"$f":"FOURIER!M1745","v":0},{"$f":"FOURIER!N1745","v":0},null,null,267.37285132846728,null,null,null,null,0,0,null,null,null,null,null,null,0,0,null,null,null,null,null,null,null,null,null,null,null,null,null,34.86,2.0329999999999999,0,{"$error":"#DIV/0!"},{"$error":"#DIV/0!"}]
[null,null,null,null,null,1744,34.880000000000003,0,42.578125,{"$f":"FOURIER!M1746","v":0},{"$f":"FOURIER!N1746","v":0},null,null,267.52624940725582,null,null,null,null,0,0,null,null,null,null,null,null,0,0,null,null,null,null,null,null,null,null,null,null,null,null,null,34.880000000000003,1.9430000000000001,0,{"$error":"#DIV/0!"},{"$error":"#DIV/0!"}]
[null,null,null,null,null,1745,34.9,0,42.6025390625,{"$f":"FOURIER!M1747","v":0},{"$f":"FOURIER!N1747","v":0},null,null,267.67964748604442,null,null,null,null,0,0,null,null,null,null,null,null,0,0,null,null,null,null,null,null,null,null,null,null,null,null,null,34.9,1.85,0,{"$error":"#DIV/0!"},{"$error":"#DIV/0!"}]
[null,null,null,null,null,1746,34.92,0,42.626953125,{"$f":"FOURIER!M1748","v":0},{"$f":"FOURIER!N1748","v":0},null,null,267.83304556483296,null,null,null,null,0,0,null,null,null,null,null,null,0,0,null,null,null,null,null,null,null,null,null,null,null,null,null,34.92,1.7529999999999999,0,{"$error":"#DIV/0!"},{"$error":"#DIV/0!"}]
[null,null,null,null,null,1747,34.94,0,42.6513671875,{"$f":"FOURIER!M1749","v":0},{"$f":"FOURIER!N1749","v":0},null,null,267.9864436436215,null,null,null,null,0,0,null,null,null,null,null,null,0,0,null,null,null,null,null,null,null,null,null,null,null,null,null,34.94,1.653,0,{"$error":"#DIV/0!"},{"$error":"#DIV/0!"}]
[null,null,null,null,null,1748,34.96,0,42.67578125,{"$f":"FOURIER!M1750","v":0},{"$f":"FOURIER!N1750","v":0},null,null,268.1398417224101,null,null,null,null,0,0,null,null,null,null,null,null,0,0,null,null,null,null,null,null,null,null,null,null,null,null,null,34.96,1.55,0,{"$error":"#DIV/0!"},{"$error":"#DIV/0!"}]
[null,null,null,null,null,1749,34.980000000000004,0,42.7001953125,{"$f":"FOURIER!M1751","v":0},{"$f":"FOURIER!N1751","v":0},null,null,268.29323980119864,null,null,null,null,0,0,null,null,null,null,null,null,0,0,null,null,null,null,null,null,null,null,null,null,null,null,null,34.980000000000004,1.444,0,{"$error":"#DIV/0!"},{"$error":"#DIV/0!"}]
[null,null,null,null,null,1750,35,0,42.724609375,{"$f":"FOURIER!M1752","v":0},{"$f":"FOURIER!N1752","v":0},null,null,268.44663787998724,null,null,null,null,0,0,null,null,null,null,null,null,0,0,null,null,null,null,null,null,null,null,null,null,null,null,null,35,1.3360000000000001,0,{"$error":"#DIV/0!"},{"$error":"#DIV/0!"}]
[null,null,null,null,null,1751,35.020000000000003,0,42.7490234375,{"$f":"FOURIER!M1753","v":0},{"$f":"FOURIER!N1753","v":0},null,null,268.60003595877578,null,null,null,null,0,0,null,null,null,null,null,null,0,0,null,null,null,null,null,null,null,null,null,null,null,null,null,35.020000000000003,1.2250000000000001,0,{"$error":"#DIV/0!"},{"$error":"#DIV/0!"}]
[null,null,null,null,null,1752,35.04,0,42.7734375,{"$f":"FOURIER!M1754","v":0},{"$f":"FOURIER!N1754","v":0},null,null,268.75343403756432,null,null,null,null,0,0,null,null,null,null,null,null,0,0,null,null,null,null,null,null,null,null,null,null,null,null,null,35.04,1.113,0,{"$error":"#DIV/0!"},{"$error":"#DIV/0!"}]
[null,null,null,null,null,1753,35.06,0,42.7978515625,{"$f":"FOURIER!M1755","v":0},{"$f":"FOURIER!N1755","v":0},null,null,268.90683211635292,null,null,null,null,0,0,null,null,null,null,null,null,0,0,null,null,null,null,null,null,null,null,null,null,null,null,null,35.06,0.999,0,{"$error":"#DIV/0!"},{"$error":"#DIV/0!"}]
[null,null,null,null,null,1754,35.08,0,42.822265625,{"$f":"FOURIER!M1756","v":0},{"$f":"FOURIER!N1756","v":0},null,null,269.06023019514146,null,null,null,null,0,0,null,null,null,null,null,null,0,0,null,null,null,null,null,null,null,null,null,null,null,null,null,35.08,0.88300000000000001,0,{"$error":"#DIV/0!"},{"$error":"#DIV/0!"}]
[null,null,null,null,null,1755,35.1,0,42.8466796875,{"$f":"FOURIER!M1757","v":0},{"$f":"FOURIER!N1757","v":0},null,null,269.21362827393006,null,null,null,null,0,0,null,null,null,null,null,null,0,0,null,null,null,null,null,null,null,null,null,null,null,null,null,35.1,0.76600000000000001,0,{"$error":"#DIV/0!"},{"$error":"#DIV/0!"}]
[null,null,null,null,null,1756,35.119999999999997,0,42.87109375,{"$f":"FOURIER!M1758","v":0},{"$f":"FOURIER!N1758","v":0},null,null,269.3670263527186,null,null,null,null,0,0,null,null,null,null,null,null,0,0,null,null,null,null,null,null,null,null,null,null,null,null,null,35.119999999999997,0.64800000000000002,0,{"$error":"#DIV/0!"},{"$error":"#DIV/0!"}]
[null,null,null,null,null,1757,35.14,0,42.8955078125,{"$f":"FOURIER!M1759","v":0},{"$f":"FOURIER!N1759","v":0},null,null,269.52042443150714,null,null,null,null,0,0,null,null,null,null,null,null,0,0,null,null,null,null,null,null,null,null,null,null,null,null,null,35.14,0.52900000000000003,0,{"$error":"#DIV/0!"},{"$error":"#DIV/0!"}]
[null,null,null,null,null,1758,35.160000000000004,0,42.919921875,{"$f":"FOURIER!M1760","v":0},{"$f":"FOURIER!N1760","v":0},null,null,269.67382251029574,null,null,null,null,0,0,null,null,null,null,null,null,0,0,null,null,null,null,null,null,null,null,null,null,null,null,null,35.160000000000004,0.41,0,{"$error":"#DIV/0!"},{"$error":"#DIV/0!"}]
[null,null,null,null,null,1759,35.18,0,42.9443359375,{"$f":"FOURIER!M1761","v":0},{"$f":"FOURIER!N1761","v":0},null,null,269.82722058908428,null,null,null,null,0,0,null,null,null,null,null,null,0,0,null,null,null,null,null,null,null,null,null,null,null,null,null,35.18,0.28999999999999998,0,{"$error":"#DIV/0!"},{"$error":"#DIV/0!"}]
[null,null,null,null,null,1760,35.200000000000003,0,42.96875,{"$f":"FOURIER!M1762","v":0},{"$f":"FOURIER!N1762","v":0},null,null,269.98061866787287,null,null,null,null,0,0,null,null,null,null,null,null,0,0,null,null,null,null,null,null,null,null,null,null,null,null,null,35.200000000000003,0.17,0,{"$error":"#DIV/0!"},{"$error":"#DIV/0!"}]
[null,null,null,null,null,1761,35.22,0,42.9931640625,{"$f":"FOURIER!M1763","v":0},{"$f":"FOURIER!N1763","v":0},null,null,270.13401674666142,null,null,null,null,0,0,null,null,null,null,null,null,0,0,null,null,null,null,null,null,null,null,null,null,null,null,null,35.22,0.05,0,{"$error":"#DIV/0!"},{"$error":"#DIV/0!"}]
[null,null,null,null,null,1762,35.24,0,43.017578125,{"$f":"FOURIER!M1764","v":0},{"$f":"FOURIER!N1764","v":0},null,null,270.28741482545001,null,null,null,null,0,0,null,null,null,null,null,null,0,0,null,null,null,null,null,null,null,null,null,null,null,null,null,35.24,-6.9000000000000006E-2,0,{"$error":"#DIV/0!"},{"$error":"#DIV/0!"}]
[null,null,null,null,null,1763,35.26,0,43.0419921875,{"$f":"FOURIER!M1765","v":0},{"$f":"FOURIER!N1765","v":0},null,null,270.44081290423856,null,null,null,null,0,0,null,null,null,null,null,null,0,0,null,null,null,null,null,null,null,null,null,null,null,null,null,35.26,-0.188,0,{"$error":"#DIV/0!"},{"$error":"#DIV/0!"}]
[null,null,null,null,null,1764,35.28,0,43.06640625,{"$f":"FOURIER!M1766","v":0},{"$f":"FOURIER!N1766","v":0},null,null,270.5942109830271,null,null,null,null,0,0,null,null,null,null,null,null,0,0,null,null,null,null,null,null,null,null,null,null,null,null,null,35.28,-0.30599999999999999,0,{"$error":"#DIV/0!"},{"$error":"#DIV/0!"}]
[null,null,null,null,null,1765,35.300000000000004,0,43.0908203125,{"$f":"FOURIER!M1767","v":0},{"$f":"FOURIER!N1767","v":0},null,null,270.74760906181569,null,null,null,null,0,0,null,null,null,null,null,null,0,0,null,null,null,null,null,null,null,null,null,null,null,null,null,35.300000000000004,-0.42299999999999999,0,{"$error":"#DIV/0!"},{"$error":"#DIV/0!"}]
[null,null,null,null,null,1766,35.32,0,43.115234375,{"$f":"FOURIER!M1768","v":0},{"$f":"FOURIER!N1768","v":0},null,null,270.90100714060424,null,null,null,null,0,0,null,null,null,null,null,null,0,0,null,null,null,null,null,null,null,null,null,null,null,null,null,35.32,-0.53800000000000003,0,{"$error":"#DIV/0!"},{"$error":"#DIV/0!"}]
[null,null,null,null,null,1767,35.340000000000003,0,43.1396484375,{"$f":"FOURIER!M1769","v":0},{"$f":"FOURIER!N1769","v":0},null,null,271.05440521939283,null,null,null,null,0,0,null,null,null,null,null,null,0,0,null,null,null,null,null,null,null,null,null,null,null,null,null,35.340000000000003,-0.65200000000000002,0,{"$error":"#DIV/0!"},{"$error":"#DIV/0!"}]
[null,null,null,null,null,1768,35.36,0,43.1640625,{"$f":"FOURIER!M1770","v":0},{"$f":"FOURIER!N1770","v":0},null,null,271.20780329818137,null,null,null,null,0,0,null,null,null,null,null,null,0,0,null,null,null,null,null,null,null,null,null,null,null,null,null,35.36,-0.76500000000000001,0,{"$error":"#DIV/0!"},{"$error":"#DIV/0!"}]
[null,null,null,null,null,1769,35.380000000000003,0,43.1884765625,{"$f":"FOURIER!M1771","v":0},{"$f":"FOURIER!N1771","v":0},null,null,271.36120137696992,null,null,null,null,0,0,null,null,null,null,null,null,0,0,null,null,null,null,null,null,null,null,null,null,null,null,null,35.380000000000003,-0.875,0,{"$error":"#DIV/0!"},{"$error":"#DIV/0!"}]
[null,null,null,null,null,1770,35.4,0,43.212890625,{"$f":"FOURIER!M1772","v":0},{"$f":"FOURIER!N1772","v":0},null,null,271.51459945575851,null,null,null,null,0,0,null,null,null,null,null,null,0,0,null,null,null,null,null,null,null,null,null,null,null,null,null,35.4,-0.98299999999999998,0,{"$error":"#DIV/0!"},{"$error":"#DIV/0!"}]
[null,null,null,null,null,1771,35.42,0,43.2373046875,{"$f":"FOURIER!M1773","v":0},{"$f":"FOURIER!N1773","v":0},null,null,271.66799753454706,null,null,null,null,0,0,null,null,null,null,null,null,0,0,null,null,null,null,null,null,null,null,null,null,null,null,null,35.42,-1.089,0,{"$error":"#DIV/0!"},{"$error":"#DIV/0!"}]
[null,null,null,null,null,1772,35.44,0,43.26171875,{"$f":"FOURIER!M1774","v":0},{"$f":"FOURIER!N1774","v":0},null,null,271.82139561333565,null,null,null,null,0,0,null,null,null,null,null,null,0,0,null,null,null,null,null,null,null,null,null,null,null,null,null,35.44,-1.1919999999999999,0,{"$error":"#DIV/0!"},{"$error":"#DIV/0!"}]
[null,null,null,null,null,1773,35.46,0,43.2861328125,{"$f":"FOURIER!M1775","v":0},{"$f":"FOURIER!N1775","v":0},null,null,271.97479369212419,null,null,null,null,0,0,null,null,null,null,null,null,0,0,null,null,null,null,null,null,null,null,null,null,null,null,null,35.46,-1.292,0,{"$error":"#DIV/0!"},{"$error":"#DIV/0!"}]
[null,null,null,null,null,1774,35.480000000000004,0,43.310546875,{"$f":"FOURIER!M1776","v":0},{"$f":"FOURIER!N1776","v":0},null,null,272.12819177091274,null,null,null,null,0,0,null,null,null,null,null,null,0,0,null,null,null,null,null,null,null,null,null,null,null,null,null,35.480000000000004,-1.389,0,{"$error":"#DIV/0!"},{"$error":"#DIV/0!"}]
[null,null,null,null,null,1775,35.5,0,43.3349609375,{"$f":"FOURIER!M1777","v":0},{"$f":"FOURIER!N1777","v":0},null,null,272.28158984970133,null,null,null,null,0,0,null,null,null,null,null,null,0,0,null,null,null,null,null,null,null,null,null,null,null,null,null,35.5,-1.4830000000000001,0,{"$error":"#DIV/0!"},{"$error":"#DIV/0!"}]
[null,null,null,null,null,1776,35.520000000000003,0,43.359375,{"$f":"FOURIER!M1778","v":0},{"$f":"FOURIER!N1778","v":0},null,null,272.43498792848987,null,null,null,null,0,0,null,null,null,null,null,null,0,0,null,null,null,null,null,null,null,null,null,null,null,null,null,35.520000000000003,-1.5740000000000001,0,{"$error":"#DIV/0!"},{"$error":"#DIV/0!"}]
[null,null,null,null,null,1777,35.54,0,43.3837890625,{"$f":"FOURIER!M1779","v":0},{"$f":"FOURIER!N1779","v":0},null,null,272.58838600727847,null,null,null,null,0,0,null,null,null,null,null,null,0,0,null,null,null,null,null,null,null,null,null,null,null,null,null,35.54,-1.6619999999999999,0,{"$error":"#DIV/0!"},{"$error":"#DIV/0!"}]
[null,null,null,null,null,1778,35.56,0,43.408203125,{"$f":"FOURIER!M1780","v":0},{"$f":"FOURIER!N1780","v":0},null,null,272.74178408606701,null,null,null,null,0,0,null,null,null,null,null,null,0,0,null,null,null,null,null,null,null,null,null,null,null,null,null,35.56,-1.7450000000000001,0,{"$error":"#DIV/0!"},{"$error":"#DIV/0!"}]
[null,null,null,null,null,1779,35.58,0,43.4326171875,{"$f":"FOURIER!M1781","v":0},{"$f":"FOURIER!N1781","v":0},null,null,272.89518216485556,null,null,null,null,0,0,null,null,null,null,null,null,0,0,null,null,null,null,null,null,null,null,null,null,null,null,null,35.58,-1.825,0,{"$error":"#DIV/0!"},{"$error":"#DIV/0!"}]
[null,null,null,null,null,1780,35.6,0,43.45703125,{"$f":"FOURIER!M1782","v":0},{"$f":"FOURIER!N1782","v":0},null,null,273.04858024364415,null,null,null,null,0,0,null,null,null,null,null,null,0,0,null,null,null,null,null,null,null,null,null,null,null,null,null,35.6,-1.901,0,{"$error":"#DIV/0!"},{"$error":"#DIV/0!"}]
[null,null,null,null,null,1781,35.619999999999997,0,43.4814453125,{"$f":"FOURIER!M1783","v":0},{"$f":"FOURIER!N1783","v":0},null,null,273.20197832243269,null,null,null,null,0,0,null,null,null,null,null,null,0,0,null,null,null,null,null,null,null,null,null,null,null,null,null,35.619999999999997,-1.9730000000000001,0,{"$error":"#DIV/0!"},{"$error":"#DIV/0!"}]
[null,null,null,null,null,1782,35.64,0,43.505859375,{"$f":"FOURIER!M1784","v":0},{"$f":"FOURIER!N1784","v":0},null,null,273.35537640122129,null,null,null,null,0,0,null,null,null,null,null,null,0,0,null,null,null,null,null,null,null,null,null,null,null,null,null,35.64,-2.04,0,{"$error":"#DIV/0!"},{"$error":"#DIV/0!"}]
[null,null,null,null,null,1783,35.660000000000004,0,43.5302734375,{"$f":"FOURIER!M1785","v":0},{"$f":"FOURIER!N1785","v":0},null,null,273.50877448000983,null,null,null,null,0,0,null,null,null,null,null,null,0,0,null,null,null,null,null,null,null,null,null,null,null,null,null,35.660000000000004,-2.1030000000000002,0,{"$error":"#DIV/0!"},{"$error":"#DIV/0!"}]
[null,null,null,null,null,1784,35.68,0,43.5546875,{"$f":"FOURIER!M1786","v":0},{"$f":"FOURIER!N1786","v":0},null,null,273.66217255879837,null,null,null,null,0,0,null,null,null,null,null,null,0,0,null,null,null,null,null,null,null,null,null,null,null,null,null,35.68,-2.1619999999999999,0,{"$error":"#DIV/0!"},{"$error":"#DIV/0!"}]
[null,null,null,null,null,1785,35.700000000000003,0,43.5791015625,{"$f":"FOURIER!M1787","v":0},{"$f":"FOURIER!N1787","v":0},null,null,273.81557063758697,null,null,null,null,0,0,null,null,null,null,null,null,0,0,null,null,null,null,null,null,null,null,null,null,null,null,null,35.700000000000003,-2.2160000000000002,0,{"$error":"#DIV/0!"},{"$error":"#DIV/0!"}]
[null,null,null,null,null,1786,35.72,0,43.603515625,{"$f":"FOURIER!M1788","v":0},{"$f":"FOURIER!N1788","v":0},null,null,273.96896871637551,null,null,null,null,0,0,null,null,null,null,null,null,0,0,null,null,null,null,null,null,null,null,null,null,null,null,null,35.72,-2.266,0,{"$error":"#DIV/0!"},{"$error":"#DIV/0!"}]
[null,null,null,null,null,1787,35.74,0,43.6279296875,{"$f":"FOURIER!M1789","v":0},{"$f":"FOURIER!N1789","v":0},null,null,274.12236679516411,null,null,null,null,0,0,null,null,null,null,null,null,0,0,null,null,null,null,null,null,null,null,null,null,null,null,null,35.74,-2.3109999999999999,0,{"$error":"#DIV/0!"},{"$error":"#DIV/0!"}]
[null,null,null,null,null,1788,35.76,0,43.65234375,{"$f":"FOURIER!M1790","v":0},{"$f":"FOURIER!N1790","v":0},null,null,274.27576487395265,null,null,null,null,0,0,null,null,null,null,null,null,0,0,null,null,null,null,null,null,null,null,null,null,null,null,null,35.76,-2.351,0,{"$error":"#DIV/0!"},{"$error":"#DIV/0!"}]
[null,null,null,null,null,1789,35.78,0,43.6767578125,{"$f":"FOURIER!M1791","v":0},{"$f":"FOURIER!N1791","v":0},null,null,274.42916295274119,null,null,null,null,0,0,null,null,null,null,null,null,0,0,null,null,null,null,null,null,null,null,null,null,null,null,null,35.78,-2.3860000000000001,0,{"$error":"#DIV/0!"},{"$error":"#DIV/0!"}]
[null,null,null,null,null,1790,35.800000000000004,0,43.701171875,{"$f":"FOURIER!M1792","v":0},{"$f":"FOURIER!N1792","v":0},null,null,274.58256103152979,null,null,null,null,0,0,null,null,null,null,null,null,0,0,null,null,null,null,null,null,null,null,null,null,null,null,null,35.800000000000004,-2.4159999999999999,0,{"$error":"#DIV/0!"},{"$error":"#DIV/0!"}]
[null,null,null,null,null,1791,35.82,0,43.7255859375,{"$f":"FOURIER!M1793","v":0},{"$f":"FOURIER!N1793","v":0},null,null,274.73595911031833,null,null,null,null,0,0,null,null,null,null,null,null,0,0,null,null,null,null,null,null,null,null,null,null,null,null,null,35.82,-2.4409999999999998,0,{"$error":"#DIV/0!"},{"$error":"#DIV/0!"}]
[null,null,null,null,null,1792,35.840000000000003,0,43.75,{"$f":"FOURIER!M1794","v":0},{"$f":"FOURIER!N1794","v":0},null,null,{"$f":"2*PI()/B$9/B$6*F1794","v":274.88935718910693},null,null,null,null,{"$f":"J1794*O1794-K1794*P1794","v":0},{"$f":"J1794*P1794+K1794*O1794","v":0},null,null,null,null,null,null,0,0,null,null,null,null,null,null,null,null,null,null,null,null,null,{"$f":"G1794","v":35.840000000000003},-2.4620000000000002,0,{"$error":"#DIV/0!"},{"$error":"#DIV/0!"}]
[null,null,null,null,null,1793,{"$f":"B$6*F1795","v":35.86},0,{"$f":"F1795/B$9/B$6","v":43.7744140625},{"$f":"FOURIER!M1795","v":0},{"$f":"FOURIER!N1795","v":0},null,null,275.04275526789547,null,null,null,null,0,0,null,null,null,null,null,null,{"$f":"(Y1795-Y1794)/B$6","v":0},{"$f":"(AA1795-AA1794)/B$6+H1795","v":0},null,null,null,null,null,null,null,null,null,null,null,null,null,35.86,-2.4769999999999999,0,{"$f":"(AQ1795-AQ1794)/O$6","v":{"$error":"#DIV/0!"}},{"$f":"(AS1795-AS1794)/O$6+S1795","v":{"$error":"#DIV/0!"}}]
[null,null,null,null,null,1794,35.880000000000003,0,43.798828125,{"$f":"FOURIER!M1796","v":0},{"$f":"FOURIER!N1796","v":0},null,null,275.19615334668401,null,null,null,null,0,0,null,null,null,null,null,null,0,0,null,null,null,null,null,null,null,null,null,null,null,null,null,35.880000000000003,-2.4870000000000001,0,{"$error":"#DIV/0!"},{"$error":"#DIV/0!"}]
[null,null,null,null,null,1795,35.9,0,43.8232421875,{"$f":"FOURIER!M1797","v":0},{"$f":"FOURIER!N1797","v":0},null,null,275.34955142547261,null,null,null,null,0,0,null,null,null,null,null,null,0,0,null,null,null,null,null,null,null,null,null,null,null,null,null,35.9,-2.492,0,{"$error":"#DIV/0!"},{"$error":"#DIV/0!"}]
[null,null,null,null,null,1796,35.92,0,43.84765625,{"$f":"FOURIER!M1798","v":0},{"$f":"FOURIER!N1798","v":0},null,null,275.50294950426115,null,null,null,null,0,0,null,null,null,null,null,null,0,0,null,null,null,null,null,null,null,null,null,null,null,null,null,35.92,-2.4929999999999999,0,{"$error":"#DIV/0!"},{"$error":"#DIV/0!"}]
[null,null,null,null,null,1797,35.94,0,43.8720703125,{"$f":"FOURIER!M1799","v":0},{"$f":"FOURIER!N1799","v":0},null,null,275.65634758304975,null,null,null,null,0,0,null,null,null,null,null,null,0,0,null,null,null,null,null,null,null,null,null,null,null,null,null,35.94,-2.488,0,{"$error":"#DIV/0!"},{"$error":"#DIV/0!"}]
[null,null,null,null,null,1798,35.96,0,43.896484375,{"$f":"FOURIER!M1800","v":0},{"$f":"FOURIER!N1800","v":0},null,null,275.80974566183829,null,null,null,null,0,0,null,null,null,null,null,null,0,0,null,null,null,null,null,null,null,null,null,null,null,null,null,35.96,-2.4780000000000002,0,{"$error":"#DIV/0!"},{"$error":"#DIV/0!"}]
[null,null,null,null,null,1799,35.980000000000004,0,43.9208984375,{"$f":"FOURIER!M1801","v":0},{"$f":"FOURIER!N1801","v":0},null,null,275.96314374062683,null,null,null,null,0,0,null,null,null,null,null,null,0,0,null,null,null,null,null,null,null,null,null,null,null,null,null,35.980000000000004,-2.464,0,{"$error":"#DIV/0!"},{"$error":"#DIV/0!"}]
[null,null,null,null,null,1800,36,0,43.9453125,{"$f":"FOURIER!M1802","v":0},{"$f":"FOURIER!N1802","v":0},null,null,276.11654181941543,null,null,null,null,0,0,null,null,null,null,null,null,0,0,null,null,null,null,null,null,null,null,null,null,null,null,null,36,-2.4449999999999998,0,{"$error":"#DIV/0!"},{"$error":"#DIV/0!"}]
[null,null,null,null,null,1801,36.020000000000003,0,43.9697265625,{"$f":"FOURIER!M1803","v":0},{"$f":"FOURIER!N1803","v":0},null,null,276.26993989820397,null,null,null,null,0,0,null,null,null,null,null,null,0,0,null,null,null,null,null,null,null,null,null,null,null,null,null,36.020000000000003,-2.42,0,{"$error":"#DIV/0!"},{"$error":"#DIV/0!"}]
[null,null,null,null,null,1802,36.04,0,43.994140625,{"$f":"FOURIER!M1804","v":0},{"$f":"FOURIER!N1804","v":0},null,null,276.42333797699257,null,null,null,null,0,0,null,null,null,null,null,null,0,0,null,null,null,null,null,null,null,null,null,null,null,null,null,36.04,-2.391,0,{"$error":"#DIV/0!"},{"$error":"#DIV/0!"}]
[null,null,null,null,null,1803,36.06,0,44.0185546875,{"$f":"FOURIER!M1805","v":0},{"$f":"FOURIER!N1805","v":0},null,null,276.57673605578111,null,null,null,null,0,0,null,null,null,null,null,null,0,0,null,null,null,null,null,null,null,null,null,null,null,null,null,36.06,-2.3580000000000001,0,{"$error":"#DIV/0!"},{"$error":"#DIV/0!"}]
[null,null,null,null,null,1804,36.08,0,44.04296875,{"$f":"FOURIER!M1806","v":0},{"$f":"FOURIER!N1806","v":0},null,null,276.73013413456965,null,null,null,null,0,0,null,null,null,null,null,null,0,0,null,null,null,null,null,null,null,null,null,null,null,null,null,36.08,-2.3199999999999998,0,{"$error":"#DIV/0!"},{"$error":"#DIV/0!"}]
[null,null,null,null,null,1805,36.1,0,44.0673828125,{"$f":"FOURIER!M1807","v":0},{"$f":"FOURIER!N1807","v":0},null,null,276.88353221335825,null,null,null,null,0,0,null,null,null,null,null,null,0,0,null,null,null,null,null,null,null,null,null,null,null,null,null,36.1,-2.2770000000000001,0,{"$error":"#DIV/0!"},{"$error":"#DIV/0!"}]
[null,null,null,null,null,1806,36.119999999999997,0,44.091796875,{"$f":"FOURIER!M1808","v":0},{"$f":"FOURIER!N1808","v":0},null,null,277.03693029214679,null,null,null,null,0,0,null,null,null,null,null,null,0,0,null,null,null,null,null,null,null,null,null,null,null,null,null,36.119999999999997,-2.23,0,{"$error":"#DIV/0!"},{"$error":"#DIV/0!"}]
[null,null,null,null,null,1807,36.14,0,44.1162109375,{"$f":"FOURIER!M1809","v":0},{"$f":"FOURIER!N1809","v":0},null,null,277.19032837093539,null,null,null,null,0,0,null,null,null,null,null,null,0,0,null,null,null,null,null,null,null,null,null,null,null,null,null,36.14,-2.1789999999999998,0,{"$error":"#DIV/0!"},{"$error":"#DIV/0!"}]
[null,null,null,null,null,1808,36.160000000000004,0,44.140625,{"$f":"FOURIER!M1810","v":0},{"$f":"FOURIER!N1810","v":0},null,null,277.34372644972393,null,null,null,null,0,0,null,null,null,null,null,null,0,0,null,null,null,null,null,null,null,null,null,null,null,null,null,36.160000000000004,-2.1230000000000002,0,{"$error":"#DIV/0!"},{"$error":"#DIV/0!"}]
[null,null,null,null,null,1809,36.18,0,44.1650390625,{"$f":"FOURIER!M1811","v":0},{"$f":"FOURIER!N1811","v":0},null,null,277.49712452851247,null,null,null,null,0,0,null,null,null,null,null,null,0,0,null,null,null,null,null,null,null,null,null,null,null,null,null,36.18,-2.0640000000000001,0,{"$error":"#DIV/0!"},{"$error":"#DIV/0!"}]
[null,null,null,null,null,1810,36.200000000000003,0,44.189453125,{"$f":"FOURIER!M1812","v":0},{"$f":"FOURIER!N1812","v":0},null,null,277.65052260730107,null,null,null,null,0,0,null,null,null,null,null,null,0,0,null,null,null,null,null,null,null,null,null,null,null,null,null,36.200000000000003,-2,0,{"$error":"#DIV/0!"},{"$error":"#DIV/0!"}]
[null,null,null,null,null,1811,36.22,0,44.2138671875,{"$f":"FOURIER!M1813","v":0},{"$f":"FOURIER!N1813","v":0},null,null,277.80392068608961,null,null,null,null,0,0,null,null,null,null,null,null,0,0,null,null,null,null,null,null,null,null,null,null,null,null,null,36.22,-1.9330000000000001,0,{"$error":"#DIV/0!"},{"$error":"#DIV/0!"}]
[null,null,null,null,null,1812,36.24,0,44.23828125,{"$f":"FOURIER!M1814","v":0},{"$f":"FOURIER!N1814","v":0},null,null,277.95731876487821,null,null,null,null,0,0,null,null,null,null,null,null,0,0,null,null,null,null,null,null,null,null,null,null,null,null,null,36.24,-1.8620000000000001,0,{"$error":"#DIV/0!"},{"$error":"#DIV/0!"}]
[null,null,null,null,null,1813,36.26,0,44.2626953125,{"$f":"FOURIER!M1815","v":0},{"$f":"FOURIER!N1815","v":0},null,null,278.11071684366675,null,null,null,null,0,0,null,null,null,null,null,null,0,0,null,null,null,null,null,null,null,null,null,null,null,null,null,36.26,-1.788,0,{"$error":"#DIV/0!"},{"$error":"#DIV/0!"}]
[null,null,null,null,null,1814,36.28,0,44.287109375,{"$f":"FOURIER!M1816","v":0},{"$f":"FOURIER!N1816","v":0},null,null,278.26411492245535,null,null,null,null,0,0,null,null,null,null,null,null,0,0,null,null,null,null,null,null,null,null,null,null,null,null,null,36.28,-1.7110000000000001,0,{"$error":"#DIV/0!"},{"$error":"#DIV/0!"}]
[null,null,null,null,null,1815,36.300000000000004,0,44.3115234375,{"$f":"FOURIER!M1817","v":0},{"$f":"FOURIER!N1817","v":0},null,null,278.41751300124389,null,null,null,null,0,0,null,null,null,null,null,null,0,0,null,null,null,null,null,null,null,null,null,null,null,null,null,36.300000000000004,-1.63,0,{"$error":"#DIV/0!"},{"$error":"#DIV/0!"}]
[null,null,null,null,null,1816,36.32,0,44.3359375,{"$f":"FOURIER!M1818","v":0},{"$f":"FOURIER!N1818","v":0},null,null,278.57091108003243,null,null,null,null,0,0,null,null,null,null,null,null,0,0,null,null,null,null,null,null,null,null,null,null,null,null,null,36.32,-1.5469999999999999,0,{"$error":"#DIV/0!"},{"$error":"#DIV/0!"}]
[null,null,null,null,null,1817,36.340000000000003,0,44.3603515625,{"$f":"FOURIER!M1819","v":0},{"$f":"FOURIER!N1819","v":0},null,null,278.72430915882103,null,null,null,null,0,0,null,null,null,null,null,null,0,0,null,null,null,null,null,null,null,null,null,null,null,null,null,36.340000000000003,-1.4610000000000001,0,{"$error":"#DIV/0!"},{"$error":"#DIV/0!"}]
[null,null,null,null,null,1818,36.36,0,44.384765625,{"$f":"FOURIER!M1820","v":0},{"$f":"FOURIER!N1820","v":0},null,null,278.87770723760957,null,null,null,null,0,0,null,null,null,null,null,null,0,0,null,null,null,null,null,null,null,null,null,null,null,null,null,36.36,-1.3720000000000001,0,{"$error":"#DIV/0!"},{"$error":"#DIV/0!"}]
[null,null,null,null,null,1819,36.380000000000003,0,44.4091796875,{"$f":"FOURIER!M1821","v":0},{"$f":"FOURIER!N1821","v":0},null,null,279.03110531639817,null,null,null,null,0,0,null,null,null,null,null,null,0,0,null,null,null,null,null,null,null,null,null,null,null,null,null,36.380000000000003,-1.2809999999999999,0,{"$error":"#DIV/0!"},{"$error":"#DIV/0!"}]
[null,null,null,null,null,1820,36.4,0,44.43359375,{"$f":"FOURIER!M1822","v":0},{"$f":"FOURIER!N1822","v":0},null,null,279.18450339518671,null,null,null,null,0,0,null,null,null,null,null,null,0,0,null,null,null,null,null,null,null,null,null,null,null,null,null,36.4,-1.1870000000000001,0,{"$error":"#DIV/0!"},{"$error":"#DIV/0!"}]
[null,null,null,null,null,1821,36.42,0,44.4580078125,{"$f":"FOURIER!M1823","v":0},{"$f":"FOURIER!N1823","v":0},null,null,279.33790147397525,null,null,null,null,0,0,null,null,null,null,null,null,0,0,null,null,null,null,null,null,null,null,null,null,null,null,null,36.42,-1.0920000000000001,0,{"$error":"#DIV/0!"},{"$error":"#DIV/0!"}]
[null,null,null,null,null,1822,36.44,0,44.482421875,{"$f":"FOURIER!M1824","v":0},{"$f":"FOURIER!N1824","v":0},null,null,279.49129955276385,null,null,null,null,0,0,null,null,null,null,null,null,0,0,null,null,null,null,null,null,null,null,null,null,null,null,null,36.44,-0.995,0,{"$error":"#DIV/0!"},{"$error":"#DIV/0!"}]
[null,null,null,null,null,1823,36.46,0,44.5068359375,{"$f":"FOURIER!M1825","v":0},{"$f":"FOURIER!N1825","v":0},null,null,279.64469763155239,null,null,null,null,0,0,null,null,null,null,null,null,0,0,null,null,null,null,null,null,null,null,null,null,null,null,null,36.46,-0.89600000000000002,0,{"$error":"#DIV/0!"},{"$error":"#DIV/0!"}]
[null,null,null,null,null,1824,36.480000000000004,0,44.53125,{"$f":"FOURIER!M1826","v":0},{"$f":"FOURIER!N1826","v":0},null,null,279.79809571034099,null,null,null,null,0,0,null,null,null,null,null,null,0,0,null,null,null,null,null,null,null,null,null,null,null,null,null,36.480000000000004,-0.79600000000000004,0,{"$error":"#DIV/0!"},{"$error":"#DIV/0!"}]
[null,null,null,null,null,1825,36.5,0,44.5556640625,{"$f":"FOURIER!M1827","v":0},{"$f":"FOURIER!N1827","v":0},null,null,279.95149378912953,null,null,null,null,0,0,null,null,null,null,null,null,0,0,null,null,null,null,null,null,null,null,null,null,null,null,null,36.5,-0.69399999999999995,0,{"$error":"#DIV/0!"},{"$error":"#DIV/0!"}]
[null,null,null,null,null,1826,36.520000000000003,0,44.580078125,{"$f":"FOURIER!M1828","v":0},{"$f":"FOURIER!N1828","v":0},null,null,280.10489186791807,null,null,null,null,0,0,null,null,null,null,null,null,0,0,null,null,null,null,null,null,null,null,null,null,null,null,null,36.520000000000003,-0.59199999999999997,0,{"$error":"#DIV/0!"},{"$error":"#DIV/0!"}]
[null,null,null,null,null,1827,36.54,0,44.6044921875,{"$f":"FOURIER!M1829","v":0},{"$f":"FOURIER!N1829","v":0},null,null,280.25828994670667,null,null,null,null,0,0,null,null,null,null,null,null,0,0,null,null,null,null,null,null,null,null,null,null,null,null,null,36.54,-0.48899999999999999,0,{"$error":"#DIV/0!"},{"$error":"#DIV/0!"}]
[null,null,null,null,null,1828,36.56,0,44.62890625,{"$f":"FOURIER!M1830","v":0},{"$f":"FOURIER!N1830","v":0},null,null,280.41168802549521,null,null,null,null,0,0,null,null,null,null,null,null,0,0,null,null,null,null,null,null,null,null,null,null,null,null,null,36.56,-0.38500000000000001,0,{"$error":"#DIV/0!"},{"$error":"#DIV/0!"}]
[null,null,null,null,null,1829,36.58,0,44.6533203125,{"$f":"FOURIER!M1831","v":0},{"$f":"FOURIER!N1831","v":0},null,null,280.56508610428381,null,null,null,null,0,0,null,null,null,null,null,null,0,0,null,null,null,null,null,null,null,null,null,null,null,null,null,36.58,-0.28100000000000003,0,{"$error":"#DIV/0!"},{"$error":"#DIV/0!"}]
[null,null,null,null,null,1830,36.6,0,44.677734375,{"$f":"FOURIER!M1832","v":0},{"$f":"FOURIER!N1832","v":0},null,null,280.71848418307235,null,null,null,null,0,0,null,null,null,null,null,null,0,0,null,null,null,null,null,null,null,null,null,null,null,null,null,36.6,-0.17699999999999999,0,{"$error":"#DIV/0!"},{"$error":"#DIV/0!"}]
[null,null,null,null,null,1831,36.619999999999997,0,44.7021484375,{"$f":"FOURIER!M1833","v":0},{"$f":"FOURIER!N1833","v":0},null,null,280.87188226186089,null,null,null,null,0,0,null,null,null,null,null,null,0,0,null,null,null,null,null,null,null,null,null,null,null,null,null,36.619999999999997,-7.2999999999999995E-2,0,{"$error":"#DIV/0!"},{"$error":"#DIV/0!"}]
[null,null,null,null,null,1832,36.64,0,44.7265625,{"$f":"FOURIER!M1834","v":0},{"$f":"FOURIER!N1834","v":0},null,null,281.02528034064949,null,null,null,null,0,0,null,null,null,null,null,null,0,0,null,null,null,null,null,null,null,null,null,null,null,null,null,36.64,3.1E-2,0,{"$error":"#DIV/0!"},{"$error":"#DIV/0!"}]
[null,null,null,null,null,1833,36.660000000000004,0,44.7509765625,{"$f":"FOURIER!M1835","v":0},{"$f":"FOURIER!N1835","v":0},null,null,281.17867841943803,null,null,null,null,0,0,null,null,null,null,null,null,0,0,null,null,null,null,null,null,null,null,null,null,null,null,null,36.660000000000004,0.13400000000000001,0,{"$error":"#DIV/0!"},{"$error":"#DIV/0!"}]
[null,null,null,null,null,1834,36.68,0,44.775390625,{"$f":"FOURIER!M1836","v":0},{"$f":"FOURIER!N1836","v":0},null,null,281.33207649822663,null,null,null,null,0,0,null,null,null,null,null,null,0,0,null,null,null,null,null,null,null,null,null,null,null,null,null,36.68,0.23699999999999999,0,{"$error":"#DIV/0!"},{"$error":"#DIV/0!"}]
[null,null,null,null,null,1835,36.700000000000003,0,44.7998046875,{"$f":"FOURIER!M1837","v":0},{"$f":"FOURIER!N1837","v":0},null,null,281.48547457701517,null,null,null,null,0,0,null,null,null,null,null,null,0,0,null,null,null,null,null,null,null,null,null,null,null,null,null,36.700000000000003,0.33900000000000002,0,{"$error":"#DIV/0!"},{"$error":"#DIV/0!"}]
[null,null,null,null,null,1836,36.72,0,44.82421875,{"$f":"FOURIER!M1838","v":0},{"$f":"FOURIER!N1838","v":0},null,null,281.63887265580371,null,null,null,null,0,0,null,null,null,null,null,null,0,0,null,null,null,null,null,null,null,null,null,null,null,null,null,36.72,0.439,0,{"$error":"#DIV/0!"},{"$error":"#DIV/0!"}]
[null,null,null,null,null,1837,36.74,0,44.8486328125,{"$f":"FOURIER!M1839","v":0},{"$f":"FOURIER!N1839","v":0},null,null,281.79227073459231,null,null,null,null,0,0,null,null,null,null,null,null,0,0,null,null,null,null,null,null,null,null,null,null,null,null,null,36.74,0.53900000000000003,0,{"$error":"#DIV/0!"},{"$error":"#DIV/0!"}]
[null,null,null,null,null,1838,36.76,0,44.873046875,{"$f":"FOURIER!M1840","v":0},{"$f":"FOURIER!N1840","v":0},null,null,281.94566881338085,null,null,null,null,0,0,null,null,null,null,null,null,0,0,null,null,null,null,null,null,null,null,null,null,null,null,null,36.76,0.63700000000000001,0,{"$error":"#DIV/0!"},{"$error":"#DIV/0!"}]
[null,null,null,null,null,1839,36.78,0,44.8974609375,{"$f":"FOURIER!M1841","v":0},{"$f":"FOURIER!N1841","v":0},null,null,282.09906689216945,null,null,null,null,0,0,null,null,null,null,null,null,0,0,null,null,null,null,null,null,null,null,null,null,null,null,null,36.78,0.73299999999999998,0,{"$error":"#DIV/0!"},{"$error":"#DIV/0!"}]
[null,null,null,null,null,1840,36.800000000000004,0,44.921875,{"$f":"FOURIER!M1842","v":0},{"$f":"FOURIER!N1842","v":0},null,null,282.25246497095799,null,null,null,null,0,0,null,null,null,null,null,null,0,0,null,null,null,null,null,null,null,null,null,null,null,null,null,36.800000000000004,0.82799999999999996,0,{"$error":"#DIV/0!"},{"$error":"#DIV/0!"}]
[null,null,null,null,null,1841,36.82,0,44.9462890625,{"$f":"FOURIER!M1843","v":0},{"$f":"FOURIER!N1843","v":0},null,null,282.40586304974653,null,null,null,null,0,0,null,null,null,null,null,null,0,0,null,null,null,null,null,null,null,null,null,null,null,null,null,36.82,0.92,0,{"$error":"#DIV/0!"},{"$error":"#DIV/0!"}]
[null,null,null,null,null,1842,36.840000000000003,0,44.970703125,{"$f":"FOURIER!M1844","v":0},{"$f":"FOURIER!N1844","v":0},null,null,282.55926112853513,null,null,null,null,0,0,null,null,null,null,null,null,0,0,null,null,null,null,null,null,null,null,null,null,null,null,null,36.840000000000003,1.01,0,{"$error":"#DIV/0!"},{"$error":"#DIV/0!"}]
[null,null,null,null,null,1843,36.86,0,44.9951171875,{"$f":"FOURIER!M1845","v":0},{"$f":"FOURIER!N1845","v":0},null,null,282.71265920732367,null,null,null,null,0,0,null,null,null,null,null,null,0,0,null,null,null,null,null,null,null,null,null,null,null,null,null,36.86,1.0980000000000001,0,{"$error":"#DIV/0!"},{"$error":"#DIV/0!"}]
[null,null,null,null,null,1844,36.880000000000003,0,45.01953125,{"$f":"FOURIER!M1846","v":0},{"$f":"FOURIER!N1846","v":0},null,null,282.86605728611227,null,null,null,null,0,0,null,null,null,null,null,null,0,0,null,null,null,null,null,null,null,null,null,null,null,null,null,36.880000000000003,1.1830000000000001,0,{"$error":"#DIV/0!"},{"$error":"#DIV/0!"}]
[null,null,null,null,null,1845,36.9,0,45.0439453125,{"$f":"FOURIER!M1847","v":0},{"$f":"FOURIER!N1847","v":0},null,null,283.01945536490081,null,null,null,null,0,0,null,null,null,null,null,null,0,0,null,null,null,null,null,null,null,null,null,null,null,null,null,36.9,1.266,0,{"$error":"#DIV/0!"},{"$error":"#DIV/0!"}]
[null,null,null,null,null,1846,36.92,0,45.068359375,{"$f":"FOURIER!M1848","v":0},{"$f":"FOURIER!N1848","v":0},null,null,283.17285344368935,null,null,null,null,0,0,null,null,null,null,null,null,0,0,null,null,null,null,null,null,null,null,null,null,null,null,null,36.92,1.3460000000000001,0,{"$error":"#DIV/0!"},{"$error":"#DIV/0!"}]
[null,null,null,null,null,1847,36.94,0,45.0927734375,{"$f":"FOURIER!M1849","v":0},{"$f":"FOURIER!N1849","v":0},null,null,283.32625152247795,null,null,null,null,0,0,null,null,null,null,null,null,0,0,null,null,null,null,null,null,null,null,null,null,null,null,null,36.94,1.4219999999999999,0,{"$error":"#DIV/0!"},{"$error":"#DIV/0!"}]
[null,null,null,null,null,1848,36.96,0,45.1171875,{"$f":"FOURIER!M1850","v":0},{"$f":"FOURIER!N1850","v":0},null,null,283.47964960126649,null,null,null,null,0,0,null,null,null,null,null,null,0,0,null,null,null,null,null,null,null,null,null,null,null,null,null,36.96,1.496,0,{"$error":"#DIV/0!"},{"$error":"#DIV/0!"}]
[null,null,null,null,null,1849,36.980000000000004,0,45.1416015625,{"$f":"FOURIER!M1851","v":0},{"$f":"FOURIER!N1851","v":0},null,null,283.63304768005509,null,null,null,null,0,0,null,null,null,null,null,null,0,0,null,null,null,null,null,null,null,null,null,null,null,null,null,36.980000000000004,1.5660000000000001,0,{"$error":"#DIV/0!"},{"$error":"#DIV/0!"}]
[null,null,null,null,null,1850,37,0,45.166015625,{"$f":"FOURIER!M1852","v":0},{"$f":"FOURIER!N1852","v":0},null,null,283.78644575884363,null,null,null,null,0,0,null,null,null,null,null,null,0,0,null,null,null,null,null,null,null,null,null,null,null,null,null,37,1.633,0,{"$error":"#DIV/0!"},{"$error":"#DIV/0!"}]
[null,null,null,null,null,1851,37.020000000000003,0,45.1904296875,{"$f":"FOURIER!M1853","v":0},{"$f":"FOURIER!N1853","v":0},null,null,283.93984383763217,null,null,null,null,0,0,null,null,null,null,null,null,0,0,null,null,null,null,null,null,null,null,null,null,null,null,null,37.020000000000003,1.6970000000000001,0,{"$error":"#DIV/0!"},{"$error":"#DIV/0!"}]
[null,null,null,null,null,1852,37.04,0,45.21484375,{"$f":"FOURIER!M1854","v":0},{"$f":"FOURIER!N1854","v":0},null,null,284.09324191642077,null,null,null,null,0,0,null,null,null,null,null,null,0,0,null,null,null,null,null,null,null,null,null,null,null,null,null,37.04,1.756,0,{"$error":"#DIV/0!"},{"$error":"#DIV/0!"}]
[null,null,null,null,null,1853,37.06,0,45.2392578125,{"$f":"FOURIER!M1855","v":0},{"$f":"FOURIER!N1855","v":0},null,null,284.24663999520931,null,null,null,null,0,0,null,null,null,null,null,null,0,0,null,null,null,null,null,null,null,null,null,null,null,null,null,37.06,1.8120000000000001,0,{"$error":"#DIV/0!"},{"$error":"#DIV/0!"}]
[null,null,null,null,null,1854,37.08,0,45.263671875,{"$f":"FOURIER!M1856","v":0},{"$f":"FOURIER!N1856","v":0},null,null,284.40003807399791,null,null,null,null,0,0,null,null,null,null,null,null,0,0,null,null,null,null,null,null,null,null,null,null,null,null,null,37.08,1.8640000000000001,0,{"$error":"#DIV/0!"},{"$error":"#DIV/0!"}]
[null,null,null,null,null,1855,37.1,0,45.2880859375,{"$f":"FOURIER!M1857","v":0},{"$f":"FOURIER!N1857","v":0},null,null,284.55343615278645,null,null,null,null,0,0,null,null,null,null,null,null,0,0,null,null,null,null,null,null,null,null,null,null,null,null,null,37.1,1.913,0,{"$error":"#DIV/0!"},{"$error":"#DIV/0!"}]
[null,null,null,null,null,1856,37.119999999999997,0,45.3125,{"$f":"FOURIER!M1858","v":0},{"$f":"FOURIER!N1858","v":0},null,null,{"$f":"2*PI()/B$9/B$6*F1858","v":284.70683423157499},null,null,null,null,{"$f":"J1858*O1858-K1858*P1858","v":0},{"$f":"J1858*P1858+K1858*O1858","v":0},null,null,null,null,null,null,0,0,null,null,null,null,null,null,null,null,null,null,null,null,null,{"$f":"G1858","v":37.119999999999997},1.9570000000000001,0,{"$error":"#DIV/0!"},{"$error":"#DIV/0!"}]
[null,null,null,null,null,1857,{"$f":"B$6*F1859","v":37.14},0,{"$f":"F1859/B$9/B$6","v":45.3369140625},{"$f":"FOURIER!M1859","v":0},{"$f":"FOURIER!N1859","v":0},null,null,284.86023231036359,null,null,null,null,0,0,null,null,null,null,null,null,{"$f":"(Y1859-Y1858)/B$6","v":0},{"$f":"(AA1859-AA1858)/B$6+H1859","v":0},null,null,null,null,null,null,null,null,null,null,null,null,null,37.14,1.9970000000000001,0,{"$f":"(AQ1859-AQ1858)/O$6","v":{"$error":"#DIV/0!"}},{"$f":"(AS1859-AS1858)/O$6+S1859","v":{"$error":"#DIV/0!"}}]
[null,null,null,null,null,1858,37.160000000000004,0,45.361328125,{"$f":"FOURIER!M1860","v":0},{"$f":"FOURIER!N1860","v":0},null,null,285.01363038915213,null,null,null,null,0,0,null,null,null,null,null,null,0,0,null,null,null,null,null,null,null,null,null,null,null,null,null,37.160000000000004,2.0329999999999999,0,{"$error":"#DIV/0!"},{"$error":"#DIV/0!"}]
[null,null,null,null,null,1859,37.18,0,45.3857421875,{"$f":"FOURIER!M1861","v":0},{"$f":"FOURIER!N1861","v":0},null,null,285.16702846794072,null,null,null,null,0,0,null,null,null,null,null,null,0,0,null,null,null,null,null,null,null,null,null,null,null,null,null,37.18,2.0640000000000001,0,{"$error":"#DIV/0!"},{"$error":"#DIV/0!"}]
[null,null,null,null,null,1860,37.200000000000003,0,45.41015625,{"$f":"FOURIER!M1862","v":0},{"$f":"FOURIER!N1862","v":0},null,null,285.32042654672927,null,null,null,null,0,0,null,null,null,null,null,null,0,0,null,null,null,null,null,null,null,null,null,null,null,null,null,37.200000000000003,2.0920000000000001,0,{"$error":"#DIV/0!"},{"$error":"#DIV/0!"}]
[null,null,null,null,null,1861,37.22,0,45.4345703125,{"$f":"FOURIER!M1863","v":0},{"$f":"FOURIER!N1863","v":0},null,null,285.47382462551781,null,null,null,null,0,0,null,null,null,null,null,null,0,0,null,null,null,null,null,null,null,null,null,null,null,null,null,37.22,2.1150000000000002,0,{"$error":"#DIV/0!"},{"$error":"#DIV/0!"}]
[null,null,null,null,null,1862,37.24,0,45.458984375,{"$f":"FOURIER!M1864","v":0},{"$f":"FOURIER!N1864","v":0},null,null,285.6272227043064,null,null,null,null,0,0,null,null,null,null,null,null,0,0,null,null,null,null,null,null,null,null,null,null,null,null,null,37.24,2.1339999999999999,0,{"$error":"#DIV/0!"},{"$error":"#DIV/0!"}]
[null,null,null,null,null,1863,37.26,0,45.4833984375,{"$f":"FOURIER!M1865","v":0},{"$f":"FOURIER!N1865","v":0},null,null,285.78062078309495,null,null,null,null,0,0,null,null,null,null,null,null,0,0,null,null,null,null,null,null,null,null,null,null,null,null,null,37.26,2.149,0,{"$error":"#DIV/0!"},{"$error":"#DIV/0!"}]
[null,null,null,null,null,1864,37.28,0,45.5078125,{"$f":"FOURIER!M1866","v":0},{"$f":"FOURIER!N1866","v":0},null,null,285.93401886188354,null,null,null,null,0,0,null,null,null,null,null,null,0,0,null,null,null,null,null,null,null,null,null,null,null,null,null,37.28,2.1589999999999998,0,{"$error":"#DIV/0!"},{"$error":"#DIV/0!"}]
[null,null,null,null,null,1865,37.300000000000004,0,45.5322265625,{"$f":"FOURIER!M1867","v":0},{"$f":"FOURIER!N1867","v":0},null,null,286.08741694067209,null,null,null,null,0,0,null,null,null,null,null,null,0,0,null,null,null,null,null,null,null,null,null,null,null,null,null,37.300000000000004,2.165,0,{"$error":"#DIV/0!"},{"$error":"#DIV/0!"}]
[null,null,null,null,null,1866,37.32,0,45.556640625,{"$f":"FOURIER!M1868","v":0},{"$f":"FOURIER!N1868","v":0},null,null,286.24081501946068,null,null,null,null,0,0,null,null,null,null,null,null,0,0,null,null,null,null,null,null,null,null,null,null,null,null,null,37.32,2.1659999999999999,0,{"$error":"#DIV/0!"},{"$error":"#DIV/0!"}]
[null,null,null,null,null,1867,37.340000000000003,0,45.5810546875,{"$f":"FOURIER!M1869","v":0},{"$f":"FOURIER!N1869","v":0},null,null,286.39421309824922,null,null,null,null,0,0,null,null,null,null,null,null,0,0,null,null,null,null,null,null,null,null,null,null,null,null,null,37.340000000000003,2.1629999999999998,0,{"$error":"#DIV/0!"},{"$error":"#DIV/0!"}]
[null,null,null,null,null,1868,37.36,0,45.60546875,{"$f":"FOURIER!M1870","v":0},{"$f":"FOURIER!N1870","v":0},null,null,286.54761117703777,null,null,null,null,0,0,null,null,null,null,null,null,0,0,null,null,null,null,null,null,null,null,null,null,null,null,null,37.36,2.1560000000000001,0,{"$error":"#DIV/0!"},{"$error":"#DIV/0!"}]
[null,null,null,null,null,1869,37.380000000000003,0,45.6298828125,{"$f":"FOURIER!M1871","v":0},{"$f":"FOURIER!N1871","v":0},null,null,286.70100925582636,null,null,null,null,0,0,null,null,null,null,null,null,0,0,null,null,null,null,null,null,null,null,null,null,null,null,null,37.380000000000003,2.145,0,{"$error":"#DIV/0!"},{"$error":"#DIV/0!"}]
[null,null,null,null,null,1870,37.4,0,45.654296875,{"$f":"FOURIER!M1872","v":0},{"$f":"FOURIER!N1872","v":0},null,null,286.8544073346149,null,null,null,null,0,0,null,null,null,null,null,null,0,0,null,null,null,null,null,null,null,null,null,null,null,null,null,37.4,2.129,0,{"$error":"#DIV/0!"},{"$error":"#DIV/0!"}]
[null,null,null,null,null,1871,37.42,0,45.6787109375,{"$f":"FOURIER!M1873","v":0},{"$f":"FOURIER!N1873","v":0},null,null,287.0078054134035,null,null,null,null,0,0,null,null,null,null,null,null,0,0,null,null,null,null,null,null,null,null,null,null,null,null,null,37.42,2.109,0,{"$error":"#DIV/0!"},{"$error":"#DIV/0!"}]
[null,null,null,null,null,1872,37.44,0,45.703125,{"$f":"FOURIER!M1874","v":0},{"$f":"FOURIER!N1874","v":0},null,null,287.16120349219204,null,null,null,null,0,0,null,null,null,null,null,null,0,0,null,null,null,null,null,null,null,null,null,null,null,null,null,37.44,2.085,0,{"$error":"#DIV/0!"},{"$error":"#DIV/0!"}]
[null,null,null,null,null,1873,37.46,0,45.7275390625,{"$f":"FOURIER!M1875","v":0},{"$f":"FOURIER!N1875","v":0},null,null,287.31460157098059,null,null,null,null,0,0,null,null,null,null,null,null,0,0,null,null,null,null,null,null,null,null,null,null,null,null,null,37.46,2.0569999999999999,0,{"$error":"#DIV/0!"},{"$error":"#DIV/0!"}]
[null,null,null,null,null,1874,37.480000000000004,0,45.751953125,{"$f":"FOURIER!M1876","v":0},{"$f":"FOURIER!N1876","v":0},null,null,287.46799964976918,null,null,null,null,0,0,null,null,null,null,null,null,0,0,null,null,null,null,null,null,null,null,null,null,null,null,null,37.480000000000004,2.0249999999999999,0,{"$error":"#DIV/0!"},{"$error":"#DIV/0!"}]
[null,null,null,null,null,1875,37.5,0,45.7763671875,{"$f":"FOURIER!M1877","v":0},{"$f":"FOURIER!N1877","v":0},null,null,287.62139772855772,null,null,null,null,0,0,null,null,null,null,null,null,0,0,null,null,null,null,null,null,null,null,null,null,null,null,null,37.5,1.9890000000000001,0,{"$error":"#DIV/0!"},{"$error":"#DIV/0!"}]
[null,null,null,null,null,1876,37.520000000000003,0,45.80078125,{"$f":"FOURIER!M1878","v":0},{"$f":"FOURIER!N1878","v":0},null,null,287.77479580734632,null,null,null,null,0,0,null,null,null,null,null,null,0,0,null,null,null,null,null,null,null,null,null,null,null,null,null,37.520000000000003,1.9490000000000001,0,{"$error":"#DIV/0!"},{"$error":"#DIV/0!"}]
[null,null,null,null,null,1877,37.54,0,45.8251953125,{"$f":"FOURIER!M1879","v":0},{"$f":"FOURIER!N1879","v":0},null,null,287.92819388613486,null,null,null,null,0,0,null,null,null,null,null,null,0,0,null,null,null,null,null,null,null,null,null,null,null,null,null,37.54,1.9059999999999999,0,{"$error":"#DIV/0!"},{"$error":"#DIV/0!"}]
[null,null,null,null,null,1878,37.56,0,45.849609375,{"$f":"FOURIER!M1880","v":0},{"$f":"FOURIER!N1880","v":0},null,null,288.0815919649234,null,null,null,null,0,0,null,null,null,null,null,null,0,0,null,null,null,null,null,null,null,null,null,null,null,null,null,37.56,1.859,0,{"$error":"#DIV/0!"},{"$error":"#DIV/0!"}]
[null,null,null,null,null,1879,37.58,0,45.8740234375,{"$f":"FOURIER!M1881","v":0},{"$f":"FOURIER!N1881","v":0},null,null,288.234990043712,null,null,null,null,0,0,null,null,null,null,null,null,0,0,null,null,null,null,null,null,null,null,null,null,null,null,null,37.58,1.8080000000000001,0,{"$error":"#DIV/0!"},{"$error":"#DIV/0!"}]
[null,null,null,null,null,1880,37.6,0,45.8984375,{"$f":"FOURIER!M1882","v":0},{"$f":"FOURIER!N1882","v":0},null,null,288.38838812250054,null,null,null,null,0,0,null,null,null,null,null,null,0,0,null,null,null,null,null,null,null,null,null,null,null,null,null,37.6,1.754,0,{"$error":"#DIV/0!"},{"$error":"#DIV/0!"}]
[null,null,null,null,null,1881,37.619999999999997,0,45.9228515625,{"$f":"FOURIER!M1883","v":0},{"$f":"FOURIER!N1883","v":0},null,null,288.54178620128914,null,null,null,null,0,0,null,null,null,null,null,null,0,0,null,null,null,null,null,null,null,null,null,null,null,null,null,37.619999999999997,1.696,0,{"$error":"#DIV/0!"},{"$error":"#DIV/0!"}]
[null,null,null,null,null,1882,37.64,0,45.947265625,{"$f":"FOURIER!M1884","v":0},{"$f":"FOURIER!N1884","v":0},null,null,288.69518428007768,null,null,null,null,0,0,null,null,null,null,null,null,0,0,null,null,null,null,null,null,null,null,null,null,null,null,null,37.64,1.6359999999999999,0,{"$error":"#DIV/0!"},{"$error":"#DIV/0!"}]
[null,null,null,null,null,1883,37.660000000000004,0,45.9716796875,{"$f":"FOURIER!M1885","v":0},{"$f":"FOURIER!N1885","v":0},null,null,288.84858235886622,null,null,null,null,0,0,null,null,null,null,null,null,0,0,null,null,null,null,null,null,null,null,null,null,null,null,null,37.660000000000004,1.5720000000000001,0,{"$error":"#DIV/0!"},{"$error":"#DIV/0!"}]
[null,null,null,null,null,1884,37.68,0,45.99609375,{"$f":"FOURIER!M1886","v":0},{"$f":"FOURIER!N1886","v":0},null,null,289.00198043765482,null,null,null,null,0,0,null,null,null,null,null,null,0,0,null,null,null,null,null,null,null,null,null,null,null,null,null,37.68,1.506,0,{"$error":"#DIV/0!"},{"$error":"#DIV/0!"}]
[null,null,null,null,null,1885,37.700000000000003,0,46.0205078125,{"$f":"FOURIER!M1887","v":0},{"$f":"FOURIER!N1887","v":0},null,null,289.15537851644336,null,null,null,null,0,0,null,null,null,null,null,null,0,0,null,null,null,null,null,null,null,null,null,null,null,null,null,37.700000000000003,1.4359999999999999,0,{"$error":"#DIV/0!"},{"$error":"#DIV/0!"}]
[null,null,null,null,null,1886,37.72,0,46.044921875,{"$f":"FOURIER!M1888","v":0},{"$f":"FOURIER!N1888","v":0},null,null,289.30877659523196,null,null,null,null,0,0,null,null,null,null,null,null,0,0,null,null,null,null,null,null,null,null,null,null,null,null,null,37.72,1.365,0,{"$error":"#DIV/0!"},{"$error":"#DIV/0!"}]
[null,null,null,null,null,1887,37.74,0,46.0693359375,{"$f":"FOURIER!M1889","v":0},{"$f":"FOURIER!N1889","v":0},null,null,289.4621746740205,null,null,null,null,0,0,null,null,null,null,null,null,0,0,null,null,null,null,null,null,null,null,null,null,null,null,null,37.74,1.29,0,{"$error":"#DIV/0!"},{"$error":"#DIV/0!"}]
[null,null,null,null,null,1888,37.76,0,46.09375,{"$f":"FOURIER!M1890","v":0},{"$f":"FOURIER!N1890","v":0},null,null,289.61557275280904,null,null,null,null,0,0,null,null,null,null,null,null,0,0,null,null,null,null,null,null,null,null,null,null,null,null,null,37.76,1.214,0,{"$error":"#DIV/0!"},{"$error":"#DIV/0!"}]
[null,null,null,null,null,1889,37.78,0,46.1181640625,{"$f":"FOURIER!M1891","v":0},{"$f":"FOURIER!N1891","v":0},null,null,289.76897083159764,null,null,null,null,0,0,null,null,null,null,null,null,0,0,null,null,null,null,null,null,null,null,null,null,null,null,null,37.78,1.135,0,{"$error":"#DIV/0!"},{"$error":"#DIV/0!"}]
[null,null,null,null,null,1890,37.800000000000004,0,46.142578125,{"$f":"FOURIER!M1892","v":0},{"$f":"FOURIER!N1892","v":0},null,null,289.92236891038618,null,null,null,null,0,0,null,null,null,null,null,null,0,0,null,null,null,null,null,null,null,null,null,null,null,null,null,37.800000000000004,1.0549999999999999,0,{"$error":"#DIV/0!"},{"$error":"#DIV/0!"}]
[null,null,null,null,null,1891,37.82,0,46.1669921875,{"$f":"FOURIER!M1893","v":0},{"$f":"FOURIER!N1893","v":0},null,null,290.07576698917478,null,null,null,null,0,0,null,null,null,null,null,null,0,0,null,null,null,null,null,null,null,null,null,null,null,null,null,37.82,0.97199999999999998,0,{"$error":"#DIV/0!"},{"$error":"#DIV/0!"}]
[null,null,null,null,null,1892,37.840000000000003,0,46.19140625,{"$f":"FOURIER!M1894","v":0},{"$f":"FOURIER!N1894","v":0},null,null,290.22916506796332,null,null,null,null,0,0,null,null,null,null,null,null,0,0,null,null,null,null,null,null,null,null,null,null,null,null,null,37.840000000000003,0.88800000000000001,0,{"$error":"#DIV/0!"},{"$error":"#DIV/0!"}]
[null,null,null,null,null,1893,37.86,0,46.2158203125,{"$f":"FOURIER!M1895","v":0},{"$f":"FOURIER!N1895","v":0},null,null,290.38256314675186,null,null,null,null,0,0,null,null,null,null,null,null,0,0,null,null,null,null,null,null,null,null,null,null,null,null,null,37.86,0.80300000000000005,0,{"$error":"#DIV/0!"},{"$error":"#DIV/0!"}]
[null,null,null,null,null,1894,37.880000000000003,0,46.240234375,{"$f":"FOURIER!M1896","v":0},{"$f":"FOURIER!N1896","v":0},null,null,290.53596122554046,null,null,null,null,0,0,null,null,null,null,null,null,0,0,null,null,null,null,null,null,null,null,null,null,null,null,null,37.880000000000003,0.71599999999999997,0,{"$error":"#DIV/0!"},{"$error":"#DIV/0!"}]
[null,null,null,null,null,1895,37.9,0,46.2646484375,{"$f":"FOURIER!M1897","v":0},{"$f":"FOURIER!N1897","v":0},null,null,290.689359304329,null,null,null,null,0,0,null,null,null,null,null,null,0,0,null,null,null,null,null,null,null,null,null,null,null,null,null,37.9,0.628,0,{"$error":"#DIV/0!"},{"$error":"#DIV/0!"}]
[null,null,null,null,null,1896,37.92,0,46.2890625,{"$f":"FOURIER!M1898","v":0},{"$f":"FOURIER!N1898","v":0},null,null,290.8427573831176,null,null,null,null,0,0,null,null,null,null,null,null,0,0,null,null,null,null,null,null,null,null,null,null,null,null,null,37.92,0.54,0,{"$error":"#DIV/0!"},{"$error":"#DIV/0!"}]
[null,null,null,null,null,1897,37.94,0,46.3134765625,{"$f":"FOURIER!M1899","v":0},{"$f":"FOURIER!N1899","v":0},null,null,290.99615546190614,null,null,null,null,0,0,null,null,null,null,null,null,0,0,null,null,null,null,null,null,null,null,null,null,null,null,null,37.94,0.45,0,{"$error":"#DIV/0!"},{"$error":"#DIV/0!"}]
[null,null,null,null,null,1898,37.96,0,46.337890625,{"$f":"FOURIER!M1900","v":0},{"$f":"FOURIER!N1900","v":0},null,null,291.14955354069468,null,null,null,null,0,0,null,null,null,null,null,null,0,0,null,null,null,null,null,null,null,null,null,null,null,null,null,37.96,0.36,0,{"$error":"#DIV/0!"},{"$error":"#DIV/0!"}]
[null,null,null,null,null,1899,37.980000000000004,0,46.3623046875,{"$f":"FOURIER!M1901","v":0},{"$f":"FOURIER!N1901","v":0},null,null,291.30295161948328,null,null,null,null,0,0,null,null,null,null,null,null,0,0,null,null,null,null,null,null,null,null,null,null,null,null,null,37.980000000000004,0.27,0,{"$error":"#DIV/0!"},{"$error":"#DIV/0!"}]
[null,null,null,null,null,1900,38,0,46.38671875,{"$f":"FOURIER!M1902","v":0},{"$f":"FOURIER!N1902","v":0},null,null,291.45634969827182,null,null,null,null,0,0,null,null,null,null,null,null,0,0,null,null,null,null,null,null,null,null,null,null,null,null,null,38,0.17899999999999999,0,{"$error":"#DIV/0!"},{"$error":"#DIV/0!"}]
[null,null,null,null,null,1901,38.020000000000003,0,46.4111328125,{"$f":"FOURIER!M1903","v":0},{"$f":"FOURIER!N1903","v":0},null,null,291.60974777706042,null,null,null,null,0,0,null,null,null,null,null,null,0,0,null,null,null,null,null,null,null,null,null,null,null,null,null,38.020000000000003,8.8999999999999996E-2,0,{"$error":"#DIV/0!"},{"$error":"#DIV/0!"}]
[null,null,null,null,null,1902,38.04,0,46.435546875,{"$f":"FOURIER!M1904","v":0},{"$f":"FOURIER!N1904","v":0},null,null,291.76314585584896,null,null,null,null,0,0,null,null,null,null,null,null,0,0,null,null,null,null,null,null,null,null,null,null,null,null,null,38.04,-1E-3,0,{"$error":"#DIV/0!"},{"$error":"#DIV/0!"}]
[null,null,null,null,null,1903,38.06,0,46.4599609375,{"$f":"FOURIER!M1905","v":0},{"$f":"FOURIER!N1905","v":0},null,null,291.9165439346375,null,null,null,null,0,0,null,null,null,null,null,null,0,0,null,null,null,null,null,null,null,null,null,null,null,null,null,38.06,-9.0999999999999998E-2,0,{"$error":"#DIV/0!"},{"$error":"#DIV/0!"}]
[null,null,null,null,null,1904,38.08,0,46.484375,{"$f":"FOURIER!M1906","v":0},{"$f":"FOURIER!N1906","v":0},null,null,292.0699420134261,null,null,null,null,0,0,null,null,null,null,null,null,0,0,null,null,null,null,null,null,null,null,null,null,null,null,null,38.08,-0.18099999999999999,0,{"$error":"#DIV/0!"},{"$error":"#DIV/0!"}]
[null,null,null,null,null,1905,38.1,0,46.5087890625,{"$f":"FOURIER!M1907","v":0},{"$f":"FOURIER!N1907","v":0},null,null,292.22334009221464,null,null,null,null,0,0,null,null,null,null,null,null,0,0,null,null,null,null,null,null,null,null,null,null,null,null,null,38.1,-0.26900000000000002,0,{"$error":"#DIV/0!"},{"$error":"#DIV/0!"}]
[null,null,null,null,null,1906,38.119999999999997,0,46.533203125,{"$f":"FOURIER!M1908","v":0},{"$f":"FOURIER!N1908","v":0},null,null,292.37673817100324,null,null,null,null,0,0,null,null,null,null,null,null,0,0,null,null,null,null,null,null,null,null,null,null,null,null,null,38.119999999999997,-0.35699999999999998,0,{"$error":"#DIV/0!"},{"$error":"#DIV/0!"}]
[null,null,null,null,null,1907,38.14,0,46.5576171875,{"$f":"FOURIER!M1909","v":0},{"$f":"FOURIER!N1909","v":0},null,null,292.53013624979178,null,null,null,null,0,0,null,null,null,null,null,null,0,0,null,null,null,null,null,null,null,null,null,null,null,null,null,38.14,-0.44400000000000001,0,{"$error":"#DIV/0!"},{"$error":"#DIV/0!"}]
[null,null,null,null,null,1908,38.160000000000004,0,46.58203125,{"$f":"FOURIER!M1910","v":0},{"$f":"FOURIER!N1910","v":0},null,null,292.68353432858032,null,null,null,null,0,0,null,null,null,null,null,null,0,0,null,null,null,null,null,null,null,null,null,null,null,null,null,38.160000000000004,-0.52900000000000003,0,{"$error":"#DIV/0!"},{"$error":"#DIV/0!"}]
[null,null,null,null,null,1909,38.18,0,46.6064453125,{"$f":"FOURIER!M1911","v":0},{"$f":"FOURIER!N1911","v":0},null,null,292.83693240736892,null,null,null,null,0,0,null,null,null,null,null,null,0,0,null,null,null,null,null,null,null,null,null,null,null,null,null,38.18,-0.61299999999999999,0,{"$error":"#DIV/0!"},{"$error":"#DIV/0!"}]
[null,null,null,null,null,1910,38.200000000000003,0,46.630859375,{"$f":"FOURIER!M1912","v":0},{"$f":"FOURIER!N1912","v":0},null,null,292.99033048615746,null,null,null,null,0,0,null,null,null,null,null,null,0,0,null,null,null,null,null,null,null,null,null,null,null,null,null,38.200000000000003,-0.69599999999999995,0,{"$error":"#DIV/0!"},{"$error":"#DIV/0!"}]
[null,null,null,null,null,1911,38.22,0,46.6552734375,{"$f":"FOURIER!M1913","v":0},{"$f":"FOURIER!N1913","v":0},null,null,293.14372856494606,null,null,null,null,0,0,null,null,null,null,null,null,0,0,null,null,null,null,null,null,null,null,null,null,null,null,null,38.22,-0.77700000000000002,0,{"$error":"#DIV/0!"},{"$error":"#DIV/0!"}]
[null,null,null,null,null,1912,38.24,0,46.6796875,{"$f":"FOURIER!M1914","v":0},{"$f":"FOURIER!N1914","v":0},null,null,293.2971266437346,null,null,null,null,0,0,null,null,null,null,null,null,0,0,null,null,null,null,null,null,null,null,null,null,null,null,null,38.24,-0.85599999999999998,0,{"$error":"#DIV/0!"},{"$error":"#DIV/0!"}]
[null,null,null,null,null,1913,38.26,0,46.7041015625,{"$f":"FOURIER!M1915","v":0},{"$f":"FOURIER!N1915","v":0},null,null,293.45052472252314,null,null,null,null,0,0,null,null,null,null,null,null,0,0,null,null,null,null,null,null,null,null,null,null,null,null,null,38.26,-0.93300000000000005,0,{"$error":"#DIV/0!"},{"$error":"#DIV/0!"}]
[null,null,null,null,null,1914,38.28,0,46.728515625,{"$f":"FOURIER!M1916","v":0},{"$f":"FOURIER!N1916","v":0},null,null,293.60392280131174,null,null,null,null,0,0,null,null,null,null,null,null,0,0,null,null,null,null,null,null,null,null,null,null,null,null,null,38.28,-1.0069999999999999,0,{"$error":"#DIV/0!"},{"$error":"#DIV/0!"}]
[null,null,null,null,null,1915,38.300000000000004,0,46.7529296875,{"$f":"FOURIER!M1917","v":0},{"$f":"FOURIER!N1917","v":0},null,null,293.75732088010028,null,null,null,null,0,0,null,null,null,null,null,null,0,0,null,null,null,null,null,null,null,null,null,null,null,null,null,38.300000000000004,-1.08,0,{"$error":"#DIV/0!"},{"$error":"#DIV/0!"}]
[null,null,null,null,null,1916,38.32,0,46.77734375,{"$f":"FOURIER!M1918","v":0},{"$f":"FOURIER!N1918","v":0},null,null,293.91071895888888,null,null,null,null,0,0,null,null,null,null,null,null,0,0,null,null,null,null,null,null,null,null,null,null,null,null,null,38.32,-1.1499999999999999,0,{"$error":"#DIV/0!"},{"$error":"#DIV/0!"}]
[null,null,null,null,null,1917,38.340000000000003,0,46.8017578125,{"$f":"FOURIER!M1919","v":0},{"$f":"FOURIER!N1919","v":0},null,null,294.06411703767742,null,null,null,null,0,0,null,null,null,null,null,null,0,0,null,null,null,null,null,null,null,null,null,null,null,null,null,38.340000000000003,-1.2170000000000001,0,{"$error":"#DIV/0!"},{"$error":"#DIV/0!"}]
[null,null,null,null,null,1918,38.36,0,46.826171875,{"$f":"FOURIER!M1920","v":0},{"$f":"FOURIER!N1920","v":0},null,null,294.21751511646602,null,null,null,null,0,0,null,null,null,null,null,null,0,0,null,null,null,null,null,null,null,null,null,null,null,null,null,38.36,-1.282,0,{"$error":"#DIV/0!"},{"$error":"#DIV/0!"}]
[null,null,null,null,null,1919,38.380000000000003,0,46.8505859375,{"$f":"FOURIER!M1921","v":0},{"$f":"FOURIER!N1921","v":0},null,null,294.37091319525456,null,null,null,null,0,0,null,null,null,null,null,null,0,0,null,null,null,null,null,null,null,null,null,null,null,null,null,38.380000000000003,-1.3440000000000001,0,{"$error":"#DIV/0!"},{"$error":"#DIV/0!"}]
[null,null,null,null,null,1920,38.4,0,46.875,{"$f":"FOURIER!M1922","v":0},{"$f":"FOURIER!N1922","v":0},null,null,{"$f":"2*PI()/B$9/B$6*F1922","v":294.5243112740431},null,null,null,null,{"$f":"J1922*O1922-K1922*P1922","v":0},{"$f":"J1922*P1922+K1922*O1922","v":0},null,null,null,null,null,null,0,0,null,null,null,null,null,null,null,null,null,null,null,null,null,{"$f":"G1922","v":38.4},-1.403,0,{"$error":"#DIV/0!"},{"$error":"#DIV/0!"}]
[null,null,null,null,null,1921,{"$f":"B$6*F1923","v":38.42},0,{"$f":"F1923/B$9/B$6","v":46.8994140625},{"$f":"FOURIER!M1923","v":0},{"$f":"FOURIER!N1923","v":0},null,null,294.6777093528317,null,null,null,null,0,0,null,null,null,null,null,null,{"$f":"(Y1923-Y1922)/B$6","v":0},{"$f":"(AA1923-AA1922)/B$6+H1923","v":0},null,null,null,null,null,null,null,null,null,null,null,null,null,38.42,-1.4590000000000001,0,{"$f":"(AQ1923-AQ1922)/O$6","v":{"$error":"#DIV/0!"}},{"$f":"(AS1923-AS1922)/O$6+S1923","v":{"$error":"#DIV/0!"}}]
[null,null,null,null,null,1922,38.44,0,46.923828125,{"$f":"FOURIER!M1924","v":0},{"$f":"FOURIER!N1924","v":0},null,null,294.83110743162024,null,null,null,null,0,0,null,null,null,null,null,null,0,0,null,null,null,null,null,null,null,null,null,null,null,null,null,38.44,-1.512,0,{"$error":"#DIV/0!"},{"$error":"#DIV/0!"}]
[null,null,null,null,null,1923,38.46,0,46.9482421875,{"$f":"FOURIER!M1925","v":0},{"$f":"FOURIER!N1925","v":0},null,null,294.98450551040884,null,null,null,null,0,0,null,null,null,null,null,null,0,0,null,null,null,null,null,null,null,null,null,null,null,null,null,38.46,-1.5609999999999999,0,{"$error":"#DIV/0!"},{"$error":"#DIV/0!"}]
[null,null,null,null,null,1924,38.480000000000004,0,46.97265625,{"$f":"FOURIER!M1926","v":0},{"$f":"FOURIER!N1926","v":0},null,null,295.13790358919738,null,null,null,null,0,0,null,null,null,null,null,null,0,0,null,null,null,null,null,null,null,null,null,null,null,null,null,38.480000000000004,-1.607,0,{"$error":"#DIV/0!"},{"$error":"#DIV/0!"}]
[null,null,null,null,null,1925,38.5,0,46.9970703125,{"$f":"FOURIER!M1927","v":0},{"$f":"FOURIER!N1927","v":0},null,null,295.29130166798592,null,null,null,null,0,0,null,null,null,null,null,null,0,0,null,null,null,null,null,null,null,null,null,null,null,null,null,38.5,-1.65,0,{"$error":"#DIV/0!"},{"$error":"#DIV/0!"}]
[null,null,null,null,null,1926,38.520000000000003,0,47.021484375,{"$f":"FOURIER!M1928","v":0},{"$f":"FOURIER!N1928","v":0},null,null,295.44469974677452,null,null,null,null,0,0,null,null,null,null,null,null,0,0,null,null,null,null,null,null,null,null,null,null,null,null,null,38.520000000000003,-1.69,0,{"$error":"#DIV/0!"},{"$error":"#DIV/0!"}]
[null,null,null,null,null,1927,38.54,0,47.0458984375,{"$f":"FOURIER!M1929","v":0},{"$f":"FOURIER!N1929","v":0},null,null,295.59809782556306,null,null,null,null,0,0,null,null,null,null,null,null,0,0,null,null,null,null,null,null,null,null,null,null,null,null,null,38.54,-1.7250000000000001,0,{"$error":"#DIV/0!"},{"$error":"#DIV/0!"}]
[null,null,null,null,null,1928,38.56,0,47.0703125,{"$f":"FOURIER!M1930","v":0},{"$f":"FOURIER!N1930","v":0},null,null,295.75149590435166,null,null,null,null,0,0,null,null,null,null,null,null,0,0,null,null,null,null,null,null,null,null,null,null,null,null,null,38.56,-1.758,0,{"$error":"#DIV/0!"},{"$error":"#DIV/0!"}]
[null,null,null,null,null,1929,38.58,0,47.0947265625,{"$f":"FOURIER!M1931","v":0},{"$f":"FOURIER!N1931","v":0},null,null,295.9048939831402,null,null,null,null,0,0,null,null,null,null,null,null,0,0,null,null,null,null,null,null,null,null,null,null,null,null,null,38.58,-1.786,0,{"$error":"#DIV/0!"},{"$error":"#DIV/0!"}]
[null,null,null,null,null,1930,38.6,0,47.119140625,{"$f":"FOURIER!M1932","v":0},{"$f":"FOURIER!N1932","v":0},null,null,296.05829206192874,null,null,null,null,0,0,null,null,null,null,null,null,0,0,null,null,null,null,null,null,null,null,null,null,null,null,null,38.6,-1.8109999999999999,0,{"$error":"#DIV/0!"},{"$error":"#DIV/0!"}]
[null,null,null,null,null,1931,38.619999999999997,0,47.1435546875,{"$f":"FOURIER!M1933","v":0},{"$f":"FOURIER!N1933","v":0},null,null,296.21169014071734,null,null,null,null,0,0,null,null,null,null,null,null,0,0,null,null,null,null,null,null,null,null,null,null,null,null,null,38.619999999999997,-1.8320000000000001,0,{"$error":"#DIV/0!"},{"$error":"#DIV/0!"}]
[null,null,null,null,null,1932,38.64,0,47.16796875,{"$f":"FOURIER!M1934","v":0},{"$f":"FOURIER!N1934","v":0},null,null,296.36508821950588,null,null,null,null,0,0,null,null,null,null,null,null,0,0,null,null,null,null,null,null,null,null,null,null,null,null,null,38.64,-1.85,0,{"$error":"#DIV/0!"},{"$error":"#DIV/0!"}]
[null,null,null,null,null,1933,38.660000000000004,0,47.1923828125,{"$f":"FOURIER!M1935","v":0},{"$f":"FOURIER!N1935","v":0},null,null,296.51848629829448,null,null,null,null,0,0,null,null,null,null,null,null,0,0,null,null,null,null,null,null,null,null,null,null,null,null,null,38.660000000000004,-1.8640000000000001,0,{"$error":"#DIV/0!"},{"$error":"#DIV/0!"}]
[null,null,null,null,null,1934,38.68,0,47.216796875,{"$f":"FOURIER!M1936","v":0},{"$f":"FOURIER!N1936","v":0},null,null,296.67188437708302,null,null,null,null,0,0,null,null,null,null,null,null,0,0,null,null,null,null,null,null,null,null,null,null,null,null,null,38.68,-1.873,0,{"$error":"#DIV/0!"},{"$error":"#DIV/0!"}]
[null,null,null,null,null,1935,38.700000000000003,0,47.2412109375,{"$f":"FOURIER!M1937","v":0},{"$f":"FOURIER!N1937","v":0},null,null,296.82528245587156,null,null,null,null,0,0,null,null,null,null,null,null,0,0,null,null,null,null,null,null,null,null,null,null,null,null,null,38.700000000000003,-1.88,0,{"$error":"#DIV/0!"},{"$error":"#DIV/0!"}]
[null,null,null,null,null,1936,38.72,0,47.265625,{"$f":"FOURIER!M1938","v":0},{"$f":"FOURIER!N1938","v":0},null,null,296.97868053466016,null,null,null,null,0,0,null,null,null,null,null,null,0,0,null,null,null,null,null,null,null,null,null,null,null,null,null,38.72,-1.8819999999999999,0,{"$error":"#DIV/0!"},{"$error":"#DIV/0!"}]
[null,null,null,null,null,1937,38.74,0,47.2900390625,{"$f":"FOURIER!M1939","v":0},{"$f":"FOURIER!N1939","v":0},null,null,297.1320786134487,null,null,null,null,0,0,null,null,null,null,null,null,0,0,null,null,null,null,null,null,null,null,null,null,null,null,null,38.74,-1.881,0,{"$error":"#DIV/0!"},{"$error":"#DIV/0!"}]
[null,null,null,null,null,1938,38.76,0,47.314453125,{"$f":"FOURIER!M1940","v":0},{"$f":"FOURIER!N1940","v":0},null,null,297.2854766922373,null,null,null,null,0,0,null,null,null,null,null,null,0,0,null,null,null,null,null,null,null,null,null,null,null,null,null,38.76,-1.875,0,{"$error":"#DIV/0!"},{"$error":"#DIV/0!"}]
[null,null,null,null,null,1939,38.78,0,47.3388671875,{"$f":"FOURIER!M1941","v":0},{"$f":"FOURIER!N1941","v":0},null,null,297.43887477102584,null,null,null,null,0,0,null,null,null,null,null,null,0,0,null,null,null,null,null,null,null,null,null,null,null,null,null,38.78,-1.8660000000000001,0,{"$error":"#DIV/0!"},{"$error":"#DIV/0!"}]
[null,null,null,null,null,1940,38.800000000000004,0,47.36328125,{"$f":"FOURIER!M1942","v":0},{"$f":"FOURIER!N1942","v":0},null,null,297.59227284981438,null,null,null,null,0,0,null,null,null,null,null,null,0,0,null,null,null,null,null,null,null,null,null,null,null,null,null,38.800000000000004,-1.8540000000000001,0,{"$error":"#DIV/0!"},{"$error":"#DIV/0!"}]
[null,null,null,null,null,1941,38.82,0,47.3876953125,{"$f":"FOURIER!M1943","v":0},{"$f":"FOURIER!N1943","v":0},null,null,297.74567092860298,null,null,null,null,0,0,null,null,null,null,null,null,0,0,null,null,null,null,null,null,null,null,null,null,null,null,null,38.82,-1.8380000000000001,0,{"$error":"#DIV/0!"},{"$error":"#DIV/0!"}]
[null,null,null,null,null,1942,38.840000000000003,0,47.412109375,{"$f":"FOURIER!M1944","v":0},{"$f":"FOURIER!N1944","v":0},null,null,297.89906900739152,null,null,null,null,0,0,null,null,null,null,null,null,0,0,null,null,null,null,null,null,null,null,null,null,null,null,null,38.840000000000003,-1.8180000000000001,0,{"$error":"#DIV/0!"},{"$error":"#DIV/0!"}]
[null,null,null,null,null,1943,38.86,0,47.4365234375,{"$f":"FOURIER!M1945","v":0},{"$f":"FOURIER!N1945","v":0},null,null,298.05246708618012,null,null,null,null,0,0,null,null,null,null,null,null,0,0,null,null,null,null,null,null,null,null,null,null,null,null,null,38.86,-1.794,0,{"$error":"#DIV/0!"},{"$error":"#DIV/0!"}]
[null,null,null,null,null,1944,38.880000000000003,0,47.4609375,{"$f":"FOURIER!M1946","v":0},{"$f":"FOURIER!N1946","v":0},null,null,298.20586516496866,null,null,null,null,0,0,null,null,null,null,null,null,0,0,null,null,null,null,null,null,null,null,null,null,null,null,null,38.880000000000003,-1.768,0,{"$error":"#DIV/0!"},{"$error":"#DIV/0!"}]
[null,null,null,null,null,1945,38.9,0,47.4853515625,{"$f":"FOURIER!M1947","v":0},{"$f":"FOURIER!N1947","v":0},null,null,298.3592632437572,null,null,null,null,0,0,null,null,null,null,null,null,0,0,null,null,null,null,null,null,null,null,null,null,null,null,null,38.9,-1.7370000000000001,0,{"$error":"#DIV/0!"},{"$error":"#DIV/0!"}]
[null,null,null,null,null,1946,38.92,0,47.509765625,{"$f":"FOURIER!M1948","v":0},{"$f":"FOURIER!N1948","v":0},null,null,298.5126613225458,null,null,null,null,0,0,null,null,null,null,null,null,0,0,null,null,null,null,null,null,null,null,null,null,null,null,null,38.92,-1.704,0,{"$error":"#DIV/0!"},{"$error":"#DIV/0!"}]
[null,null,null,null,null,1947,38.94,0,47.5341796875,{"$f":"FOURIER!M1949","v":0},{"$f":"FOURIER!N1949","v":0},null,null,298.66605940133434,null,null,null,null,0,0,null,null,null,null,null,null,0,0,null,null,null,null,null,null,null,null,null,null,null,null,null,38.94,-1.667,0,{"$error":"#DIV/0!"},{"$error":"#DIV/0!"}]
[null,null,null,null,null,1948,38.96,0,47.55859375,{"$f":"FOURIER!M1950","v":0},{"$f":"FOURIER!N1950","v":0},null,null,298.81945748012294,null,null,null,null,0,0,null,null,null,null,null,null,0,0,null,null,null,null,null,null,null,null,null,null,null,null,null,38.96,-1.627,0,{"$error":"#DIV/0!"},{"$error":"#DIV/0!"}]
[null,null,null,null,null,1949,38.980000000000004,0,47.5830078125,{"$f":"FOURIER!M1951","v":0},{"$f":"FOURIER!N1951","v":0},null,null,298.97285555891148,null,null,null,null,0,0,null,null,null,null,null,null,0,0,null,null,null,null,null,null,null,null,null,null,null,null,null,38.980000000000004,-1.583,0,{"$error":"#DIV/0!"},{"$error":"#DIV/0!"}]
[null,null,null,null,null,1950,39,0,47.607421875,{"$f":"FOURIER!M1952","v":0},{"$f":"FOURIER!N1952","v":0},null,null,299.12625363770002,null,null,null,null,0,0,null,null,null,null,null,null,0,0,null,null,null,null,null,null,null,null,null,null,null,null,null,39,-1.5369999999999999,0,{"$error":"#DIV/0!"},{"$error":"#DIV/0!"}]
[null,null,null,null,null,1951,39.020000000000003,0,47.6318359375,{"$f":"FOURIER!M1953","v":0},{"$f":"FOURIER!N1953","v":0},null,null,299.27965171648862,null,null,null,null,0,0,null,null,null,null,null,null,0,0,null,null,null,null,null,null,null,null,null,null,null,null,null,39.020000000000003,-1.488,0,{"$error":"#DIV/0!"},{"$error":"#DIV/0!"}]
[null,null,null,null,null,1952,39.04,0,47.65625,{"$f":"FOURIER!M1954","v":0},{"$f":"FOURIER!N1954","v":0},null,null,299.43304979527716,null,null,null,null,0,0,null,null,null,null,null,null,0,0,null,null,null,null,null,null,null,null,null,null,null,null,null,39.04,-1.4359999999999999,0,{"$error":"#DIV/0!"},{"$error":"#DIV/0!"}]
[null,null,null,null,null,1953,39.06,0,47.6806640625,{"$f":"FOURIER!M1955","v":0},{"$f":"FOURIER!N1955","v":0},null,null,299.58644787406575,null,null,null,null,0,0,null,null,null,null,null,null,0,0,null,null,null,null,null,null,null,null,null,null,null,null,null,39.06,-1.3819999999999999,0,{"$error":"#DIV/0!"},{"$error":"#DIV/0!"}]
[null,null,null,null,null,1954,39.08,0,47.705078125,{"$f":"FOURIER!M1956","v":0},{"$f":"FOURIER!N1956","v":0},null,null,299.7398459528543,null,null,null,null,0,0,null,null,null,null,null,null,0,0,null,null,null,null,null,null,null,null,null,null,null,null,null,39.08,-1.325,0,{"$error":"#DIV/0!"},{"$error":"#DIV/0!"}]
[null,null,null,null,null,1955,39.1,0,47.7294921875,{"$f":"FOURIER!M1957","v":0},{"$f":"FOURIER!N1957","v":0},null,null,299.89324403164284,null,null,null,null,0,0,null,null,null,null,null,null,0,0,null,null,null,null,null,null,null,null,null,null,null,null,null,39.1,-1.2649999999999999,0,{"$error":"#DIV/0!"},{"$error":"#DIV/0!"}]
[null,null,null,null,null,1956,39.119999999999997,0,47.75390625,{"$f":"FOURIER!M1958","v":0},{"$f":"FOURIER!N1958","v":0},null,null,300.04664211043143,null,null,null,null,0,0,null,null,null,null,null,null,0,0,null,null,null,null,null,null,null,null,null,null,null,null,null,39.119999999999997,-1.204,0,{"$error":"#DIV/0!"},{"$error":"#DIV/0!"}]
[null,null,null,null,null,1957,39.14,0,47.7783203125,{"$f":"FOURIER!M1959","v":0},{"$f":"FOURIER!N1959","v":0},null,null,300.20004018921998,null,null,null,null,0,0,null,null,null,null,null,null,0,0,null,null,null,null,null,null,null,null,null,null,null,null,null,39.14,-1.1399999999999999,0,{"$error":"#DIV/0!"},{"$error":"#DIV/0!"}]
[null,null,null,null,null,1958,39.160000000000004,0,47.802734375,{"$f":"FOURIER!M1960","v":0},{"$f":"FOURIER!N1960","v":0},null,null,300.35343826800857,null,null,null,null,0,0,null,null,null,null,null,null,0,0,null,null,null,null,null,null,null,null,null,null,null,null,null,39.160000000000004,-1.0740000000000001,0,{"$error":"#DIV/0!"},{"$error":"#DIV/0!"}]
[null,null,null,null,null,1959,39.18,0,47.8271484375,{"$f":"FOURIER!M1961","v":0},{"$f":"FOURIER!N1961","v":0},null,null,300.50683634679712,null,null,null,null,0,0,null,null,null,null,null,null,0,0,null,null,null,null,null,null,null,null,null,null,null,null,null,39.18,-1.006,0,{"$error":"#DIV/0!"},{"$error":"#DIV/0!"}]
[null,null,null,null,null,1960,39.200000000000003,0,47.8515625,{"$f":"FOURIER!M1962","v":0},{"$f":"FOURIER!N1962","v":0},null,null,300.66023442558566,null,null,null,null,0,0,null,null,null,null,null,null,0,0,null,null,null,null,null,null,null,null,null,null,null,null,null,39.200000000000003,-0.93600000000000005,0,{"$error":"#DIV/0!"},{"$error":"#DIV/0!"}]
[null,null,null,null,null,1961,39.22,0,47.8759765625,{"$f":"FOURIER!M1963","v":0},{"$f":"FOURIER!N1963","v":0},null,null,300.81363250437425,null,null,null,null,0,0,null,null,null,null,null,null,0,0,null,null,null,null,null,null,null,null,null,null,null,null,null,39.22,-0.86499999999999999,0,{"$error":"#DIV/0!"},{"$error":"#DIV/0!"}]
[null,null,null,null,null,1962,39.24,0,47.900390625,{"$f":"FOURIER!M1964","v":0},{"$f":"FOURIER!N1964","v":0},null,null,300.9670305831628,null,null,null,null,0,0,null,null,null,null,null,null,0,0,null,null,null,null,null,null,null,null,null,null,null,null,null,39.24,-0.79300000000000004,0,{"$error":"#DIV/0!"},{"$error":"#DIV/0!"}]
[null,null,null,null,null,1963,39.26,0,47.9248046875,{"$f":"FOURIER!M1965","v":0},{"$f":"FOURIER!N1965","v":0},null,null,301.12042866195139,null,null,null,null,0,0,null,null,null,null,null,null,0,0,null,null,null,null,null,null,null,null,null,null,null,null,null,39.26,-0.71899999999999997,0,{"$error":"#DIV/0!"},{"$error":"#DIV/0!"}]
[null,null,null,null,null,1964,39.28,0,47.94921875,{"$f":"FOURIER!M1966","v":0},{"$f":"FOURIER!N1966","v":0},null,null,301.27382674073993,null,null,null,null,0,0,null,null,null,null,null,null,0,0,null,null,null,null,null,null,null,null,null,null,null,null,null,39.28,-0.64400000000000002,0,{"$error":"#DIV/0!"},{"$error":"#DIV/0!"}]
[null,null,null,null,null,1965,39.300000000000004,0,47.9736328125,{"$f":"FOURIER!M1967","v":0},{"$f":"FOURIER!N1967","v":0},null,null,301.42722481952848,null,null,null,null,0,0,null,null,null,null,null,null,0,0,null,null,null,null,null,null,null,null,null,null,null,null,null,39.300000000000004,-0.56799999999999995,0,{"$error":"#DIV/0!"},{"$error":"#DIV/0!"}]
[null,null,null,null,null,1966,39.32,0,47.998046875,{"$f":"FOURIER!M1968","v":0},{"$f":"FOURIER!N1968","v":0},null,null,301.58062289831707,null,null,null,null,0,0,null,null,null,null,null,null,0,0,null,null,null,null,null,null,null,null,null,null,null,null,null,39.32,-0.49099999999999999,0,{"$error":"#DIV/0!"},{"$error":"#DIV/0!"}]
[null,null,null,null,null,1967,39.340000000000003,0,48.0224609375,{"$f":"FOURIER!M1969","v":0},{"$f":"FOURIER!N1969","v":0},null,null,301.73402097710562,null,null,null,null,0,0,null,null,null,null,null,null,0,0,null,null,null,null,null,null,null,null,null,null,null,null,null,39.340000000000003,-0.41299999999999998,0,{"$error":"#DIV/0!"},{"$error":"#DIV/0!"}]
[null,null,null,null,null,1968,39.36,0,48.046875,{"$f":"FOURIER!M1970","v":0},{"$f":"FOURIER!N1970","v":0},null,null,301.88741905589421,null,null,null,null,0,0,null,null,null,null,null,null,0,0,null,null,null,null,null,null,null,null,null,null,null,null,null,39.36,-0.33500000000000002,0,{"$error":"#DIV/0!"},{"$error":"#DIV/0!"}]
[null,null,null,null,null,1969,39.380000000000003,0,48.0712890625,{"$f":"FOURIER!M1971","v":0},{"$f":"FOURIER!N1971","v":0},null,null,302.04081713468275,null,null,null,null,0,0,null,null,null,null,null,null,0,0,null,null,null,null,null,null,null,null,null,null,null,null,null,39.380000000000003,-0.25700000000000001,0,{"$error":"#DIV/0!"},{"$error":"#DIV/0!"}]
[null,null,null,null,null,1970,39.4,0,48.095703125,{"$f":"FOURIER!M1972","v":0},{"$f":"FOURIER!N1972","v":0},null,null,302.19421521347135,null,null,null,null,0,0,null,null,null,null,null,null,0,0,null,null,null,null,null,null,null,null,null,null,null,null,null,39.4,-0.17799999999999999,0,{"$error":"#DIV/0!"},{"$error":"#DIV/0!"}]
[null,null,null,null,null,1971,39.42,0,48.1201171875,{"$f":"FOURIER!M1973","v":0},{"$f":"FOURIER!N1973","v":0},null,null,302.34761329225989,null,null,null,null,0,0,null,null,null,null,null,null,0,0,null,null,null,null,null,null,null,null,null,null,null,null,null,39.42,-0.1,0,{"$error":"#DIV/0!"},{"$error":"#DIV/0!"}]
[null,null,null,null,null,1972,39.44,0,48.14453125,{"$f":"FOURIER!M1974","v":0},{"$f":"FOURIER!N1974","v":0},null,null,302.50101137104843,null,null,null,null,0,0,null,null,null,null,null,null,0,0,null,null,null,null,null,null,null,null,null,null,null,null,null,39.44,-2.1000000000000001E-2,0,{"$error":"#DIV/0!"},{"$error":"#DIV/0!"}]
[null,null,null,null,null,1973,39.46,0,48.1689453125,{"$f":"FOURIER!M1975","v":0},{"$f":"FOURIER!N1975","v":0},null,null,302.65440944983703,null,null,null,null,0,0,null,null,null,null,null,null,0,0,null,null,null,null,null,null,null,null,null,null,null,null,null,39.46,5.7000000000000002E-2,0,{"$error":"#DIV/0!"},{"$error":"#DIV/0!"}]
[null,null,null,null,null,1974,39.480000000000004,0,48.193359375,{"$f":"FOURIER!M1976","v":0},{"$f":"FOURIER!N1976","v":0},null,null,302.80780752862557,null,null,null,null,0,0,null,null,null,null,null,null,0,0,null,null,null,null,null,null,null,null,null,null,null,null,null,39.480000000000004,0.13500000000000001,0,{"$error":"#DIV/0!"},{"$error":"#DIV/0!"}]
[null,null,null,null,null,1975,39.5,0,48.2177734375,{"$f":"FOURIER!M1977","v":0},{"$f":"FOURIER!N1977","v":0},null,null,302.96120560741417,null,null,null,null,0,0,null,null,null,null,null,null,0,0,null,null,null,null,null,null,null,null,null,null,null,null,null,39.5,0.21199999999999999,0,{"$error":"#DIV/0!"},{"$error":"#DIV/0!"}]
[null,null,null,null,null,1976,39.520000000000003,0,48.2421875,{"$f":"FOURIER!M1978","v":0},{"$f":"FOURIER!N1978","v":0},null,null,303.11460368620271,null,null,null,null,0,0,null,null,null,null,null,null,0,0,null,null,null,null,null,null,null,null,null,null,null,null,null,39.520000000000003,0.28899999999999998,0,{"$error":"#DIV/0!"},{"$error":"#DIV/0!"}]
[null,null,null,null,null,1977,39.54,0,48.2666015625,{"$f":"FOURIER!M1979","v":0},{"$f":"FOURIER!N1979","v":0},null,null,303.26800176499125,null,null,null,null,0,0,null,null,null,null,null,null,0,0,null,null,null,null,null,null,null,null,null,null,null,null,null,39.54,0.36399999999999999,0,{"$error":"#DIV/0!"},{"$error":"#DIV/0!"}]
[null,null,null,null,null,1978,39.56,0,48.291015625,{"$f":"FOURIER!M1980","v":0},{"$f":"FOURIER!N1980","v":0},null,null,303.42139984377985,null,null,null,null,0,0,null,null,null,null,null,null,0,0,null,null,null,null,null,null,null,null,null,null,null,null,null,39.56,0.439,0,{"$error":"#DIV/0!"},{"$error":"#DIV/0!"}]
[null,null,null,null,null,1979,39.58,0,48.3154296875,{"$f":"FOURIER!M1981","v":0},{"$f":"FOURIER!N1981","v":0},null,null,303.57479792256839,null,null,null,null,0,0,null,null,null,null,null,null,0,0,null,null,null,null,null,null,null,null,null,null,null,null,null,39.58,0.51200000000000001,0,{"$error":"#DIV/0!"},{"$error":"#DIV/0!"}]
[null,null,null,null,null,1980,39.6,0,48.33984375,{"$f":"FOURIER!M1982","v":0},{"$f":"FOURIER!N1982","v":0},null,null,303.72819600135699,null,null,null,null,0,0,null,null,null,null,null,null,0,0,null,null,null,null,null,null,null,null,null,null,null,null,null,39.6,0.58499999999999996,0,{"$error":"#DIV/0!"},{"$error":"#DIV/0!"}]
[null,null,null,null,null,1981,39.619999999999997,0,48.3642578125,{"$f":"FOURIER!M1983","v":0},{"$f":"FOURIER!N1983","v":0},null,null,303.88159408014553,null,null,null,null,0,0,null,null,null,null,null,null,0,0,null,null,null,null,null,null,null,null,null,null,null,null,null,39.619999999999997,0.65500000000000003,0,{"$error":"#DIV/0!"},{"$error":"#DIV/0!"}]
[null,null,null,null,null,1982,39.64,0,48.388671875,{"$f":"FOURIER!M1984","v":0},{"$f":"FOURIER!N1984","v":0},null,null,304.03499215893407,null,null,null,null,0,0,null,null,null,null,null,null,0,0,null,null,null,null,null,null,null,null,null,null,null,null,null,39.64,0.72399999999999998,0,{"$error":"#DIV/0!"},{"$error":"#DIV/0!"}]
[null,null,null,null,null,1983,39.660000000000004,0,48.4130859375,{"$f":"FOURIER!M1985","v":0},{"$f":"FOURIER!N1985","v":0},null,null,304.18839023772267,null,null,null,null,0,0,null,null,null,null,null,null,0,0,null,null,null,null,null,null,null,null,null,null,null,null,null,39.660000000000004,0.79200000000000004,0,{"$error":"#DIV/0!"},{"$error":"#DIV/0!"}]
[null,null,null,null,null,1984,39.68,0,48.4375,{"$f":"FOURIER!M1986","v":0},{"$f":"FOURIER!N1986","v":0},null,null,{"$f":"2*PI()/B$9/B$6*F1986","v":304.34178831651121},null,null,null,null,{"$f":"J1986*O1986-K1986*P1986","v":0},{"$f":"J1986*P1986+K1986*O1986","v":0},null,null,null,null,null,null,0,0,null,null,null,null,null,null,null,null,null,null,null,null,null,{"$f":"G1986","v":39.68},0.85699999999999998,0,{"$error":"#DIV/0!"},{"$error":"#DIV/0!"}]
[null,null,null,null,null,1985,{"$f":"B$6*F1987","v":39.700000000000003},0,{"$f":"F1987/B$9/B$6","v":48.4619140625},{"$f":"FOURIER!M1987","v":0},{"$f":"FOURIER!N1987","v":0},null,null,304.49518639529981,null,null,null,null,0,0,null,null,null,null,null,null,{"$f":"(Y1987-Y1986)/B$6","v":0},{"$f":"(AA1987-AA1986)/B$6+H1987","v":0},null,null,null,null,null,null,null,null,null,null,null,null,null,39.700000000000003,0.92100000000000004,0,{"$f":"(AQ1987-AQ1986)/O$6","v":{"$error":"#DIV/0!"}},{"$f":"(AS1987-AS1986)/O$6+S1987","v":{"$error":"#DIV/0!"}}]
[null,null,null,null,null,1986,39.72,0,48.486328125,{"$f":"FOURIER!M1988","v":0},{"$f":"FOURIER!N1988","v":0},null,null,304.64858447408835,null,null,null,null,0,0,null,null,null,null,null,null,0,0,null,null,null,null,null,null,null,null,null,null,null,null,null,39.72,0.98199999999999998,0,{"$error":"#DIV/0!"},{"$error":"#DIV/0!"}]
[null,null,null,null,null,1987,39.74,0,48.5107421875,{"$f":"FOURIER!M1989","v":0},{"$f":"FOURIER!N1989","v":0},null,null,304.80198255287689,null,null,null,null,0,0,null,null,null,null,null,null,0,0,null,null,null,null,null,null,null,null,null,null,null,null,null,39.74,1.0409999999999999,0,{"$error":"#DIV/0!"},{"$error":"#DIV/0!"}]
[null,null,null,null,null,1988,39.76,0,48.53515625,{"$f":"FOURIER!M1990","v":0},{"$f":"FOURIER!N1990","v":0},null,null,304.95538063166549,null,null,null,null,0,0,null,null,null,null,null,null,0,0,null,null,null,null,null,null,null,null,null,null,null,null,null,39.76,1.0980000000000001,0,{"$error":"#DIV/0!"},{"$error":"#DIV/0!"}]
[null,null,null,null,null,1989,39.78,0,48.5595703125,{"$f":"FOURIER!M1991","v":0},{"$f":"FOURIER!N1991","v":0},null,null,305.10877871045403,null,null,null,null,0,0,null,null,null,null,null,null,0,0,null,null,null,null,null,null,null,null,null,null,null,null,null,39.78,1.153,0,{"$error":"#DIV/0!"},{"$error":"#DIV/0!"}]
[null,null,null,null,null,1990,39.800000000000004,0,48.583984375,{"$f":"FOURIER!M1992","v":0},{"$f":"FOURIER!N1992","v":0},null,null,305.26217678924263,null,null,null,null,0,0,null,null,null,null,null,null,0,0,null,null,null,null,null,null,null,null,null,null,null,null,null,39.800000000000004,1.2050000000000001,0,{"$error":"#DIV/0!"},{"$error":"#DIV/0!"}]
[null,null,null,null,null,1991,39.82,0,48.6083984375,{"$f":"FOURIER!M1993","v":0},{"$f":"FOURIER!N1993","v":0},null,null,305.41557486803117,null,null,null,null,0,0,null,null,null,null,null,null,0,0,null,null,null,null,null,null,null,null,null,null,null,null,null,39.82,1.254,0,{"$error":"#DIV/0!"},{"$error":"#DIV/0!"}]
[null,null,null,null,null,1992,39.840000000000003,0,48.6328125,{"$f":"FOURIER!M1994","v":0},{"$f":"FOURIER!N1994","v":0},null,null,305.56897294681971,null,null,null,null,0,0,null,null,null,null,null,null,0,0,null,null,null,null,null,null,null,null,null,null,null,null,null,39.840000000000003,1.3009999999999999,0,{"$error":"#DIV/0!"},{"$error":"#DIV/0!"}]
[null,null,null,null,null,1993,39.86,0,48.6572265625,{"$f":"FOURIER!M1995","v":0},{"$f":"FOURIER!N1995","v":0},null,null,305.72237102560831,null,null,null,null,0,0,null,null,null,null,null,null,0,0,null,null,null,null,null,null,null,null,null,null,null,null,null,39.86,1.3440000000000001,0,{"$error":"#DIV/0!"},{"$error":"#DIV/0!"}]
[null,null,null,null,null,1994,39.880000000000003,0,48.681640625,{"$f":"FOURIER!M1996","v":0},{"$f":"FOURIER!N1996","v":0},null,null,305.87576910439685,null,null,null,null,0,0,null,null,null,null,null,null,0,0,null,null,null,null,null,null,null,null,null,null,null,null,null,39.880000000000003,1.385,0,{"$error":"#DIV/0!"},{"$error":"#DIV/0!"}]
[null,null,null,null,null,1995,39.9,0,48.7060546875,{"$f":"FOURIER!M1997","v":0},{"$f":"FOURIER!N1997","v":0},null,null,306.02916718318545,null,null,null,null,0,0,null,null,null,null,null,null,0,0,null,null,null,null,null,null,null,null,null,null,null,null,null,39.9,1.423,0,{"$error":"#DIV/0!"},{"$error":"#DIV/0!"}]
[null,null,null,null,null,1996,39.92,0,48.73046875,{"$f":"FOURIER!M1998","v":0},{"$f":"FOURIER!N1998","v":0},null,null,306.18256526197399,null,null,null,null,0,0,null,null,null,null,null,null,0,0,null,null,null,null,null,null,null,null,null,null,null,null,null,39.92,1.458,0,{"$error":"#DIV/0!"},{"$error":"#DIV/0!"}]
[null,null,null,null,null,1997,39.94,0,48.7548828125,{"$f":"FOURIER!M1999","v":0},{"$f":"FOURIER!N1999","v":0},null,null,306.33596334076253,null,null,null,null,0,0,null,null,null,null,null,null,0,0,null,null,null,null,null,null,null,null,null,null,null,null,null,39.94,1.4910000000000001,0,{"$error":"#DIV/0!"},{"$error":"#DIV/0!"}]
[null,null,null,null,null,1998,39.96,0,48.779296875,{"$f":"FOURIER!M2000","v":0},{"$f":"FOURIER!N2000","v":0},null,null,306.48936141955113,null,null,null,null,0,0,null,null,null,null,null,null,0,0,null,null,null,null,null,null,null,null,null,null,null,null,null,39.96,1.5189999999999999,0,{"$error":"#DIV/0!"},{"$error":"#DIV/0!"}]
[null,null,null,null,null,1999,39.980000000000004,0,48.8037109375,{"$f":"FOURIER!M2001","v":0},{"$f":"FOURIER!N2001","v":0},null,null,306.64275949833967,null,null,null,null,0,0,null,null,null,null,null,null,0,0,null,null,null,null,null,null,null,null,null,null,null,null,null,39.980000000000004,1.5449999999999999,0,{"$error":"#DIV/0!"},{"$error":"#DIV/0!"}]
[null,null,null,null,null,2000,40,0,48.828125,{"$f":"FOURIER!M2002","v":0},{"$f":"FOURIER!N2002","v":0},null,null,306.79615757712827,null,null,null,null,0,0,null,null,null,null,null,null,0,0,null,null,null,null,null,null,null,null,null,null,null,null,null,40,1.5680000000000001,0,{"$error":"#DIV/0!"},{"$error":"#DIV/0!"}]
[null,null,null,null,null,2001,40.020000000000003,0,48.8525390625,{"$f":"FOURIER!M2003","v":0},{"$f":"FOURIER!N2003","v":0},null,null,306.94955565591681,null,null,null,null,0,0,null,null,null,null,null,null,0,0,null,null,null,null,null,null,null,null,null,null,null,null,null,40.020000000000003,1.587,0,{"$error":"#DIV/0!"},{"$error":"#DIV/0!"}]
[null,null,null,null,null,2002,40.04,0,48.876953125,{"$f":"FOURIER!M2004","v":0},{"$f":"FOURIER!N2004","v":0},null,null,307.10295373470535,null,null,null,null,0,0,null,null,null,null,null,null,0,0,null,null,null,null,null,null,null,null,null,null,null,null,null,40.04,1.603,0,{"$error":"#DIV/0!"},{"$error":"#DIV/0!"}]
[null,null,null,null,null,2003,40.06,0,48.9013671875,{"$f":"FOURIER!M2005","v":0},{"$f":"FOURIER!N2005","v":0},null,null,307.25635181349395,null,null,null,null,0,0,null,null,null,null,null,null,0,0,null,null,null,null,null,null,null,null,null,null,null,null,null,40.06,1.6160000000000001,0,{"$error":"#DIV/0!"},{"$error":"#DIV/0!"}]
[null,null,null,null,null,2004,40.08,0,48.92578125,{"$f":"FOURIER!M2006","v":0},{"$f":"FOURIER!N2006","v":0},null,null,307.40974989228249,null,null,null,null,0,0,null,null,null,null,null,null,0,0,null,null,null,null,null,null,null,null,null,null,null,null,null,40.08,1.6259999999999999,0,{"$error":"#DIV/0!"},{"$error":"#DIV/0!"}]
[null,null,null,null,null,2005,40.1,0,48.9501953125,{"$f":"FOURIER!M2007","v":0},{"$f":"FOURIER!N2007","v":0},null,null,307.56314797107109,null,null,null,null,0,0,null,null,null,null,null,null,0,0,null,null,null,null,null,null,null,null,null,null,null,null,null,40.1,1.6319999999999999,0,{"$error":"#DIV/0!"},{"$error":"#DIV/0!"}]
[null,null,null,null,null,2006,40.119999999999997,0,48.974609375,{"$f":"FOURIER!M2008","v":0},{"$f":"FOURIER!N2008","v":0},null,null,307.71654604985963,null,null,null,null,0,0,null,null,null,null,null,null,0,0,null,null,null,null,null,null,null,null,null,null,null,null,null,40.119999999999997,1.635,0,{"$error":"#DIV/0!"},{"$error":"#DIV/0!"}]
[null,null,null,null,null,2007,40.14,0,48.9990234375,{"$f":"FOURIER!M2009","v":0},{"$f":"FOURIER!N2009","v":0},null,null,307.86994412864817,null,null,null,null,0,0,null,null,null,null,null,null,0,0,null,null,null,null,null,null,null,null,null,null,null,null,null,40.14,1.635,0,{"$error":"#DIV/0!"},{"$error":"#DIV/0!"}]
[null,null,null,null,null,2008,40.160000000000004,0,49.0234375,{"$f":"FOURIER!M2010","v":0},{"$f":"FOURIER!N2010","v":0},null,null,308.02334220743677,null,null,null,null,0,0,null,null,null,null,null,null,0,0,null,null,null,null,null,null,null,null,null,null,null,null,null,40.160000000000004,1.631,0,{"$error":"#DIV/0!"},{"$error":"#DIV/0!"}]
[null,null,null,null,null,2009,40.18,0,49.0478515625,{"$f":"FOURIER!M2011","v":0},{"$f":"FOURIER!N2011","v":0},null,null,308.17674028622531,null,null,null,null,0,0,null,null,null,null,null,null,0,0,null,null,null,null,null,null,null,null,null,null,null,null,null,40.18,1.6240000000000001,0,{"$error":"#DIV/0!"},{"$error":"#DIV/0!"}]
[null,null,null,null,null,2010,40.200000000000003,0,49.072265625,{"$f":"FOURIER!M2012","v":0},{"$f":"FOURIER!N2012","v":0},null,null,308.33013836501391,null,null,null,null,0,0,null,null,null,null,null,null,0,0,null,null,null,null,null,null,null,null,null,null,null,null,null,40.200000000000003,1.6140000000000001,0,{"$error":"#DIV/0!"},{"$error":"#DIV/0!"}]
[null,null,null,null,null,2011,40.22,0,49.0966796875,{"$f":"FOURIER!M2013","v":0},{"$f":"FOURIER!N2013","v":0},null,null,308.48353644380245,null,null,null,null,0,0,null,null,null,null,null,null,0,0,null,null,null,null,null,null,null,null,null,null,null,null,null,40.22,1.601,0,{"$error":"#DIV/0!"},{"$error":"#DIV/0!"}]
[null,null,null,null,null,2012,40.24,0,49.12109375,{"$f":"FOURIER!M2014","v":0},{"$f":"FOURIER!N2014","v":0},null,null,308.63693452259099,null,null,null,null,0,0,null,null,null,null,null,null,0,0,null,null,null,null,null,null,null,null,null,null,null,null,null,40.24,1.585,0,{"$error":"#DIV/0!"},{"$error":"#DIV/0!"}]
[null,null,null,null,null,2013,40.26,0,49.1455078125,{"$f":"FOURIER!M2015","v":0},{"$f":"FOURIER!N2015","v":0},null,null,308.79033260137959,null,null,null,null,0,0,null,null,null,null,null,null,0,0,null,null,null,null,null,null,null,null,null,null,null,null,null,40.26,1.5649999999999999,0,{"$error":"#DIV/0!"},{"$error":"#DIV/0!"}]
[null,null,null,null,null,2014,40.28,0,49.169921875,{"$f":"FOURIER!M2016","v":0},{"$f":"FOURIER!N2016","v":0},null,null,308.94373068016813,null,null,null,null,0,0,null,null,null,null,null,null,0,0,null,null,null,null,null,null,null,null,null,null,null,null,null,40.28,1.5429999999999999,0,{"$error":"#DIV/0!"},{"$error":"#DIV/0!"}]
[null,null,null,null,null,2015,40.300000000000004,0,49.1943359375,{"$f":"FOURIER!M2017","v":0},{"$f":"FOURIER!N2017","v":0},null,null,309.09712875895673,null,null,null,null,0,0,null,null,null,null,null,null,0,0,null,null,null,null,null,null,null,null,null,null,null,null,null,40.300000000000004,1.5169999999999999,0,{"$error":"#DIV/0!"},{"$error":"#DIV/0!"}]
[null,null,null,null,null,2016,40.32,0,49.21875,{"$f":"FOURIER!M2018","v":0},{"$f":"FOURIER!N2018","v":0},null,null,309.25052683774527,null,null,null,null,0,0,null,null,null,null,null,null,0,0,null,null,null,null,null,null,null,null,null,null,null,null,null,40.32,1.4890000000000001,0,{"$error":"#DIV/0!"},{"$error":"#DIV/0!"}]
[null,null,null,null,null,2017,40.340000000000003,0,49.2431640625,{"$f":"FOURIER!M2019","v":0},{"$f":"FOURIER!N2019","v":0},null,null,309.40392491653381,null,null,null,null,0,0,null,null,null,null,null,null,0,0,null,null,null,null,null,null,null,null,null,null,null,null,null,40.340000000000003,1.4570000000000001,0,{"$error":"#DIV/0!"},{"$error":"#DIV/0!"}]
[null,null,null,null,null,2018,40.36,0,49.267578125,{"$f":"FOURIER!M2020","v":0},{"$f":"FOURIER!N2020","v":0},null,null,309.55732299532241,null,null,null,null,0,0,null,null,null,null,null,null,0,0,null,null,null,null,null,null,null,null,null,null,null,null,null,40.36,1.423,0,{"$error":"#DIV/0!"},{"$error":"#DIV/0!"}]
[null,null,null,null,null,2019,40.380000000000003,0,49.2919921875,{"$f":"FOURIER!M2021","v":0},{"$f":"FOURIER!N2021","v":0},null,null,309.71072107411095,null,null,null,null,0,0,null,null,null,null,null,null,0,0,null,null,null,null,null,null,null,null,null,null,null,null,null,40.380000000000003,1.387,0,{"$error":"#DIV/0!"},{"$error":"#DIV/0!"}]
[null,null,null,null,null,2020,40.4,0,49.31640625,{"$f":"FOURIER!M2022","v":0},{"$f":"FOURIER!N2022","v":0},null,null,309.86411915289955,null,null,null,null,0,0,null,null,null,null,null,null,0,0,null,null,null,null,null,null,null,null,null,null,null,null,null,40.4,1.347,0,{"$error":"#DIV/0!"},{"$error":"#DIV/0!"}]
[null,null,null,null,null,2021,40.42,0,49.3408203125,{"$f":"FOURIER!M2023","v":0},{"$f":"FOURIER!N2023","v":0},null,null,310.01751723168809,null,null,null,null,0,0,null,null,null,null,null,null,0,0,null,null,null,null,null,null,null,null,null,null,null,null,null,40.42,1.3049999999999999,0,{"$error":"#DIV/0!"},{"$error":"#DIV/0!"}]
[null,null,null,null,null,2022,40.44,0,49.365234375,{"$f":"FOURIER!M2024","v":0},{"$f":"FOURIER!N2024","v":0},null,null,310.17091531047669,null,null,null,null,0,0,null,null,null,null,null,null,0,0,null,null,null,null,null,null,null,null,null,null,null,null,null,40.44,1.2609999999999999,0,{"$error":"#DIV/0!"},{"$error":"#DIV/0!"}]
[null,null,null,null,null,2023,40.46,0,49.3896484375,{"$f":"FOURIER!M2025","v":0},{"$f":"FOURIER!N2025","v":0},null,null,310.32431338926523,null,null,null,null,0,0,null,null,null,null,null,null,0,0,null,null,null,null,null,null,null,null,null,null,null,null,null,40.46,1.214,0,{"$error":"#DIV/0!"},{"$error":"#DIV/0!"}]
[null,null,null,null,null,2024,40.480000000000004,0,49.4140625,{"$f":"FOURIER!M2026","v":0},{"$f":"FOURIER!N2026","v":0},null,null,310.47771146805377,null,null,null,null,0,0,null,null,null,null,null,null,0,0,null,null,null,null,null,null,null,null,null,null,null,null,null,40.480000000000004,1.165,0,{"$error":"#DIV/0!"},{"$error":"#DIV/0!"}]
[null,null,null,null,null,2025,40.5,0,49.4384765625,{"$f":"FOURIER!M2027","v":0},{"$f":"FOURIER!N2027","v":0},null,null,310.63110954684237,null,null,null,null,0,0,null,null,null,null,null,null,0,0,null,null,null,null,null,null,null,null,null,null,null,null,null,40.5,1.1140000000000001,0,{"$error":"#DIV/0!"},{"$error":"#DIV/0!"}]
[null,null,null,null,null,2026,40.520000000000003,0,49.462890625,{"$f":"FOURIER!M2028","v":0},{"$f":"FOURIER!N2028","v":0},null,null,310.78450762563091,null,null,null,null,0,0,null,null,null,null,null,null,0,0,null,null,null,null,null,null,null,null,null,null,null,null,null,40.520000000000003,1.0609999999999999,0,{"$error":"#DIV/0!"},{"$error":"#DIV/0!"}]
[null,null,null,null,null,2027,40.54,0,49.4873046875,{"$f":"FOURIER!M2029","v":0},{"$f":"FOURIER!N2029","v":0},null,null,310.93790570441951,null,null,null,null,0,0,null,null,null,null,null,null,0,0,null,null,null,null,null,null,null,null,null,null,null,null,null,40.54,1.006,0,{"$error":"#DIV/0!"},{"$error":"#DIV/0!"}]
[null,null,null,null,null,2028,40.56,0,49.51171875,{"$f":"FOURIER!M2030","v":0},{"$f":"FOURIER!N2030","v":0},null,null,311.09130378320805,null,null,null,null,0,0,null,null,null,null,null,null,0,0,null,null,null,null,null,null,null,null,null,null,null,null,null,40.56,0.94899999999999995,0,{"$error":"#DIV/0!"},{"$error":"#DIV/0!"}]
[null,null,null,null,null,2029,40.58,0,49.5361328125,{"$f":"FOURIER!M2031","v":0},{"$f":"FOURIER!N2031","v":0},null,null,311.24470186199659,null,null,null,null,0,0,null,null,null,null,null,null,0,0,null,null,null,null,null,null,null,null,null,null,null,null,null,40.58,0.89100000000000001,0,{"$error":"#DIV/0!"},{"$error":"#DIV/0!"}]
[null,null,null,null,null,2030,40.6,0,49.560546875,{"$f":"FOURIER!M2032","v":0},{"$f":"FOURIER!N2032","v":0},null,null,311.39809994078519,null,null,null,null,0,0,null,null,null,null,null,null,0,0,null,null,null,null,null,null,null,null,null,null,null,null,null,40.6,0.83099999999999996,0,{"$error":"#DIV/0!"},{"$error":"#DIV/0!"}]
[null,null,null,null,null,2031,40.619999999999997,0,49.5849609375,{"$f":"FOURIER!M2033","v":0},{"$f":"FOURIER!N2033","v":0},null,null,311.55149801957373,null,null,null,null,0,0,null,null,null,null,null,null,0,0,null,null,null,null,null,null,null,null,null,null,null,null,null,40.619999999999997,0.76900000000000002,0,{"$error":"#DIV/0!"},{"$error":"#DIV/0!"}]
[null,null,null,null,null,2032,40.64,0,49.609375,{"$f":"FOURIER!M2034","v":0},{"$f":"FOURIER!N2034","v":0},null,null,311.70489609836233,null,null,null,null,0,0,null,null,null,null,null,null,0,0,null,null,null,null,null,null,null,null,null,null,null,null,null,40.64,0.70699999999999996,0,{"$error":"#DIV/0!"},{"$error":"#DIV/0!"}]
[null,null,null,null,null,2033,40.660000000000004,0,49.6337890625,{"$f":"FOURIER!M2035","v":0},{"$f":"FOURIER!N2035","v":0},null,null,311.85829417715087,null,null,null,null,0,0,null,null,null,null,null,null,0,0,null,null,null,null,null,null,null,null,null,null,null,null,null,40.660000000000004,0.64300000000000002,0,{"$error":"#DIV/0!"},{"$error":"#DIV/0!"}]
[null,null,null,null,null,2034,40.68,0,49.658203125,{"$f":"FOURIER!M2036","v":0},{"$f":"FOURIER!N2036","v":0},null,null,312.01169225593941,null,null,null,null,0,0,null,null,null,null,null,null,0,0,null,null,null,null,null,null,null,null,null,null,null,null,null,40.68,0.57799999999999996,0,{"$error":"#DIV/0!"},{"$error":"#DIV/0!"}]
[null,null,null,null,null,2035,40.700000000000003,0,49.6826171875,{"$f":"FOURIER!M2037","v":0},{"$f":"FOURIER!N2037","v":0},null,null,312.16509033472801,null,null,null,null,0,0,null,null,null,null,null,null,0,0,null,null,null,null,null,null,null,null,null,null,null,null,null,40.700000000000003,0.51200000000000001,0,{"$error":"#DIV/0!"},{"$error":"#DIV/0!"}]
[null,null,null,null,null,2036,40.72,0,49.70703125,{"$f":"FOURIER!M2038","v":0},{"$f":"FOURIER!N2038","v":0},null,null,312.31848841351655,null,null,null,null,0,0,null,null,null,null,null,null,0,0,null,null,null,null,null,null,null,null,null,null,null,null,null,40.72,0.44500000000000001,0,{"$error":"#DIV/0!"},{"$error":"#DIV/0!"}]
[null,null,null,null,null,2037,40.74,0,49.7314453125,{"$f":"FOURIER!M2039","v":0},{"$f":"FOURIER!N2039","v":0},null,null,312.47188649230515,null,null,null,null,0,0,null,null,null,null,null,null,0,0,null,null,null,null,null,null,null,null,null,null,null,null,null,40.74,0.378,0,{"$error":"#DIV/0!"},{"$error":"#DIV/0!"}]
[null,null,null,null,null,2038,40.76,0,49.755859375,{"$f":"FOURIER!M2040","v":0},{"$f":"FOURIER!N2040","v":0},null,null,312.62528457109369,null,null,null,null,0,0,null,null,null,null,null,null,0,0,null,null,null,null,null,null,null,null,null,null,null,null,null,40.76,0.31,0,{"$error":"#DIV/0!"},{"$error":"#DIV/0!"}]
[null,null,null,null,null,2039,40.78,0,49.7802734375,{"$f":"FOURIER!M2041","v":0},{"$f":"FOURIER!N2041","v":0},null,null,312.77868264988223,null,null,null,null,0,0,null,null,null,null,null,null,0,0,null,null,null,null,null,null,null,null,null,null,null,null,null,40.78,0.24199999999999999,0,{"$error":"#DIV/0!"},{"$error":"#DIV/0!"}]
[null,null,null,null,null,2040,40.800000000000004,0,49.8046875,{"$f":"FOURIER!M2042","v":0},{"$f":"FOURIER!N2042","v":0},null,null,312.93208072867083,null,null,null,null,0,0,null,null,null,null,null,null,0,0,null,null,null,null,null,null,null,null,null,null,null,null,null,40.800000000000004,0.17399999999999999,0,{"$error":"#DIV/0!"},{"$error":"#DIV/0!"}]
[null,null,null,null,null,2041,40.82,0,49.8291015625,{"$f":"FOURIER!M2043","v":0},{"$f":"FOURIER!N2043","v":0},null,null,313.08547880745937,null,null,null,null,0,0,null,null,null,null,null,null,0,0,null,null,null,null,null,null,null,null,null,null,null,null,null,40.82,0.106,0,{"$error":"#DIV/0!"},{"$error":"#DIV/0!"}]
[null,null,null,null,null,2042,40.840000000000003,0,49.853515625,{"$f":"FOURIER!M2044","v":0},{"$f":"FOURIER!N2044","v":0},null,null,313.23887688624797,null,null,null,null,0,0,null,null,null,null,null,null,0,0,null,null,null,null,null,null,null,null,null,null,null,null,null,40.840000000000003,3.7999999999999999E-2,0,{"$error":"#DIV/0!"},{"$error":"#DIV/0!"}]
[null,null,null,null,null,2043,40.86,0,49.8779296875,{"$f":"FOURIER!M2045","v":0},{"$f":"FOURIER!N2045","v":0},null,null,313.39227496503651,null,null,null,null,0,0,null,null,null,null,null,null,0,0,null,null,null,null,null,null,null,null,null,null,null,null,null,40.86,-3.1E-2,0,{"$error":"#DIV/0!"},{"$error":"#DIV/0!"}]
[null,null,null,null,null,2044,40.880000000000003,0,49.90234375,{"$f":"FOURIER!M2046","v":0},{"$f":"FOURIER!N2046","v":0},null,null,313.54567304382505,null,null,null,null,0,0,null,null,null,null,null,null,0,0,null,null,null,null,null,null,null,null,null,null,null,null,null,40.880000000000003,-9.8000000000000004E-2,0,{"$error":"#DIV/0!"},{"$error":"#DIV/0!"}]
[null,null,null,null,null,2045,40.9,0,49.9267578125,{"$f":"FOURIER!M2047","v":0},{"$f":"FOURIER!N2047","v":0},null,null,313.69907112261365,null,null,null,null,0,0,null,null,null,null,null,null,0,0,null,null,null,null,null,null,null,null,null,null,null,null,null,40.9,-0.16600000000000001,0,{"$error":"#DIV/0!"},{"$error":"#DIV/0!"}]
[null,null,null,null,null,2046,40.92,0,49.951171875,{"$f":"FOURIER!M2048","v":0},{"$f":"FOURIER!N2048","v":0},null,null,313.85246920140219,null,null,null,null,0,0,null,null,null,null,null,null,0,0,null,null,null,null,null,null,null,null,null,null,null,null,null,40.92,-0.23200000000000001,0,{"$error":"#DIV/0!"},{"$error":"#DIV/0!"}]
[null,null,null,null,null,2047,40.94,0,49.9755859375,{"$f":"FOURIER!M2049","v":0},{"$f":"FOURIER!N2049","v":0},null,null,314.00586728019078,null,null,null,null,0,0,null,null,null,null,null,null,0,0,null,null,null,null,null,null,null,null,null,null,null,null,null,40.94,-0.29799999999999999,0,{"$error":"#DIV/0!"},{"$error":"#DIV/0!"}]